{"text_format":"1","workbook":"xlsx","n_sheets":2,"sheets":["Base","Hoja1"],"not_rendered":{"charts":0,"images":0,"macros":1,"external_links":0,"defined_names":1,"comments":0,"pivot_tables":0},"unopened":[],"bounds":{"document_bytes":16777216,"sheet_cells":100000,"rows_first":2000,"rows_last":500,"rows_between":2000,"halvings":0,"cell_chars":16384,"cell_head_chars":4096},"cells_cut":0,"cells_raw":0,"read":"whole","date_system":"1900"}

{"sheet":"Base","index":0,"n_rows":460,"n_cols":15,"rows_kept":460,"cut":false,"hidden":true,"merged":[]}
[]
["CEDULA","NOMBRE DEL FUNCIONARIO","CARGO","DEPENDENCIA","TEMA","MODALIDAD","DURACIÓN ( HORAS)",null,"FECHA","DÍA","FECHA FINAL ","DÍA","ENTIDAD ORGANIZADORA DEL EVENTO","ASISTIÓ","Calificación"]
[1132224035,"ADILIO  CORREDOR SANCHEZ","21908-PROFESIONAL UNIVERSITARIO","SECRETARIA DE TURISMO","EVALUACIÓN DE DESEMEPÑO","TALLER",2,null,"ENERO",1,"ENERO",1,"ESCUELA DE GESTIÓN PÚBLICA Y PARTICIPACIÓN CIUDADANA",0]
[1090499358,"ADRIAN HUMBERTO RODRIGUEZ CARVAJAL","21908-PROFESIONAL UNIVERSITARIO","SECRETARIA DE EDUCACION","GESTIÓN DE CAMBIOS Y CONFLICTOS: APLICANDO DESARME, DESMOVILIZACIÓN Y REINTEGRACIÓN EN EL ÁMBITO LABORAL","SEMINARIO",4,null,"FEBRERO",2,"FEBRERO",2,"COMISIÓN NACIONAL DEL SERVICIO CIVIL",1]
[60390837,"ADRIANA  BOADA ARGUELLO","22212-PROFESIONAL ESPECIALIZADO","SECRETARIA DE HACIENDA","GESTIÓN DEL CONOCIMIENTO E INNOVACIÓN EN LA ADMINISTRACIÓN PÚBLICA","FORO",8,null,"MARZO",3,"MARZO",3,"FUNCIÓN PÚBLICA"]
[60396853,"ALBA MILENA MARTINEZ LOPEZ","21908-PROFESIONAL UNIVERSITARIO","SECRETARIA GENERAL","ENERGÍAS LIMPIAS Y GESTIÓN SOCIOAMBIENTAL EN EL TERRITORIO","CURSO",16,null,"ABRIL",4,"ABRIL",4,"DNP"]
[60347492,"ALBANE  TORRES CASTILLA","21908-PROFESIONAL UNIVERSITARIO","SECRET DE PLANEACION Y DESARRO TERRITORI","HERRAMIENTAS INTELIGENTES PARA EL TRABAJO DIARIO BAJO EL MODELO: SERVIDOR 4.0","DIPLOMADO",28,null,"MAYO",5,"MAYO",5,"SG - SSST"]
[1092346164,"ALBERTO  PORTILLA CARRILLO","31407-TECNICO OPERATIVO","SECRETARIA GENERAL","PRODUCTIVIDAD Y EFICIENCIA INSTITUCIONAL CON MICROSOFT OFFICE Y MICROSOFT 365",null,40,null,"JUNIO",6,"JUNIO",6,"ARL - POSITIVA"]
[13475310,"ALBERTO  ZARATE CABALLERO","22210-PROFESIONAL ESPECIALIZADO","SECRETARIA DE TRANSITO","CONSTRUYENDO UNA CULTURA INCLUSIVA CON DATOS",null,80,null,"JULIO",7,"JULIO",7,"MINISTERIO DEL TRABAJO"]
[1091183213,"ALEJANDRA TRINIDAD SERRANO RODRIGUEZ","31406-TECNICO OPERATIVO","SECRETARIA DESARROLLO SOCIAL","HABLEMOS DE VIOLENCIAS DE GÉNERO",null,100,null,"AGOSTO",8,"AGOSTO",8,"TALENTO HUMANO"]
[5497151,"ALFONSO  IBARRA GALVIS","44004-SECRETARIO","SECRETARIA DE HACIENDA","MEDIOS Y GOBIERNO ABIERTO – PENSAMIENTO CRÍTICO Y PARTICIPACIÓN CIUDADANA",null,120,null,"SEPTIEMBRE",9,"SEPTIEMBRE",9,"TALENTO HUMANO - SST"]
[13487580,"ALFONSO  PARRA FUENTES","47202-AYUDANTE","SECRET DE PLANEACION Y DESARRO TERRITORI","INGLÉS BÁSICO FUNCIONAL PARA EL ENTORNO LABORAL",null,null,null,"OCTUBRE",10,"OCTUBRE",10,"TALENTO HUMANO - BIENESTAR SOCIAL"]
[79629336,"ALFREDO  PARRA CARRILLO","21906-PROFESIONAL UNIVERSITARIO MT","SECRETARIA DE EDUCACION","ESTRATEGIAS EFECTIVAS PARA LA REDUCCIÓN DE COSTOS",null,null,null,"NOVIEMBRE",11,"NOVIEMBRE",11,"ESCUELA SUPERIOR DE ADMINISTRACIÓN PÚBLICA - ESAP"]
[13482405,"ALONSO  TOSCANO NIÑO","22212-PROFESIONAL ESPECIALIZADO","SECRET DE PLANEACION Y DESARRO TERRITORI","FORTALECIMIENTO DE COMPETENCIAS COMPORTAMENTALES",null,null,null,"DICIEMBRE",12,"DICIEMBRE",12,"GESTIÓN DOCUMENTAL"]
[13890772,"ALVARO  BECERRA SANTIAGO","40704-AUXILIAR ADMINISTRATIVO","OFI DE RELACIONAMIENTO CON LA CIUDADANIA","TRANSFORMACIÓN E INNOVACIÓN EN LA GESTIÓN PÚBLICA",null,null,null,null,13,null,13]
[88268689,"ALVARO ISMAR GARCIA RUIZ","48002-CONDUCTOR","SECRETARIA GENERAL","GESTIÓN DOCUMENTAL - ORGANIZACIÓN DE ARCHIVOS",null,null,null,null,14,null,14]
[60356074,"AMINTA STELLA MARTINEZ ZABALA","22210-PROFESIONAL ESPECIALIZADO","SECRETARIA DESARROLLO SOCIAL","LIDERAZGO EMPÁTICO Y HUMANO",null,null,null,null,15,null,15]
[37440418,"AMPARO  OCHOA VILLAN","31407-TECNICO OPERATIVO","SECRETARIA DE GOBIERNO","ATENCIÓN AL CIUDADANO",null,null,null,null,16,null,16]
[60450093,"ANA GISELA SIERRA OMAÑA","40704-AUXILIAR ADMINISTRATIVO","SECRETARIA JURIDICA","COMUNICACIÓN ASERTIVA Y ESCUCHA ACTIVA",null,null,null,null,17,null,17]
[63544364,"ANA GRACIELA ORTIZ TORRES","21908-PROFESIONAL UNIVERSITARIO","SECRETARIA GENERAL","PRINCIPIOS DE LA FUNCIÓN PÚBLICA",null,null,null,null,18,null,18]
[60253378,"ANA JUDITH CADENA GALVIS","22210-PROFESIONAL ESPECIALIZADO","SECRETARIA MEDIO AMBIENTE RECURSOS NATUR","LIDERAR DESDE LA EMPATÍA, PARA MEJORAR EL CLIMA LABORAL",null,null,null,null,19,null,19]
[1090364563,"ANA KARINA RAMIREZ VILLAMIZAR","47002-AUXILIAR DE SERVICIOS GENERALES","SECRETARIA GENERAL","SIEP DOCUMENTAL",null,null,null,null,20,null,20]
[37323164,"ANA MARIA TORCOROMA GUTIERREZ TRUJILLO","22210-PROFESIONAL ESPECIALIZADO","SECRETARIA DE EDUCACION","DOCUMENTO ELECTRÓNICO DE ARCHIVO",null,null,null,null,21,null,21]
[37443626,"ANA MILENA DUPLAT HERNANDEZ","20113-TESORERO GENERAL","SECRETARIA DE HACIENDA","SERVIDOR 4.0",null,null,null,null,22,null,22]
[60339501,"ANA YAMILE PEDROZA CASTRO","22210-PROFESIONAL ESPECIALIZADO","SRIA DE AGUA POTABLE Y SANEAMIENT BASICO","CONTRATACIÓN ESTATAL",null,null,null,null,23,null,23]
[60262337,"ANA ZORAIDA RIVERA OCHOA","22210-PROFESIONAL ESPECIALIZADO","SECRETARIA DE HACIENDA","MEJORA NORMATIVA - SOCIALIZACIÓN DEL DECRETO No.000419 DEL 27 DE MARZO DE 2025",null,null,null,null,24,null,24]
[52847680,"ANDREA JULIANA CUERVO VALENCIA","22210-PROFESIONAL ESPECIALIZADO","SRIA DE AGUA POTABLE Y SANEAMIENT BASICO","ATENCIÓN EN CRISIS Y PRIMEROS AUXILIOS PSICOLÓGICOS",null,null,null,null,25,null,25]
[1090467283,"ANDREA KATHERINE LEON CARRASCAL","10513-ASESOR","SECRETARIA DE TRANSITO","INTELIGENCIA ARTIFICIAL PARA EL AUTOAPRENDIZAJE Y LA INVESTIGACIÓN",null,null,null,null,26,null,26]
[88271200,"ANDY NIKOLAY GOMEZ SANDOVAL","21908-PROFESIONAL UNIVERSITARIO","OFI CONTROL INTERNO DE GESTION","TRANSPARENCIA Y ÉTICA PÚBLICA",null,null,null,null,27,null,27]
[60329545,"ANGELA  MEJIA CARDENAS","22210-PROFESIONAL ESPECIALIZADO","SECRETARIA DE LA MUJER Y EQUIDAD GENERO","FORTALECIMIENTO INSTITUCIONAL - RACIONALIZACIÓN DE TRÁMITES , POLITICA DE PARTICIPACIÓN CIUDADANA Y POLÍTICA DE INTEGRIDAD",null,null,null,null,28,null,28]
[60330214,"ANGELA CECILIA BOLIVAR GONZALEZ","22210-PROFESIONAL ESPECIALIZADO","SECRETARIA DE VICTIMAS, PAZ Y POSCONFLIC","GESTIÓN DE CONFLICTOS DE INTERÉS",null,null,null,null,29,null,29]
[37293616,"ANGELICA MARIA CAMACHO PINTO","02014-SECRETARIO DE DESPACHO","SECRETARIA DE LA MUJER Y EQUIDAD GENERO","ACTUALIZACIÓN DE POLÍTICAS PÚBLICAS EN LA GESTIÓN SOCIO - TERRITORIAL",null,null,null,null,30,null,30]
[1093737200,"ANGELICA MARIA ROLON GOMEZ","31406-TECNICO OPERATIVO","SECRETARIA DE VIAS","SISTEMA DE INFORMACIÓN TERRITORIAL - SIT",null,null,null,null,31,null,31]
[1090440672,"ANGELICA PATRICIA LEON SERRANO","31406-TECNICO OPERATIVO","SECRETARIA GENERAL","ASISTENCIA TÉCNICA"]
[1090475405,"ANGIE LISBETH MENDOZA VERA","31406-TECNICO OPERATIVO","SECRETARIA MEDIO AMBIENTE RECURSOS NATUR","INSTRUMENTOS DE GEOREFERENCIACIÓN PARA LA PLANEACIÓN Y EL ORDENAMIENTO TERRITORIAL"]
[13457915,"ANTONIO JOSE MORALES GRISALES","21908-PROFESIONAL UNIVERSITARIO","SECRET DE PLANEACION Y DESARRO TERRITORI","RESOLUCIÓN DE CONFLICTOS"]
[5461336,"ARGEMIRO  NIÑO MEZA","48002-CONDUCTOR","SECRETARIA GENERAL","MODELO INTEGRADO DE PLANEACIÓN Y GESTIÓN - MIPGA"]
[1090419419,"ASTRID CAROLINA CONTRERAS VILLAMIZAR","21908-PROFESIONAL UNIVERSITARIO","SECRETARIA DE LAS TICS","COMUNICACIÓN PÚBLICA Y DE GOBIERNO"]
[63496219,"AURA HORTENSIA SILVA RINCON","22210-PROFESIONAL ESPECIALIZADO","SECRETARIA DE TURISMO","DESEMPEÑO INSTITUCIONAL Y ACUERDOS SINDICALES - RETOS Y TENDENCIAS EN NORTE DE SANTANDER"]
[60386247,"AYDA  MOYANO QUIROGA","47002-AUXILIAR DE SERVICIOS GENERALES","SECRETARIA GENERAL","INDUCCIÓN"]
[37294473,"BEATRIZ ADRIANA ESTEBAN ROBLES","21908-PROFESIONAL UNIVERSITARIO","SECRETARIA DE EDUCACION","REINDUCCIÓN"]
[37441195,"BEATRIZ ADRIANA ROJAS SANDOVAL","40704-AUXILIAR ADMINISTRATIVO","SECRETARIA GENERAL","GOBIERNO, ESTADO Y ADMINISTRACIÓN PÚBLICA"]
[27830254,"BELCY OMAIRA IBARRA GOMEZ","22210-PROFESIONAL ESPECIALIZADO","SRIA DE AGRICULTURA Y DESARROLLO RURAL","HABILIDADES GERENCIALES Y DIRECTIVAS"]
[60311242,"BELKY ESPERANZA HERNANDEZ JAIMES","42506-SECRETARIO EJECUTIVO","SECRETARIA GENERAL","CONTROL Y APLICACIÓN DEL PLAN DE MEJORAMIENTO PREVENTIVO DEL VEHÍCULO"]
[1090367790,"BERNARDO XAVIER CRISTANCHO VILLAMIZAR","22210-PROFESIONAL ESPECIALIZADO","SECRETARIA DE SEGURIDAD CIUDADANA","IDENTIFICACIÓN DE PELIGROS, ROLES ADQUIRIDOS Y RIESGOS E INSPECCIONES DE SEGURIDAD"]
[60296252,"BETTY  ESCALANTE RINCON","31407-TECNICO OPERATIVO","SECRETARIA GENERAL","ROLES Y RESPONSABILIDADES"]
[60364001,"BLANCA YANETH CASTELLANOS GARCIA","48702-OPERARIO","SECRETARIA DE TRANSITO","IDENTIFICACIÓN DE PELIGROS E INSPECCIONES DE SEGURIDAD"]
[1090374937,"BONIS ELI MELO ROMERO","21908-PROFESIONAL UNIVERSITARIO","SECRETARIA DE HACIENDA","INVESTIGACIÓN DE ACCIDENTES DE TRABAJO"]
[91513720,"BORIS YAMID VELASCO PARADA","10513-ASESOR","DESPACHO GOBERNACION","FUNCIONES Y RESPONSABILIDADES DEL COMITÉ DE CONVIVENCIA LABORAL Y REGLAMENTO INTERNO"]
[1090459012,"CAMILO ANDRES BONILLA VALERO","22210-PROFESIONAL ESPECIALIZADO","SRIA DE AGUA POTABLE Y SANEAMIENT BASICO","PREVENCIÓN DE ACOSO LABORAL"]
[1092359167,"CAMILO ANDRES LIZCANO SIERRA","44004-SECRETARIO","SECRETARIA GENERAL","LIDERAZGO Y TOMA DE DECISIONES"]
[88222142,"CARLOS ALBERTO BRAHIM CASTRO","10513-ASESOR","SECRETARIA DE PROYECTOS ESPECIALES","SÍNDROME DEL MANGUITO ROTADOR, EPICONDILITIS, TÚNEL CARPIANO Y PAUSAS ACTIVAS"]
[13278987,"CARLOS ALBERTO SOLER MONROY","10513-ASESOR","SRIA GESTION MINERO Y ENERGETICO","MANIPULACIÓN MANUAL DE CARGAS"]
[88274223,"CARLOS ANDERSON PUERTO COLMENARES","31407-TECNICO OPERATIVO","SECRETARIA DE CULTURA","DISCOPATÍA LUMBAR Y ENFERMEDADES DE COLUMNA VERTEBRAL"]
[1090463100,"CARLOS ANDRES VARGAS MENDOZA","44005-SECRETARIO","GENERAL","CUIDADO DE LA VOZ Y DEL OÍDO"]
[77158933,"CARLOS ANGEL TORREGROZA OÑATE","21908-PROFESIONAL UNIVERSITARIO","SECRETARIA JURIDICA","CRISIS Y PRIMEROS AUXILIOS PSICOLÓGICOS"]
[88197176,"CARLOS ARTURO GONZALEZ PEREZ","44003-SECRETARIO","SECRETARIA DE GOBIERNO","ENTRENAMIENTO EN INTELIGENCIA EMOCIONAL Y FORTALECIMIENTO DE ESTILOS DE AFRONTAMIENTO EN LOS DIFERENTES CONTEXTOS"]
[13469412,"CARLOS ARTURO PARRA LUNA","00613-JEFE DE OFICINA","SECRETARIA DE HACIENDA","ABORDAJE DE GESTIÓN DEL CAMBIO, ALTERNATIVAS Y SOLUCIONES EN EL CONTEXTO LABORAL"]
[13465964,"CARLOS EDUARDO MATAMOROS DAVILA","48702-OPERARIO","SECRETARIA DE HACIENDA","PREVENCIÓN EN MANEJO DEL ESTRÉS Y USO EFICAZ DEL TIEMPO"]
[79154799,"CARLOS EDUARDO RODRIGUEZ VALENCIA","22211-PROFESIONAL ESPECIALIZADO","SECRET DE PLANEACION Y DESARRO TERRITORI","RESILIENCIA"]
[13471563,"CARLOS FRANCISCO CANAL LINDARTE","48002-CONDUCTOR","SECRETARIA GENERAL","AUTOESTIMA Y PROYECTO DE VIDA"]
[5483215,"CARLOS JULIO SUAREZ VILLAMIZAR","48002-CONDUCTOR","SECRETARIA GENERAL","ANÁLISIS DE TIEMPOS Y REPARTICIÓN ADECUADA DE CARGAS DE TRABAJO"]
[1090523734,"CARLOS YAIR SOLER GARCIA","31407-TECNICO OPERATIVO","SECRETARIA DE HABITAT","SÍNDROME DE AGOTAMIENTO – BURNOUT"]
[60315336,"CARMEN  MONCADA RAMIREZ","42506-SECRETARIO EJECUTIVO","SECRETARIA DE LA MUJER Y EQUIDAD GENERO","PREVENCIÓN DE VIOLENCIA FÍSICA, MENTAL Y SEXUAL"]
[60252149,"CARMEN AURORA DUARTE FERNANDEZ","40702-AUXILIAR ADMINISTRATIVO","OFI CONTROL INTERNO DE GESTION","MANEJO ADECUADO DE LA DEPRESIÓN Y LA ANSIEDAD"]
[60384575,"CARMEN CECILIA CARRILLO GARCIA","44004-SECRETARIO","CONSEJ AGENCIAM DEL DESARROLLO TERRITORI","CONDUCTAS SUICIDAS, Y ADOPCIÓN DE HERRAMIENTAS DE AYUDA Y MANEJO DE SITUACIONES DIFÍCILES"]
[60388575,"CARMEN CECILIA VALDERRAMA PEREZ","22210-PROFESIONAL ESPECIALIZADO","SECRETARIA DE EDUCACION","PROMOCIÓN DE LA SALUD MENTAL Y PREVENCIÓN DEL TRASTORNO MENTAL EN EL TRABAJO"]
[1090443458,"CAROLINA  CLAVIJO BRAVO","10513-ASESOR","SRIA DE AGRICULTURA Y DESARROLLO RURAL","FORTALECIMIENTO EN LA DESTREZA PARA LA RESOLUCIÓN DE PROBLEMAS, LIDERAZGO, COMUNICACIÓN ASERTIVA Y TRABAJO EN EQUIPO"]
[30050526,"CAROLINA  LEON PEINADO","21908-PROFESIONAL UNIVERSITARIO","SECRETARIA DE SEGURIDAD CIUDADANA","SÍNDROME METABÓLICO Y RIESGO CARDIOVASCULAR"]
[26422797,"CAROLINA ALVAREZ GARCIA","02014-SECRETARIO DE DESPACHO","SRIA GESTION MINERO Y ENERGETICO","PREVENCIÓN FATIGA VISUAL"]
[60337215,"CECILIA  DURAN JAIMES","10513-ASESOR","SECRETARIA DE HACIENDA","CANCER DE MAMA, PRÓSTATA, ÚTERO, COLON"]
[13460093,"CELESTINO  PEREZ RICO","40704-AUXILIAR ADMINISTRATIVO","SECRETARIA GENERAL","USO ADECUADO DEL SERVICIO MÉDICO"]
[1090416067,"CESAR ADRIAN RIZO BUENO","21908-PROFESIONAL UNIVERSITARIO","SECRETARIA DE HACIENDA","CLASIFICACIÓN Y DISPOSICIÓN DE RESIDUOS"]
[13493993,"CESAR AUGUSTO RESTREPO ALVAREZ","48702-OPERARIO","SECRETARIA GENERAL","PROCEDIMIENTO DE TRABAJO SEGURO EN ALTURAS"]
[1093755439,"CESAR CAMILO ROJAS CRUZ","02014-SECRETARIO DE DESPACHO","SECRETARIA DE TURISMO","PREVENCIÓN DE CAÍDAS A MISMO Y DIFERENTE NIVEL. (AT)"]
[88227858,"CHARLES ALEXANDER PEREZ FLOREZ","21908-PROFESIONAL UNIVERSITARIO","SRIA DE AGRICULTURA Y DESARROLLO RURAL","AUTO- REPORTE DE ACTOS Y CONDICIONES INSEGURAS (AT)"]
[1090423071,"CHRISTIAN SAMIR MENDEZ CASTILLO","10513-ASESOR","SECRETARIA DE SEGURIDAD CIUDADANA","PREVENCIÓN DEL RIESGO ELÉCTRICO"]
[88167020,"CIRO ALFONSO ROJAS PEÑARANDA","21908-PROFESIONAL UNIVERSITARIO","SECRETARIA DE HACIENDA","MANEJO DE HERRAMIENTAS MANUALES Y EL CUIDADO DE MANOS"]
[13484844,"CIRO ANTONIO SIERRA LEAL","40705-AUXILIAR ADMINISTRATIVO","SECRETARIA GESTION RIESGOS DE DESASTRES","MEDIDAS DE ACTUACIÓN FRENTE AL RIESGO PÚBLICO"]
[27622308,"CLARA AURORA SANDOVAL MARCIALES","40705-AUXILIAR ADMINISTRATIVO","SECRETARIA GENERAL","IDENTIFICACIÓN DE SUSTANCIAS QUÍMICAS"]
[60389239,"CLARA MARCELA ANGULO SANTANDER","02014-SECRETARIO DE DESPACHO","SECRET DE PLANEACION Y DESARRO TERRITORI","HOJAS DE SEGURIDAD DE LOS PRODUCTOS QUÍMICOS UTILIZADOS"]
[60359839,"CLAUDIA EUFEMIA PARRA MEAURY","04513-SUBSECRETARIO DE DESPACHO","SUBSECR ARTICULACION EDUCACION POSMEDIA","USO ADECUADO DE LOS ELEMENTOS DE PROTECCIÓN PERSONAL – EPP"]
[1090490111,"CLAUDIA LIZETH VESGA SILVA","21908-PROFESIONAL UNIVERSITARIO","OFI COMUNICACIONES Y PRENSA","RIESGO BIOLÓGICO (PREVENCIÓN FIEBRE AMARILLA Y PREVENCIÓN DE ENFERMEDADES RESPIRATORIAS)"]
[60313474,"CLAUDIA MARIELA MENESES BAYONA","40703-AUXILIAR ADMINISTRATIVO","SECRETARIA DE HACIENDA","IDENTIFICACIÓN DE PELIGROS Y ROLES ADQUIRIDOS"]
[60275412,"CLAUDIA PATRICIA LANDAZABAL ORTIZ","00614-JEFE DE OFICINA","OFI CONTROL INTER DISCIPLINARIO INSTRUCC","PRIMEROS AUXILIOS"]
[1091675494,"CRISTHIAM HUMBERTO JIMENEZ AREVALO","02014-SECRETARIO DE DESPACHO","SECRETARIA MEDIO AMBIENTE RECURSOS NATUR","EVACUACIÓN Y RESCATE"]
[13483047,"DANIEL  GARCIA NEGRON","22213-PROFESIONAL ESPECIALIZADO","SECRETARIA GENERAL","CONTROL DE INCENDIOS Y MANEJO DE EXTINTORES"]
[88265976,"DANY ALEXANDER CAÑAS RANGEL","02014-SECRETARIO DE DESPACHO","SRIA DE AGRICULTURA Y DESARROLLO RURAL","SEGURIDAD VIAL"]
[60345147,"DENYS MERCEDES URIBE GUATIBONZA","21908-PROFESIONAL UNIVERSITARIO","SECRETARIA DE VIAS"]
[37290313,"DIANA  PATRICIA ESCAMILLA NARVAEZ","22210-PROFESIONAL ESPECIALIZADO","SRIA DESARROLLO ECONOMIC Y PRODUCTIVIDAD"]
[1093790338,"DIANA MILENA BAUTISTA MEJIA","44005-SECRETARIO","SECRETARIA DE GOBIERNO"]
[60346534,"DIANA PATRICIA COLMENARES COLMENARES","22210-PROFESIONAL ESPECIALIZADO","SECRETARIA DE SEGURIDAD CIUDADANA"]
[60344650,"DIANA PATRICIA VILLAMARIN RAMIREZ","40705-AUXILIAR ADMINISTRATIVO","SECRETARIA DE HACIENDA"]
[37322115,"DIGNA ROSA QUINTERO RODRIGUEZ","31406-TECNICO OPERATIVO","SECRETARIA DE LA MUJER Y EQUIDAD GENERO"]
[37326591,"DOLLY YANETH BAYONA PEREZ","44005-SECRETARIO","SECRETARIA DE HACIENDA"]
[33368985,"DORA NOHEMY RODRIGUEZ SIERRA","21908-PROFESIONAL UNIVERSITARIO","OFI CONTROL INTERNO DE GESTION"]
[60311280,"DORIS  PORTILLA SIERRA","22210-PROFESIONAL ESPECIALIZADO","SECRETARIA JURIDICA"]
[60298319,"DORIS  RAMIREZ LAGOS","22210-PROFESIONAL ESPECIALIZADO","SECRETARIA DESARROLLO SOCIAL"]
[1094244049,"DORIS KATHERINE TORRES ALBARRACIN","31407-TECNICO OPERATIVO","SECRETARIA DE GOBIERNO"]
[13502059,"EDER ALFONSO DIAZ QUINTERO","48203-CONDUCTOR MECANICO","SECRETARIA GENERAL"]
[60328035,"EDILIA  VELASQUEZ CARRILLO","40706-AUXILIAR ADMINISTRATIVO","SECRETARIA DE HACIENDA"]
[1979210,"EDINSON  ANGARITA NAVARRO","21908-PROFESIONAL UNIVERSITARIO","SECRET DE PLANEACION Y DESARRO TERRITORI"]
[1090175527,"EDISON FABIAN ACEVEDO MONTAÑEZ","31407-TECNICO OPERATIVO","OFI CONTROL INTERNO DE GESTION"]
[13479478,"EDUARDO ALBERTO JAIMES MOROS","22210-PROFESIONAL ESPECIALIZADO","SRIA DE AGRICULTURA Y DESARROLLO RURAL"]
[88202493,"EDUARDO ANTONIO GERARDINO MANDON","21908-PROFESIONAL UNIVERSITARIO","SECRET DE PLANEACION Y DESARRO TERRITORI"]
[1090451030,"EDWARD GABRIEL CARDENAS MONCADA","10513-ASESOR","CONSEJ DPTAL PARA LA ACCION COMUNAL"]
[88031439,"EDWIN JOSE LAMUS GARCIA","22210-PROFESIONAL ESPECIALIZADO","SECRETARIA GENERAL"]
[60389262,"EISER ELENA RENGIFO REYES","22210-PROFESIONAL ESPECIALIZADO","SECRETARIA GENERAL"]
[27600646,"ELIANA MARCELA MARTINEZ GALVIS","22210-PROFESIONAL ESPECIALIZADO","SECRETARIA DE VIAS"]
[5492411,"ELIO DANIEL SERRANO VELASCO","10513-ASESOR","SECRETARIA DE LAS TICS"]
[1127338584,"EMELY NATHALY ALBARRACIN TORRES","40705-AUXILIAR ADMINISTRATIVO","SECRETARIA DE HACIENDA"]
[60409431,"EMILCE  CARDENAS GUERRERO","21908-PROFESIONAL UNIVERSITARIO","SECRETARIA GENERAL"]
[88200012,"EMILIO ANTONIO SANCHEZ PACHECO","21908-PROFESIONAL UNIVERSITARIO","SECRETARIA DE EDUCACION"]
[60398730,"ENA LUCERO GODOY JAIMES","04513-SUBSECRETARIO DE DESPACHO","SUBSECR ASUNT ADMINISTRAT Y FINANCIEROS"]
[1090451695,"ENYEMBERT ANDREY TELLEZ GOMEZ","10513-ASESOR","CONSEJ DPTAL PARA LA JUVENTUD"]
[1091594010,"ERICA  BAYONA TARAZONA","31406-TECNICO OPERATIVO","SECRETARIA DE SEGURIDAD CIUDADANA"]
[60389608,"ERIKA KARIME JAIMES SANDOVAL","22212-PROFESIONAL ESPECIALIZADO","SECRETARIA DE EDUCACION"]
[60411115,"ERIKA YASMIN CASTELLANOS VALENCIA","22211-PROFESIONAL ESPECIALIZADO","SECRETARIA GENERAL"]
[13277096,"FABIO  RODRIGUEZ MAYORGA","02014-SECRETARIO DE DESPACHO","SECRETARIA DE VICTIMAS, PAZ Y POSCONFLIC"]
[13503990,"FABIO JOSE ALEY SANTIAGO","31407-TECNICO OPERATIVO","SECRETARIA DE HACIENDA"]
[60382244,"FABIOLA  SANDOVAL MENDOZA","47002-AUXILIAR DE SERVICIOS GENERALES","DESPACHO GOBERNACION"]
[13473283,"FELIX JAVIER DIAZ HERRERA","40704-AUXILIAR ADMINISTRATIVO","SECRETARIA GENERAL"]
[1092341072,"FELIX URIEL CASANOVA RODRIGUEZ","48002-CONDUCTOR","SECRETARIA GENERAL"]
[5483579,"FERMIN ALBERTO ROLON LIZARAZO","22210-PROFESIONAL ESPECIALIZADO","SECRETARIA MEDIO AMBIENTE RECURSOS NATUR"]
[13496460,"FRANCISCO  CORTES RAMIREZ","10513-ASESOR","SECRETARIA DE GOBIERNO"]
[88204144,"FRANCISCO OBDULIO VILLA AROCHA","22210-PROFESIONAL ESPECIALIZADO","SECRET DE PLANEACION Y DESARRO TERRITORI"]
[88264420,"FRANKLIN HUMBERTO MUÑOZ BAUTISTA","31406-TECNICO OPERATIVO","SECRETARIA GENERAL"]
[13489306,"FREDDY  VALENCIA ROZO","40703-AUXILIAR ADMINISTRATIVO","DESPACHO GOBERNACION"]
[1090404972,"GABRIELA ANDREA CALDERON GARCIA","21906-PROFESIONAL UNIVERSITARIO MT","SECRETARIA GENERAL"]
[60377677,"GELMIS SULEY BAYONA LEMUS","40704-AUXILIAR ADMINISTRATIVO","CONSEJ DPTAL PARA LA COMPETITIVIDAD"]
[13486929,"GENRY  CALDERON PABON","48702-OPERARIO","SECRETARIA GENERAL"]
[94370758,"GEORGE EDISON QUINTERO MEDINA","02014-SECRETARIO DE DESPACHO","SECRETARIA DE SEGURIDAD CIUDADANA"]
[13497538,"GEOVANI  JAIMES PEÑARANDA","21908-PROFESIONAL UNIVERSITARIO","SECRETARIA DE TRANSITO"]
[13459120,"GEOVANNY  MARIÑO RINCON","48203-CONDUCTOR MECANICO","SECRETARIA GENERAL"]
[13508336,"GERARDO  BECERRA YAÑEZ","22212-PROFESIONAL ESPECIALIZADO","SECRETARIA DE CULTURA"]
[88216144,"GERARDO ALBERTO VILLAMIZAR","21908-PROFESIONAL UNIVERSITARIO","SECRETARIA GENERAL"]
[60355013,"GLADYS ISMELDA GUARIN BUITRAGO","40705-AUXILIAR ADMINISTRATIVO","SECRETARIA DESARROLLO SOCIAL"]
[27895691,"GLADYS YESENIA MARTINEZ MARTINEZ","44003-SECRETARIO","SECRETARIA GENERAL"]
[37290416,"GLENDA YORLEY MENDOZA DURAN","21510-ALMACENISTA GENERAL","SECRETARIA GENERAL"]
[60296430,"GLORIA ESPERANZA ALDANA PEREZ","22210-PROFESIONAL ESPECIALIZADO","OFI CONTROL INTERNO DE GESTION"]
[60328900,"GLORIA ESPERANZA GONZALEZ SEPULVEDA","42506-SECRETARIO EJECUTIVO","SECRETARIA DE HACIENDA"]
[60317974,"GLORIA INES CACERES YAÑEZ","31406-TECNICO OPERATIVO","SECRETARIA DE HACIENDA"]
[60334661,"GLORIA PATRICIA JAUREGUI GELVEZ","42506-SECRETARIO EJECUTIVO","OFI JEFATURA DE GABINETE"]
[60319345,"GLORIA RUTH BELTRAN LOZANO","22210-PROFESIONAL ESPECIALIZADO","SRIA DE AGUA POTABLE Y SANEAMIENT BASICO"]
[60373234,"GRACIELA  RIVILLAS GIRALDO","44003-SECRETARIO","SECRETARIA DE TURISMO"]
[13481850,"GUILLERMO  PINZON BLANCO","31407-TECNICO OPERATIVO","SECRETARIA DE VIAS"]
[5625571,"GUSTAVO  LAMUS MURILLO","22210-PROFESIONAL ESPECIALIZADO","SECRETARIA DE VIAS"]
[1093760009,"GUSTAVO ALBEIRO GARCIA PEREZ","40704-AUXILIAR ADMINISTRATIVO","CONSEJ AGENCIAM DEL DESARROLLO TERRITORI"]
[13494393,"HECTOR JESUS BLANCO FLOREZ","47002-AUXILIAR DE SERVICIOS GENERALES","SECRETARIA GENERAL"]
[60387655,"HEIDY MILENA ROLON GARCIA","21908-PROFESIONAL UNIVERSITARIO","SECRETARIA GENERAL"]
[1092364117,"HENDERSON YESUHA ALVAREZ CESPEDES","31406-TECNICO OPERATIVO","SECRETARIA GENERAL"]
[88207643,"HENRRY ORLANDO CARRILLO SANCHEZ","40703-AUXILIAR ADMINISTRATIVO","OFI DE RELACIONAMIENTO CON LA CIUDADANIA"]
[88179672,"HENRY  FLOREZ CASTRO","31407-TECNICO OPERATIVO","SECRETARIA GESTION RIESGOS DE DESASTRES"]
[13507111,"HENRY  TOSCANO NIÑO","31406-TECNICO OPERATIVO","SECRETARIA DE TRANSITO"]
[13374366,"HENRY ALONSO NUÑEZ RIZO","22210-PROFESIONAL ESPECIALIZADO","SRIA DE AGRICULTURA Y DESARROLLO RURAL"]
[88197418,"HENRY JAVIER ARAQUE ZUÑIGA","31407-TECNICO OPERATIVO","SECRETARIA DE HACIENDA"]
[13478281,"HENRY JAVIER ROJAS LLANES","21908-PROFESIONAL UNIVERSITARIO","SRIA DE AGRICULTURA Y DESARROLLO RURAL"]
[88208107,"HERMIDES  TORRADO VILLAMIZAR","22213-PROFESIONAL ESPECIALIZADO","SECRETARIA DE EDUCACION"]
[60403101,"HERMINIA  MISE LANDINES","22212-PROFESIONAL ESPECIALIZADO","SECRETARIA JURIDICA"]
[13445272,"HERNANDO  PEREZ","21908-PROFESIONAL UNIVERSITARIO","SRIA FRONTERAS Y COOPE INTERNACIONAL"]
[1090365508,"HERNANDO LEONIDAS VILLAMIZAR CAICEDO","21908-PROFESIONAL UNIVERSITARIO","SRIA GESTION MINERO Y ENERGETICO"]
[60402579,"HILSE YAMILE ALDANA PEREZ","04513-SUBSECRETARIO DE DESPACHO","SUBSECR GESTION DE POLITICAS EDUCATIVAS"]
[88207492,"HUMBERTO  ARDILA VARGAS","22210-PROFESIONAL ESPECIALIZADO","SECRETARIA JURIDICA"]
[1098630737,"INGRID YOLANDA PARADA ORTEGA","22210-PROFESIONAL ESPECIALIZADO","SECRETARIA JURIDICA"]
[60437991,"IRENE  DORA CEBRA","44004-SECRETARIO","SECRETARIA DESARROLLO SOCIAL"]
[60354527,"IRENE  REYES","44004-SECRETARIO","OFI CONTROL INTERNO DE GESTION"]
[37290498,"ISABEL CRISTINA YAÑEZ MONTAÑO","21908-PROFESIONAL UNIVERSITARIO","SECRETARIA DE VIAS"]
[37330709,"IVANIA FERNANDA CELIS YAÑEZ","21908-PROFESIONAL UNIVERSITARIO","SECRETARIA JURIDICA"]
[1090398445,"IVON VANESSA RINCON MALDONADO","21908-PROFESIONAL UNIVERSITARIO","SECRETARIA DE LA MUJER Y EQUIDAD GENERO"]
[60314678,"JACKELINE  SANTANDER BUENAÑO","21908-PROFESIONAL UNIVERSITARIO","OFI CONTROL INTER DISCIPLINARIO INSTRUCC"]
[1090405597,"JAIME RICARDO UMBARILA BOLIVAR","21908-PROFESIONAL UNIVERSITARIO","SECRET DE PLANEACION Y DESARRO TERRITORI"]
[88251550,"JAIRO ORLANDO CEPEDA CACERES","10513-ASESOR","OFI IMAGEN CORPORATIVA Y PROTOCOLO"]
[88141045,"JAIRO SABABANA SACHAYRA CARAIGDANA","31407-TECNICO OPERATIVO","SECRETARIA DESARROLLO SOCIAL"]
[60345999,"JANETH TRINIDAD CAMARGO MANZANO","22212-PROFESIONAL ESPECIALIZADO","SECRETARIA DE VICTIMAS, PAZ Y POSCONFLIC"]
[13496519,"JAVIER  CARMONA BUENO","48002-CONDUCTOR","SECRETARIA GENERAL"]
[13504639,"JAVIER ALONSO SANABRIA FLOREZ","21908-PROFESIONAL UNIVERSITARIO","SECRETARIA DE VIAS"]
[1094578934,"JEFFERSON ANDREY TORRADO BAYONA","44004-SECRETARIO","SRIA GESTION MINERO Y ENERGETICO"]
[60449331,"JENNY PATRICIA GONZALEZ JAIMES","22210-PROFESIONAL ESPECIALIZADO","SECRET DE PLANEACION Y DESARRO TERRITORI"]
[1094168587,"JENYFFER  BERBESI MEDINA","21908-PROFESIONAL UNIVERSITARIO","OFI CONTROL INTER DISCIPLINARIO INSTRUCC"]
[1090389772,"JESSICA ISABEL MEJIA MALDONADO","22213-PROFESIONAL ESPECIALIZADO","SECRETARIA DESARROLLO SOCIAL"]
[13453823,"JESUS  GELVES PARADA","40704-AUXILIAR ADMINISTRATIVO","SECRETARIA GENERAL"]
[13469848,"JESUS ALBERTO LOPEZ ORTIZ","44005-SECRETARIO","SECRETARIA DE TURISMO"]
[8164713,"JESUS AUGUSTO ROMERO MONTOYA","10513-ASESOR","CONSEJ DPTAL PARA LA DISCAPACIDAD"]
[88247517,"JESUS HERNANDO AMADO ARDILA","48203-CONDUCTOR MECANICO","SECRETARIA GENERAL"]
[13463740,"JESUS MARIA PATIÑO JAIMES","22210-PROFESIONAL ESPECIALIZADO","SECRETARIA GENERAL"]
[13486824,"JESUS ORLANDO CHIA LOPEZ","47202-AYUDANTE","SRIA DE AGUA POTABLE Y SANEAMIENT BASICO"]
[1094245077,"JEZABETH  LOZANO MENESES","10513-ASESOR","SECRETARIA DESARROLLO SOCIAL"]
[1094575964,"JHON ALDAIR ALVAREZ BACCA","02014-SECRETARIO DE DESPACHO","SRIA DE AGUA POTABLE Y SANEAMIENT BASICO"]
[88198176,"JHON ALEXANDER CHITIVA JACOME","42506-SECRETARIO EJECUTIVO","SECRETARIA GENERAL"]
[88193163,"JHON HARVEY JIMENEZ VALBUENA","31407-TECNICO OPERATIVO","SECRETARIA DE VIAS"]
[88310212,"JHON JAIRO DELGADO SALAMANCA","22210-PROFESIONAL ESPECIALIZADO","SECRETARIA GENERAL"]
[1090375220,"JHONATAN  CORREA SANTIAGO","21908-PROFESIONAL UNIVERSITARIO","SECRET DE PLANEACION Y DESARRO TERRITORI"]
[13175931,"JHONNY JOSE SANCHEZ CARRASCAL","02014-SECRETARIO DE DESPACHO","SECRETARIA JURIDICA"]
[88248566,"JOE LOUIS RAGUA ORTEGA","21908-PROFESIONAL UNIVERSITARIO","SECRET DE PLANEACION Y DESARRO TERRITORI"]
[1090962321,"JOHANA  TORRADO OVALLOS","21908-PROFESIONAL UNIVERSITARIO","SECRET DE PLANEACION Y DESARRO TERRITORI"]
[30050268,"JOHANNA LORENA GALVIS ALVARADO","22210-PROFESIONAL ESPECIALIZADO","SECRETARIA JURIDICA"]
[1090443523,"JOHN ALEXANDER RAMIREZ PRATO","10513-ASESOR","CONSEJ DPTAL PARA LA COMPETITIVIDAD"]
[5469194,"JORGE ADRIAN OJEDA SANCHEZ","40706-AUXILIAR ADMINISTRATIVO","SECRETARIA DE HACIENDA"]
[1095796412,"JORGE ANDRES BALAGUERA TORRADO","21908-PROFESIONAL UNIVERSITARIO","SECRETARIA DE LA MUJER Y EQUIDAD GENERO"]
[13500026,"JORGE ELIECER COLMENARES LAGUADO","22210-PROFESIONAL ESPECIALIZADO","SECRETARIA GENERAL"]
[13438508,"JORGE ENRIQUE ARIAS SANGUINO","22210-PROFESIONAL ESPECIALIZADO","SECRETARIA DE VIAS"]
[88030934,"JORGE ENRIQUE RAMIREZ MONTAÑEZ","22210-PROFESIONAL ESPECIALIZADO","SECRET DE PLANEACION Y DESARRO TERRITORI"]
[88239162,"JORGE ISAAC HERNANDEZ PORTILLA","48002-CONDUCTOR","SECRETARIA GENERAL"]
[1090421519,"JORGE ISAAC MENESES ORTEGA","11513-JEFE DE OFICINA ASESORA","OFI COMUNICACIONES Y PRENSA"]
[1093734402,"JOSE ALEXANDER PINEDA SIERRA","31406-TECNICO OPERATIVO","SECRETARIA DE TURISMO"]
[88232233,"JOSE ANGEL CORTES RINCON","22210-PROFESIONAL ESPECIALIZADO","SECRETARIA DE LAS TICS"]
[88187784,"JOSE ANIBAL PEÑARANDA SUAREZ","44005-SECRETARIO","SECRETARIA DE HACIENDA"]
[13171607,"JOSE ANTONIO MENDOZA ACEVEDO","22212-PROFESIONAL ESPECIALIZADO","SECRETARIA DE HACIENDA"]
[13459942,"JOSE ARTURO GALLO CONTRERAS","31407-TECNICO OPERATIVO","SECRETARIA DE TRANSITO"]
[88232071,"JOSE DEL CARMEN SERRANO GUERRERO","40703-AUXILIAR ADMINISTRATIVO","SECRETARIA DE CULTURA"]
[88155875,"JOSE GREGORIO JAIMES LEAL","31407-TECNICO OPERATIVO","SECRETARIA DE LAS TICS"]
[88241423,"JOSE GREGORIO LOPEZ QUIÑONEZ","40705-AUXILIAR ADMINISTRATIVO","OFI CONTROL INTER DISCIPLINARIO INSTRUCC"]
[88250888,"JOSE LUIS OVIEDO RAMIREZ","21908-PROFESIONAL UNIVERSITARIO","SECRETARIA DE HACIENDA"]
[88209942,"JOSE PAUL GUEVARA TORRES","22210-PROFESIONAL ESPECIALIZADO","SECRETARIA JURIDICA"]
[88219269,"JOSE RAFAEL HERNANDEZ CARRILLO","22210-PROFESIONAL ESPECIALIZADO","SECRETARIA JURIDICA"]
[88160550,"JUAN CARLOS CRUZ CHONA","10513-ASESOR","SECRETARIA DE HABITAT"]
[88241488,"JUAN CARLOS MEJIA CONTRERAS","40704-AUXILIAR ADMINISTRATIVO","SECRETARIA DE HACIENDA"]
[88035295,"JUAN CARLOS PEREZ PARADA","02014-SECRETARIO DE DESPACHO","SECRETARIA DE PROYECTOS ESPECIALES"]
[88209502,"JUAN CARLOS POSADA APOLINAR","22210-PROFESIONAL ESPECIALIZADO","SECRETARIA DE TURISMO"]
[13279354,"JUAN CARLOS RIVERA ORTEGA","31407-TECNICO OPERATIVO","SECRETARIA DE LAS TICS"]
[88223946,"JUAN CARLOS SILVA SARMIENTO","48002-CONDUCTOR","SECRETARIA GENERAL"]
[71330611,"JUAN DAVID ARBOLEDA VERGARA","22210-PROFESIONAL ESPECIALIZADO","SECRETARIA DESARROLLO SOCIAL"]
[71386138,"JUAN DAVID CARMONA SUAREZ","10513-ASESOR","CONSEJ INFANCIA, ADOLESCENCIA Y FAMILIA"]
[1090481017,"JUAN FERNANDO SANTOS PADILLA","21908-PROFESIONAL UNIVERSITARIO","SECRETARIA DE HACIENDA"]
[13477756,"JUAN GUSTAVO OLEJUA ARAQUE","21908-PROFESIONAL UNIVERSITARIO","SECRETARIA DE HABITAT"]
[88240728,"JUAN JOSE BOTELLO SANGUINO","22212-PROFESIONAL ESPECIALIZADO","SECRETARIA GENERAL"]
[13439894,"JUAN NEPOMUCENO HERNANDEZ ORTIZ","40705-AUXILIAR ADMINISTRATIVO","OFI DE RELACIONAMIENTO CON LA CIUDADANIA"]
[88245946,"JUAN PABLO SUAREZ OSORIO","47002-AUXILIAR DE SERVICIOS GENERALES","SECRETARIA GENERAL"]
[88283753,"JULIAN CAMILO YAÑEZ MONTAÑO","22210-PROFESIONAL ESPECIALIZADO","SRIA GESTION MINERO Y ENERGETICO"]
[13489450,"JULIO CESAR ARENAS RANGEL","22210-PROFESIONAL ESPECIALIZADO","SECRETARIA DE LAS TICS"]
[13488401,"JULIO CESAR SILVA RINCON","02014-SECRETARIO DE DESPACHO","SECRETARIA GENERAL"]
[1090385543,"JUSTO EDUARDO PORTILLA GONZALEZ","44004-SECRETARIO","SECRETARIA GENERAL"]
[1092345361,"KARLA VANESSA SOCHA MORALES","22212-PROFESIONAL ESPECIALIZADO","SECRETARIA DE PROYECTOS ESPECIALES"]
[1090405522,"KAROL YESSID BLANCO MONROY","22211-PROFESIONAL ESPECIALIZADO","SECRETARIA DE GOBIERNO"]
[1098619673,"KATHERINE  ALVAREZ MOGOLLON","22210-PROFESIONAL ESPECIALIZADO","SECRETARIA DE GOBIERNO"]
[60395033,"KATHERINE AUXILIADORA GARCIA LOPEZ","31406-TECNICO OPERATIVO","OFI CONTROL INTER DISCIPLINARIO INSTRUCC"]
[1121854001,"KATY ENID GAMBOA DELGADO","44005-SECRETARIO","OFI JEFATURA DE GABINETE"]
[1090428751,"KELLY TATIANA GARCIA LOPEZ","21908-PROFESIONAL UNIVERSITARIO","SECRETARIA DE VIAS"]
[1090433778,"KEYLA KARINA SANCHEZ CHAPARRO","21906-PROFESIONAL UNIVERSITARIO MT","SECRETARIA GENERAL"]
[13478573,"LACIDES  NEIRA CORTEZ","44004-SECRETARIO","SECRETARIA GENERAL"]
[60393753,"LAURA CRISTINA CACERES NIÑO","02014-SECRETARIO DE DESPACHO","SECRETARIA DE EDUCACION"]
[60381278,"LEDDY DEL ROSARIO BARBOSA RINCON","42506-SECRETARIO EJECUTIVO","SECRETARIA DESARROLLO SOCIAL"]
[60328738,"LEDY ZULAY MARQUEZ CAICEDO","22210-PROFESIONAL ESPECIALIZADO","OFI CONTROL INTERNO DE GESTION"]
[1090394625,"LEIDY JOHANNA VELOZA SERRANO","31407-TECNICO OPERATIVO","DESPACHO GOBERNACION"]
[1090407155,"LEIDY VIVIANA VALDERRAMA SERNA","40703-AUXILIAR ADMINISTRATIVO","SECRETARIA DE EDUCACION"]
[63554406,"LENNY DISNEIBY QUINTERO CARRASCAL","21906-PROFESIONAL UNIVERSITARIO MT","SECRETARIA DE EDUCACION"]
[6794104,"LEONEL  ANGARITA MARTINEZ","47202-AYUDANTE","SECRETARIA GENERAL"]
[60323764,"LEONOR  NUÑEZ PATIÑO","40705-AUXILIAR ADMINISTRATIVO","SRIA DESARROLLO ECONOMIC Y PRODUCTIVIDAD"]
[37291895,"LEYDI MARIA ALVAREZ PEREZ","31407-TECNICO OPERATIVO","SECRET DE PLANEACION Y DESARRO TERRITORI"]
[88218453,"LIBER HERNANDO AMAYA VALDERRAMA","31206-INSPECTOR DE TRANSITO Y TRANSPORTE","SECRETARIA DE TRANSITO"]
[60306944,"LIBIA DEL CARMEN URIBE GUATIBONZA","21906-PROFESIONAL UNIVERSITARIO MT","SECRETARIA GENERAL"]
[60316858,"LIBIA STELLA SOTO URBINA","22210-PROFESIONAL ESPECIALIZADO","SECRETARIA DE HABITAT"]
[60340200,"LIGIA RUTH ARENAS AMAYA","22210-PROFESIONAL ESPECIALIZADO","SECRET DE PLANEACION Y DESARRO TERRITORI"]
[60332534,"LILIA BEATRIZ VILLAMIZAR MOGOLLON","22212-PROFESIONAL ESPECIALIZADO","SECRET DE PLANEACION Y DESARRO TERRITORI"]
[60357662,"LILIANA  FUENTES MEDINA","22211-PROFESIONAL ESPECIALIZADO","SECRETARIA DE PROYECTOS ESPECIALES"]
[37396915,"LILIANA CAROLINA ROJAS ALVARADO","22210-PROFESIONAL ESPECIALIZADO","SRIA FRONTERAS Y COOPE INTERNACIONAL"]
[60352525,"LIZBETH ASTRID BLANCO MORALES","22210-PROFESIONAL ESPECIALIZADO","SRIA FRONTERAS Y COOPE INTERNACIONAL"]
[1092343804,"LIZBETH GERALDINE LOZANO MARIÑO","10513-ASESOR","CONSEJ AGENCIAM DEL DESARROLLO TERRITORI"]
[37390568,"LIZETH CRISTINA VASQUEZ BARON","21908-PROFESIONAL UNIVERSITARIO","OFI DE RELACIONAMIENTO CON LA CIUDADANIA"]
[1090392959,"LIZETH MARIA CORREA QUINTERO","21908-PROFESIONAL UNIVERSITARIO","SECRETARIA DE HACIENDA"]
[37272397,"LORENA DE JESUS ALVAREZ ANGARITA","21908-PROFESIONAL UNIVERSITARIO","SECRET DE PLANEACION Y DESARRO TERRITORI"]
[68285845,"LOURDES  GARCIA PEREZ","42506-SECRETARIO EJECUTIVO","OFI COMUNICACIONES Y PRENSA"]
[60350562,"LUCY  LOZANO ROPERO","21906-PROFESIONAL UNIVERSITARIO MT","CONSEJ DPTAL PARA LA DISCAPACIDAD"]
[60279139,"LUCY  PEREZ CRUZ","42506-SECRETARIO EJECUTIVO","SECRETARIA JURIDICA"]
[88189077,"LUDWING YORSEY GODOY SANABRIA","44004-SECRETARIO","SECRETARIA DE CULTURA"]
[60370032,"LUDY ESPERANZA TORRES CASTILLA","40705-AUXILIAR ADMINISTRATIVO","OFI DE RELACIONAMIENTO CON LA CIUDADANIA"]
[13502762,"LUIS ADOLFO DIAZ","40703-AUXILIAR ADMINISTRATIVO","SRIA DE AGRICULTURA Y DESARROLLO RURAL"]
[88179826,"LUIS ALBERTO CHACON BELTRAN","48002-CONDUCTOR","SECRETARIA GENERAL"]
[88245175,"LUIS ALBERTO GOMEZ ANGULO","22213-PROFESIONAL ESPECIALIZADO","SECRETARIA GENERAL"]
[13451551,"LUIS ALFONSO TARAZONA LLERENA","22210-PROFESIONAL ESPECIALIZADO","SECRETARIA GENERAL"]
[13478548,"LUIS ALFREDO GAITAN PEREZ","31406-TECNICO OPERATIVO","SECRETARIA DE CULTURA"]
[13505838,"LUIS ALFREDO MENESES","22211-PROFESIONAL ESPECIALIZADO","DESPACHO GOBERNACION"]
[1093745376,"LUIS BRHAYAN TORRES CABALLERO","10514-ASESOR","OFI DELG GESTION Y COOPE CASA NDS BOGOTA"]
[13494248,"LUIS CARLOS GOMEZ CRISTANCHO","21908-PROFESIONAL UNIVERSITARIO","SRIA DE AGRICULTURA Y DESARROLLO RURAL"]
[13436334,"LUIS EDUARDO MENDEZ ZIPAGAUTA","31407-TECNICO OPERATIVO","SECRETARIA DE HACIENDA"]
[88246690,"LUIS FERNANDO NIÑO LOPEZ","10513-ASESOR","CONSEJ DPTAL PARA LA PAZ Y RECONCILIACIO"]
[88187262,"LUIS GERSON RUIZ HERNANDEZ","22210-PROFESIONAL ESPECIALIZADO","SECRETARIA DE GOBIERNO"]
[13509573,"LUIS GUILLERMO PORTILLA TORRADO","21908-PROFESIONAL UNIVERSITARIO","OFI CONTROL INTER DISCIPLINARIO INSTRUCC"]
[88207617,"LUIS JAVIER SALINAS PEREZ","44005-SECRETARIO","SRIA DE AGRICULTURA Y DESARROLLO RURAL"]
[88142113,"LUIS RAMIRO REYES JACOME","40703-AUXILIAR ADMINISTRATIVO","SECRETARIA DE HACIENDA"]
[60348599,"LUZ KARIME FIALLO AYALA","42506-SECRETARIO EJECUTIVO","SECRETARIA DE VIAS"]
[37278514,"LUZ MAR IBARRA LINDARTE","21908-PROFESIONAL UNIVERSITARIO","SECRETARIA GENERAL"]
[37342952,"LUZ MARINA AYALA MORENO","40703-AUXILIAR ADMINISTRATIVO","SECRETARIA DE LA MUJER Y EQUIDAD GENERO"]
[60284137,"LUZ MARINA TORRES ANTELIZ","44005-SECRETARIO","SECRETARIA DE SEGURIDAD CIUDADANA"]
[37294854,"LUZ PAULA CONTRERAS MURCIA","22210-PROFESIONAL ESPECIALIZADO","SECRETARIA DE LAS TICS"]
[60332892,"MABEL AMPARO COLMENARES BECERRA","22210-PROFESIONAL ESPECIALIZADO","SECRETARIA GENERAL"]
[46452048,"MABEL BIBIANA PEDRAZA MORANTES","22210-PROFESIONAL ESPECIALIZADO","SECRETARIA DE CULTURA"]
[30050622,"MADELEINE  RUBIO PAEZ","44005-SECRETARIO","SECRETARIA GENERAL"]
[60320793,"MAGDALENA  GARCIA MOLINA","47002-AUXILIAR DE SERVICIOS GENERALES","DESPACHO GOBERNACION"]
[13473735,"MANUEL ALBERTO FLOREZ CALDERON","21908-PROFESIONAL UNIVERSITARIO","SECRETARIA DE VIAS"]
[1090408475,"MANUEL FERNANDO SUAREZ","40703-AUXILIAR ADMINISTRATIVO","SECRETARIA DE CULTURA"]
[13388579,"MANUEL ORLANDO PRADILLA GARCIA","22213-PROFESIONAL ESPECIALIZADO","SECRET DE PLANEACION Y DESARRO TERRITORI"]
[88270344,"MARCO ANTONIO VERA IBARRA","21908-PROFESIONAL UNIVERSITARIO","SRIA GESTION MINERO Y ENERGETICO"]
[13171695,"MARCO TULIO MARTINEZ ACUÑA","22211-PROFESIONAL ESPECIALIZADO","SECRETARIA DE GOBIERNO"]
[1093765143,"MARIA ALEJANDRA SANTANDER GUTIERREZ","21908-PROFESIONAL UNIVERSITARIO","SECRETARIA DE HACIENDA"]
[1091666493,"MARIA ANDREA SANGUINO ROMERO","10513-ASESOR","OFI DELG GESTION Y COOPE CASA NDS BOGOTA"]
[1090453371,"MARIA ANGELA CONDE SOTO","21908-PROFESIONAL UNIVERSITARIO","SECRETARIA GENERAL"]
[60300860,"MARIA ANTONIA DIAZ CARVAJAL","42506-SECRETARIO EJECUTIVO","SECRETARIA DE CULTURA"]
[60299135,"MARIA ANTONIA MONCADA BECERRA","40705-AUXILIAR ADMINISTRATIVO","SECRETARIA DE HACIENDA"]
[27837317,"MARIA BELEN PARADA RAMIREZ","44004-SECRETARIO","SECRETARIA GESTION RIESGOS DE DESASTRES"]
[1090506599,"MARIA CAMILA VILORIA OCHOA","21908-PROFESIONAL UNIVERSITARIO","SECRETARIA DE VIAS"]
[1090526501,"MARIA CAROLINA SANCHEZ SOLER","31406-TECNICO OPERATIVO","SECRETARIA DE HACIENDA"]
[60373082,"MARIA DELCARMEN PEREZ REY","40704-AUXILIAR ADMINISTRATIVO","SECRETARIA DE PROYECTOS ESPECIALES"]
[60403837,"MARIA ELENA ROJAS MONSALVE","42506-SECRETARIO EJECUTIVO","SECRETARIA GENERAL"]
[37278042,"MARIA ELIZABETH MANTILLA LEON","31406-TECNICO OPERATIVO","SECRETARIA DE CULTURA"]
[60305149,"MARIA JUANITA FUENTES LABARCA","42506-SECRETARIO EJECUTIVO","SRIA DE AGRICULTURA Y DESARROLLO RURAL"]
[60326310,"MARIA NUBIA DIAZ RIVERO","22210-PROFESIONAL ESPECIALIZADO","SECRETARIA DE HACIENDA"]
[60300883,"MARIA SANDRA RAMIREZ PARRA","42506-SECRETARIO EJECUTIVO","SRIA GESTION MINERO Y ENERGETICO"]
[60291600,"MARIA SOLEDAD ORTEGA PEDRAZA","21906-PROFESIONAL UNIVERSITARIO MT","SECRETARIA DESARROLLO SOCIAL"]
[60355906,"MARIA YUDITH ROPERO SUAREZ","21908-PROFESIONAL UNIVERSITARIO","SECRETARIA DE HACIENDA"]
[1094506075,"MARIBEL  PEREZ ROZO","40704-AUXILIAR ADMINISTRATIVO","SECRETARIA GENERAL"]
[1091592934,"MARICELA  ORTIZ BAYONA","31406-TECNICO OPERATIVO","SECRETARIA GENERAL"]
[37393656,"MARIEL CAROLINA RESTREPO JACANAMIJOY","31407-TECNICO OPERATIVO","SECRETARIA DESARROLLO SOCIAL"]
[27837806,"MARIELA  VEGA","47202-AYUDANTE","SRIA DE AGUA POTABLE Y SANEAMIENT BASICO"]
[60345226,"MARIELA SOLANO","48702-OPERARIO","DESPACHO GOBERNACION"]
[1090963024,"MARILU  ROJAS VARGAS","21906-PROFESIONAL UNIVERSITARIO MT","SECRETARIA DE EDUCACION"]
[60297086,"MARINA  LOZANO ROPERO","00614-JEFE DE OFICINA","OFI JEFATURA DE GABINETE"]
[13469978,"MARIO ALBERTO NOVA SEPULVEDA","48702-OPERARIO","SECRETARIA GENERAL"]
[13482794,"MARIO CESAR VARELA ROJAS","22212-PROFESIONAL ESPECIALIZADO","SECRETARIA DE HACIENDA"]
[88261335,"MARIO VICENTE FIGUEROA FERNANDEZ","22212-PROFESIONAL ESPECIALIZADO","SECRETARIA MEDIO AMBIENTE RECURSOS NATUR"]
[60312512,"MARITZA COROMOTO GRIMALDOS CUBEROS","31407-TECNICO OPERATIVO","SECRETARIA GENERAL"]
[60380842,"MARLY SULAY ALVAREZ HERRERA","10513-ASESOR","CONSEJ DPTAL ASUNTOS RELIGIOSOS"]
[37325073,"MARTA LILIANA AREVALO OCAMPO","02014-SECRETARIO DE DESPACHO","SECRETARIA DE GOBIERNO"]
[60339190,"MARTHA FABIOLA CORREA RODRIGUEZ","21908-PROFESIONAL UNIVERSITARIO","SECRETARIA DE HABITAT"]
[37395205,"MARTHA LILIANA BERNAL SOLER","31407-TECNICO OPERATIVO","SRIA GESTION MINERO Y ENERGETICO"]
[60349017,"MARTHA LILIANA PARADA MATEUS","21908-PROFESIONAL UNIVERSITARIO","SECRETARIA MEDIO AMBIENTE RECURSOS NATUR"]
[37274703,"MARTHA LILIANA VALBUENA VILLABONA","44003-SECRETARIO","SECRETARIA DE LAS TICS"]
[60334868,"MARTHA MARIA REYES PARRA","02014-SECRETARIO DE DESPACHO","SECRETARIA DE CULTURA"]
[30050924,"MARTHA MILENA BOADA TORRES","22210-PROFESIONAL ESPECIALIZADO","SRIA DESARROLLO ECONOMIC Y PRODUCTIVIDAD"]
[60408037,"MARTHA PATRICIA MENESES RAMIREZ","22210-PROFESIONAL ESPECIALIZADO","SECRET DE PLANEACION Y DESARRO TERRITORI"]
[51725591,"MARTHA XIOMARA PABON MIRANDA","22210-PROFESIONAL ESPECIALIZADO","SECRETARIA DE EDUCACION"]
[13473213,"MARTIN  VEGA SUAREZ","21908-PROFESIONAL UNIVERSITARIO","SRIA DE AGUA POTABLE Y SANEAMIENT BASICO"]
[60324925,"MARY FABIANA LEAL GARAY","02014-SECRETARIO DE DESPACHO","SECRETARIA DE VIAS"]
[60403335,"MARY LUZ LIZARAZO TELLEZ","10514-ASESOR","OFI CONTROL INTERNO DE GESTION"]
[1090482047,"MARY YADIRA SOTO PABON","44004-SECRETARIO","OFI DE RELACIONAMIENTO CON LA CIUDADANIA"]
[37275817,"MAYERLI ZULEY BARRAGAN PEREZ","21908-PROFESIONAL UNIVERSITARIO","SECRET DE PLANEACION Y DESARRO TERRITORI"]
[1090496062,"MAYERLYN ROSSELINE GUTIERREZ ESLAVA","21908-PROFESIONAL UNIVERSITARIO","SRIA DESARROLLO ECONOMIC Y PRODUCTIVIDAD"]
[60262483,"MAYRA MAGDALENA DELGADO BUENO","10511-ASESOR","SRIA DE AGUA POTABLE Y SANEAMIENT BASICO"]
[60385172,"MAYRA SURLEY LAZO FUENTES","44004-SECRETARIO","SECRETARIA GESTION RIESGOS DE DESASTRES"]
[1090447584,"MIGUEL ANGEL FLOREZ DAVILA","10513-ASESOR","SRIA DESARROLLO ECONOMIC Y PRODUCTIVIDAD"]
[1090365957,"MIGUEL ANGEL QUINTERO BOTELLO","21908-PROFESIONAL UNIVERSITARIO","SRIA DE AGRICULTURA Y DESARROLLO RURAL"]
[60354206,"MILANYELA LILIANA ZAPATA LARA","40705-AUXILIAR ADMINISTRATIVO","SECRETARIA DE HACIENDA"]
[37440497,"MILDREI ADRIANA CAMACHO HURTADO","22210-PROFESIONAL ESPECIALIZADO","SECRETARIA DE LAS TICS"]
[1090392367,"MILEIDY JULLIE FRANCO TRILLOS","31407-TECNICO OPERATIVO","SECRETARIA DE HACIENDA"]
[1005065127,"MILTON  JAIMES RAMIREZ","31407-TECNICO OPERATIVO","SECRETARIA DESARROLLO SOCIAL"]
[60348125,"MYRIAM CELEYDA CARDOZO MONSALVE","22210-PROFESIONAL ESPECIALIZADO","SECRETARIA GENERAL"]
[60339078,"NANCY  PEREZ CASTAÑEDA","31407-TECNICO OPERATIVO","SECRET DE PLANEACION Y DESARRO TERRITORI"]
[27806995,"NANCY CAROLINA BOTELLO MALDONADO","42506-SECRETARIO EJECUTIVO","SECRET DE PLANEACION Y DESARRO TERRITORI"]
[27898469,"NANCY JANETH AMAYA DE DIAZ","21908-PROFESIONAL UNIVERSITARIO","SECRETARIA DE HACIENDA"]
[60349772,"NANCY OMAIRA BUITRAGO BOHORQUEZ","22210-PROFESIONAL ESPECIALIZADO","SECRETARIA DE EDUCACION"]
[1090175297,"NATALIA JIMENA TORRADO PEÑARANDA","21908-PROFESIONAL UNIVERSITARIO","SECRET DE PLANEACION Y DESARRO TERRITORI"]
[88266173,"NEFER LEANDRO MORA DURAN","22212-PROFESIONAL ESPECIALIZADO","SECRETARIA JURIDICA"]
[1091808387,"NEILA KARINA RICO ARIAS","21908-PROFESIONAL UNIVERSITARIO","SRIA FRONTERAS Y COOPE INTERNACIONAL"]
[42976114,"NELCY  ALBARRACIN MEDINA","21908-PROFESIONAL UNIVERSITARIO","SECRETARIA GENERAL"]
[37252966,"NELLY ESPERANZA MARTINEZ NIÑO","21908-PROFESIONAL UNIVERSITARIO","SECRETARIA DE TRANSITO"]
[91281268,"NELSON  BRICEÑO GARCIA","31407-TECNICO OPERATIVO","SECRETARIA DESARROLLO SOCIAL"]
[13508648,"NELSON DARIO ORTEGA FLOREZ","40704-AUXILIAR ADMINISTRATIVO","SECRETARIA GENERAL"]
[91108872,"NELSON ENRIQUE DIAZ TORRES","48002-CONDUCTOR","SECRETARIA GENERAL"]
[88310079,"NELSON ENRIQUE VERA CRUZ","31406-TECNICO OPERATIVO","SECRETARIA GENERAL"]
[13509886,"NELSON IVAN CHIA DIAZ","21908-PROFESIONAL UNIVERSITARIO","SECRETARIA DE EDUCACION"]
[1093803064,"NELSON JOSHUA CRISTANCHO SANCHEZ","40703-AUXILIAR ADMINISTRATIVO","SRIA FRONTERAS Y COOPE INTERNACIONAL"]
[13499696,"NESTOR IVAN TORRES DAZA","44004-SECRETARIO","SECRETARIA GENERAL"]
[88215812,"NESTOR JULIO FLOREZ ESCALANTE","22210-PROFESIONAL ESPECIALIZADO","SECRETARIA GESTION RIESGOS DE DESASTRES"]
[1090362702,"NHORA VIRGINIA ORTEGA JAUREGUI","22210-PROFESIONAL ESPECIALIZADO","SECRETARIA GESTION RIESGOS DE DESASTRES"]
[27720766,"NIDIA AMPARO SUAREZ PUERTO","31407-TECNICO OPERATIVO","SECRETARIA DE HACIENDA"]
[60256797,"NIDIA LUCERO DUARTE SUAREZ","21906-PROFESIONAL UNIVERSITARIO MT","SECRETARIA DE EDUCACION"]
[1098617788,"NIDIA PAOLA BARRAGAN QUINTERO","21908-PROFESIONAL UNIVERSITARIO","SECRETARIA DE PROYECTOS ESPECIALES"]
[60365466,"NIDIA TERESA LEAL CONTRERAS","21908-PROFESIONAL UNIVERSITARIO","SECRETARIA GENERAL"]
[60266093,"NINI YOHANA LUNA BECERRA","22210-PROFESIONAL ESPECIALIZADO","SECRETARIA DE CULTURA"]
[37340355,"NORMA  VILLAMIZAR RAMIREZ","42506-SECRETARIO EJECUTIVO","SECRETARIA DE HACIENDA"]
[60370989,"NUBIA CRISTINA BRIÑEZ BEJARANO","21906-PROFESIONAL UNIVERSITARIO MT","CONSEJ DPTAL PARA LA DISCAPACIDAD"]
[60327557,"NUBIA STELLA GRIMALDOS FONSECA","31407-TECNICO OPERATIVO","SECRETARIA JURIDICA"]
[88202491,"NUMAEL  MELO ROMERO","48002-CONDUCTOR","SECRETARIA GENERAL"]
[1016012792,"OLGER ALBERTO LOPEZ VERGEL","02014-SECRETARIO DE DESPACHO","SRIA DESARROLLO ECONOMIC Y PRODUCTIVIDAD"]
[1090474522,"OLIVERIO  CASTELLANOS CONTRERAS","00613-JEFE DE OFICINA","OFI DE RELACIONAMIENTO CON LA CIUDADANIA"]
[27892245,"OMAIRA MARIA CASTIBLANCO ROSARIO","44004-SECRETARIO","SRIA DE AGUA POTABLE Y SANEAMIENT BASICO"]
[13456968,"OMAR  VILLAMIZAR LUCIANI","31407-TECNICO OPERATIVO","SRIA DE AGRICULTURA Y DESARROLLO RURAL"]
[88310936,"ORLANDO FABIANNY DUARTE LINDARTE","21908-PROFESIONAL UNIVERSITARIO","SECRET DE PLANEACION Y DESARRO TERRITORI"]
[1985288,"OSCAR RENE RINCON CASTILLO","22212-PROFESIONAL ESPECIALIZADO","OFI COMUNICACIONES Y PRENSA"]
[79967714,"OSCAR YESID GARCIA JAIMES","40704-AUXILIAR ADMINISTRATIVO","OFI COMUNICACIONES Y PRENSA"]
[28124715,"PABLINA  SUAREZ CORZO","42506-SECRETARIO EJECUTIVO","SRIA FRONTERAS Y COOPE INTERNACIONAL"]
[9519966,"PABLO ANTONIO GONZALEZ AFANADOR","22210-PROFESIONAL ESPECIALIZADO","SRIA DE AGRICULTURA Y DESARROLLO RURAL"]
[60395071,"PATRICIA JACQUELINE NIÑO RAMIREZ","21908-PROFESIONAL UNIVERSITARIO","SECRETARIA DE TRANSITO"]
[1093735434,"PAZ ESPERANZA LEON BAEZ","40705-AUXILIAR ADMINISTRATIVO","SRIA DESARROLLO ECONOMIC Y PRODUCTIVIDAD"]
[1090365273,"PEDRO LUIS DURAN SANGUINO","48002-CONDUCTOR","SECRETARIA GENERAL"]
[60377725,"PIEDAD PATRICIA PINEDA PERTUZ","44005-SECRETARIO","SECRETARIA GENERAL"]
[13475531,"RAFAEL DARIO GUTIERREZ FORERO","22210-PROFESIONAL ESPECIALIZADO","SECRETARIA GENERAL"]
[7141654,"RAFAEL ENRIQUE PACHECO JIMENEZ","40704-AUXILIAR ADMINISTRATIVO","SECRETARIA DE VICTIMAS, PAZ Y POSCONFLIC"]
[88202146,"RAFAEL HERNAN SANIN BLANCO","02014-SECRETARIO DE DESPACHO","SECRETARIA PRIVADA"]
[13446540,"RAFAEL SEGUNDO RAMIREZ MARIN","22212-PROFESIONAL ESPECIALIZADO","OFI JEFATURA DE GABINETE"]
[13437228,"RAIMON EDER HERNANDEZ ANGEL","22212-PROFESIONAL ESPECIALIZADO","SECRETARIA DE PROYECTOS ESPECIALES"]
[13480544,"RAMIRO  ROPERO ROJAS","21908-PROFESIONAL UNIVERSITARIO","SECRETARIA DE TRANSITO"]
[1090492135,"RAMIRO ANDRES AMADO QUINTERO","21908-PROFESIONAL UNIVERSITARIO","SECRETARIA DE VICTIMAS, PAZ Y POSCONFLIC"]
[63450518,"RAQUEL  CAICEDO RUEDA","22212-PROFESIONAL ESPECIALIZADO","SECRET DE PLANEACION Y DESARRO TERRITORI"]
[60366876,"ROSSI CAROLINA ZAMBRANO VILLAMIZAR","22210-PROFESIONAL ESPECIALIZADO","SECRETARIA DESARROLLO SOCIAL"]
[13469480,"RUBEN ELIECER HERNANDEZ DUARTE","48702-OPERARIO","SECRETARIA DE VIAS"]
[60368157,"RUBIELA  ORTIZ BRABO","47202-AYUDANTE","SECRETARIA DE VICTIMAS, PAZ Y POSCONFLIC"]
[60294909,"RUTH DEL CARMEN BAYONA TELLEZ","22212-PROFESIONAL ESPECIALIZADO","SECRETARIA DE TURISMO"]
[60347993,"RUTH YANETH VARGAS TELLEZ","21906-PROFESIONAL UNIVERSITARIO MT","SECRETARIA GENERAL"]
[88243748,"SAIN  VERJEL TORRADO","48702-OPERARIO","SECRETARIA GENERAL"]
[88279892,"SAMIR FERNANDO CASADIEGOS SANJUAN","02014-SECRETARIO DE DESPACHO","SECRETARIA DE HABITAT"]
[13452796,"SAMUEL DARIO MEDINA PARRA","22210-PROFESIONAL ESPECIALIZADO","SECRETARIA DE VIAS"]
[13475229,"SAMUEL EMIRO CASTILLA SOTO","21908-PROFESIONAL UNIVERSITARIO","SECRET DE PLANEACION Y DESARRO TERRITORI"]
[60298517,"SANDRA CECILIA ORTIZ ORTEGA","21908-PROFESIONAL UNIVERSITARIO","SECRETARIA DE HACIENDA"]
[60265381,"SANDRA KATHERINE ANGARITA PANTALEON","21908-PROFESIONAL UNIVERSITARIO","SECRETARIA GENERAL"]
[60367810,"SANDRA OMAIRA GONZALEZ SEPULVEDA","21908-PROFESIONAL UNIVERSITARIO","SECRETARIA DE LA MUJER Y EQUIDAD GENERO"]
[27895477,"SANDRA PAOLA BERRIO MURILLO","21908-PROFESIONAL UNIVERSITARIO","SECRETARIA GENERAL"]
[60387965,"SANDRA YAJAIRA BENITEZ JAIMES","22212-PROFESIONAL ESPECIALIZADO","SECRETARIA DE HACIENDA"]
[60364141,"SANDRA YANETH QUINTERO MARTINEZ","22212-PROFESIONAL ESPECIALIZADO","SECRETARIA GENERAL"]
[88031479,"SERGIO  ACEVEDO DELGADO","22210-PROFESIONAL ESPECIALIZADO","SECRETARIA DE HACIENDA"]
[88244188,"SERGIO ANDRES ENTRENA FERNANDEZ","02014-SECRETARIO DE DESPACHO","SECRETARIA DE HACIENDA"]
[88253673,"SERGIO ANDRES MENDOZA GONZALEZ","31407-TECNICO OPERATIVO","SRIA GESTION MINERO Y ENERGETICO"]
[88221026,"SERGIO FERNANDO CORREA RODRIGUEZ","40705-AUXILIAR ADMINISTRATIVO","SECRETARIA DE HACIENDA"]
[1098611066,"SILVIA ANDREA HERNANDEZ HERNANDEZ","21908-PROFESIONAL UNIVERSITARIO","SECRETARIA MEDIO AMBIENTE RECURSOS NATUR"]
[60371697,"SONIA  ARANGO MEDINA","02014-SECRETARIO DE DESPACHO","SECRETARIA DE LAS TICS"]
[60311043,"SONIA  BALLESTEROS BOTELLO","21908-PROFESIONAL UNIVERSITARIO","SECRET DE PLANEACION Y DESARRO TERRITORI"]
[60297266,"SONIA ATALIA NAVARRO URON","22210-PROFESIONAL ESPECIALIZADO","SECRETARIA DE LA MUJER Y EQUIDAD GENERO"]
[32678639,"SONIA HAYDEE IZAQUITA FLOREZ","21908-PROFESIONAL UNIVERSITARIO","SECRET DE PLANEACION Y DESARRO TERRITORI"]
[52514929,"SONIA MILENA SILVA BERNAL","22212-PROFESIONAL ESPECIALIZADO","SECRETARIA DE HACIENDA"]
[51645524,"SORAYA  LEBOLO LANZIANO","31407-TECNICO OPERATIVO","SECRETARIA MEDIO AMBIENTE RECURSOS NATUR"]
[1090432959,"STEPHANY LORENA QUINTERO RIVERA","40703-AUXILIAR ADMINISTRATIVO","SECRETARIA DE EDUCACION"]
[1004842584,"SUCEL DEYINE MENDOZA VILLAMIZAR","21908-PROFESIONAL UNIVERSITARIO","SECRET DE PLANEACION Y DESARRO TERRITORI"]
[1092345242,"SULAMITA  CONTRERAS VILLARREAL","31406-TECNICO OPERATIVO","OFI DE RELACIONAMIENTO CON LA CIUDADANIA"]
[60320832,"SUSANA ELISA RAMIREZ ALVAREZ","21908-PROFESIONAL UNIVERSITARIO","SECRETARIA DE HACIENDA"]
[60409404,"TANIA ROSA RINCON DURAN","22212-PROFESIONAL ESPECIALIZADO","SECRETARIA GENERAL"]
[88189542,"TOMAS  JAIMES TOLOZA","40705-AUXILIAR ADMINISTRATIVO","SECRETARIA DE LA MUJER Y EQUIDAD GENERO"]
[88196137,"VICENTE  SANCHEZ RODRIGUEZ","47202-AYUDANTE","SECRETARIA DE TRANSITO"]
[88199043,"VICENTE ANTONIO SANDOVAL ALARCON","31406-TECNICO OPERATIVO","SECRETARIA DE HACIENDA"]
[1090506524,"VICTOR ANDRES SUAREZ VALCARCEL","21908-PROFESIONAL UNIVERSITARIO","SECRETARIA GENERAL"]
[88255378,"VICTOR DAVID VERA","22212-PROFESIONAL ESPECIALIZADO","SECRETARIA GENERAL"]
[88209501,"VICTOR FIDEL SUAREZ VERGEL","22213-PROFESIONAL ESPECIALIZADO","SECRETARIA DE HACIENDA"]
[60278166,"VILMA LUZ BERNAL RAMIREZ","47002-AUXILIAR DE SERVICIOS GENERALES","SECRETARIA GENERAL"]
[1090419915,"VIVIANA ANDREA BOTELLO PRADILLA","21908-PROFESIONAL UNIVERSITARIO","SECRETARIA GENERAL"]
[1090390609,"VIVIANA ESPERANZA FONSECA ALARCON","02014-SECRETARIO DE DESPACHO","SRIA FRONTERAS Y COOPE INTERNACIONAL"]
[1090402327,"VIVIANA PAOLA MENDOZA VERA","40705-AUXILIAR ADMINISTRATIVO","OFI DE RELACIONAMIENTO CON LA CIUDADANIA"]
[1091592211,"WILLIAM  ACOSTA DELGADO","22210-PROFESIONAL ESPECIALIZADO","SRIA GESTION MINERO Y ENERGETICO"]
[88158521,"WILLIAM  VERA ARIAS","02014-SECRETARIO DE DESPACHO","SECRETARIA GESTION RIESGOS DE DESASTRES"]
[13485061,"WILLIAM  VILLAMIZAR LAGUADO","00115-GOBERNADOR","DESPACHO GOBERNACION"]
[1090474858,"WILLIAM ALEXANDER SOLER GARCIA","31407-TECNICO OPERATIVO","SECRETARIA MEDIO AMBIENTE RECURSOS NATUR"]
[88208256,"WILLIAM AUGUSTO URIBE TAPIAS","31407-TECNICO OPERATIVO","SECRETARIA DE TRANSITO"]
[13276330,"WILLIAM FERNANDO SANABRIA PEÑA","21908-PROFESIONAL UNIVERSITARIO","SECRETARIA GESTION RIESGOS DE DESASTRES"]
[88147732,"WILMAR  AREVALO SANCHEZ","10513-ASESOR","SRIA DESARROLLO ECONOMIC Y PRODUCTIVIDAD"]
[91078789,"WILMER ALEXIS SANCHEZ AMAYA","21908-PROFESIONAL UNIVERSITARIO","SECRETARIA DE EDUCACION"]
[37290836,"XIOMARA XIMENA URON RINCON","10513-ASESOR","CONSEJ DPTAL PARA LAS ETNIAS"]
[1090394849,"YAMILE  MAX AGUDELO","31406-TECNICO OPERATIVO","SECRETARIA DE HACIENDA"]
[37510628,"YELITZA GISELA MARQUEZ RIVERA","21908-PROFESIONAL UNIVERSITARIO","SECRET DE PLANEACION Y DESARRO TERRITORI"]
[1094241924,"YENI MARITZA MENESES BARROSO","22210-PROFESIONAL ESPECIALIZADO","SECRETARIA MEDIO AMBIENTE RECURSOS NATUR"]
[37440328,"YENNY KAREN DIAZ ARDILA","42506-SECRETARIO EJECUTIVO","SECRETARIA GENERAL"]
[27602111,"YENNY XIOMARA BULLA ZULETA","21908-PROFESIONAL UNIVERSITARIO","SRIA DESARROLLO ECONOMIC Y PRODUCTIVIDAD"]
[1090364816,"YERALDY  LIZCANO SANCHEZ","21906-PROFESIONAL UNIVERSITARIO MT","SECRETARIA DE EDUCACION"]
[1090374266,"YERSON DAVID PINTO MENDOZA","40704-AUXILIAR ADMINISTRATIVO","OFI DE RELACIONAMIENTO CON LA CIUDADANIA"]
[1093780858,"YERSON EMEL GULLOSO MOYANO","40705-AUXILIAR ADMINISTRATIVO","SECRETARIA GENERAL"]
[27603807,"YEZENIA MARGARET CHURIO PATIÑO","21908-PROFESIONAL UNIVERSITARIO","OFI CONTROL INTER DISCIPLINARIO INSTRUCC"]
[60355805,"YOHANA MILENA ARB GARCIA","21908-PROFESIONAL UNIVERSITARIO","SECRETARIA DE PROYECTOS ESPECIALES"]
[1090175523,"YULIET OMAIRA GUERRERO VILLAREAL","21908-PROFESIONAL UNIVERSITARIO","SECRETARIA DE VICTIMAS, PAZ Y POSCONFLIC"]
[27602760,"YURI  DIAZ PINILLA","31407-TECNICO OPERATIVO","SECRETARIA DESARROLLO SOCIAL"]
[1090433230,"YURLEY PAOLA HERNANDEZ CARRILLO","21908-PROFESIONAL UNIVERSITARIO","SECRETARIA DE EDUCACION"]
[60396940,"ZAIDA PATRICIA ILLERA ROPERO","47002-AUXILIAR DE SERVICIOS GENERALES","SECRETARIA GENERAL"]
[37293110,"ZOILA MONGUI DAZA UREÑA","22210-PROFESIONAL ESPECIALIZADO","SECRETARIA DESARROLLO SOCIAL"]
[1090465683,"ZULMA PAOLA PUENTES CAICEDO","21908-PROFESIONAL UNIVERSITARIO","SECRETARIA GENERAL"]

{"sheet":"Hoja1","index":1,"n_rows":5003,"n_cols":18,"rows_kept":5003,"cut":false,"hidden":false,"merged":[]}
[]
[]
[]
[]
[]
[]
[]
["CEDULA","NOMBRE Y APELLIDO","CARGO","DEPENDENCIA","TEMA","MODALIDAD","DURACIÓN (HORAS)","FECHA","DIA","FECHA FINAL","DIA","ENTIDAD ORGANIZADORA DEL EVENTO","ASISTIÓ","1. Oportunidad de práctica por parte del funcionario de las nuevas habilidades o conocimientos en el trabajo que realiza.","2. Problemas resueltos o respuestas a los requerimientos de prestación de servicios identificados por efecto directo de la capacitación realizada.","3. Mejoras en los resultados por la aplicación de lo aprendido en la capacitación en el puesto de trabajo.","4. Cambios observables en la forma de realizar las actividades que mejoran el trabajo asignado después de la capacitación","TOTAL"]
[null,null,null,null,null,null,null,null,null,null,null,null,null,null,null,null,null,{"$f":"SUM(N9:Q9)/4","v":0}]
[null,null,null,null,null,null,null,null,null,null,null,null,null,null,null,null,null,{"$f":"SUM(N10:Q10)/4","v":0}]
[null,null,null,null,null,null,null,null,null,null,null,null,null,null,null,null,null,{"$f":"SUM(N11:Q11)/4","v":0}]
[null,null,null,null,null,null,null,null,null,null,null,null,null,null,null,null,null,0]
[null,null,null,null,null,null,null,null,null,null,null,null,null,null,null,null,null,0]
[null,null,null,null,null,null,null,null,null,null,null,null,null,null,null,null,null,0]
[null,null,null,null,null,null,null,null,null,null,null,null,null,null,null,null,null,0]
[null,null,null,null,null,null,null,null,null,null,null,null,null,null,null,null,null,0]
[null,null,null,null,null,null,null,null,null,null,null,null,null,null,null,null,null,0]
[null,null,null,null,null,null,null,null,null,null,null,null,null,null,null,null,null,0]
[null,null,null,null,null,null,null,null,null,null,null,null,null,null,null,null,null,0]
[null,null,null,null,null,null,null,null,null,null,null,null,null,null,null,null,null,0]
[null,null,null,null,null,null,null,null,null,null,null,null,null,null,null,null,null,0]
[null,null,null,null,null,null,null,null,null,null,null,null,null,null,null,null,null,0]
[null,null,null,null,null,null,null,null,null,null,null,null,null,null,null,null,null,0]
[null,null,null,null,null,null,null,null,null,null,null,null,null,null,null,null,null,0]
[null,null,null,null,null,null,null,null,null,null,null,null,null,null,null,null,null,0]
[null,null,null,null,null,null,null,null,null,null,null,null,null,null,null,null,null,0]
[null,null,null,null,null,null,null,null,null,null,null,null,null,null,null,null,null,0]
[null,null,null,null,null,null,null,null,null,null,null,null,null,null,null,null,null,0]
[null,null,null,null,null,null,null,null,null,null,null,null,null,null,null,null,null,0]
[null,null,null,null,null,null,null,null,null,null,null,null,null,null,null,null,null,0]
[null,null,null,null,null,null,null,null,null,null,null,null,null,null,null,null,null,0]
[null,null,null,null,null,null,null,null,null,null,null,null,null,null,null,null,null,0]
[null,null,null,null,null,null,null,null,null,null,null,null,null,null,null,null,null,0]
[null,null,null,null,null,null,null,null,null,null,null,null,null,null,null,null,null,0]
[null,null,null,null,null,null,null,null,null,null,null,null,null,null,null,null,null,0]
[null,null,null,null,null,null,null,null,null,null,null,null,null,null,null,null,null,0]
[null,null,null,null,null,null,null,null,null,null,null,null,null,null,null,null,null,0]
[null,null,null,null,null,null,null,null,null,null,null,null,null,null,null,null,null,0]
[null,null,null,null,null,null,null,null,null,null,null,null,null,null,null,null,null,0]
[null,null,null,null,null,null,null,null,null,null,null,null,null,null,null,null,null,0]
[null,null,null,null,null,null,null,null,null,null,null,null,null,null,null,null,null,0]
[null,null,null,null,null,null,null,null,null,null,null,null,null,null,null,null,null,0]
[null,null,null,null,null,null,null,null,null,null,null,null,null,null,null,null,null,0]
[null,null,null,null,null,null,null,null,null,null,null,null,null,null,null,null,null,0]
[null,null,null,null,null,null,null,null,null,null,null,null,null,null,null,null,null,0]
[null,null,null,null,null,null,null,null,null,null,null,null,null,null,null,null,null,0]
[null,null,null,null,null,null,null,null,null,null,null,null,null,null,null,null,null,0]
[null,null,null,null,null,null,null,null,null,null,null,null,null,null,null,null,null,0]
[null,null,null,null,null,null,null,null,null,null,null,null,null,null,null,null,null,0]
[null,null,null,null,null,null,null,null,null,null,null,null,null,null,null,null,null,0]
[null,null,null,null,null,null,null,null,null,null,null,null,null,null,null,null,null,0]
[null,null,null,null,null,null,null,null,null,null,null,null,null,null,null,null,null,0]
[null,null,null,null,null,null,null,null,null,null,null,null,null,null,null,null,null,0]
[null,null,null,null,null,null,null,null,null,null,null,null,null,null,null,null,null,0]
[null,null,null,null,null,null,null,null,null,null,null,null,null,null,null,null,null,0]
[null,null,null,null,null,null,null,null,null,null,null,null,null,null,null,null,null,0]
[null,null,null,null,null,null,null,null,null,null,null,null,null,null,null,null,null,0]
[null,null,null,null,null,null,null,null,null,null,null,null,null,null,null,null,null,0]
[null,null,null,null,null,null,null,null,null,null,null,null,null,null,null,null,null,0]
[null,null,null,null,null,null,null,null,null,null,null,null,null,null,null,null,null,0]
[null,null,null,null,null,null,null,null,null,null,null,null,null,null,null,null,null,0]
[null,null,null,null,null,null,null,null,null,null,null,null,null,null,null,null,null,0]
[null,null,null,null,null,null,null,null,null,null,null,null,null,null,null,null,null,0]
[null,null,null,null,null,null,null,null,null,null,null,null,null,null,null,null,null,0]
[null,null,null,null,null,null,null,null,null,null,null,null,null,null,null,null,null,0]
[null,null,null,null,null,null,null,null,null,null,null,null,null,null,null,null,null,0]
[null,null,null,null,null,null,null,null,null,null,null,null,null,null,null,null,null,0]
[null,null,null,null,null,null,null,null,null,null,null,null,null,null,null,null,null,0]
[null,null,null,null,null,null,null,null,null,null,null,null,null,null,null,null,null,0]
[null,null,null,null,null,null,null,null,null,null,null,null,null,null,null,null,null,0]
[null,null,null,null,null,null,null,null,null,null,null,null,null,null,null,null,null,0]
[null,null,null,null,null,null,null,null,null,null,null,null,null,null,null,null,null,0]
[null,null,null,null,null,null,null,null,null,null,null,null,null,null,null,null,null,0]
[null,null,null,null,null,null,null,null,null,null,null,null,null,null,null,null,null,0]
[null,null,null,null,null,null,null,null,null,null,null,null,null,null,null,null,null,{"$f":"SUM(N75:Q75)/4","v":0}]
[null,null,null,null,null,null,null,null,null,null,null,null,null,null,null,null,null,0]
[null,null,null,null,null,null,null,null,null,null,null,null,null,null,null,null,null,0]
[null,null,null,null,null,null,null,null,null,null,null,null,null,null,null,null,null,0]
[null,null,null,null,null,null,null,null,null,null,null,null,null,null,null,null,null,0]
[null,null,null,null,null,null,null,null,null,null,null,null,null,null,null,null,null,0]
[null,null,null,null,null,null,null,null,null,null,null,null,null,null,null,null,null,0]
[null,null,null,null,null,null,null,null,null,null,null,null,null,null,null,null,null,0]
[null,null,null,null,null,null,null,null,null,null,null,null,null,null,null,null,null,0]
[null,null,null,null,null,null,null,null,null,null,null,null,null,null,null,null,null,0]
[null,null,null,null,null,null,null,null,null,null,null,null,null,null,null,null,null,0]
[null,null,null,null,null,null,null,null,null,null,null,null,null,null,null,null,null,0]
[null,null,null,null,null,null,null,null,null,null,null,null,null,null,null,null,null,0]
[null,null,null,null,null,null,null,null,null,null,null,null,null,null,null,null,null,0]
[null,null,null,null,null,null,null,null,null,null,null,null,null,null,null,null,null,0]
[null,null,null,null,null,null,null,null,null,null,null,null,null,null,null,null,null,0]
[null,null,null,null,null,null,null,null,null,null,null,null,null,null,null,null,null,0]
[null,null,null,null,null,null,null,null,null,null,null,null,null,null,null,null,null,0]
[null,null,null,null,null,null,null,null,null,null,null,null,null,null,null,null,null,0]
[null,null,null,null,null,null,null,null,null,null,null,null,null,null,null,null,null,0]
[null,null,null,null,null,null,null,null,null,null,null,null,null,null,null,null,null,0]
[null,null,null,null,null,null,null,null,null,null,null,null,null,null,null,null,null,0]
[null,null,null,null,null,null,null,null,null,null,null,null,null,null,null,null,null,0]
[null,null,null,null,null,null,null,null,null,null,null,null,null,null,null,null,null,0]
[null,null,null,null,null,null,null,null,null,null,null,null,null,null,null,null,null,0]
[null,null,null,null,null,null,null,null,null,null,null,null,null,null,null,null,null,0]
[null,null,null,null,null,null,null,null,null,null,null,null,null,null,null,null,null,0]
[null,null,null,null,null,null,null,null,null,null,null,null,null,null,null,null,null,0]
[null,null,null,null,null,null,null,null,null,null,null,null,null,null,null,null,null,0]
[null,null,null,null,null,null,null,null,null,null,null,null,null,null,null,null,null,0]
[null,null,null,null,null,null,null,null,null,null,null,null,null,null,null,null,null,0]
[null,null,null,null,null,null,null,null,null,null,null,null,null,null,null,null,null,0]
[null,null,null,null,null,null,null,null,null,null,null,null,null,null,null,null,null,0]
[null,null,null,null,null,null,null,null,null,null,null,null,null,null,null,null,null,0]
[null,null,null,null,null,null,null,null,null,null,null,null,null,null,null,null,null,0]
[null,null,null,null,null,null,null,null,null,null,null,null,null,null,null,null,null,0]
[null,null,null,null,null,null,null,null,null,null,null,null,null,null,null,null,null,0]
[null,null,null,null,null,null,null,null,null,null,null,null,null,null,null,null,null,0]
[null,null,null,null,null,null,null,null,null,null,null,null,null,null,null,null,null,0]
[null,null,null,null,null,null,null,null,null,null,null,null,null,null,null,null,null,0]
[null,null,null,null,null,null,null,null,null,null,null,null,null,null,null,null,null,0]
[null,null,null,null,null,null,null,null,null,null,null,null,null,null,null,null,null,0]
[null,null,null,null,null,null,null,null,null,null,null,null,null,null,null,null,null,0]
[null,null,null,null,null,null,null,null,null,null,null,null,null,null,null,null,null,0]
[null,null,null,null,null,null,null,null,null,null,null,null,null,null,null,null,null,0]
[null,null,null,null,null,null,null,null,null,null,null,null,null,null,null,null,null,0]
[null,null,null,null,null,null,null,null,null,null,null,null,null,null,null,null,null,0]
[null,null,null,null,null,null,null,null,null,null,null,null,null,null,null,null,null,0]
[null,null,null,null,null,null,null,null,null,null,null,null,null,null,null,null,null,0]
[null,null,null,null,null,null,null,null,null,null,null,null,null,null,null,null,null,0]
[null,null,null,null,null,null,null,null,null,null,null,null,null,null,null,null,null,0]
[null,null,null,null,null,null,null,null,null,null,null,null,null,null,null,null,null,0]
[null,null,null,null,null,null,null,null,null,null,null,null,null,null,null,null,null,0]
[null,null,null,null,null,null,null,null,null,null,null,null,null,null,null,null,null,0]
[null,null,null,null,null,null,null,null,null,null,null,null,null,null,null,null,null,0]
[null,null,null,null,null,null,null,null,null,null,null,null,null,null,null,null,null,0]
[null,null,null,null,null,null,null,null,null,null,null,null,null,null,null,null,null,0]
[null,null,null,null,null,null,null,null,null,null,null,null,null,null,null,null,null,0]
[null,null,null,null,null,null,null,null,null,null,null,null,null,null,null,null,null,0]
[null,null,null,null,null,null,null,null,null,null,null,null,null,null,null,null,null,0]
[null,null,null,null,null,null,null,null,null,null,null,null,null,null,null,null,null,0]
[null,null,null,null,null,null,null,null,null,null,null,null,null,null,null,null,null,0]
[null,null,null,null,null,null,null,null,null,null,null,null,null,null,null,null,null,0]
[null,null,null,null,null,null,null,null,null,null,null,null,null,null,null,null,null,0]
[null,null,null,null,null,null,null,null,null,null,null,null,null,null,null,null,null,{"$f":"SUM(N139:Q139)/4","v":0}]
[null,null,null,null,null,null,null,null,null,null,null,null,null,null,null,null,null,0]
[null,null,null,null,null,null,null,null,null,null,null,null,null,null,null,null,null,0]
[null,null,null,null,null,null,null,null,null,null,null,null,null,null,null,null,null,0]
[null,null,null,null,null,null,null,null,null,null,null,null,null,null,null,null,null,0]
[null,null,null,null,null,null,null,null,null,null,null,null,null,null,null,null,null,0]
[null,null,null,null,null,null,null,null,null,null,null,null,null,null,null,null,null,0]
[null,null,null,null,null,null,null,null,null,null,null,null,null,null,null,null,null,0]
[null,null,null,null,null,null,null,null,null,null,null,null,null,null,null,null,null,0]
[null,null,null,null,null,null,null,null,null,null,null,null,null,null,null,null,null,0]
[null,null,null,null,null,null,null,null,null,null,null,null,null,null,null,null,null,0]
[null,null,null,null,null,null,null,null,null,null,null,null,null,null,null,null,null,0]
[null,null,null,null,null,null,null,null,null,null,null,null,null,null,null,null,null,0]
[null,null,null,null,null,null,null,null,null,null,null,null,null,null,null,null,null,0]
[null,null,null,null,null,null,null,null,null,null,null,null,null,null,null,null,null,0]
[null,null,null,null,null,null,null,null,null,null,null,null,null,null,null,null,null,0]
[null,null,null,null,null,null,null,null,null,null,null,null,null,null,null,null,null,0]
[null,null,null,null,null,null,null,null,null,null,null,null,null,null,null,null,null,0]
[null,null,null,null,null,null,null,null,null,null,null,null,null,null,null,null,null,0]
[null,null,null,null,null,null,null,null,null,null,null,null,null,null,null,null,null,0]
[null,null,null,null,null,null,null,null,null,null,null,null,null,null,null,null,null,0]
[null,null,null,null,null,null,null,null,null,null,null,null,null,null,null,null,null,0]
[null,null,null,null,null,null,null,null,null,null,null,null,null,null,null,null,null,0]
[null,null,null,null,null,null,null,null,null,null,null,null,null,null,null,null,null,0]
[null,null,null,null,null,null,null,null,null,null,null,null,null,null,null,null,null,0]
[null,null,null,null,null,null,null,null,null,null,null,null,null,null,null,null,null,0]
[null,null,null,null,null,null,null,null,null,null,null,null,null,null,null,null,null,0]
[null,null,null,null,null,null,null,null,null,null,null,null,null,null,null,null,null,0]
[null,null,null,null,null,null,null,null,null,null,null,null,null,null,null,null,null,0]
[null,null,null,null,null,null,null,null,null,null,null,null,null,null,null,null,null,0]
[null,null,null,null,null,null,null,null,null,null,null,null,null,null,null,null,null,0]
[null,null,null,null,null,null,null,null,null,null,null,null,null,null,null,null,null,0]
[null,null,null,null,null,null,null,null,null,null,null,null,null,null,null,null,null,0]
[null,null,null,null,null,null,null,null,null,null,null,null,null,null,null,null,null,0]
[null,null,null,null,null,null,null,null,null,null,null,null,null,null,null,null,null,0]
[null,null,null,null,null,null,null,null,null,null,null,null,null,null,null,null,null,0]
[null,null,null,null,null,null,null,null,null,null,null,null,null,null,null,null,null,0]
[null,null,null,null,null,null,null,null,null,null,null,null,null,null,null,null,null,0]
[null,null,null,null,null,null,null,null,null,null,null,null,null,null,null,null,null,0]
[null,null,null,null,null,null,null,null,null,null,null,null,null,null,null,null,null,0]
[null,null,null,null,null,null,null,null,null,null,null,null,null,null,null,null,null,0]
[null,null,null,null,null,null,null,null,null,null,null,null,null,null,null,null,null,0]
[null,null,null,null,null,null,null,null,null,null,null,null,null,null,null,null,null,0]
[null,null,null,null,null,null,null,null,null,null,null,null,null,null,null,null,null,0]
[null,null,null,null,null,null,null,null,null,null,null,null,null,null,null,null,null,0]
[null,null,null,null,null,null,null,null,null,null,null,null,null,null,null,null,null,0]
[null,null,null,null,null,null,null,null,null,null,null,null,null,null,null,null,null,0]
[null,null,null,null,null,null,null,null,null,null,null,null,null,null,null,null,null,0]
[null,null,null,null,null,null,null,null,null,null,null,null,null,null,null,null,null,0]
[null,null,null,null,null,null,null,null,null,null,null,null,null,null,null,null,null,0]
[null,null,null,null,null,null,null,null,null,null,null,null,null,null,null,null,null,0]
[null,null,null,null,null,null,null,null,null,null,null,null,null,null,null,null,null,0]
[null,{"$f":"IFERROR(VLOOKUP(A191,Base!$A$2:$D$460,2,0),\"\")","v":""},{"$f":"IFERROR(VLOOKUP(A191,Base!$A$2:$D$460,3,0),\"\")","v":""},{"$f":"IFERROR(VLOOKUP(A191,Base!$A$2:$D$460,4,0),\"\")","v":""},null,null,null,null,null,null,null,null,null,null,null,null,null,0]
[null,{"$f":"IFERROR(VLOOKUP(A192,Base!$A$2:$D$460,2,0),\"\")","v":""},{"$f":"IFERROR(VLOOKUP(A192,Base!$A$2:$D$460,3,0),\"\")","v":""},{"$f":"IFERROR(VLOOKUP(A192,Base!$A$2:$D$460,4,0),\"\")","v":""},null,null,null,null,null,null,null,null,null,null,null,null,null,0]
[null,{"$f":"IFERROR(VLOOKUP(A193,Base!$A$2:$D$460,2,0),\"\")","v":""},{"$f":"IFERROR(VLOOKUP(A193,Base!$A$2:$D$460,3,0),\"\")","v":""},{"$f":"IFERROR(VLOOKUP(A193,Base!$A$2:$D$460,4,0),\"\")","v":""},null,null,null,null,null,null,null,null,null,null,null,null,null,0]
[null,{"$f":"IFERROR(VLOOKUP(A194,Base!$A$2:$D$460,2,0),\"\")","v":""},{"$f":"IFERROR(VLOOKUP(A194,Base!$A$2:$D$460,3,0),\"\")","v":""},{"$f":"IFERROR(VLOOKUP(A194,Base!$A$2:$D$460,4,0),\"\")","v":""},null,null,null,null,null,null,null,null,null,null,null,null,null,0]
[null,{"$f":"IFERROR(VLOOKUP(A195,Base!$A$2:$D$460,2,0),\"\")","v":""},{"$f":"IFERROR(VLOOKUP(A195,Base!$A$2:$D$460,3,0),\"\")","v":""},{"$f":"IFERROR(VLOOKUP(A195,Base!$A$2:$D$460,4,0),\"\")","v":""},null,null,null,null,null,null,null,null,null,null,null,null,null,0]
[null,{"$f":"IFERROR(VLOOKUP(A196,Base!$A$2:$D$460,2,0),\"\")","v":""},{"$f":"IFERROR(VLOOKUP(A196,Base!$A$2:$D$460,3,0),\"\")","v":""},{"$f":"IFERROR(VLOOKUP(A196,Base!$A$2:$D$460,4,0),\"\")","v":""},null,null,null,null,null,null,null,null,null,null,null,null,null,0]
[null,{"$f":"IFERROR(VLOOKUP(A197,Base!$A$2:$D$460,2,0),\"\")","v":""},{"$f":"IFERROR(VLOOKUP(A197,Base!$A$2:$D$460,3,0),\"\")","v":""},{"$f":"IFERROR(VLOOKUP(A197,Base!$A$2:$D$460,4,0),\"\")","v":""},null,null,null,null,null,null,null,null,null,null,null,null,null,0]
[null,{"$f":"IFERROR(VLOOKUP(A198,Base!$A$2:$D$460,2,0),\"\")","v":""},{"$f":"IFERROR(VLOOKUP(A198,Base!$A$2:$D$460,3,0),\"\")","v":""},{"$f":"IFERROR(VLOOKUP(A198,Base!$A$2:$D$460,4,0),\"\")","v":""},null,null,null,null,null,null,null,null,null,null,null,null,null,0]
[null,{"$f":"IFERROR(VLOOKUP(A199,Base!$A$2:$D$460,2,0),\"\")","v":""},{"$f":"IFERROR(VLOOKUP(A199,Base!$A$2:$D$460,3,0),\"\")","v":""},{"$f":"IFERROR(VLOOKUP(A199,Base!$A$2:$D$460,4,0),\"\")","v":""},null,null,null,null,null,null,null,null,null,null,null,null,null,0]
[null,{"$f":"IFERROR(VLOOKUP(A200,Base!$A$2:$D$460,2,0),\"\")","v":""},{"$f":"IFERROR(VLOOKUP(A200,Base!$A$2:$D$460,3,0),\"\")","v":""},{"$f":"IFERROR(VLOOKUP(A200,Base!$A$2:$D$460,4,0),\"\")","v":""},null,null,null,null,null,null,null,null,null,null,null,null,null,0]
[null,{"$f":"IFERROR(VLOOKUP(A201,Base!$A$2:$D$460,2,0),\"\")","v":""},{"$f":"IFERROR(VLOOKUP(A201,Base!$A$2:$D$460,3,0),\"\")","v":""},{"$f":"IFERROR(VLOOKUP(A201,Base!$A$2:$D$460,4,0),\"\")","v":""},null,null,null,null,null,null,null,null,null,null,null,null,null,0]
[null,{"$f":"IFERROR(VLOOKUP(A202,Base!$A$2:$D$460,2,0),\"\")","v":""},{"$f":"IFERROR(VLOOKUP(A202,Base!$A$2:$D$460,3,0),\"\")","v":""},{"$f":"IFERROR(VLOOKUP(A202,Base!$A$2:$D$460,4,0),\"\")","v":""},null,null,null,null,null,null,null,null,null,null,null,null,null,0]
[null,{"$f":"IFERROR(VLOOKUP(A203,Base!$A$2:$D$460,2,0),\"\")","v":""},{"$f":"IFERROR(VLOOKUP(A203,Base!$A$2:$D$460,3,0),\"\")","v":""},{"$f":"IFERROR(VLOOKUP(A203,Base!$A$2:$D$460,4,0),\"\")","v":""},null,null,null,null,null,null,null,null,null,null,null,null,null,{"$f":"SUM(N203:Q203)/4","v":0}]
[null,{"$f":"IFERROR(VLOOKUP(A204,Base!$A$2:$D$460,2,0),\"\")","v":""},{"$f":"IFERROR(VLOOKUP(A204,Base!$A$2:$D$460,3,0),\"\")","v":""},{"$f":"IFERROR(VLOOKUP(A204,Base!$A$2:$D$460,4,0),\"\")","v":""},null,null,null,null,null,null,null,null,null,null,null,null,null,0]
[null,{"$f":"IFERROR(VLOOKUP(A205,Base!$A$2:$D$460,2,0),\"\")","v":""},{"$f":"IFERROR(VLOOKUP(A205,Base!$A$2:$D$460,3,0),\"\")","v":""},{"$f":"IFERROR(VLOOKUP(A205,Base!$A$2:$D$460,4,0),\"\")","v":""},null,null,null,null,null,null,null,null,null,null,null,null,null,0]
[null,{"$f":"IFERROR(VLOOKUP(A206,Base!$A$2:$D$460,2,0),\"\")","v":""},{"$f":"IFERROR(VLOOKUP(A206,Base!$A$2:$D$460,3,0),\"\")","v":""},{"$f":"IFERROR(VLOOKUP(A206,Base!$A$2:$D$460,4,0),\"\")","v":""},null,null,null,null,null,null,null,null,null,null,null,null,null,0]
[null,{"$f":"IFERROR(VLOOKUP(A207,Base!$A$2:$D$460,2,0),\"\")","v":""},{"$f":"IFERROR(VLOOKUP(A207,Base!$A$2:$D$460,3,0),\"\")","v":""},{"$f":"IFERROR(VLOOKUP(A207,Base!$A$2:$D$460,4,0),\"\")","v":""},null,null,null,null,null,null,null,null,null,null,null,null,null,0]
[null,{"$f":"IFERROR(VLOOKUP(A208,Base!$A$2:$D$460,2,0),\"\")","v":""},{"$f":"IFERROR(VLOOKUP(A208,Base!$A$2:$D$460,3,0),\"\")","v":""},{"$f":"IFERROR(VLOOKUP(A208,Base!$A$2:$D$460,4,0),\"\")","v":""},null,null,null,null,null,null,null,null,null,null,null,null,null,0]
[null,{"$f":"IFERROR(VLOOKUP(A209,Base!$A$2:$D$460,2,0),\"\")","v":""},{"$f":"IFERROR(VLOOKUP(A209,Base!$A$2:$D$460,3,0),\"\")","v":""},{"$f":"IFERROR(VLOOKUP(A209,Base!$A$2:$D$460,4,0),\"\")","v":""},null,null,null,null,null,null,null,null,null,null,null,null,null,0]
[null,{"$f":"IFERROR(VLOOKUP(A210,Base!$A$2:$D$460,2,0),\"\")","v":""},{"$f":"IFERROR(VLOOKUP(A210,Base!$A$2:$D$460,3,0),\"\")","v":""},{"$f":"IFERROR(VLOOKUP(A210,Base!$A$2:$D$460,4,0),\"\")","v":""},null,null,null,null,null,null,null,null,null,null,null,null,null,0]
[null,{"$f":"IFERROR(VLOOKUP(A211,Base!$A$2:$D$460,2,0),\"\")","v":""},{"$f":"IFERROR(VLOOKUP(A211,Base!$A$2:$D$460,3,0),\"\")","v":""},{"$f":"IFERROR(VLOOKUP(A211,Base!$A$2:$D$460,4,0),\"\")","v":""},null,null,null,null,null,null,null,null,null,null,null,null,null,0]
[null,{"$f":"IFERROR(VLOOKUP(A212,Base!$A$2:$D$460,2,0),\"\")","v":""},{"$f":"IFERROR(VLOOKUP(A212,Base!$A$2:$D$460,3,0),\"\")","v":""},{"$f":"IFERROR(VLOOKUP(A212,Base!$A$2:$D$460,4,0),\"\")","v":""},null,null,null,null,null,null,null,null,null,null,null,null,null,0]
[null,{"$f":"IFERROR(VLOOKUP(A213,Base!$A$2:$D$460,2,0),\"\")","v":""},{"$f":"IFERROR(VLOOKUP(A213,Base!$A$2:$D$460,3,0),\"\")","v":""},{"$f":"IFERROR(VLOOKUP(A213,Base!$A$2:$D$460,4,0),\"\")","v":""},null,null,null,null,null,null,null,null,null,null,null,null,null,0]
[null,{"$f":"IFERROR(VLOOKUP(A214,Base!$A$2:$D$460,2,0),\"\")","v":""},{"$f":"IFERROR(VLOOKUP(A214,Base!$A$2:$D$460,3,0),\"\")","v":""},{"$f":"IFERROR(VLOOKUP(A214,Base!$A$2:$D$460,4,0),\"\")","v":""},null,null,null,null,null,null,null,null,null,null,null,null,null,0]
[null,{"$f":"IFERROR(VLOOKUP(A215,Base!$A$2:$D$460,2,0),\"\")","v":""},{"$f":"IFERROR(VLOOKUP(A215,Base!$A$2:$D$460,3,0),\"\")","v":""},{"$f":"IFERROR(VLOOKUP(A215,Base!$A$2:$D$460,4,0),\"\")","v":""},null,null,null,null,null,null,null,null,null,null,null,null,null,0]
[null,{"$f":"IFERROR(VLOOKUP(A216,Base!$A$2:$D$460,2,0),\"\")","v":""},{"$f":"IFERROR(VLOOKUP(A216,Base!$A$2:$D$460,3,0),\"\")","v":""},{"$f":"IFERROR(VLOOKUP(A216,Base!$A$2:$D$460,4,0),\"\")","v":""},null,null,null,null,null,null,null,null,null,null,null,null,null,0]
[null,{"$f":"IFERROR(VLOOKUP(A217,Base!$A$2:$D$460,2,0),\"\")","v":""},{"$f":"IFERROR(VLOOKUP(A217,Base!$A$2:$D$460,3,0),\"\")","v":""},{"$f":"IFERROR(VLOOKUP(A217,Base!$A$2:$D$460,4,0),\"\")","v":""},null,null,null,null,null,null,null,null,null,null,null,null,null,0]
[null,{"$f":"IFERROR(VLOOKUP(A218,Base!$A$2:$D$460,2,0),\"\")","v":""},{"$f":"IFERROR(VLOOKUP(A218,Base!$A$2:$D$460,3,0),\"\")","v":""},{"$f":"IFERROR(VLOOKUP(A218,Base!$A$2:$D$460,4,0),\"\")","v":""},null,null,null,null,null,null,null,null,null,null,null,null,null,0]
[null,{"$f":"IFERROR(VLOOKUP(A219,Base!$A$2:$D$460,2,0),\"\")","v":""},{"$f":"IFERROR(VLOOKUP(A219,Base!$A$2:$D$460,3,0),\"\")","v":""},{"$f":"IFERROR(VLOOKUP(A219,Base!$A$2:$D$460,4,0),\"\")","v":""},null,null,null,null,null,null,null,null,null,null,null,null,null,0]
[null,{"$f":"IFERROR(VLOOKUP(A220,Base!$A$2:$D$460,2,0),\"\")","v":""},{"$f":"IFERROR(VLOOKUP(A220,Base!$A$2:$D$460,3,0),\"\")","v":""},{"$f":"IFERROR(VLOOKUP(A220,Base!$A$2:$D$460,4,0),\"\")","v":""},null,null,null,null,null,null,null,null,null,null,null,null,null,0]
[null,{"$f":"IFERROR(VLOOKUP(A221,Base!$A$2:$D$460,2,0),\"\")","v":""},{"$f":"IFERROR(VLOOKUP(A221,Base!$A$2:$D$460,3,0),\"\")","v":""},{"$f":"IFERROR(VLOOKUP(A221,Base!$A$2:$D$460,4,0),\"\")","v":""},null,null,null,null,null,null,null,null,null,null,null,null,null,0]
[null,{"$f":"IFERROR(VLOOKUP(A222,Base!$A$2:$D$460,2,0),\"\")","v":""},{"$f":"IFERROR(VLOOKUP(A222,Base!$A$2:$D$460,3,0),\"\")","v":""},{"$f":"IFERROR(VLOOKUP(A222,Base!$A$2:$D$460,4,0),\"\")","v":""},null,null,null,null,null,null,null,null,null,null,null,null,null,0]
[null,{"$f":"IFERROR(VLOOKUP(A223,Base!$A$2:$D$460,2,0),\"\")","v":""},{"$f":"IFERROR(VLOOKUP(A223,Base!$A$2:$D$460,3,0),\"\")","v":""},{"$f":"IFERROR(VLOOKUP(A223,Base!$A$2:$D$460,4,0),\"\")","v":""},null,null,null,null,null,null,null,null,null,null,null,null,null,0]
[null,{"$f":"IFERROR(VLOOKUP(A224,Base!$A$2:$D$460,2,0),\"\")","v":""},{"$f":"IFERROR(VLOOKUP(A224,Base!$A$2:$D$460,3,0),\"\")","v":""},{"$f":"IFERROR(VLOOKUP(A224,Base!$A$2:$D$460,4,0),\"\")","v":""},null,null,null,null,null,null,null,null,null,null,null,null,null,0]
[null,{"$f":"IFERROR(VLOOKUP(A225,Base!$A$2:$D$460,2,0),\"\")","v":""},{"$f":"IFERROR(VLOOKUP(A225,Base!$A$2:$D$460,3,0),\"\")","v":""},{"$f":"IFERROR(VLOOKUP(A225,Base!$A$2:$D$460,4,0),\"\")","v":""},null,null,null,null,null,null,null,null,null,null,null,null,null,0]
[null,{"$f":"IFERROR(VLOOKUP(A226,Base!$A$2:$D$460,2,0),\"\")","v":""},{"$f":"IFERROR(VLOOKUP(A226,Base!$A$2:$D$460,3,0),\"\")","v":""},{"$f":"IFERROR(VLOOKUP(A226,Base!$A$2:$D$460,4,0),\"\")","v":""},null,null,null,null,null,null,null,null,null,null,null,null,null,0]
[null,{"$f":"IFERROR(VLOOKUP(A227,Base!$A$2:$D$460,2,0),\"\")","v":""},{"$f":"IFERROR(VLOOKUP(A227,Base!$A$2:$D$460,3,0),\"\")","v":""},{"$f":"IFERROR(VLOOKUP(A227,Base!$A$2:$D$460,4,0),\"\")","v":""},null,null,null,null,null,null,null,null,null,null,null,null,null,0]
[null,{"$f":"IFERROR(VLOOKUP(A228,Base!$A$2:$D$460,2,0),\"\")","v":""},{"$f":"IFERROR(VLOOKUP(A228,Base!$A$2:$D$460,3,0),\"\")","v":""},{"$f":"IFERROR(VLOOKUP(A228,Base!$A$2:$D$460,4,0),\"\")","v":""},null,null,null,null,null,null,null,null,null,null,null,null,null,0]
[null,{"$f":"IFERROR(VLOOKUP(A229,Base!$A$2:$D$460,2,0),\"\")","v":""},{"$f":"IFERROR(VLOOKUP(A229,Base!$A$2:$D$460,3,0),\"\")","v":""},{"$f":"IFERROR(VLOOKUP(A229,Base!$A$2:$D$460,4,0),\"\")","v":""},null,null,null,null,null,null,null,null,null,null,null,null,null,0]
[null,{"$f":"IFERROR(VLOOKUP(A230,Base!$A$2:$D$460,2,0),\"\")","v":""},{"$f":"IFERROR(VLOOKUP(A230,Base!$A$2:$D$460,3,0),\"\")","v":""},{"$f":"IFERROR(VLOOKUP(A230,Base!$A$2:$D$460,4,0),\"\")","v":""},null,null,null,null,null,null,null,null,null,null,null,null,null,0]
[null,{"$f":"IFERROR(VLOOKUP(A231,Base!$A$2:$D$460,2,0),\"\")","v":""},{"$f":"IFERROR(VLOOKUP(A231,Base!$A$2:$D$460,3,0),\"\")","v":""},{"$f":"IFERROR(VLOOKUP(A231,Base!$A$2:$D$460,4,0),\"\")","v":""},null,null,null,null,null,null,null,null,null,null,null,null,null,0]
[null,{"$f":"IFERROR(VLOOKUP(A232,Base!$A$2:$D$460,2,0),\"\")","v":""},{"$f":"IFERROR(VLOOKUP(A232,Base!$A$2:$D$460,3,0),\"\")","v":""},{"$f":"IFERROR(VLOOKUP(A232,Base!$A$2:$D$460,4,0),\"\")","v":""},null,null,null,null,null,null,null,null,null,null,null,null,null,0]
[null,{"$f":"IFERROR(VLOOKUP(A233,Base!$A$2:$D$460,2,0),\"\")","v":""},{"$f":"IFERROR(VLOOKUP(A233,Base!$A$2:$D$460,3,0),\"\")","v":""},{"$f":"IFERROR(VLOOKUP(A233,Base!$A$2:$D$460,4,0),\"\")","v":""},null,null,null,null,null,null,null,null,null,null,null,null,null,0]
[null,{"$f":"IFERROR(VLOOKUP(A234,Base!$A$2:$D$460,2,0),\"\")","v":""},{"$f":"IFERROR(VLOOKUP(A234,Base!$A$2:$D$460,3,0),\"\")","v":""},{"$f":"IFERROR(VLOOKUP(A234,Base!$A$2:$D$460,4,0),\"\")","v":""},null,null,null,null,null,null,null,null,null,null,null,null,null,0]
[null,{"$f":"IFERROR(VLOOKUP(A235,Base!$A$2:$D$460,2,0),\"\")","v":""},{"$f":"IFERROR(VLOOKUP(A235,Base!$A$2:$D$460,3,0),\"\")","v":""},{"$f":"IFERROR(VLOOKUP(A235,Base!$A$2:$D$460,4,0),\"\")","v":""},null,null,null,null,null,null,null,null,null,null,null,null,null,0]
[null,{"$f":"IFERROR(VLOOKUP(A236,Base!$A$2:$D$460,2,0),\"\")","v":""},{"$f":"IFERROR(VLOOKUP(A236,Base!$A$2:$D$460,3,0),\"\")","v":""},{"$f":"IFERROR(VLOOKUP(A236,Base!$A$2:$D$460,4,0),\"\")","v":""},null,null,null,null,null,null,null,null,null,null,null,null,null,0]
[null,{"$f":"IFERROR(VLOOKUP(A237,Base!$A$2:$D$460,2,0),\"\")","v":""},{"$f":"IFERROR(VLOOKUP(A237,Base!$A$2:$D$460,3,0),\"\")","v":""},{"$f":"IFERROR(VLOOKUP(A237,Base!$A$2:$D$460,4,0),\"\")","v":""},null,null,null,null,null,null,null,null,null,null,null,null,null,0]
[null,{"$f":"IFERROR(VLOOKUP(A238,Base!$A$2:$D$460,2,0),\"\")","v":""},{"$f":"IFERROR(VLOOKUP(A238,Base!$A$2:$D$460,3,0),\"\")","v":""},{"$f":"IFERROR(VLOOKUP(A238,Base!$A$2:$D$460,4,0),\"\")","v":""},null,null,null,null,null,null,null,null,null,null,null,null,null,0]
[null,{"$f":"IFERROR(VLOOKUP(A239,Base!$A$2:$D$460,2,0),\"\")","v":""},{"$f":"IFERROR(VLOOKUP(A239,Base!$A$2:$D$460,3,0),\"\")","v":""},{"$f":"IFERROR(VLOOKUP(A239,Base!$A$2:$D$460,4,0),\"\")","v":""},null,null,null,null,null,null,null,null,null,null,null,null,null,0]
[null,{"$f":"IFERROR(VLOOKUP(A240,Base!$A$2:$D$460,2,0),\"\")","v":""},{"$f":"IFERROR(VLOOKUP(A240,Base!$A$2:$D$460,3,0),\"\")","v":""},{"$f":"IFERROR(VLOOKUP(A240,Base!$A$2:$D$460,4,0),\"\")","v":""},null,null,null,null,null,null,null,null,null,null,null,null,null,0]
[null,{"$f":"IFERROR(VLOOKUP(A241,Base!$A$2:$D$460,2,0),\"\")","v":""},{"$f":"IFERROR(VLOOKUP(A241,Base!$A$2:$D$460,3,0),\"\")","v":""},{"$f":"IFERROR(VLOOKUP(A241,Base!$A$2:$D$460,4,0),\"\")","v":""},null,null,null,null,null,null,null,null,null,null,null,null,null,0]
[null,{"$f":"IFERROR(VLOOKUP(A242,Base!$A$2:$D$460,2,0),\"\")","v":""},{"$f":"IFERROR(VLOOKUP(A242,Base!$A$2:$D$460,3,0),\"\")","v":""},{"$f":"IFERROR(VLOOKUP(A242,Base!$A$2:$D$460,4,0),\"\")","v":""},null,null,null,null,null,null,null,null,null,null,null,null,null,0]
[null,{"$f":"IFERROR(VLOOKUP(A243,Base!$A$2:$D$460,2,0),\"\")","v":""},{"$f":"IFERROR(VLOOKUP(A243,Base!$A$2:$D$460,3,0),\"\")","v":""},{"$f":"IFERROR(VLOOKUP(A243,Base!$A$2:$D$460,4,0),\"\")","v":""},null,null,null,null,null,null,null,null,null,null,null,null,null,0]
[null,{"$f":"IFERROR(VLOOKUP(A244,Base!$A$2:$D$460,2,0),\"\")","v":""},{"$f":"IFERROR(VLOOKUP(A244,Base!$A$2:$D$460,3,0),\"\")","v":""},{"$f":"IFERROR(VLOOKUP(A244,Base!$A$2:$D$460,4,0),\"\")","v":""},null,null,null,null,null,null,null,null,null,null,null,null,null,0]
[null,{"$f":"IFERROR(VLOOKUP(A245,Base!$A$2:$D$460,2,0),\"\")","v":""},{"$f":"IFERROR(VLOOKUP(A245,Base!$A$2:$D$460,3,0),\"\")","v":""},{"$f":"IFERROR(VLOOKUP(A245,Base!$A$2:$D$460,4,0),\"\")","v":""},null,null,null,null,null,null,null,null,null,null,null,null,null,0]
[null,{"$f":"IFERROR(VLOOKUP(A246,Base!$A$2:$D$460,2,0),\"\")","v":""},{"$f":"IFERROR(VLOOKUP(A246,Base!$A$2:$D$460,3,0),\"\")","v":""},{"$f":"IFERROR(VLOOKUP(A246,Base!$A$2:$D$460,4,0),\"\")","v":""},null,null,null,null,null,null,null,null,null,null,null,null,null,0]
[null,{"$f":"IFERROR(VLOOKUP(A247,Base!$A$2:$D$460,2,0),\"\")","v":""},{"$f":"IFERROR(VLOOKUP(A247,Base!$A$2:$D$460,3,0),\"\")","v":""},{"$f":"IFERROR(VLOOKUP(A247,Base!$A$2:$D$460,4,0),\"\")","v":""},null,null,null,null,null,null,null,null,null,null,null,null,null,0]
[null,{"$f":"IFERROR(VLOOKUP(A248,Base!$A$2:$D$460,2,0),\"\")","v":""},{"$f":"IFERROR(VLOOKUP(A248,Base!$A$2:$D$460,3,0),\"\")","v":""},{"$f":"IFERROR(VLOOKUP(A248,Base!$A$2:$D$460,4,0),\"\")","v":""},null,null,null,null,null,null,null,null,null,null,null,null,null,0]
[null,{"$f":"IFERROR(VLOOKUP(A249,Base!$A$2:$D$460,2,0),\"\")","v":""},{"$f":"IFERROR(VLOOKUP(A249,Base!$A$2:$D$460,3,0),\"\")","v":""},{"$f":"IFERROR(VLOOKUP(A249,Base!$A$2:$D$460,4,0),\"\")","v":""},null,null,null,null,null,null,null,null,null,null,null,null,null,0]
[null,{"$f":"IFERROR(VLOOKUP(A250,Base!$A$2:$D$460,2,0),\"\")","v":""},{"$f":"IFERROR(VLOOKUP(A250,Base!$A$2:$D$460,3,0),\"\")","v":""},{"$f":"IFERROR(VLOOKUP(A250,Base!$A$2:$D$460,4,0),\"\")","v":""},null,null,null,null,null,null,null,null,null,null,null,null,null,0]
[null,{"$f":"IFERROR(VLOOKUP(A251,Base!$A$2:$D$460,2,0),\"\")","v":""},{"$f":"IFERROR(VLOOKUP(A251,Base!$A$2:$D$460,3,0),\"\")","v":""},{"$f":"IFERROR(VLOOKUP(A251,Base!$A$2:$D$460,4,0),\"\")","v":""},null,null,null,null,null,null,null,null,null,null,null,null,null,0]
[null,{"$f":"IFERROR(VLOOKUP(A252,Base!$A$2:$D$460,2,0),\"\")","v":""},{"$f":"IFERROR(VLOOKUP(A252,Base!$A$2:$D$460,3,0),\"\")","v":""},{"$f":"IFERROR(VLOOKUP(A252,Base!$A$2:$D$460,4,0),\"\")","v":""},null,null,null,null,null,null,null,null,null,null,null,null,null,0]
[null,{"$f":"IFERROR(VLOOKUP(A253,Base!$A$2:$D$460,2,0),\"\")","v":""},{"$f":"IFERROR(VLOOKUP(A253,Base!$A$2:$D$460,3,0),\"\")","v":""},{"$f":"IFERROR(VLOOKUP(A253,Base!$A$2:$D$460,4,0),\"\")","v":""},null,null,null,null,null,null,null,null,null,null,null,null,null,0]
[null,{"$f":"IFERROR(VLOOKUP(A254,Base!$A$2:$D$460,2,0),\"\")","v":""},{"$f":"IFERROR(VLOOKUP(A254,Base!$A$2:$D$460,3,0),\"\")","v":""},{"$f":"IFERROR(VLOOKUP(A254,Base!$A$2:$D$460,4,0),\"\")","v":""},null,null,null,null,null,null,null,null,null,null,null,null,null,0]
[null,{"$f":"IFERROR(VLOOKUP(A255,Base!$A$2:$D$460,2,0),\"\")","v":""},{"$f":"IFERROR(VLOOKUP(A255,Base!$A$2:$D$460,3,0),\"\")","v":""},{"$f":"IFERROR(VLOOKUP(A255,Base!$A$2:$D$460,4,0),\"\")","v":""},null,null,null,null,null,null,null,null,null,null,null,null,null,0]
[null,{"$f":"IFERROR(VLOOKUP(A256,Base!$A$2:$D$460,2,0),\"\")","v":""},{"$f":"IFERROR(VLOOKUP(A256,Base!$A$2:$D$460,3,0),\"\")","v":""},{"$f":"IFERROR(VLOOKUP(A256,Base!$A$2:$D$460,4,0),\"\")","v":""},null,null,null,null,null,null,null,null,null,null,null,null,null,0]
[null,{"$f":"IFERROR(VLOOKUP(A257,Base!$A$2:$D$460,2,0),\"\")","v":""},{"$f":"IFERROR(VLOOKUP(A257,Base!$A$2:$D$460,3,0),\"\")","v":""},{"$f":"IFERROR(VLOOKUP(A257,Base!$A$2:$D$460,4,0),\"\")","v":""},null,null,null,null,null,null,null,null,null,null,null,null,null,0]
[null,{"$f":"IFERROR(VLOOKUP(A258,Base!$A$2:$D$460,2,0),\"\")","v":""},{"$f":"IFERROR(VLOOKUP(A258,Base!$A$2:$D$460,3,0),\"\")","v":""},{"$f":"IFERROR(VLOOKUP(A258,Base!$A$2:$D$460,4,0),\"\")","v":""},null,null,null,null,null,null,null,null,null,null,null,null,null,0]
[null,{"$f":"IFERROR(VLOOKUP(A259,Base!$A$2:$D$460,2,0),\"\")","v":""},{"$f":"IFERROR(VLOOKUP(A259,Base!$A$2:$D$460,3,0),\"\")","v":""},{"$f":"IFERROR(VLOOKUP(A259,Base!$A$2:$D$460,4,0),\"\")","v":""},null,null,null,null,null,null,null,null,null,null,null,null,null,0]
[null,{"$f":"IFERROR(VLOOKUP(A260,Base!$A$2:$D$460,2,0),\"\")","v":""},{"$f":"IFERROR(VLOOKUP(A260,Base!$A$2:$D$460,3,0),\"\")","v":""},{"$f":"IFERROR(VLOOKUP(A260,Base!$A$2:$D$460,4,0),\"\")","v":""},null,null,null,null,null,null,null,null,null,null,null,null,null,0]
[null,{"$f":"IFERROR(VLOOKUP(A261,Base!$A$2:$D$460,2,0),\"\")","v":""},{"$f":"IFERROR(VLOOKUP(A261,Base!$A$2:$D$460,3,0),\"\")","v":""},{"$f":"IFERROR(VLOOKUP(A261,Base!$A$2:$D$460,4,0),\"\")","v":""},null,null,null,null,null,null,null,null,null,null,null,null,null,0]
[null,{"$f":"IFERROR(VLOOKUP(A262,Base!$A$2:$D$460,2,0),\"\")","v":""},{"$f":"IFERROR(VLOOKUP(A262,Base!$A$2:$D$460,3,0),\"\")","v":""},{"$f":"IFERROR(VLOOKUP(A262,Base!$A$2:$D$460,4,0),\"\")","v":""},null,null,null,null,null,null,null,null,null,null,null,null,null,0]
[null,{"$f":"IFERROR(VLOOKUP(A263,Base!$A$2:$D$460,2,0),\"\")","v":""},{"$f":"IFERROR(VLOOKUP(A263,Base!$A$2:$D$460,3,0),\"\")","v":""},{"$f":"IFERROR(VLOOKUP(A263,Base!$A$2:$D$460,4,0),\"\")","v":""},null,null,null,null,null,null,null,null,null,null,null,null,null,0]
[null,{"$f":"IFERROR(VLOOKUP(A264,Base!$A$2:$D$460,2,0),\"\")","v":""},{"$f":"IFERROR(VLOOKUP(A264,Base!$A$2:$D$460,3,0),\"\")","v":""},{"$f":"IFERROR(VLOOKUP(A264,Base!$A$2:$D$460,4,0),\"\")","v":""},null,null,null,null,null,null,null,null,null,null,null,null,null,0]
[null,{"$f":"IFERROR(VLOOKUP(A265,Base!$A$2:$D$460,2,0),\"\")","v":""},{"$f":"IFERROR(VLOOKUP(A265,Base!$A$2:$D$460,3,0),\"\")","v":""},{"$f":"IFERROR(VLOOKUP(A265,Base!$A$2:$D$460,4,0),\"\")","v":""},null,null,null,null,null,null,null,null,null,null,null,null,null,0]
[null,{"$f":"IFERROR(VLOOKUP(A266,Base!$A$2:$D$460,2,0),\"\")","v":""},{"$f":"IFERROR(VLOOKUP(A266,Base!$A$2:$D$460,3,0),\"\")","v":""},{"$f":"IFERROR(VLOOKUP(A266,Base!$A$2:$D$460,4,0),\"\")","v":""},null,null,null,null,null,null,null,null,null,null,null,null,null,0]
[null,{"$f":"IFERROR(VLOOKUP(A267,Base!$A$2:$D$460,2,0),\"\")","v":""},{"$f":"IFERROR(VLOOKUP(A267,Base!$A$2:$D$460,3,0),\"\")","v":""},{"$f":"IFERROR(VLOOKUP(A267,Base!$A$2:$D$460,4,0),\"\")","v":""},null,null,null,null,null,null,null,null,null,null,null,null,null,{"$f":"SUM(N267:Q267)/4","v":0}]
[null,{"$f":"IFERROR(VLOOKUP(A268,Base!$A$2:$D$460,2,0),\"\")","v":""},{"$f":"IFERROR(VLOOKUP(A268,Base!$A$2:$D$460,3,0),\"\")","v":""},{"$f":"IFERROR(VLOOKUP(A268,Base!$A$2:$D$460,4,0),\"\")","v":""},null,null,null,null,null,null,null,null,null,null,null,null,null,0]
[null,{"$f":"IFERROR(VLOOKUP(A269,Base!$A$2:$D$460,2,0),\"\")","v":""},{"$f":"IFERROR(VLOOKUP(A269,Base!$A$2:$D$460,3,0),\"\")","v":""},{"$f":"IFERROR(VLOOKUP(A269,Base!$A$2:$D$460,4,0),\"\")","v":""},null,null,null,null,null,null,null,null,null,null,null,null,null,0]
[null,{"$f":"IFERROR(VLOOKUP(A270,Base!$A$2:$D$460,2,0),\"\")","v":""},{"$f":"IFERROR(VLOOKUP(A270,Base!$A$2:$D$460,3,0),\"\")","v":""},{"$f":"IFERROR(VLOOKUP(A270,Base!$A$2:$D$460,4,0),\"\")","v":""},null,null,null,null,null,null,null,null,null,null,null,null,null,0]
[null,{"$f":"IFERROR(VLOOKUP(A271,Base!$A$2:$D$460,2,0),\"\")","v":""},{"$f":"IFERROR(VLOOKUP(A271,Base!$A$2:$D$460,3,0),\"\")","v":""},{"$f":"IFERROR(VLOOKUP(A271,Base!$A$2:$D$460,4,0),\"\")","v":""},null,null,null,null,null,null,null,null,null,null,null,null,null,0]
[null,{"$f":"IFERROR(VLOOKUP(A272,Base!$A$2:$D$460,2,0),\"\")","v":""},{"$f":"IFERROR(VLOOKUP(A272,Base!$A$2:$D$460,3,0),\"\")","v":""},{"$f":"IFERROR(VLOOKUP(A272,Base!$A$2:$D$460,4,0),\"\")","v":""},null,null,null,null,null,null,null,null,null,null,null,null,null,0]
[null,{"$f":"IFERROR(VLOOKUP(A273,Base!$A$2:$D$460,2,0),\"\")","v":""},{"$f":"IFERROR(VLOOKUP(A273,Base!$A$2:$D$460,3,0),\"\")","v":""},{"$f":"IFERROR(VLOOKUP(A273,Base!$A$2:$D$460,4,0),\"\")","v":""},null,null,null,null,null,null,null,null,null,null,null,null,null,0]
[null,{"$f":"IFERROR(VLOOKUP(A274,Base!$A$2:$D$460,2,0),\"\")","v":""},{"$f":"IFERROR(VLOOKUP(A274,Base!$A$2:$D$460,3,0),\"\")","v":""},{"$f":"IFERROR(VLOOKUP(A274,Base!$A$2:$D$460,4,0),\"\")","v":""},null,null,null,null,null,null,null,null,null,null,null,null,null,0]
[null,{"$f":"IFERROR(VLOOKUP(A275,Base!$A$2:$D$460,2,0),\"\")","v":""},{"$f":"IFERROR(VLOOKUP(A275,Base!$A$2:$D$460,3,0),\"\")","v":""},{"$f":"IFERROR(VLOOKUP(A275,Base!$A$2:$D$460,4,0),\"\")","v":""},null,null,null,null,null,null,null,null,null,null,null,null,null,0]
[null,{"$f":"IFERROR(VLOOKUP(A276,Base!$A$2:$D$460,2,0),\"\")","v":""},{"$f":"IFERROR(VLOOKUP(A276,Base!$A$2:$D$460,3,0),\"\")","v":""},{"$f":"IFERROR(VLOOKUP(A276,Base!$A$2:$D$460,4,0),\"\")","v":""},null,null,null,null,null,null,null,null,null,null,null,null,null,0]
[null,{"$f":"IFERROR(VLOOKUP(A277,Base!$A$2:$D$460,2,0),\"\")","v":""},{"$f":"IFERROR(VLOOKUP(A277,Base!$A$2:$D$460,3,0),\"\")","v":""},{"$f":"IFERROR(VLOOKUP(A277,Base!$A$2:$D$460,4,0),\"\")","v":""},null,null,null,null,null,null,null,null,null,null,null,null,null,0]
[null,{"$f":"IFERROR(VLOOKUP(A278,Base!$A$2:$D$460,2,0),\"\")","v":""},{"$f":"IFERROR(VLOOKUP(A278,Base!$A$2:$D$460,3,0),\"\")","v":""},{"$f":"IFERROR(VLOOKUP(A278,Base!$A$2:$D$460,4,0),\"\")","v":""},null,null,null,null,null,null,null,null,null,null,null,null,null,0]
[null,{"$f":"IFERROR(VLOOKUP(A279,Base!$A$2:$D$460,2,0),\"\")","v":""},{"$f":"IFERROR(VLOOKUP(A279,Base!$A$2:$D$460,3,0),\"\")","v":""},{"$f":"IFERROR(VLOOKUP(A279,Base!$A$2:$D$460,4,0),\"\")","v":""},null,null,null,null,null,null,null,null,null,null,null,null,null,0]
[null,{"$f":"IFERROR(VLOOKUP(A280,Base!$A$2:$D$460,2,0),\"\")","v":""},{"$f":"IFERROR(VLOOKUP(A280,Base!$A$2:$D$460,3,0),\"\")","v":""},{"$f":"IFERROR(VLOOKUP(A280,Base!$A$2:$D$460,4,0),\"\")","v":""},null,null,null,null,null,null,null,null,null,null,null,null,null,0]
[null,{"$f":"IFERROR(VLOOKUP(A281,Base!$A$2:$D$460,2,0),\"\")","v":""},{"$f":"IFERROR(VLOOKUP(A281,Base!$A$2:$D$460,3,0),\"\")","v":""},{"$f":"IFERROR(VLOOKUP(A281,Base!$A$2:$D$460,4,0),\"\")","v":""},null,null,null,null,null,null,null,null,null,null,null,null,null,0]
[null,{"$f":"IFERROR(VLOOKUP(A282,Base!$A$2:$D$460,2,0),\"\")","v":""},{"$f":"IFERROR(VLOOKUP(A282,Base!$A$2:$D$460,3,0),\"\")","v":""},{"$f":"IFERROR(VLOOKUP(A282,Base!$A$2:$D$460,4,0),\"\")","v":""},null,null,null,null,null,null,null,null,null,null,null,null,null,0]
[null,{"$f":"IFERROR(VLOOKUP(A283,Base!$A$2:$D$460,2,0),\"\")","v":""},{"$f":"IFERROR(VLOOKUP(A283,Base!$A$2:$D$460,3,0),\"\")","v":""},{"$f":"IFERROR(VLOOKUP(A283,Base!$A$2:$D$460,4,0),\"\")","v":""},null,null,null,null,null,null,null,null,null,null,null,null,null,0]
[null,{"$f":"IFERROR(VLOOKUP(A284,Base!$A$2:$D$460,2,0),\"\")","v":""},{"$f":"IFERROR(VLOOKUP(A284,Base!$A$2:$D$460,3,0),\"\")","v":""},{"$f":"IFERROR(VLOOKUP(A284,Base!$A$2:$D$460,4,0),\"\")","v":""},null,null,null,null,null,null,null,null,null,null,null,null,null,0]
[null,{"$f":"IFERROR(VLOOKUP(A285,Base!$A$2:$D$460,2,0),\"\")","v":""},{"$f":"IFERROR(VLOOKUP(A285,Base!$A$2:$D$460,3,0),\"\")","v":""},{"$f":"IFERROR(VLOOKUP(A285,Base!$A$2:$D$460,4,0),\"\")","v":""},null,null,null,null,null,null,null,null,null,null,null,null,null,0]
[null,{"$f":"IFERROR(VLOOKUP(A286,Base!$A$2:$D$460,2,0),\"\")","v":""},{"$f":"IFERROR(VLOOKUP(A286,Base!$A$2:$D$460,3,0),\"\")","v":""},{"$f":"IFERROR(VLOOKUP(A286,Base!$A$2:$D$460,4,0),\"\")","v":""},null,null,null,null,null,null,null,null,null,null,null,null,null,0]
[null,{"$f":"IFERROR(VLOOKUP(A287,Base!$A$2:$D$460,2,0),\"\")","v":""},{"$f":"IFERROR(VLOOKUP(A287,Base!$A$2:$D$460,3,0),\"\")","v":""},{"$f":"IFERROR(VLOOKUP(A287,Base!$A$2:$D$460,4,0),\"\")","v":""},null,null,null,null,null,null,null,null,null,null,null,null,null,0]
[null,{"$f":"IFERROR(VLOOKUP(A288,Base!$A$2:$D$460,2,0),\"\")","v":""},{"$f":"IFERROR(VLOOKUP(A288,Base!$A$2:$D$460,3,0),\"\")","v":""},{"$f":"IFERROR(VLOOKUP(A288,Base!$A$2:$D$460,4,0),\"\")","v":""},null,null,null,null,null,null,null,null,null,null,null,null,null,0]
[null,{"$f":"IFERROR(VLOOKUP(A289,Base!$A$2:$D$460,2,0),\"\")","v":""},{"$f":"IFERROR(VLOOKUP(A289,Base!$A$2:$D$460,3,0),\"\")","v":""},{"$f":"IFERROR(VLOOKUP(A289,Base!$A$2:$D$460,4,0),\"\")","v":""},null,null,null,null,null,null,null,null,null,null,null,null,null,0]
[null,{"$f":"IFERROR(VLOOKUP(A290,Base!$A$2:$D$460,2,0),\"\")","v":""},{"$f":"IFERROR(VLOOKUP(A290,Base!$A$2:$D$460,3,0),\"\")","v":""},{"$f":"IFERROR(VLOOKUP(A290,Base!$A$2:$D$460,4,0),\"\")","v":""},null,null,null,null,null,null,null,null,null,null,null,null,null,0]
[null,{"$f":"IFERROR(VLOOKUP(A291,Base!$A$2:$D$460,2,0),\"\")","v":""},{"$f":"IFERROR(VLOOKUP(A291,Base!$A$2:$D$460,3,0),\"\")","v":""},{"$f":"IFERROR(VLOOKUP(A291,Base!$A$2:$D$460,4,0),\"\")","v":""},null,null,null,null,null,null,null,null,null,null,null,null,null,0]
[null,{"$f":"IFERROR(VLOOKUP(A292,Base!$A$2:$D$460,2,0),\"\")","v":""},{"$f":"IFERROR(VLOOKUP(A292,Base!$A$2:$D$460,3,0),\"\")","v":""},{"$f":"IFERROR(VLOOKUP(A292,Base!$A$2:$D$460,4,0),\"\")","v":""},null,null,null,null,null,null,null,null,null,null,null,null,null,0]
[null,{"$f":"IFERROR(VLOOKUP(A293,Base!$A$2:$D$460,2,0),\"\")","v":""},{"$f":"IFERROR(VLOOKUP(A293,Base!$A$2:$D$460,3,0),\"\")","v":""},{"$f":"IFERROR(VLOOKUP(A293,Base!$A$2:$D$460,4,0),\"\")","v":""},null,null,null,null,null,null,null,null,null,null,null,null,null,0]
[null,{"$f":"IFERROR(VLOOKUP(A294,Base!$A$2:$D$460,2,0),\"\")","v":""},{"$f":"IFERROR(VLOOKUP(A294,Base!$A$2:$D$460,3,0),\"\")","v":""},{"$f":"IFERROR(VLOOKUP(A294,Base!$A$2:$D$460,4,0),\"\")","v":""},null,null,null,null,null,null,null,null,null,null,null,null,null,0]
[null,{"$f":"IFERROR(VLOOKUP(A295,Base!$A$2:$D$460,2,0),\"\")","v":""},{"$f":"IFERROR(VLOOKUP(A295,Base!$A$2:$D$460,3,0),\"\")","v":""},{"$f":"IFERROR(VLOOKUP(A295,Base!$A$2:$D$460,4,0),\"\")","v":""},null,null,null,null,null,null,null,null,null,null,null,null,null,0]
[null,{"$f":"IFERROR(VLOOKUP(A296,Base!$A$2:$D$460,2,0),\"\")","v":""},{"$f":"IFERROR(VLOOKUP(A296,Base!$A$2:$D$460,3,0),\"\")","v":""},{"$f":"IFERROR(VLOOKUP(A296,Base!$A$2:$D$460,4,0),\"\")","v":""},null,null,null,null,null,null,null,null,null,null,null,null,null,0]
[null,{"$f":"IFERROR(VLOOKUP(A297,Base!$A$2:$D$460,2,0),\"\")","v":""},{"$f":"IFERROR(VLOOKUP(A297,Base!$A$2:$D$460,3,0),\"\")","v":""},{"$f":"IFERROR(VLOOKUP(A297,Base!$A$2:$D$460,4,0),\"\")","v":""},null,null,null,null,null,null,null,null,null,null,null,null,null,0]
[null,{"$f":"IFERROR(VLOOKUP(A298,Base!$A$2:$D$460,2,0),\"\")","v":""},{"$f":"IFERROR(VLOOKUP(A298,Base!$A$2:$D$460,3,0),\"\")","v":""},{"$f":"IFERROR(VLOOKUP(A298,Base!$A$2:$D$460,4,0),\"\")","v":""},null,null,null,null,null,null,null,null,null,null,null,null,null,0]
[null,{"$f":"IFERROR(VLOOKUP(A299,Base!$A$2:$D$460,2,0),\"\")","v":""},{"$f":"IFERROR(VLOOKUP(A299,Base!$A$2:$D$460,3,0),\"\")","v":""},{"$f":"IFERROR(VLOOKUP(A299,Base!$A$2:$D$460,4,0),\"\")","v":""},null,null,null,null,null,null,null,null,null,null,null,null,null,0]
[null,{"$f":"IFERROR(VLOOKUP(A300,Base!$A$2:$D$460,2,0),\"\")","v":""},{"$f":"IFERROR(VLOOKUP(A300,Base!$A$2:$D$460,3,0),\"\")","v":""},{"$f":"IFERROR(VLOOKUP(A300,Base!$A$2:$D$460,4,0),\"\")","v":""},null,null,null,null,null,null,null,null,null,null,null,null,null,0]
[null,{"$f":"IFERROR(VLOOKUP(A301,Base!$A$2:$D$460,2,0),\"\")","v":""},{"$f":"IFERROR(VLOOKUP(A301,Base!$A$2:$D$460,3,0),\"\")","v":""},{"$f":"IFERROR(VLOOKUP(A301,Base!$A$2:$D$460,4,0),\"\")","v":""},null,null,null,null,null,null,null,null,null,null,null,null,null,0]
[null,{"$f":"IFERROR(VLOOKUP(A302,Base!$A$2:$D$460,2,0),\"\")","v":""},{"$f":"IFERROR(VLOOKUP(A302,Base!$A$2:$D$460,3,0),\"\")","v":""},{"$f":"IFERROR(VLOOKUP(A302,Base!$A$2:$D$460,4,0),\"\")","v":""},null,null,null,null,null,null,null,null,null,null,null,null,null,0]
[null,{"$f":"IFERROR(VLOOKUP(A303,Base!$A$2:$D$460,2,0),\"\")","v":""},{"$f":"IFERROR(VLOOKUP(A303,Base!$A$2:$D$460,3,0),\"\")","v":""},{"$f":"IFERROR(VLOOKUP(A303,Base!$A$2:$D$460,4,0),\"\")","v":""},null,null,null,null,null,null,null,null,null,null,null,null,null,0]
[null,{"$f":"IFERROR(VLOOKUP(A304,Base!$A$2:$D$460,2,0),\"\")","v":""},{"$f":"IFERROR(VLOOKUP(A304,Base!$A$2:$D$460,3,0),\"\")","v":""},{"$f":"IFERROR(VLOOKUP(A304,Base!$A$2:$D$460,4,0),\"\")","v":""},null,null,null,null,null,null,null,null,null,null,null,null,null,0]
[null,{"$f":"IFERROR(VLOOKUP(A305,Base!$A$2:$D$460,2,0),\"\")","v":""},{"$f":"IFERROR(VLOOKUP(A305,Base!$A$2:$D$460,3,0),\"\")","v":""},{"$f":"IFERROR(VLOOKUP(A305,Base!$A$2:$D$460,4,0),\"\")","v":""},null,null,null,null,null,null,null,null,null,null,null,null,null,0]
[null,{"$f":"IFERROR(VLOOKUP(A306,Base!$A$2:$D$460,2,0),\"\")","v":""},{"$f":"IFERROR(VLOOKUP(A306,Base!$A$2:$D$460,3,0),\"\")","v":""},{"$f":"IFERROR(VLOOKUP(A306,Base!$A$2:$D$460,4,0),\"\")","v":""},null,null,null,null,null,null,null,null,null,null,null,null,null,0]
[null,{"$f":"IFERROR(VLOOKUP(A307,Base!$A$2:$D$460,2,0),\"\")","v":""},{"$f":"IFERROR(VLOOKUP(A307,Base!$A$2:$D$460,3,0),\"\")","v":""},{"$f":"IFERROR(VLOOKUP(A307,Base!$A$2:$D$460,4,0),\"\")","v":""},null,null,null,null,null,null,null,null,null,null,null,null,null,0]
[null,{"$f":"IFERROR(VLOOKUP(A308,Base!$A$2:$D$460,2,0),\"\")","v":""},{"$f":"IFERROR(VLOOKUP(A308,Base!$A$2:$D$460,3,0),\"\")","v":""},{"$f":"IFERROR(VLOOKUP(A308,Base!$A$2:$D$460,4,0),\"\")","v":""},null,null,null,null,null,null,null,null,null,null,null,null,null,0]
[null,{"$f":"IFERROR(VLOOKUP(A309,Base!$A$2:$D$460,2,0),\"\")","v":""},{"$f":"IFERROR(VLOOKUP(A309,Base!$A$2:$D$460,3,0),\"\")","v":""},{"$f":"IFERROR(VLOOKUP(A309,Base!$A$2:$D$460,4,0),\"\")","v":""},null,null,null,null,null,null,null,null,null,null,null,null,null,0]
[null,{"$f":"IFERROR(VLOOKUP(A310,Base!$A$2:$D$460,2,0),\"\")","v":""},{"$f":"IFERROR(VLOOKUP(A310,Base!$A$2:$D$460,3,0),\"\")","v":""},{"$f":"IFERROR(VLOOKUP(A310,Base!$A$2:$D$460,4,0),\"\")","v":""},null,null,null,null,null,null,null,null,null,null,null,null,null,0]
[null,{"$f":"IFERROR(VLOOKUP(A311,Base!$A$2:$D$460,2,0),\"\")","v":""},{"$f":"IFERROR(VLOOKUP(A311,Base!$A$2:$D$460,3,0),\"\")","v":""},{"$f":"IFERROR(VLOOKUP(A311,Base!$A$2:$D$460,4,0),\"\")","v":""},null,null,null,null,null,null,null,null,null,null,null,null,null,0]
[null,{"$f":"IFERROR(VLOOKUP(A312,Base!$A$2:$D$460,2,0),\"\")","v":""},{"$f":"IFERROR(VLOOKUP(A312,Base!$A$2:$D$460,3,0),\"\")","v":""},{"$f":"IFERROR(VLOOKUP(A312,Base!$A$2:$D$460,4,0),\"\")","v":""},null,null,null,null,null,null,null,null,null,null,null,null,null,0]
[null,{"$f":"IFERROR(VLOOKUP(A313,Base!$A$2:$D$460,2,0),\"\")","v":""},{"$f":"IFERROR(VLOOKUP(A313,Base!$A$2:$D$460,3,0),\"\")","v":""},{"$f":"IFERROR(VLOOKUP(A313,Base!$A$2:$D$460,4,0),\"\")","v":""},null,null,null,null,null,null,null,null,null,null,null,null,null,0]
[null,{"$f":"IFERROR(VLOOKUP(A314,Base!$A$2:$D$460,2,0),\"\")","v":""},{"$f":"IFERROR(VLOOKUP(A314,Base!$A$2:$D$460,3,0),\"\")","v":""},{"$f":"IFERROR(VLOOKUP(A314,Base!$A$2:$D$460,4,0),\"\")","v":""},null,null,null,null,null,null,null,null,null,null,null,null,null,0]
[null,{"$f":"IFERROR(VLOOKUP(A315,Base!$A$2:$D$460,2,0),\"\")","v":""},{"$f":"IFERROR(VLOOKUP(A315,Base!$A$2:$D$460,3,0),\"\")","v":""},{"$f":"IFERROR(VLOOKUP(A315,Base!$A$2:$D$460,4,0),\"\")","v":""},null,null,null,null,null,null,null,null,null,null,null,null,null,0]
[null,{"$f":"IFERROR(VLOOKUP(A316,Base!$A$2:$D$460,2,0),\"\")","v":""},{"$f":"IFERROR(VLOOKUP(A316,Base!$A$2:$D$460,3,0),\"\")","v":""},{"$f":"IFERROR(VLOOKUP(A316,Base!$A$2:$D$460,4,0),\"\")","v":""},null,null,null,null,null,null,null,null,null,null,null,null,null,0]
[null,{"$f":"IFERROR(VLOOKUP(A317,Base!$A$2:$D$460,2,0),\"\")","v":""},{"$f":"IFERROR(VLOOKUP(A317,Base!$A$2:$D$460,3,0),\"\")","v":""},{"$f":"IFERROR(VLOOKUP(A317,Base!$A$2:$D$460,4,0),\"\")","v":""},null,null,null,null,null,null,null,null,null,null,null,null,null,0]
[null,{"$f":"IFERROR(VLOOKUP(A318,Base!$A$2:$D$460,2,0),\"\")","v":""},{"$f":"IFERROR(VLOOKUP(A318,Base!$A$2:$D$460,3,0),\"\")","v":""},{"$f":"IFERROR(VLOOKUP(A318,Base!$A$2:$D$460,4,0),\"\")","v":""},null,null,null,null,null,null,null,null,null,null,null,null,null,0]
[null,{"$f":"IFERROR(VLOOKUP(A319,Base!$A$2:$D$460,2,0),\"\")","v":""},{"$f":"IFERROR(VLOOKUP(A319,Base!$A$2:$D$460,3,0),\"\")","v":""},{"$f":"IFERROR(VLOOKUP(A319,Base!$A$2:$D$460,4,0),\"\")","v":""},null,null,null,null,null,null,null,null,null,null,null,null,null,0]
[null,{"$f":"IFERROR(VLOOKUP(A320,Base!$A$2:$D$460,2,0),\"\")","v":""},{"$f":"IFERROR(VLOOKUP(A320,Base!$A$2:$D$460,3,0),\"\")","v":""},{"$f":"IFERROR(VLOOKUP(A320,Base!$A$2:$D$460,4,0),\"\")","v":""},null,null,null,null,null,null,null,null,null,null,null,null,null,0]
[null,{"$f":"IFERROR(VLOOKUP(A321,Base!$A$2:$D$460,2,0),\"\")","v":""},{"$f":"IFERROR(VLOOKUP(A321,Base!$A$2:$D$460,3,0),\"\")","v":""},{"$f":"IFERROR(VLOOKUP(A321,Base!$A$2:$D$460,4,0),\"\")","v":""},null,null,null,null,null,null,null,null,null,null,null,null,null,0]
[null,{"$f":"IFERROR(VLOOKUP(A322,Base!$A$2:$D$460,2,0),\"\")","v":""},{"$f":"IFERROR(VLOOKUP(A322,Base!$A$2:$D$460,3,0),\"\")","v":""},{"$f":"IFERROR(VLOOKUP(A322,Base!$A$2:$D$460,4,0),\"\")","v":""},null,null,null,null,null,null,null,null,null,null,null,null,null,0]
[null,{"$f":"IFERROR(VLOOKUP(A323,Base!$A$2:$D$460,2,0),\"\")","v":""},{"$f":"IFERROR(VLOOKUP(A323,Base!$A$2:$D$460,3,0),\"\")","v":""},{"$f":"IFERROR(VLOOKUP(A323,Base!$A$2:$D$460,4,0),\"\")","v":""},null,null,null,null,null,null,null,null,null,null,null,null,null,0]
[null,{"$f":"IFERROR(VLOOKUP(A324,Base!$A$2:$D$460,2,0),\"\")","v":""},{"$f":"IFERROR(VLOOKUP(A324,Base!$A$2:$D$460,3,0),\"\")","v":""},{"$f":"IFERROR(VLOOKUP(A324,Base!$A$2:$D$460,4,0),\"\")","v":""},null,null,null,null,null,null,null,null,null,null,null,null,null,0]
[null,{"$f":"IFERROR(VLOOKUP(A325,Base!$A$2:$D$460,2,0),\"\")","v":""},{"$f":"IFERROR(VLOOKUP(A325,Base!$A$2:$D$460,3,0),\"\")","v":""},{"$f":"IFERROR(VLOOKUP(A325,Base!$A$2:$D$460,4,0),\"\")","v":""},null,null,null,null,null,null,null,null,null,null,null,null,null,0]
[null,{"$f":"IFERROR(VLOOKUP(A326,Base!$A$2:$D$460,2,0),\"\")","v":""},{"$f":"IFERROR(VLOOKUP(A326,Base!$A$2:$D$460,3,0),\"\")","v":""},{"$f":"IFERROR(VLOOKUP(A326,Base!$A$2:$D$460,4,0),\"\")","v":""},null,null,null,null,null,null,null,null,null,null,null,null,null,0]
[null,{"$f":"IFERROR(VLOOKUP(A327,Base!$A$2:$D$460,2,0),\"\")","v":""},{"$f":"IFERROR(VLOOKUP(A327,Base!$A$2:$D$460,3,0),\"\")","v":""},{"$f":"IFERROR(VLOOKUP(A327,Base!$A$2:$D$460,4,0),\"\")","v":""},null,null,null,null,null,null,null,null,null,null,null,null,null,0]
[null,{"$f":"IFERROR(VLOOKUP(A328,Base!$A$2:$D$460,2,0),\"\")","v":""},{"$f":"IFERROR(VLOOKUP(A328,Base!$A$2:$D$460,3,0),\"\")","v":""},{"$f":"IFERROR(VLOOKUP(A328,Base!$A$2:$D$460,4,0),\"\")","v":""},null,null,null,null,null,null,null,null,null,null,null,null,null,0]
[null,{"$f":"IFERROR(VLOOKUP(A329,Base!$A$2:$D$460,2,0),\"\")","v":""},{"$f":"IFERROR(VLOOKUP(A329,Base!$A$2:$D$460,3,0),\"\")","v":""},{"$f":"IFERROR(VLOOKUP(A329,Base!$A$2:$D$460,4,0),\"\")","v":""},null,null,null,null,null,null,null,null,null,null,null,null,null,0]
[null,{"$f":"IFERROR(VLOOKUP(A330,Base!$A$2:$D$460,2,0),\"\")","v":""},{"$f":"IFERROR(VLOOKUP(A330,Base!$A$2:$D$460,3,0),\"\")","v":""},{"$f":"IFERROR(VLOOKUP(A330,Base!$A$2:$D$460,4,0),\"\")","v":""},null,null,null,null,null,null,null,null,null,null,null,null,null,0]
[null,{"$f":"IFERROR(VLOOKUP(A331,Base!$A$2:$D$460,2,0),\"\")","v":""},{"$f":"IFERROR(VLOOKUP(A331,Base!$A$2:$D$460,3,0),\"\")","v":""},{"$f":"IFERROR(VLOOKUP(A331,Base!$A$2:$D$460,4,0),\"\")","v":""},null,null,null,null,null,null,null,null,null,null,null,null,null,{"$f":"SUM(N331:Q331)/4","v":0}]
[null,{"$f":"IFERROR(VLOOKUP(A332,Base!$A$2:$D$460,2,0),\"\")","v":""},{"$f":"IFERROR(VLOOKUP(A332,Base!$A$2:$D$460,3,0),\"\")","v":""},{"$f":"IFERROR(VLOOKUP(A332,Base!$A$2:$D$460,4,0),\"\")","v":""},null,null,null,null,null,null,null,null,null,null,null,null,null,0]
[null,{"$f":"IFERROR(VLOOKUP(A333,Base!$A$2:$D$460,2,0),\"\")","v":""},{"$f":"IFERROR(VLOOKUP(A333,Base!$A$2:$D$460,3,0),\"\")","v":""},{"$f":"IFERROR(VLOOKUP(A333,Base!$A$2:$D$460,4,0),\"\")","v":""},null,null,null,null,null,null,null,null,null,null,null,null,null,0]
[null,{"$f":"IFERROR(VLOOKUP(A334,Base!$A$2:$D$460,2,0),\"\")","v":""},{"$f":"IFERROR(VLOOKUP(A334,Base!$A$2:$D$460,3,0),\"\")","v":""},{"$f":"IFERROR(VLOOKUP(A334,Base!$A$2:$D$460,4,0),\"\")","v":""},null,null,null,null,null,null,null,null,null,null,null,null,null,0]
[null,{"$f":"IFERROR(VLOOKUP(A335,Base!$A$2:$D$460,2,0),\"\")","v":""},{"$f":"IFERROR(VLOOKUP(A335,Base!$A$2:$D$460,3,0),\"\")","v":""},{"$f":"IFERROR(VLOOKUP(A335,Base!$A$2:$D$460,4,0),\"\")","v":""},null,null,null,null,null,null,null,null,null,null,null,null,null,0]
[null,{"$f":"IFERROR(VLOOKUP(A336,Base!$A$2:$D$460,2,0),\"\")","v":""},{"$f":"IFERROR(VLOOKUP(A336,Base!$A$2:$D$460,3,0),\"\")","v":""},{"$f":"IFERROR(VLOOKUP(A336,Base!$A$2:$D$460,4,0),\"\")","v":""},null,null,null,null,null,null,null,null,null,null,null,null,null,0]
[null,{"$f":"IFERROR(VLOOKUP(A337,Base!$A$2:$D$460,2,0),\"\")","v":""},{"$f":"IFERROR(VLOOKUP(A337,Base!$A$2:$D$460,3,0),\"\")","v":""},{"$f":"IFERROR(VLOOKUP(A337,Base!$A$2:$D$460,4,0),\"\")","v":""},null,null,null,null,null,null,null,null,null,null,null,null,null,0]
[null,{"$f":"IFERROR(VLOOKUP(A338,Base!$A$2:$D$460,2,0),\"\")","v":""},{"$f":"IFERROR(VLOOKUP(A338,Base!$A$2:$D$460,3,0),\"\")","v":""},{"$f":"IFERROR(VLOOKUP(A338,Base!$A$2:$D$460,4,0),\"\")","v":""},null,null,null,null,null,null,null,null,null,null,null,null,null,0]
[null,{"$f":"IFERROR(VLOOKUP(A339,Base!$A$2:$D$460,2,0),\"\")","v":""},{"$f":"IFERROR(VLOOKUP(A339,Base!$A$2:$D$460,3,0),\"\")","v":""},{"$f":"IFERROR(VLOOKUP(A339,Base!$A$2:$D$460,4,0),\"\")","v":""},null,null,null,null,null,null,null,null,null,null,null,null,null,0]
[null,{"$f":"IFERROR(VLOOKUP(A340,Base!$A$2:$D$460,2,0),\"\")","v":""},{"$f":"IFERROR(VLOOKUP(A340,Base!$A$2:$D$460,3,0),\"\")","v":""},{"$f":"IFERROR(VLOOKUP(A340,Base!$A$2:$D$460,4,0),\"\")","v":""},null,null,null,null,null,null,null,null,null,null,null,null,null,0]
[null,{"$f":"IFERROR(VLOOKUP(A341,Base!$A$2:$D$460,2,0),\"\")","v":""},{"$f":"IFERROR(VLOOKUP(A341,Base!$A$2:$D$460,3,0),\"\")","v":""},{"$f":"IFERROR(VLOOKUP(A341,Base!$A$2:$D$460,4,0),\"\")","v":""},null,null,null,null,null,null,null,null,null,null,null,null,null,0]
[null,{"$f":"IFERROR(VLOOKUP(A342,Base!$A$2:$D$460,2,0),\"\")","v":""},{"$f":"IFERROR(VLOOKUP(A342,Base!$A$2:$D$460,3,0),\"\")","v":""},{"$f":"IFERROR(VLOOKUP(A342,Base!$A$2:$D$460,4,0),\"\")","v":""},null,null,null,null,null,null,null,null,null,null,null,null,null,0]
[null,{"$f":"IFERROR(VLOOKUP(A343,Base!$A$2:$D$460,2,0),\"\")","v":""},{"$f":"IFERROR(VLOOKUP(A343,Base!$A$2:$D$460,3,0),\"\")","v":""},{"$f":"IFERROR(VLOOKUP(A343,Base!$A$2:$D$460,4,0),\"\")","v":""},null,null,null,null,null,null,null,null,null,null,null,null,null,0]
[null,{"$f":"IFERROR(VLOOKUP(A344,Base!$A$2:$D$460,2,0),\"\")","v":""},{"$f":"IFERROR(VLOOKUP(A344,Base!$A$2:$D$460,3,0),\"\")","v":""},{"$f":"IFERROR(VLOOKUP(A344,Base!$A$2:$D$460,4,0),\"\")","v":""},null,null,null,null,null,null,null,null,null,null,null,null,null,0]
[null,{"$f":"IFERROR(VLOOKUP(A345,Base!$A$2:$D$460,2,0),\"\")","v":""},{"$f":"IFERROR(VLOOKUP(A345,Base!$A$2:$D$460,3,0),\"\")","v":""},{"$f":"IFERROR(VLOOKUP(A345,Base!$A$2:$D$460,4,0),\"\")","v":""},null,null,null,null,null,null,null,null,null,null,null,null,null,0]
[null,{"$f":"IFERROR(VLOOKUP(A346,Base!$A$2:$D$460,2,0),\"\")","v":""},{"$f":"IFERROR(VLOOKUP(A346,Base!$A$2:$D$460,3,0),\"\")","v":""},{"$f":"IFERROR(VLOOKUP(A346,Base!$A$2:$D$460,4,0),\"\")","v":""},null,null,null,null,null,null,null,null,null,null,null,null,null,0]
[null,{"$f":"IFERROR(VLOOKUP(A347,Base!$A$2:$D$460,2,0),\"\")","v":""},{"$f":"IFERROR(VLOOKUP(A347,Base!$A$2:$D$460,3,0),\"\")","v":""},{"$f":"IFERROR(VLOOKUP(A347,Base!$A$2:$D$460,4,0),\"\")","v":""},null,null,null,null,null,null,null,null,null,null,null,null,null,0]
[null,{"$f":"IFERROR(VLOOKUP(A348,Base!$A$2:$D$460,2,0),\"\")","v":""},{"$f":"IFERROR(VLOOKUP(A348,Base!$A$2:$D$460,3,0),\"\")","v":""},{"$f":"IFERROR(VLOOKUP(A348,Base!$A$2:$D$460,4,0),\"\")","v":""},null,null,null,null,null,null,null,null,null,null,null,null,null,0]
[null,{"$f":"IFERROR(VLOOKUP(A349,Base!$A$2:$D$460,2,0),\"\")","v":""},{"$f":"IFERROR(VLOOKUP(A349,Base!$A$2:$D$460,3,0),\"\")","v":""},{"$f":"IFERROR(VLOOKUP(A349,Base!$A$2:$D$460,4,0),\"\")","v":""},null,null,null,null,null,null,null,null,null,null,null,null,null,0]
[null,{"$f":"IFERROR(VLOOKUP(A350,Base!$A$2:$D$460,2,0),\"\")","v":""},{"$f":"IFERROR(VLOOKUP(A350,Base!$A$2:$D$460,3,0),\"\")","v":""},{"$f":"IFERROR(VLOOKUP(A350,Base!$A$2:$D$460,4,0),\"\")","v":""},null,null,null,null,null,null,null,null,null,null,null,null,null,0]
[null,{"$f":"IFERROR(VLOOKUP(A351,Base!$A$2:$D$460,2,0),\"\")","v":""},{"$f":"IFERROR(VLOOKUP(A351,Base!$A$2:$D$460,3,0),\"\")","v":""},{"$f":"IFERROR(VLOOKUP(A351,Base!$A$2:$D$460,4,0),\"\")","v":""},null,null,null,null,null,null,null,null,null,null,null,null,null,0]
[null,{"$f":"IFERROR(VLOOKUP(A352,Base!$A$2:$D$460,2,0),\"\")","v":""},{"$f":"IFERROR(VLOOKUP(A352,Base!$A$2:$D$460,3,0),\"\")","v":""},{"$f":"IFERROR(VLOOKUP(A352,Base!$A$2:$D$460,4,0),\"\")","v":""},null,null,null,null,null,null,null,null,null,null,null,null,null,0]
[null,{"$f":"IFERROR(VLOOKUP(A353,Base!$A$2:$D$460,2,0),\"\")","v":""},{"$f":"IFERROR(VLOOKUP(A353,Base!$A$2:$D$460,3,0),\"\")","v":""},{"$f":"IFERROR(VLOOKUP(A353,Base!$A$2:$D$460,4,0),\"\")","v":""},null,null,null,null,null,null,null,null,null,null,null,null,null,0]
[null,{"$f":"IFERROR(VLOOKUP(A354,Base!$A$2:$D$460,2,0),\"\")","v":""},{"$f":"IFERROR(VLOOKUP(A354,Base!$A$2:$D$460,3,0),\"\")","v":""},{"$f":"IFERROR(VLOOKUP(A354,Base!$A$2:$D$460,4,0),\"\")","v":""},null,null,null,null,null,null,null,null,null,null,null,null,null,0]
[null,{"$f":"IFERROR(VLOOKUP(A355,Base!$A$2:$D$460,2,0),\"\")","v":""},{"$f":"IFERROR(VLOOKUP(A355,Base!$A$2:$D$460,3,0),\"\")","v":""},{"$f":"IFERROR(VLOOKUP(A355,Base!$A$2:$D$460,4,0),\"\")","v":""},null,null,null,null,null,null,null,null,null,null,null,null,null,0]
[null,{"$f":"IFERROR(VLOOKUP(A356,Base!$A$2:$D$460,2,0),\"\")","v":""},{"$f":"IFERROR(VLOOKUP(A356,Base!$A$2:$D$460,3,0),\"\")","v":""},{"$f":"IFERROR(VLOOKUP(A356,Base!$A$2:$D$460,4,0),\"\")","v":""},null,null,null,null,null,null,null,null,null,null,null,null,null,0]
[null,{"$f":"IFERROR(VLOOKUP(A357,Base!$A$2:$D$460,2,0),\"\")","v":""},{"$f":"IFERROR(VLOOKUP(A357,Base!$A$2:$D$460,3,0),\"\")","v":""},{"$f":"IFERROR(VLOOKUP(A357,Base!$A$2:$D$460,4,0),\"\")","v":""},null,null,null,null,null,null,null,null,null,null,null,null,null,0]
[null,{"$f":"IFERROR(VLOOKUP(A358,Base!$A$2:$D$460,2,0),\"\")","v":""},{"$f":"IFERROR(VLOOKUP(A358,Base!$A$2:$D$460,3,0),\"\")","v":""},{"$f":"IFERROR(VLOOKUP(A358,Base!$A$2:$D$460,4,0),\"\")","v":""},null,null,null,null,null,null,null,null,null,null,null,null,null,0]
[null,{"$f":"IFERROR(VLOOKUP(A359,Base!$A$2:$D$460,2,0),\"\")","v":""},{"$f":"IFERROR(VLOOKUP(A359,Base!$A$2:$D$460,3,0),\"\")","v":""},{"$f":"IFERROR(VLOOKUP(A359,Base!$A$2:$D$460,4,0),\"\")","v":""},null,null,null,null,null,null,null,null,null,null,null,null,null,0]
[null,{"$f":"IFERROR(VLOOKUP(A360,Base!$A$2:$D$460,2,0),\"\")","v":""},{"$f":"IFERROR(VLOOKUP(A360,Base!$A$2:$D$460,3,0),\"\")","v":""},{"$f":"IFERROR(VLOOKUP(A360,Base!$A$2:$D$460,4,0),\"\")","v":""},null,null,null,null,null,null,null,null,null,null,null,null,null,0]
[null,{"$f":"IFERROR(VLOOKUP(A361,Base!$A$2:$D$460,2,0),\"\")","v":""},{"$f":"IFERROR(VLOOKUP(A361,Base!$A$2:$D$460,3,0),\"\")","v":""},{"$f":"IFERROR(VLOOKUP(A361,Base!$A$2:$D$460,4,0),\"\")","v":""},null,null,null,null,null,null,null,null,null,null,null,null,null,0]
[null,{"$f":"IFERROR(VLOOKUP(A362,Base!$A$2:$D$460,2,0),\"\")","v":""},{"$f":"IFERROR(VLOOKUP(A362,Base!$A$2:$D$460,3,0),\"\")","v":""},{"$f":"IFERROR(VLOOKUP(A362,Base!$A$2:$D$460,4,0),\"\")","v":""},null,null,null,null,null,null,null,null,null,null,null,null,null,0]
[null,{"$f":"IFERROR(VLOOKUP(A363,Base!$A$2:$D$460,2,0),\"\")","v":""},{"$f":"IFERROR(VLOOKUP(A363,Base!$A$2:$D$460,3,0),\"\")","v":""},{"$f":"IFERROR(VLOOKUP(A363,Base!$A$2:$D$460,4,0),\"\")","v":""},null,null,null,null,null,null,null,null,null,null,null,null,null,0]
[null,{"$f":"IFERROR(VLOOKUP(A364,Base!$A$2:$D$460,2,0),\"\")","v":""},{"$f":"IFERROR(VLOOKUP(A364,Base!$A$2:$D$460,3,0),\"\")","v":""},{"$f":"IFERROR(VLOOKUP(A364,Base!$A$2:$D$460,4,0),\"\")","v":""},null,null,null,null,null,null,null,null,null,null,null,null,null,0]
[null,{"$f":"IFERROR(VLOOKUP(A365,Base!$A$2:$D$460,2,0),\"\")","v":""},{"$f":"IFERROR(VLOOKUP(A365,Base!$A$2:$D$460,3,0),\"\")","v":""},{"$f":"IFERROR(VLOOKUP(A365,Base!$A$2:$D$460,4,0),\"\")","v":""},null,null,null,null,null,null,null,null,null,null,null,null,null,0]
[null,{"$f":"IFERROR(VLOOKUP(A366,Base!$A$2:$D$460,2,0),\"\")","v":""},{"$f":"IFERROR(VLOOKUP(A366,Base!$A$2:$D$460,3,0),\"\")","v":""},{"$f":"IFERROR(VLOOKUP(A366,Base!$A$2:$D$460,4,0),\"\")","v":""},null,null,null,null,null,null,null,null,null,null,null,null,null,0]
[null,{"$f":"IFERROR(VLOOKUP(A367,Base!$A$2:$D$460,2,0),\"\")","v":""},{"$f":"IFERROR(VLOOKUP(A367,Base!$A$2:$D$460,3,0),\"\")","v":""},{"$f":"IFERROR(VLOOKUP(A367,Base!$A$2:$D$460,4,0),\"\")","v":""},null,null,null,null,null,null,null,null,null,null,null,null,null,0]
[null,{"$f":"IFERROR(VLOOKUP(A368,Base!$A$2:$D$460,2,0),\"\")","v":""},{"$f":"IFERROR(VLOOKUP(A368,Base!$A$2:$D$460,3,0),\"\")","v":""},{"$f":"IFERROR(VLOOKUP(A368,Base!$A$2:$D$460,4,0),\"\")","v":""},null,null,null,null,null,null,null,null,null,null,null,null,null,0]
[null,{"$f":"IFERROR(VLOOKUP(A369,Base!$A$2:$D$460,2,0),\"\")","v":""},{"$f":"IFERROR(VLOOKUP(A369,Base!$A$2:$D$460,3,0),\"\")","v":""},{"$f":"IFERROR(VLOOKUP(A369,Base!$A$2:$D$460,4,0),\"\")","v":""},null,null,null,null,null,null,null,null,null,null,null,null,null,0]
[null,{"$f":"IFERROR(VLOOKUP(A370,Base!$A$2:$D$460,2,0),\"\")","v":""},{"$f":"IFERROR(VLOOKUP(A370,Base!$A$2:$D$460,3,0),\"\")","v":""},{"$f":"IFERROR(VLOOKUP(A370,Base!$A$2:$D$460,4,0),\"\")","v":""},null,null,null,null,null,null,null,null,null,null,null,null,null,0]
[null,{"$f":"IFERROR(VLOOKUP(A371,Base!$A$2:$D$460,2,0),\"\")","v":""},{"$f":"IFERROR(VLOOKUP(A371,Base!$A$2:$D$460,3,0),\"\")","v":""},{"$f":"IFERROR(VLOOKUP(A371,Base!$A$2:$D$460,4,0),\"\")","v":""},null,null,null,null,null,null,null,null,null,null,null,null,null,0]
[null,{"$f":"IFERROR(VLOOKUP(A372,Base!$A$2:$D$460,2,0),\"\")","v":""},{"$f":"IFERROR(VLOOKUP(A372,Base!$A$2:$D$460,3,0),\"\")","v":""},{"$f":"IFERROR(VLOOKUP(A372,Base!$A$2:$D$460,4,0),\"\")","v":""},null,null,null,null,null,null,null,null,null,null,null,null,null,0]
[null,{"$f":"IFERROR(VLOOKUP(A373,Base!$A$2:$D$460,2,0),\"\")","v":""},{"$f":"IFERROR(VLOOKUP(A373,Base!$A$2:$D$460,3,0),\"\")","v":""},{"$f":"IFERROR(VLOOKUP(A373,Base!$A$2:$D$460,4,0),\"\")","v":""},null,null,null,null,null,null,null,null,null,null,null,null,null,0]
[null,{"$f":"IFERROR(VLOOKUP(A374,Base!$A$2:$D$460,2,0),\"\")","v":""},{"$f":"IFERROR(VLOOKUP(A374,Base!$A$2:$D$460,3,0),\"\")","v":""},{"$f":"IFERROR(VLOOKUP(A374,Base!$A$2:$D$460,4,0),\"\")","v":""},null,null,null,null,null,null,null,null,null,null,null,null,null,0]
[null,{"$f":"IFERROR(VLOOKUP(A375,Base!$A$2:$D$460,2,0),\"\")","v":""},{"$f":"IFERROR(VLOOKUP(A375,Base!$A$2:$D$460,3,0),\"\")","v":""},{"$f":"IFERROR(VLOOKUP(A375,Base!$A$2:$D$460,4,0),\"\")","v":""},null,null,null,null,null,null,null,null,null,null,null,null,null,0]
[null,{"$f":"IFERROR(VLOOKUP(A376,Base!$A$2:$D$460,2,0),\"\")","v":""},{"$f":"IFERROR(VLOOKUP(A376,Base!$A$2:$D$460,3,0),\"\")","v":""},{"$f":"IFERROR(VLOOKUP(A376,Base!$A$2:$D$460,4,0),\"\")","v":""},null,null,null,null,null,null,null,null,null,null,null,null,null,0]
[null,{"$f":"IFERROR(VLOOKUP(A377,Base!$A$2:$D$460,2,0),\"\")","v":""},{"$f":"IFERROR(VLOOKUP(A377,Base!$A$2:$D$460,3,0),\"\")","v":""},{"$f":"IFERROR(VLOOKUP(A377,Base!$A$2:$D$460,4,0),\"\")","v":""},null,null,null,null,null,null,null,null,null,null,null,null,null,0]
[null,{"$f":"IFERROR(VLOOKUP(A378,Base!$A$2:$D$460,2,0),\"\")","v":""},{"$f":"IFERROR(VLOOKUP(A378,Base!$A$2:$D$460,3,0),\"\")","v":""},{"$f":"IFERROR(VLOOKUP(A378,Base!$A$2:$D$460,4,0),\"\")","v":""},null,null,null,null,null,null,null,null,null,null,null,null,null,0]
[null,{"$f":"IFERROR(VLOOKUP(A379,Base!$A$2:$D$460,2,0),\"\")","v":""},{"$f":"IFERROR(VLOOKUP(A379,Base!$A$2:$D$460,3,0),\"\")","v":""},{"$f":"IFERROR(VLOOKUP(A379,Base!$A$2:$D$460,4,0),\"\")","v":""},null,null,null,null,null,null,null,null,null,null,null,null,null,0]
[null,{"$f":"IFERROR(VLOOKUP(A380,Base!$A$2:$D$460,2,0),\"\")","v":""},{"$f":"IFERROR(VLOOKUP(A380,Base!$A$2:$D$460,3,0),\"\")","v":""},{"$f":"IFERROR(VLOOKUP(A380,Base!$A$2:$D$460,4,0),\"\")","v":""},null,null,null,null,null,null,null,null,null,null,null,null,null,0]
[null,{"$f":"IFERROR(VLOOKUP(A381,Base!$A$2:$D$460,2,0),\"\")","v":""},{"$f":"IFERROR(VLOOKUP(A381,Base!$A$2:$D$460,3,0),\"\")","v":""},{"$f":"IFERROR(VLOOKUP(A381,Base!$A$2:$D$460,4,0),\"\")","v":""},null,null,null,null,null,null,null,null,null,null,null,null,null,0]
[null,{"$f":"IFERROR(VLOOKUP(A382,Base!$A$2:$D$460,2,0),\"\")","v":""},{"$f":"IFERROR(VLOOKUP(A382,Base!$A$2:$D$460,3,0),\"\")","v":""},{"$f":"IFERROR(VLOOKUP(A382,Base!$A$2:$D$460,4,0),\"\")","v":""},null,null,null,null,null,null,null,null,null,null,null,null,null,0]
[null,{"$f":"IFERROR(VLOOKUP(A383,Base!$A$2:$D$460,2,0),\"\")","v":""},{"$f":"IFERROR(VLOOKUP(A383,Base!$A$2:$D$460,3,0),\"\")","v":""},{"$f":"IFERROR(VLOOKUP(A383,Base!$A$2:$D$460,4,0),\"\")","v":""},null,null,null,null,null,null,null,null,null,null,null,null,null,0]
[null,{"$f":"IFERROR(VLOOKUP(A384,Base!$A$2:$D$460,2,0),\"\")","v":""},{"$f":"IFERROR(VLOOKUP(A384,Base!$A$2:$D$460,3,0),\"\")","v":""},{"$f":"IFERROR(VLOOKUP(A384,Base!$A$2:$D$460,4,0),\"\")","v":""},null,null,null,null,null,null,null,null,null,null,null,null,null,0]
[null,{"$f":"IFERROR(VLOOKUP(A385,Base!$A$2:$D$460,2,0),\"\")","v":""},{"$f":"IFERROR(VLOOKUP(A385,Base!$A$2:$D$460,3,0),\"\")","v":""},{"$f":"IFERROR(VLOOKUP(A385,Base!$A$2:$D$460,4,0),\"\")","v":""},null,null,null,null,null,null,null,null,null,null,null,null,null,0]
[null,{"$f":"IFERROR(VLOOKUP(A386,Base!$A$2:$D$460,2,0),\"\")","v":""},{"$f":"IFERROR(VLOOKUP(A386,Base!$A$2:$D$460,3,0),\"\")","v":""},{"$f":"IFERROR(VLOOKUP(A386,Base!$A$2:$D$460,4,0),\"\")","v":""},null,null,null,null,null,null,null,null,null,null,null,null,null,0]
[null,{"$f":"IFERROR(VLOOKUP(A387,Base!$A$2:$D$460,2,0),\"\")","v":""},{"$f":"IFERROR(VLOOKUP(A387,Base!$A$2:$D$460,3,0),\"\")","v":""},{"$f":"IFERROR(VLOOKUP(A387,Base!$A$2:$D$460,4,0),\"\")","v":""},null,null,null,null,null,null,null,null,null,null,null,null,null,0]
[null,{"$f":"IFERROR(VLOOKUP(A388,Base!$A$2:$D$460,2,0),\"\")","v":""},{"$f":"IFERROR(VLOOKUP(A388,Base!$A$2:$D$460,3,0),\"\")","v":""},{"$f":"IFERROR(VLOOKUP(A388,Base!$A$2:$D$460,4,0),\"\")","v":""},null,null,null,null,null,null,null,null,null,null,null,null,null,0]
[null,{"$f":"IFERROR(VLOOKUP(A389,Base!$A$2:$D$460,2,0),\"\")","v":""},{"$f":"IFERROR(VLOOKUP(A389,Base!$A$2:$D$460,3,0),\"\")","v":""},{"$f":"IFERROR(VLOOKUP(A389,Base!$A$2:$D$460,4,0),\"\")","v":""},null,null,null,null,null,null,null,null,null,null,null,null,null,0]
[null,{"$f":"IFERROR(VLOOKUP(A390,Base!$A$2:$D$460,2,0),\"\")","v":""},{"$f":"IFERROR(VLOOKUP(A390,Base!$A$2:$D$460,3,0),\"\")","v":""},{"$f":"IFERROR(VLOOKUP(A390,Base!$A$2:$D$460,4,0),\"\")","v":""},null,null,null,null,null,null,null,null,null,null,null,null,null,0]
[null,{"$f":"IFERROR(VLOOKUP(A391,Base!$A$2:$D$460,2,0),\"\")","v":""},{"$f":"IFERROR(VLOOKUP(A391,Base!$A$2:$D$460,3,0),\"\")","v":""},{"$f":"IFERROR(VLOOKUP(A391,Base!$A$2:$D$460,4,0),\"\")","v":""},null,null,null,null,null,null,null,null,null,null,null,null,null,0]
[null,{"$f":"IFERROR(VLOOKUP(A392,Base!$A$2:$D$460,2,0),\"\")","v":""},{"$f":"IFERROR(VLOOKUP(A392,Base!$A$2:$D$460,3,0),\"\")","v":""},{"$f":"IFERROR(VLOOKUP(A392,Base!$A$2:$D$460,4,0),\"\")","v":""},null,null,null,null,null,null,null,null,null,null,null,null,null,0]
[null,{"$f":"IFERROR(VLOOKUP(A393,Base!$A$2:$D$460,2,0),\"\")","v":""},{"$f":"IFERROR(VLOOKUP(A393,Base!$A$2:$D$460,3,0),\"\")","v":""},{"$f":"IFERROR(VLOOKUP(A393,Base!$A$2:$D$460,4,0),\"\")","v":""},null,null,null,null,null,null,null,null,null,null,null,null,null,0]
[null,{"$f":"IFERROR(VLOOKUP(A394,Base!$A$2:$D$460,2,0),\"\")","v":""},{"$f":"IFERROR(VLOOKUP(A394,Base!$A$2:$D$460,3,0),\"\")","v":""},{"$f":"IFERROR(VLOOKUP(A394,Base!$A$2:$D$460,4,0),\"\")","v":""},null,null,null,null,null,null,null,null,null,null,null,null,null,0]
[null,{"$f":"IFERROR(VLOOKUP(A395,Base!$A$2:$D$460,2,0),\"\")","v":""},{"$f":"IFERROR(VLOOKUP(A395,Base!$A$2:$D$460,3,0),\"\")","v":""},{"$f":"IFERROR(VLOOKUP(A395,Base!$A$2:$D$460,4,0),\"\")","v":""},null,null,null,null,null,null,null,null,null,null,null,null,null,{"$f":"SUM(N395:Q395)/4","v":0}]
[null,{"$f":"IFERROR(VLOOKUP(A396,Base!$A$2:$D$460,2,0),\"\")","v":""},{"$f":"IFERROR(VLOOKUP(A396,Base!$A$2:$D$460,3,0),\"\")","v":""},{"$f":"IFERROR(VLOOKUP(A396,Base!$A$2:$D$460,4,0),\"\")","v":""},null,null,null,null,null,null,null,null,null,null,null,null,null,0]
[null,{"$f":"IFERROR(VLOOKUP(A397,Base!$A$2:$D$460,2,0),\"\")","v":""},{"$f":"IFERROR(VLOOKUP(A397,Base!$A$2:$D$460,3,0),\"\")","v":""},{"$f":"IFERROR(VLOOKUP(A397,Base!$A$2:$D$460,4,0),\"\")","v":""},null,null,null,null,null,null,null,null,null,null,null,null,null,0]
[null,{"$f":"IFERROR(VLOOKUP(A398,Base!$A$2:$D$460,2,0),\"\")","v":""},{"$f":"IFERROR(VLOOKUP(A398,Base!$A$2:$D$460,3,0),\"\")","v":""},{"$f":"IFERROR(VLOOKUP(A398,Base!$A$2:$D$460,4,0),\"\")","v":""},null,null,null,null,null,null,null,null,null,null,null,null,null,0]
[null,{"$f":"IFERROR(VLOOKUP(A399,Base!$A$2:$D$460,2,0),\"\")","v":""},{"$f":"IFERROR(VLOOKUP(A399,Base!$A$2:$D$460,3,0),\"\")","v":""},{"$f":"IFERROR(VLOOKUP(A399,Base!$A$2:$D$460,4,0),\"\")","v":""},null,null,null,null,null,null,null,null,null,null,null,null,null,0]
[null,{"$f":"IFERROR(VLOOKUP(A400,Base!$A$2:$D$460,2,0),\"\")","v":""},{"$f":"IFERROR(VLOOKUP(A400,Base!$A$2:$D$460,3,0),\"\")","v":""},{"$f":"IFERROR(VLOOKUP(A400,Base!$A$2:$D$460,4,0),\"\")","v":""},null,null,null,null,null,null,null,null,null,null,null,null,null,0]
[null,{"$f":"IFERROR(VLOOKUP(A401,Base!$A$2:$D$460,2,0),\"\")","v":""},{"$f":"IFERROR(VLOOKUP(A401,Base!$A$2:$D$460,3,0),\"\")","v":""},{"$f":"IFERROR(VLOOKUP(A401,Base!$A$2:$D$460,4,0),\"\")","v":""},null,null,null,null,null,null,null,null,null,null,null,null,null,0]
[null,{"$f":"IFERROR(VLOOKUP(A402,Base!$A$2:$D$460,2,0),\"\")","v":""},{"$f":"IFERROR(VLOOKUP(A402,Base!$A$2:$D$460,3,0),\"\")","v":""},{"$f":"IFERROR(VLOOKUP(A402,Base!$A$2:$D$460,4,0),\"\")","v":""},null,null,null,null,null,null,null,null,null,null,null,null,null,0]
[null,{"$f":"IFERROR(VLOOKUP(A403,Base!$A$2:$D$460,2,0),\"\")","v":""},{"$f":"IFERROR(VLOOKUP(A403,Base!$A$2:$D$460,3,0),\"\")","v":""},{"$f":"IFERROR(VLOOKUP(A403,Base!$A$2:$D$460,4,0),\"\")","v":""},null,null,null,null,null,null,null,null,null,null,null,null,null,0]
[null,{"$f":"IFERROR(VLOOKUP(A404,Base!$A$2:$D$460,2,0),\"\")","v":""},{"$f":"IFERROR(VLOOKUP(A404,Base!$A$2:$D$460,3,0),\"\")","v":""},{"$f":"IFERROR(VLOOKUP(A404,Base!$A$2:$D$460,4,0),\"\")","v":""},null,null,null,null,null,null,null,null,null,null,null,null,null,0]
[null,{"$f":"IFERROR(VLOOKUP(A405,Base!$A$2:$D$460,2,0),\"\")","v":""},{"$f":"IFERROR(VLOOKUP(A405,Base!$A$2:$D$460,3,0),\"\")","v":""},{"$f":"IFERROR(VLOOKUP(A405,Base!$A$2:$D$460,4,0),\"\")","v":""},null,null,null,null,null,null,null,null,null,null,null,null,null,0]
[null,{"$f":"IFERROR(VLOOKUP(A406,Base!$A$2:$D$460,2,0),\"\")","v":""},{"$f":"IFERROR(VLOOKUP(A406,Base!$A$2:$D$460,3,0),\"\")","v":""},{"$f":"IFERROR(VLOOKUP(A406,Base!$A$2:$D$460,4,0),\"\")","v":""},null,null,null,null,null,null,null,null,null,null,null,null,null,0]
[null,{"$f":"IFERROR(VLOOKUP(A407,Base!$A$2:$D$460,2,0),\"\")","v":""},{"$f":"IFERROR(VLOOKUP(A407,Base!$A$2:$D$460,3,0),\"\")","v":""},{"$f":"IFERROR(VLOOKUP(A407,Base!$A$2:$D$460,4,0),\"\")","v":""},null,null,null,null,null,null,null,null,null,null,null,null,null,0]
[null,{"$f":"IFERROR(VLOOKUP(A408,Base!$A$2:$D$460,2,0),\"\")","v":""},{"$f":"IFERROR(VLOOKUP(A408,Base!$A$2:$D$460,3,0),\"\")","v":""},{"$f":"IFERROR(VLOOKUP(A408,Base!$A$2:$D$460,4,0),\"\")","v":""},null,null,null,null,null,null,null,null,null,null,null,null,null,0]
[null,{"$f":"IFERROR(VLOOKUP(A409,Base!$A$2:$D$460,2,0),\"\")","v":""},{"$f":"IFERROR(VLOOKUP(A409,Base!$A$2:$D$460,3,0),\"\")","v":""},{"$f":"IFERROR(VLOOKUP(A409,Base!$A$2:$D$460,4,0),\"\")","v":""},null,null,null,null,null,null,null,null,null,null,null,null,null,0]
[null,{"$f":"IFERROR(VLOOKUP(A410,Base!$A$2:$D$460,2,0),\"\")","v":""},{"$f":"IFERROR(VLOOKUP(A410,Base!$A$2:$D$460,3,0),\"\")","v":""},{"$f":"IFERROR(VLOOKUP(A410,Base!$A$2:$D$460,4,0),\"\")","v":""},null,null,null,null,null,null,null,null,null,null,null,null,null,0]
[null,{"$f":"IFERROR(VLOOKUP(A411,Base!$A$2:$D$460,2,0),\"\")","v":""},{"$f":"IFERROR(VLOOKUP(A411,Base!$A$2:$D$460,3,0),\"\")","v":""},{"$f":"IFERROR(VLOOKUP(A411,Base!$A$2:$D$460,4,0),\"\")","v":""},null,null,null,null,null,null,null,null,null,null,null,null,null,0]
[null,{"$f":"IFERROR(VLOOKUP(A412,Base!$A$2:$D$460,2,0),\"\")","v":""},{"$f":"IFERROR(VLOOKUP(A412,Base!$A$2:$D$460,3,0),\"\")","v":""},{"$f":"IFERROR(VLOOKUP(A412,Base!$A$2:$D$460,4,0),\"\")","v":""},null,null,null,null,null,null,null,null,null,null,null,null,null,0]
[null,{"$f":"IFERROR(VLOOKUP(A413,Base!$A$2:$D$460,2,0),\"\")","v":""},{"$f":"IFERROR(VLOOKUP(A413,Base!$A$2:$D$460,3,0),\"\")","v":""},{"$f":"IFERROR(VLOOKUP(A413,Base!$A$2:$D$460,4,0),\"\")","v":""},null,null,null,null,null,null,null,null,null,null,null,null,null,0]
[null,{"$f":"IFERROR(VLOOKUP(A414,Base!$A$2:$D$460,2,0),\"\")","v":""},{"$f":"IFERROR(VLOOKUP(A414,Base!$A$2:$D$460,3,0),\"\")","v":""},{"$f":"IFERROR(VLOOKUP(A414,Base!$A$2:$D$460,4,0),\"\")","v":""},null,null,null,null,null,null,null,null,null,null,null,null,null,0]
[null,{"$f":"IFERROR(VLOOKUP(A415,Base!$A$2:$D$460,2,0),\"\")","v":""},{"$f":"IFERROR(VLOOKUP(A415,Base!$A$2:$D$460,3,0),\"\")","v":""},{"$f":"IFERROR(VLOOKUP(A415,Base!$A$2:$D$460,4,0),\"\")","v":""},null,null,null,null,null,null,null,null,null,null,null,null,null,0]
[null,{"$f":"IFERROR(VLOOKUP(A416,Base!$A$2:$D$460,2,0),\"\")","v":""},{"$f":"IFERROR(VLOOKUP(A416,Base!$A$2:$D$460,3,0),\"\")","v":""},{"$f":"IFERROR(VLOOKUP(A416,Base!$A$2:$D$460,4,0),\"\")","v":""},null,null,null,null,null,null,null,null,null,null,null,null,null,0]
[null,{"$f":"IFERROR(VLOOKUP(A417,Base!$A$2:$D$460,2,0),\"\")","v":""},{"$f":"IFERROR(VLOOKUP(A417,Base!$A$2:$D$460,3,0),\"\")","v":""},{"$f":"IFERROR(VLOOKUP(A417,Base!$A$2:$D$460,4,0),\"\")","v":""},null,null,null,null,null,null,null,null,null,null,null,null,null,0]
[null,{"$f":"IFERROR(VLOOKUP(A418,Base!$A$2:$D$460,2,0),\"\")","v":""},{"$f":"IFERROR(VLOOKUP(A418,Base!$A$2:$D$460,3,0),\"\")","v":""},{"$f":"IFERROR(VLOOKUP(A418,Base!$A$2:$D$460,4,0),\"\")","v":""},null,null,null,null,null,null,null,null,null,null,null,null,null,0]
[null,{"$f":"IFERROR(VLOOKUP(A419,Base!$A$2:$D$460,2,0),\"\")","v":""},{"$f":"IFERROR(VLOOKUP(A419,Base!$A$2:$D$460,3,0),\"\")","v":""},{"$f":"IFERROR(VLOOKUP(A419,Base!$A$2:$D$460,4,0),\"\")","v":""},null,null,null,null,null,null,null,null,null,null,null,null,null,0]
[null,{"$f":"IFERROR(VLOOKUP(A420,Base!$A$2:$D$460,2,0),\"\")","v":""},{"$f":"IFERROR(VLOOKUP(A420,Base!$A$2:$D$460,3,0),\"\")","v":""},{"$f":"IFERROR(VLOOKUP(A420,Base!$A$2:$D$460,4,0),\"\")","v":""},null,null,null,null,null,null,null,null,null,null,null,null,null,0]
[null,{"$f":"IFERROR(VLOOKUP(A421,Base!$A$2:$D$460,2,0),\"\")","v":""},{"$f":"IFERROR(VLOOKUP(A421,Base!$A$2:$D$460,3,0),\"\")","v":""},{"$f":"IFERROR(VLOOKUP(A421,Base!$A$2:$D$460,4,0),\"\")","v":""},null,null,null,null,null,null,null,null,null,null,null,null,null,0]
[null,{"$f":"IFERROR(VLOOKUP(A422,Base!$A$2:$D$460,2,0),\"\")","v":""},{"$f":"IFERROR(VLOOKUP(A422,Base!$A$2:$D$460,3,0),\"\")","v":""},{"$f":"IFERROR(VLOOKUP(A422,Base!$A$2:$D$460,4,0),\"\")","v":""},null,null,null,null,null,null,null,null,null,null,null,null,null,0]
[null,{"$f":"IFERROR(VLOOKUP(A423,Base!$A$2:$D$460,2,0),\"\")","v":""},{"$f":"IFERROR(VLOOKUP(A423,Base!$A$2:$D$460,3,0),\"\")","v":""},{"$f":"IFERROR(VLOOKUP(A423,Base!$A$2:$D$460,4,0),\"\")","v":""},null,null,null,null,null,null,null,null,null,null,null,null,null,0]
[null,{"$f":"IFERROR(VLOOKUP(A424,Base!$A$2:$D$460,2,0),\"\")","v":""},{"$f":"IFERROR(VLOOKUP(A424,Base!$A$2:$D$460,3,0),\"\")","v":""},{"$f":"IFERROR(VLOOKUP(A424,Base!$A$2:$D$460,4,0),\"\")","v":""},null,null,null,null,null,null,null,null,null,null,null,null,null,0]
[null,{"$f":"IFERROR(VLOOKUP(A425,Base!$A$2:$D$460,2,0),\"\")","v":""},{"$f":"IFERROR(VLOOKUP(A425,Base!$A$2:$D$460,3,0),\"\")","v":""},{"$f":"IFERROR(VLOOKUP(A425,Base!$A$2:$D$460,4,0),\"\")","v":""},null,null,null,null,null,null,null,null,null,null,null,null,null,0]
[null,{"$f":"IFERROR(VLOOKUP(A426,Base!$A$2:$D$460,2,0),\"\")","v":""},{"$f":"IFERROR(VLOOKUP(A426,Base!$A$2:$D$460,3,0),\"\")","v":""},{"$f":"IFERROR(VLOOKUP(A426,Base!$A$2:$D$460,4,0),\"\")","v":""},null,null,null,null,null,null,null,null,null,null,null,null,null,0]
[null,{"$f":"IFERROR(VLOOKUP(A427,Base!$A$2:$D$460,2,0),\"\")","v":""},{"$f":"IFERROR(VLOOKUP(A427,Base!$A$2:$D$460,3,0),\"\")","v":""},{"$f":"IFERROR(VLOOKUP(A427,Base!$A$2:$D$460,4,0),\"\")","v":""},null,null,null,null,null,null,null,null,null,null,null,null,null,0]
[null,{"$f":"IFERROR(VLOOKUP(A428,Base!$A$2:$D$460,2,0),\"\")","v":""},{"$f":"IFERROR(VLOOKUP(A428,Base!$A$2:$D$460,3,0),\"\")","v":""},{"$f":"IFERROR(VLOOKUP(A428,Base!$A$2:$D$460,4,0),\"\")","v":""},null,null,null,null,null,null,null,null,null,null,null,null,null,0]
[null,{"$f":"IFERROR(VLOOKUP(A429,Base!$A$2:$D$460,2,0),\"\")","v":""},{"$f":"IFERROR(VLOOKUP(A429,Base!$A$2:$D$460,3,0),\"\")","v":""},{"$f":"IFERROR(VLOOKUP(A429,Base!$A$2:$D$460,4,0),\"\")","v":""},null,null,null,null,null,null,null,null,null,null,null,null,null,0]
[null,{"$f":"IFERROR(VLOOKUP(A430,Base!$A$2:$D$460,2,0),\"\")","v":""},{"$f":"IFERROR(VLOOKUP(A430,Base!$A$2:$D$460,3,0),\"\")","v":""},{"$f":"IFERROR(VLOOKUP(A430,Base!$A$2:$D$460,4,0),\"\")","v":""},null,null,null,null,null,null,null,null,null,null,null,null,null,0]
[null,{"$f":"IFERROR(VLOOKUP(A431,Base!$A$2:$D$460,2,0),\"\")","v":""},{"$f":"IFERROR(VLOOKUP(A431,Base!$A$2:$D$460,3,0),\"\")","v":""},{"$f":"IFERROR(VLOOKUP(A431,Base!$A$2:$D$460,4,0),\"\")","v":""},null,null,null,null,null,null,null,null,null,null,null,null,null,0]
[null,{"$f":"IFERROR(VLOOKUP(A432,Base!$A$2:$D$460,2,0),\"\")","v":""},{"$f":"IFERROR(VLOOKUP(A432,Base!$A$2:$D$460,3,0),\"\")","v":""},{"$f":"IFERROR(VLOOKUP(A432,Base!$A$2:$D$460,4,0),\"\")","v":""},null,null,null,null,null,null,null,null,null,null,null,null,null,0]
[null,{"$f":"IFERROR(VLOOKUP(A433,Base!$A$2:$D$460,2,0),\"\")","v":""},{"$f":"IFERROR(VLOOKUP(A433,Base!$A$2:$D$460,3,0),\"\")","v":""},{"$f":"IFERROR(VLOOKUP(A433,Base!$A$2:$D$460,4,0),\"\")","v":""},null,null,null,null,null,null,null,null,null,null,null,null,null,0]
[null,{"$f":"IFERROR(VLOOKUP(A434,Base!$A$2:$D$460,2,0),\"\")","v":""},{"$f":"IFERROR(VLOOKUP(A434,Base!$A$2:$D$460,3,0),\"\")","v":""},{"$f":"IFERROR(VLOOKUP(A434,Base!$A$2:$D$460,4,0),\"\")","v":""},null,null,null,null,null,null,null,null,null,null,null,null,null,0]
[null,{"$f":"IFERROR(VLOOKUP(A435,Base!$A$2:$D$460,2,0),\"\")","v":""},{"$f":"IFERROR(VLOOKUP(A435,Base!$A$2:$D$460,3,0),\"\")","v":""},{"$f":"IFERROR(VLOOKUP(A435,Base!$A$2:$D$460,4,0),\"\")","v":""},null,null,null,null,null,null,null,null,null,null,null,null,null,0]
[null,{"$f":"IFERROR(VLOOKUP(A436,Base!$A$2:$D$460,2,0),\"\")","v":""},{"$f":"IFERROR(VLOOKUP(A436,Base!$A$2:$D$460,3,0),\"\")","v":""},{"$f":"IFERROR(VLOOKUP(A436,Base!$A$2:$D$460,4,0),\"\")","v":""},null,null,null,null,null,null,null,null,null,null,null,null,null,0]
[null,{"$f":"IFERROR(VLOOKUP(A437,Base!$A$2:$D$460,2,0),\"\")","v":""},{"$f":"IFERROR(VLOOKUP(A437,Base!$A$2:$D$460,3,0),\"\")","v":""},{"$f":"IFERROR(VLOOKUP(A437,Base!$A$2:$D$460,4,0),\"\")","v":""},null,null,null,null,null,null,null,null,null,null,null,null,null,0]
[null,{"$f":"IFERROR(VLOOKUP(A438,Base!$A$2:$D$460,2,0),\"\")","v":""},{"$f":"IFERROR(VLOOKUP(A438,Base!$A$2:$D$460,3,0),\"\")","v":""},{"$f":"IFERROR(VLOOKUP(A438,Base!$A$2:$D$460,4,0),\"\")","v":""},null,null,null,null,null,null,null,null,null,null,null,null,null,0]
[null,{"$f":"IFERROR(VLOOKUP(A439,Base!$A$2:$D$460,2,0),\"\")","v":""},{"$f":"IFERROR(VLOOKUP(A439,Base!$A$2:$D$460,3,0),\"\")","v":""},{"$f":"IFERROR(VLOOKUP(A439,Base!$A$2:$D$460,4,0),\"\")","v":""},null,null,null,null,null,null,null,null,null,null,null,null,null,0]
[null,{"$f":"IFERROR(VLOOKUP(A440,Base!$A$2:$D$460,2,0),\"\")","v":""},{"$f":"IFERROR(VLOOKUP(A440,Base!$A$2:$D$460,3,0),\"\")","v":""},{"$f":"IFERROR(VLOOKUP(A440,Base!$A$2:$D$460,4,0),\"\")","v":""},null,null,null,null,null,null,null,null,null,null,null,null,null,0]
[null,{"$f":"IFERROR(VLOOKUP(A441,Base!$A$2:$D$460,2,0),\"\")","v":""},{"$f":"IFERROR(VLOOKUP(A441,Base!$A$2:$D$460,3,0),\"\")","v":""},{"$f":"IFERROR(VLOOKUP(A441,Base!$A$2:$D$460,4,0),\"\")","v":""},null,null,null,null,null,null,null,null,null,null,null,null,null,0]
[null,{"$f":"IFERROR(VLOOKUP(A442,Base!$A$2:$D$460,2,0),\"\")","v":""},{"$f":"IFERROR(VLOOKUP(A442,Base!$A$2:$D$460,3,0),\"\")","v":""},{"$f":"IFERROR(VLOOKUP(A442,Base!$A$2:$D$460,4,0),\"\")","v":""},null,null,null,null,null,null,null,null,null,null,null,null,null,0]
[null,{"$f":"IFERROR(VLOOKUP(A443,Base!$A$2:$D$460,2,0),\"\")","v":""},{"$f":"IFERROR(VLOOKUP(A443,Base!$A$2:$D$460,3,0),\"\")","v":""},{"$f":"IFERROR(VLOOKUP(A443,Base!$A$2:$D$460,4,0),\"\")","v":""},null,null,null,null,null,null,null,null,null,null,null,null,null,0]
[null,{"$f":"IFERROR(VLOOKUP(A444,Base!$A$2:$D$460,2,0),\"\")","v":""},{"$f":"IFERROR(VLOOKUP(A444,Base!$A$2:$D$460,3,0),\"\")","v":""},{"$f":"IFERROR(VLOOKUP(A444,Base!$A$2:$D$460,4,0),\"\")","v":""},null,null,null,null,null,null,null,null,null,null,null,null,null,0]
[null,{"$f":"IFERROR(VLOOKUP(A445,Base!$A$2:$D$460,2,0),\"\")","v":""},{"$f":"IFERROR(VLOOKUP(A445,Base!$A$2:$D$460,3,0),\"\")","v":""},{"$f":"IFERROR(VLOOKUP(A445,Base!$A$2:$D$460,4,0),\"\")","v":""},null,null,null,null,null,null,null,null,null,null,null,null,null,0]
[null,{"$f":"IFERROR(VLOOKUP(A446,Base!$A$2:$D$460,2,0),\"\")","v":""},{"$f":"IFERROR(VLOOKUP(A446,Base!$A$2:$D$460,3,0),\"\")","v":""},{"$f":"IFERROR(VLOOKUP(A446,Base!$A$2:$D$460,4,0),\"\")","v":""},null,null,null,null,null,null,null,null,null,null,null,null,null,0]
[null,{"$f":"IFERROR(VLOOKUP(A447,Base!$A$2:$D$460,2,0),\"\")","v":""},{"$f":"IFERROR(VLOOKUP(A447,Base!$A$2:$D$460,3,0),\"\")","v":""},{"$f":"IFERROR(VLOOKUP(A447,Base!$A$2:$D$460,4,0),\"\")","v":""},null,null,null,null,null,null,null,null,null,null,null,null,null,0]
[null,{"$f":"IFERROR(VLOOKUP(A448,Base!$A$2:$D$460,2,0),\"\")","v":""},{"$f":"IFERROR(VLOOKUP(A448,Base!$A$2:$D$460,3,0),\"\")","v":""},{"$f":"IFERROR(VLOOKUP(A448,Base!$A$2:$D$460,4,0),\"\")","v":""},null,null,null,null,null,null,null,null,null,null,null,null,null,0]
[null,{"$f":"IFERROR(VLOOKUP(A449,Base!$A$2:$D$460,2,0),\"\")","v":""},{"$f":"IFERROR(VLOOKUP(A449,Base!$A$2:$D$460,3,0),\"\")","v":""},{"$f":"IFERROR(VLOOKUP(A449,Base!$A$2:$D$460,4,0),\"\")","v":""},null,null,null,null,null,null,null,null,null,null,null,null,null,0]
[null,{"$f":"IFERROR(VLOOKUP(A450,Base!$A$2:$D$460,2,0),\"\")","v":""},{"$f":"IFERROR(VLOOKUP(A450,Base!$A$2:$D$460,3,0),\"\")","v":""},{"$f":"IFERROR(VLOOKUP(A450,Base!$A$2:$D$460,4,0),\"\")","v":""},null,null,null,null,null,null,null,null,null,null,null,null,null,0]
[null,{"$f":"IFERROR(VLOOKUP(A451,Base!$A$2:$D$460,2,0),\"\")","v":""},{"$f":"IFERROR(VLOOKUP(A451,Base!$A$2:$D$460,3,0),\"\")","v":""},{"$f":"IFERROR(VLOOKUP(A451,Base!$A$2:$D$460,4,0),\"\")","v":""},null,null,null,null,null,null,null,null,null,null,null,null,null,0]
[null,{"$f":"IFERROR(VLOOKUP(A452,Base!$A$2:$D$460,2,0),\"\")","v":""},{"$f":"IFERROR(VLOOKUP(A452,Base!$A$2:$D$460,3,0),\"\")","v":""},{"$f":"IFERROR(VLOOKUP(A452,Base!$A$2:$D$460,4,0),\"\")","v":""},null,null,null,null,null,null,null,null,null,null,null,null,null,0]
[null,{"$f":"IFERROR(VLOOKUP(A453,Base!$A$2:$D$460,2,0),\"\")","v":""},{"$f":"IFERROR(VLOOKUP(A453,Base!$A$2:$D$460,3,0),\"\")","v":""},{"$f":"IFERROR(VLOOKUP(A453,Base!$A$2:$D$460,4,0),\"\")","v":""},null,null,null,null,null,null,null,null,null,null,null,null,null,0]
[null,{"$f":"IFERROR(VLOOKUP(A454,Base!$A$2:$D$460,2,0),\"\")","v":""},{"$f":"IFERROR(VLOOKUP(A454,Base!$A$2:$D$460,3,0),\"\")","v":""},{"$f":"IFERROR(VLOOKUP(A454,Base!$A$2:$D$460,4,0),\"\")","v":""},null,null,null,null,null,null,null,null,null,null,null,null,null,0]
[null,{"$f":"IFERROR(VLOOKUP(A455,Base!$A$2:$D$460,2,0),\"\")","v":""},{"$f":"IFERROR(VLOOKUP(A455,Base!$A$2:$D$460,3,0),\"\")","v":""},{"$f":"IFERROR(VLOOKUP(A455,Base!$A$2:$D$460,4,0),\"\")","v":""},null,null,null,null,null,null,null,null,null,null,null,null,null,0]
[null,{"$f":"IFERROR(VLOOKUP(A456,Base!$A$2:$D$460,2,0),\"\")","v":""},{"$f":"IFERROR(VLOOKUP(A456,Base!$A$2:$D$460,3,0),\"\")","v":""},{"$f":"IFERROR(VLOOKUP(A456,Base!$A$2:$D$460,4,0),\"\")","v":""},null,null,null,null,null,null,null,null,null,null,null,null,null,0]
[null,{"$f":"IFERROR(VLOOKUP(A457,Base!$A$2:$D$460,2,0),\"\")","v":""},{"$f":"IFERROR(VLOOKUP(A457,Base!$A$2:$D$460,3,0),\"\")","v":""},{"$f":"IFERROR(VLOOKUP(A457,Base!$A$2:$D$460,4,0),\"\")","v":""},null,null,null,null,null,null,null,null,null,null,null,null,null,0]
[null,{"$f":"IFERROR(VLOOKUP(A458,Base!$A$2:$D$460,2,0),\"\")","v":""},{"$f":"IFERROR(VLOOKUP(A458,Base!$A$2:$D$460,3,0),\"\")","v":""},{"$f":"IFERROR(VLOOKUP(A458,Base!$A$2:$D$460,4,0),\"\")","v":""},null,null,null,null,null,null,null,null,null,null,null,null,null,0]
[null,{"$f":"IFERROR(VLOOKUP(A459,Base!$A$2:$D$460,2,0),\"\")","v":""},{"$f":"IFERROR(VLOOKUP(A459,Base!$A$2:$D$460,3,0),\"\")","v":""},{"$f":"IFERROR(VLOOKUP(A459,Base!$A$2:$D$460,4,0),\"\")","v":""},null,null,null,null,null,null,null,null,null,null,null,null,null,{"$f":"SUM(N459:Q459)/4","v":0}]
[null,{"$f":"IFERROR(VLOOKUP(A460,Base!$A$2:$D$460,2,0),\"\")","v":""},{"$f":"IFERROR(VLOOKUP(A460,Base!$A$2:$D$460,3,0),\"\")","v":""},{"$f":"IFERROR(VLOOKUP(A460,Base!$A$2:$D$460,4,0),\"\")","v":""},null,null,null,null,null,null,null,null,null,null,null,null,null,0]
[null,{"$f":"IFERROR(VLOOKUP(A461,Base!$A$2:$D$460,2,0),\"\")","v":""},{"$f":"IFERROR(VLOOKUP(A461,Base!$A$2:$D$460,3,0),\"\")","v":""},{"$f":"IFERROR(VLOOKUP(A461,Base!$A$2:$D$460,4,0),\"\")","v":""},null,null,null,null,null,null,null,null,null,null,null,null,null,0]
[null,{"$f":"IFERROR(VLOOKUP(A462,Base!$A$2:$D$460,2,0),\"\")","v":""},{"$f":"IFERROR(VLOOKUP(A462,Base!$A$2:$D$460,3,0),\"\")","v":""},{"$f":"IFERROR(VLOOKUP(A462,Base!$A$2:$D$460,4,0),\"\")","v":""},null,null,null,null,null,null,null,null,null,null,null,null,null,0]
[null,{"$f":"IFERROR(VLOOKUP(A463,Base!$A$2:$D$460,2,0),\"\")","v":""},{"$f":"IFERROR(VLOOKUP(A463,Base!$A$2:$D$460,3,0),\"\")","v":""},{"$f":"IFERROR(VLOOKUP(A463,Base!$A$2:$D$460,4,0),\"\")","v":""},null,null,null,null,null,null,null,null,null,null,null,null,null,0]
[null,{"$f":"IFERROR(VLOOKUP(A464,Base!$A$2:$D$460,2,0),\"\")","v":""},{"$f":"IFERROR(VLOOKUP(A464,Base!$A$2:$D$460,3,0),\"\")","v":""},{"$f":"IFERROR(VLOOKUP(A464,Base!$A$2:$D$460,4,0),\"\")","v":""},null,null,null,null,null,null,null,null,null,null,null,null,null,0]
[null,{"$f":"IFERROR(VLOOKUP(A465,Base!$A$2:$D$460,2,0),\"\")","v":""},{"$f":"IFERROR(VLOOKUP(A465,Base!$A$2:$D$460,3,0),\"\")","v":""},{"$f":"IFERROR(VLOOKUP(A465,Base!$A$2:$D$460,4,0),\"\")","v":""},null,null,null,null,null,null,null,null,null,null,null,null,null,0]
[null,{"$f":"IFERROR(VLOOKUP(A466,Base!$A$2:$D$460,2,0),\"\")","v":""},{"$f":"IFERROR(VLOOKUP(A466,Base!$A$2:$D$460,3,0),\"\")","v":""},{"$f":"IFERROR(VLOOKUP(A466,Base!$A$2:$D$460,4,0),\"\")","v":""},null,null,null,null,null,null,null,null,null,null,null,null,null,0]
[null,{"$f":"IFERROR(VLOOKUP(A467,Base!$A$2:$D$460,2,0),\"\")","v":""},{"$f":"IFERROR(VLOOKUP(A467,Base!$A$2:$D$460,3,0),\"\")","v":""},{"$f":"IFERROR(VLOOKUP(A467,Base!$A$2:$D$460,4,0),\"\")","v":""},null,null,null,null,null,null,null,null,null,null,null,null,null,0]
[null,{"$f":"IFERROR(VLOOKUP(A468,Base!$A$2:$D$460,2,0),\"\")","v":""},{"$f":"IFERROR(VLOOKUP(A468,Base!$A$2:$D$460,3,0),\"\")","v":""},{"$f":"IFERROR(VLOOKUP(A468,Base!$A$2:$D$460,4,0),\"\")","v":""},null,null,null,null,null,null,null,null,null,null,null,null,null,0]
[null,{"$f":"IFERROR(VLOOKUP(A469,Base!$A$2:$D$460,2,0),\"\")","v":""},{"$f":"IFERROR(VLOOKUP(A469,Base!$A$2:$D$460,3,0),\"\")","v":""},{"$f":"IFERROR(VLOOKUP(A469,Base!$A$2:$D$460,4,0),\"\")","v":""},null,null,null,null,null,null,null,null,null,null,null,null,null,0]
[null,{"$f":"IFERROR(VLOOKUP(A470,Base!$A$2:$D$460,2,0),\"\")","v":""},{"$f":"IFERROR(VLOOKUP(A470,Base!$A$2:$D$460,3,0),\"\")","v":""},{"$f":"IFERROR(VLOOKUP(A470,Base!$A$2:$D$460,4,0),\"\")","v":""},null,null,null,null,null,null,null,null,null,null,null,null,null,0]
[null,{"$f":"IFERROR(VLOOKUP(A471,Base!$A$2:$D$460,2,0),\"\")","v":""},{"$f":"IFERROR(VLOOKUP(A471,Base!$A$2:$D$460,3,0),\"\")","v":""},{"$f":"IFERROR(VLOOKUP(A471,Base!$A$2:$D$460,4,0),\"\")","v":""},null,null,null,null,null,null,null,null,null,null,null,null,null,0]
[null,{"$f":"IFERROR(VLOOKUP(A472,Base!$A$2:$D$460,2,0),\"\")","v":""},{"$f":"IFERROR(VLOOKUP(A472,Base!$A$2:$D$460,3,0),\"\")","v":""},{"$f":"IFERROR(VLOOKUP(A472,Base!$A$2:$D$460,4,0),\"\")","v":""},null,null,null,null,null,null,null,null,null,null,null,null,null,0]
[null,{"$f":"IFERROR(VLOOKUP(A473,Base!$A$2:$D$460,2,0),\"\")","v":""},{"$f":"IFERROR(VLOOKUP(A473,Base!$A$2:$D$460,3,0),\"\")","v":""},{"$f":"IFERROR(VLOOKUP(A473,Base!$A$2:$D$460,4,0),\"\")","v":""},null,null,null,null,null,null,null,null,null,null,null,null,null,0]
[null,{"$f":"IFERROR(VLOOKUP(A474,Base!$A$2:$D$460,2,0),\"\")","v":""},{"$f":"IFERROR(VLOOKUP(A474,Base!$A$2:$D$460,3,0),\"\")","v":""},{"$f":"IFERROR(VLOOKUP(A474,Base!$A$2:$D$460,4,0),\"\")","v":""},null,null,null,null,null,null,null,null,null,null,null,null,null,0]
[null,{"$f":"IFERROR(VLOOKUP(A475,Base!$A$2:$D$460,2,0),\"\")","v":""},{"$f":"IFERROR(VLOOKUP(A475,Base!$A$2:$D$460,3,0),\"\")","v":""},{"$f":"IFERROR(VLOOKUP(A475,Base!$A$2:$D$460,4,0),\"\")","v":""},null,null,null,null,null,null,null,null,null,null,null,null,null,0]
[null,{"$f":"IFERROR(VLOOKUP(A476,Base!$A$2:$D$460,2,0),\"\")","v":""},{"$f":"IFERROR(VLOOKUP(A476,Base!$A$2:$D$460,3,0),\"\")","v":""},{"$f":"IFERROR(VLOOKUP(A476,Base!$A$2:$D$460,4,0),\"\")","v":""},null,null,null,null,null,null,null,null,null,null,null,null,null,0]
[null,{"$f":"IFERROR(VLOOKUP(A477,Base!$A$2:$D$460,2,0),\"\")","v":""},{"$f":"IFERROR(VLOOKUP(A477,Base!$A$2:$D$460,3,0),\"\")","v":""},{"$f":"IFERROR(VLOOKUP(A477,Base!$A$2:$D$460,4,0),\"\")","v":""},null,null,null,null,null,null,null,null,null,null,null,null,null,0]
[null,{"$f":"IFERROR(VLOOKUP(A478,Base!$A$2:$D$460,2,0),\"\")","v":""},{"$f":"IFERROR(VLOOKUP(A478,Base!$A$2:$D$460,3,0),\"\")","v":""},{"$f":"IFERROR(VLOOKUP(A478,Base!$A$2:$D$460,4,0),\"\")","v":""},null,null,null,null,null,null,null,null,null,null,null,null,null,0]
[null,{"$f":"IFERROR(VLOOKUP(A479,Base!$A$2:$D$460,2,0),\"\")","v":""},{"$f":"IFERROR(VLOOKUP(A479,Base!$A$2:$D$460,3,0),\"\")","v":""},{"$f":"IFERROR(VLOOKUP(A479,Base!$A$2:$D$460,4,0),\"\")","v":""},null,null,null,null,null,null,null,null,null,null,null,null,null,0]
[null,{"$f":"IFERROR(VLOOKUP(A480,Base!$A$2:$D$460,2,0),\"\")","v":""},{"$f":"IFERROR(VLOOKUP(A480,Base!$A$2:$D$460,3,0),\"\")","v":""},{"$f":"IFERROR(VLOOKUP(A480,Base!$A$2:$D$460,4,0),\"\")","v":""},null,null,null,null,null,null,null,null,null,null,null,null,null,0]
[null,{"$f":"IFERROR(VLOOKUP(A481,Base!$A$2:$D$460,2,0),\"\")","v":""},{"$f":"IFERROR(VLOOKUP(A481,Base!$A$2:$D$460,3,0),\"\")","v":""},{"$f":"IFERROR(VLOOKUP(A481,Base!$A$2:$D$460,4,0),\"\")","v":""},null,null,null,null,null,null,null,null,null,null,null,null,null,0]
[null,{"$f":"IFERROR(VLOOKUP(A482,Base!$A$2:$D$460,2,0),\"\")","v":""},{"$f":"IFERROR(VLOOKUP(A482,Base!$A$2:$D$460,3,0),\"\")","v":""},{"$f":"IFERROR(VLOOKUP(A482,Base!$A$2:$D$460,4,0),\"\")","v":""},null,null,null,null,null,null,null,null,null,null,null,null,null,0]
[null,{"$f":"IFERROR(VLOOKUP(A483,Base!$A$2:$D$460,2,0),\"\")","v":""},{"$f":"IFERROR(VLOOKUP(A483,Base!$A$2:$D$460,3,0),\"\")","v":""},{"$f":"IFERROR(VLOOKUP(A483,Base!$A$2:$D$460,4,0),\"\")","v":""},null,null,null,null,null,null,null,null,null,null,null,null,null,0]
[null,{"$f":"IFERROR(VLOOKUP(A484,Base!$A$2:$D$460,2,0),\"\")","v":""},{"$f":"IFERROR(VLOOKUP(A484,Base!$A$2:$D$460,3,0),\"\")","v":""},{"$f":"IFERROR(VLOOKUP(A484,Base!$A$2:$D$460,4,0),\"\")","v":""},null,null,null,null,null,null,null,null,null,null,null,null,null,0]
[null,{"$f":"IFERROR(VLOOKUP(A485,Base!$A$2:$D$460,2,0),\"\")","v":""},{"$f":"IFERROR(VLOOKUP(A485,Base!$A$2:$D$460,3,0),\"\")","v":""},{"$f":"IFERROR(VLOOKUP(A485,Base!$A$2:$D$460,4,0),\"\")","v":""},null,null,null,null,null,null,null,null,null,null,null,null,null,0]
[null,{"$f":"IFERROR(VLOOKUP(A486,Base!$A$2:$D$460,2,0),\"\")","v":""},{"$f":"IFERROR(VLOOKUP(A486,Base!$A$2:$D$460,3,0),\"\")","v":""},{"$f":"IFERROR(VLOOKUP(A486,Base!$A$2:$D$460,4,0),\"\")","v":""},null,null,null,null,null,null,null,null,null,null,null,null,null,0]
[null,{"$f":"IFERROR(VLOOKUP(A487,Base!$A$2:$D$460,2,0),\"\")","v":""},{"$f":"IFERROR(VLOOKUP(A487,Base!$A$2:$D$460,3,0),\"\")","v":""},{"$f":"IFERROR(VLOOKUP(A487,Base!$A$2:$D$460,4,0),\"\")","v":""},null,null,null,null,null,null,null,null,null,null,null,null,null,0]
[null,{"$f":"IFERROR(VLOOKUP(A488,Base!$A$2:$D$460,2,0),\"\")","v":""},{"$f":"IFERROR(VLOOKUP(A488,Base!$A$2:$D$460,3,0),\"\")","v":""},{"$f":"IFERROR(VLOOKUP(A488,Base!$A$2:$D$460,4,0),\"\")","v":""},null,null,null,null,null,null,null,null,null,null,null,null,null,0]
[null,{"$f":"IFERROR(VLOOKUP(A489,Base!$A$2:$D$460,2,0),\"\")","v":""},{"$f":"IFERROR(VLOOKUP(A489,Base!$A$2:$D$460,3,0),\"\")","v":""},{"$f":"IFERROR(VLOOKUP(A489,Base!$A$2:$D$460,4,0),\"\")","v":""},null,null,null,null,null,null,null,null,null,null,null,null,null,0]
[null,{"$f":"IFERROR(VLOOKUP(A490,Base!$A$2:$D$460,2,0),\"\")","v":""},{"$f":"IFERROR(VLOOKUP(A490,Base!$A$2:$D$460,3,0),\"\")","v":""},{"$f":"IFERROR(VLOOKUP(A490,Base!$A$2:$D$460,4,0),\"\")","v":""},null,null,null,null,null,null,null,null,null,null,null,null,null,0]
[null,{"$f":"IFERROR(VLOOKUP(A491,Base!$A$2:$D$460,2,0),\"\")","v":""},{"$f":"IFERROR(VLOOKUP(A491,Base!$A$2:$D$460,3,0),\"\")","v":""},{"$f":"IFERROR(VLOOKUP(A491,Base!$A$2:$D$460,4,0),\"\")","v":""},null,null,null,null,null,null,null,null,null,null,null,null,null,0]
[null,{"$f":"IFERROR(VLOOKUP(A492,Base!$A$2:$D$460,2,0),\"\")","v":""},{"$f":"IFERROR(VLOOKUP(A492,Base!$A$2:$D$460,3,0),\"\")","v":""},{"$f":"IFERROR(VLOOKUP(A492,Base!$A$2:$D$460,4,0),\"\")","v":""},null,null,null,null,null,null,null,null,null,null,null,null,null,0]
[null,{"$f":"IFERROR(VLOOKUP(A493,Base!$A$2:$D$460,2,0),\"\")","v":""},{"$f":"IFERROR(VLOOKUP(A493,Base!$A$2:$D$460,3,0),\"\")","v":""},{"$f":"IFERROR(VLOOKUP(A493,Base!$A$2:$D$460,4,0),\"\")","v":""},null,null,null,null,null,null,null,null,null,null,null,null,null,0]
[null,{"$f":"IFERROR(VLOOKUP(A494,Base!$A$2:$D$460,2,0),\"\")","v":""},{"$f":"IFERROR(VLOOKUP(A494,Base!$A$2:$D$460,3,0),\"\")","v":""},{"$f":"IFERROR(VLOOKUP(A494,Base!$A$2:$D$460,4,0),\"\")","v":""},null,null,null,null,null,null,null,null,null,null,null,null,null,0]
[null,{"$f":"IFERROR(VLOOKUP(A495,Base!$A$2:$D$460,2,0),\"\")","v":""},{"$f":"IFERROR(VLOOKUP(A495,Base!$A$2:$D$460,3,0),\"\")","v":""},{"$f":"IFERROR(VLOOKUP(A495,Base!$A$2:$D$460,4,0),\"\")","v":""},null,null,null,null,null,null,null,null,null,null,null,null,null,0]
[null,{"$f":"IFERROR(VLOOKUP(A496,Base!$A$2:$D$460,2,0),\"\")","v":""},{"$f":"IFERROR(VLOOKUP(A496,Base!$A$2:$D$460,3,0),\"\")","v":""},{"$f":"IFERROR(VLOOKUP(A496,Base!$A$2:$D$460,4,0),\"\")","v":""},null,null,null,null,null,null,null,null,null,null,null,null,null,0]
[null,{"$f":"IFERROR(VLOOKUP(A497,Base!$A$2:$D$460,2,0),\"\")","v":""},{"$f":"IFERROR(VLOOKUP(A497,Base!$A$2:$D$460,3,0),\"\")","v":""},{"$f":"IFERROR(VLOOKUP(A497,Base!$A$2:$D$460,4,0),\"\")","v":""},null,null,null,null,null,null,null,null,null,null,null,null,null,0]
[null,{"$f":"IFERROR(VLOOKUP(A498,Base!$A$2:$D$460,2,0),\"\")","v":""},{"$f":"IFERROR(VLOOKUP(A498,Base!$A$2:$D$460,3,0),\"\")","v":""},{"$f":"IFERROR(VLOOKUP(A498,Base!$A$2:$D$460,4,0),\"\")","v":""},null,null,null,null,null,null,null,null,null,null,null,null,null,0]
[null,{"$f":"IFERROR(VLOOKUP(A499,Base!$A$2:$D$460,2,0),\"\")","v":""},{"$f":"IFERROR(VLOOKUP(A499,Base!$A$2:$D$460,3,0),\"\")","v":""},{"$f":"IFERROR(VLOOKUP(A499,Base!$A$2:$D$460,4,0),\"\")","v":""},null,null,null,null,null,null,null,null,null,null,null,null,null,0]
[null,{"$f":"IFERROR(VLOOKUP(A500,Base!$A$2:$D$460,2,0),\"\")","v":""},{"$f":"IFERROR(VLOOKUP(A500,Base!$A$2:$D$460,3,0),\"\")","v":""},{"$f":"IFERROR(VLOOKUP(A500,Base!$A$2:$D$460,4,0),\"\")","v":""},null,null,null,null,null,null,null,null,null,null,null,null,null,0]
[null,{"$f":"IFERROR(VLOOKUP(A501,Base!$A$2:$D$460,2,0),\"\")","v":""},{"$f":"IFERROR(VLOOKUP(A501,Base!$A$2:$D$460,3,0),\"\")","v":""},{"$f":"IFERROR(VLOOKUP(A501,Base!$A$2:$D$460,4,0),\"\")","v":""},null,null,null,null,null,null,null,null,null,null,null,null,null,0]
[null,{"$f":"IFERROR(VLOOKUP(A502,Base!$A$2:$D$460,2,0),\"\")","v":""},{"$f":"IFERROR(VLOOKUP(A502,Base!$A$2:$D$460,3,0),\"\")","v":""},{"$f":"IFERROR(VLOOKUP(A502,Base!$A$2:$D$460,4,0),\"\")","v":""},null,null,null,null,null,null,null,null,null,null,null,null,null,0]
[null,{"$f":"IFERROR(VLOOKUP(A503,Base!$A$2:$D$460,2,0),\"\")","v":""},{"$f":"IFERROR(VLOOKUP(A503,Base!$A$2:$D$460,3,0),\"\")","v":""},{"$f":"IFERROR(VLOOKUP(A503,Base!$A$2:$D$460,4,0),\"\")","v":""},null,null,null,null,null,null,null,null,null,null,null,null,null,0]
[null,{"$f":"IFERROR(VLOOKUP(A504,Base!$A$2:$D$460,2,0),\"\")","v":""},{"$f":"IFERROR(VLOOKUP(A504,Base!$A$2:$D$460,3,0),\"\")","v":""},{"$f":"IFERROR(VLOOKUP(A504,Base!$A$2:$D$460,4,0),\"\")","v":""},null,null,null,null,null,null,null,null,null,null,null,null,null,0]
[null,{"$f":"IFERROR(VLOOKUP(A505,Base!$A$2:$D$460,2,0),\"\")","v":""},{"$f":"IFERROR(VLOOKUP(A505,Base!$A$2:$D$460,3,0),\"\")","v":""},{"$f":"IFERROR(VLOOKUP(A505,Base!$A$2:$D$460,4,0),\"\")","v":""},null,null,null,null,null,null,null,null,null,null,null,null,null,0]
[null,{"$f":"IFERROR(VLOOKUP(A506,Base!$A$2:$D$460,2,0),\"\")","v":""},{"$f":"IFERROR(VLOOKUP(A506,Base!$A$2:$D$460,3,0),\"\")","v":""},{"$f":"IFERROR(VLOOKUP(A506,Base!$A$2:$D$460,4,0),\"\")","v":""},null,null,null,null,null,null,null,null,null,null,null,null,null,0]
[null,{"$f":"IFERROR(VLOOKUP(A507,Base!$A$2:$D$460,2,0),\"\")","v":""},{"$f":"IFERROR(VLOOKUP(A507,Base!$A$2:$D$460,3,0),\"\")","v":""},{"$f":"IFERROR(VLOOKUP(A507,Base!$A$2:$D$460,4,0),\"\")","v":""},null,null,null,null,null,null,null,null,null,null,null,null,null,0]
[null,{"$f":"IFERROR(VLOOKUP(A508,Base!$A$2:$D$460,2,0),\"\")","v":""},{"$f":"IFERROR(VLOOKUP(A508,Base!$A$2:$D$460,3,0),\"\")","v":""},{"$f":"IFERROR(VLOOKUP(A508,Base!$A$2:$D$460,4,0),\"\")","v":""},null,null,null,null,null,null,null,null,null,null,null,null,null,0]
[null,{"$f":"IFERROR(VLOOKUP(A509,Base!$A$2:$D$460,2,0),\"\")","v":""},{"$f":"IFERROR(VLOOKUP(A509,Base!$A$2:$D$460,3,0),\"\")","v":""},{"$f":"IFERROR(VLOOKUP(A509,Base!$A$2:$D$460,4,0),\"\")","v":""},null,null,null,null,null,null,null,null,null,null,null,null,null,0]
[null,{"$f":"IFERROR(VLOOKUP(A510,Base!$A$2:$D$460,2,0),\"\")","v":""},{"$f":"IFERROR(VLOOKUP(A510,Base!$A$2:$D$460,3,0),\"\")","v":""},{"$f":"IFERROR(VLOOKUP(A510,Base!$A$2:$D$460,4,0),\"\")","v":""},null,null,null,null,null,null,null,null,null,null,null,null,null,0]
[null,{"$f":"IFERROR(VLOOKUP(A511,Base!$A$2:$D$460,2,0),\"\")","v":""},{"$f":"IFERROR(VLOOKUP(A511,Base!$A$2:$D$460,3,0),\"\")","v":""},{"$f":"IFERROR(VLOOKUP(A511,Base!$A$2:$D$460,4,0),\"\")","v":""},null,null,null,null,null,null,null,null,null,null,null,null,null,0]
[null,{"$f":"IFERROR(VLOOKUP(A512,Base!$A$2:$D$460,2,0),\"\")","v":""},{"$f":"IFERROR(VLOOKUP(A512,Base!$A$2:$D$460,3,0),\"\")","v":""},{"$f":"IFERROR(VLOOKUP(A512,Base!$A$2:$D$460,4,0),\"\")","v":""},null,null,null,null,null,null,null,null,null,null,null,null,null,0]
[null,{"$f":"IFERROR(VLOOKUP(A513,Base!$A$2:$D$460,2,0),\"\")","v":""},{"$f":"IFERROR(VLOOKUP(A513,Base!$A$2:$D$460,3,0),\"\")","v":""},{"$f":"IFERROR(VLOOKUP(A513,Base!$A$2:$D$460,4,0),\"\")","v":""},null,null,null,null,null,null,null,null,null,null,null,null,null,0]
[null,{"$f":"IFERROR(VLOOKUP(A514,Base!$A$2:$D$460,2,0),\"\")","v":""},{"$f":"IFERROR(VLOOKUP(A514,Base!$A$2:$D$460,3,0),\"\")","v":""},{"$f":"IFERROR(VLOOKUP(A514,Base!$A$2:$D$460,4,0),\"\")","v":""},null,null,null,null,null,null,null,null,null,null,null,null,null,0]
[null,{"$f":"IFERROR(VLOOKUP(A515,Base!$A$2:$D$460,2,0),\"\")","v":""},{"$f":"IFERROR(VLOOKUP(A515,Base!$A$2:$D$460,3,0),\"\")","v":""},{"$f":"IFERROR(VLOOKUP(A515,Base!$A$2:$D$460,4,0),\"\")","v":""},null,null,null,null,null,null,null,null,null,null,null,null,null,0]
[null,{"$f":"IFERROR(VLOOKUP(A516,Base!$A$2:$D$460,2,0),\"\")","v":""},{"$f":"IFERROR(VLOOKUP(A516,Base!$A$2:$D$460,3,0),\"\")","v":""},{"$f":"IFERROR(VLOOKUP(A516,Base!$A$2:$D$460,4,0),\"\")","v":""},null,null,null,null,null,null,null,null,null,null,null,null,null,0]
[null,{"$f":"IFERROR(VLOOKUP(A517,Base!$A$2:$D$460,2,0),\"\")","v":""},{"$f":"IFERROR(VLOOKUP(A517,Base!$A$2:$D$460,3,0),\"\")","v":""},{"$f":"IFERROR(VLOOKUP(A517,Base!$A$2:$D$460,4,0),\"\")","v":""},null,null,null,null,null,null,null,null,null,null,null,null,null,0]
[null,{"$f":"IFERROR(VLOOKUP(A518,Base!$A$2:$D$460,2,0),\"\")","v":""},{"$f":"IFERROR(VLOOKUP(A518,Base!$A$2:$D$460,3,0),\"\")","v":""},{"$f":"IFERROR(VLOOKUP(A518,Base!$A$2:$D$460,4,0),\"\")","v":""},null,null,null,null,null,null,null,null,null,null,null,null,null,0]
[null,{"$f":"IFERROR(VLOOKUP(A519,Base!$A$2:$D$460,2,0),\"\")","v":""},{"$f":"IFERROR(VLOOKUP(A519,Base!$A$2:$D$460,3,0),\"\")","v":""},{"$f":"IFERROR(VLOOKUP(A519,Base!$A$2:$D$460,4,0),\"\")","v":""},null,null,null,null,null,null,null,null,null,null,null,null,null,0]
[null,{"$f":"IFERROR(VLOOKUP(A520,Base!$A$2:$D$460,2,0),\"\")","v":""},{"$f":"IFERROR(VLOOKUP(A520,Base!$A$2:$D$460,3,0),\"\")","v":""},{"$f":"IFERROR(VLOOKUP(A520,Base!$A$2:$D$460,4,0),\"\")","v":""},null,null,null,null,null,null,null,null,null,null,null,null,null,0]
[null,{"$f":"IFERROR(VLOOKUP(A521,Base!$A$2:$D$460,2,0),\"\")","v":""},{"$f":"IFERROR(VLOOKUP(A521,Base!$A$2:$D$460,3,0),\"\")","v":""},{"$f":"IFERROR(VLOOKUP(A521,Base!$A$2:$D$460,4,0),\"\")","v":""},null,null,null,null,null,null,null,null,null,null,null,null,null,0]
[null,{"$f":"IFERROR(VLOOKUP(A522,Base!$A$2:$D$460,2,0),\"\")","v":""},{"$f":"IFERROR(VLOOKUP(A522,Base!$A$2:$D$460,3,0),\"\")","v":""},{"$f":"IFERROR(VLOOKUP(A522,Base!$A$2:$D$460,4,0),\"\")","v":""},null,null,null,null,null,null,null,null,null,null,null,null,null,0]
[null,{"$f":"IFERROR(VLOOKUP(A523,Base!$A$2:$D$460,2,0),\"\")","v":""},{"$f":"IFERROR(VLOOKUP(A523,Base!$A$2:$D$460,3,0),\"\")","v":""},{"$f":"IFERROR(VLOOKUP(A523,Base!$A$2:$D$460,4,0),\"\")","v":""},null,null,null,null,null,null,null,null,null,null,null,null,null,{"$f":"SUM(N523:Q523)/4","v":0}]
[null,{"$f":"IFERROR(VLOOKUP(A524,Base!$A$2:$D$460,2,0),\"\")","v":""},{"$f":"IFERROR(VLOOKUP(A524,Base!$A$2:$D$460,3,0),\"\")","v":""},{"$f":"IFERROR(VLOOKUP(A524,Base!$A$2:$D$460,4,0),\"\")","v":""},null,null,null,null,null,null,null,null,null,null,null,null,null,0]
[null,{"$f":"IFERROR(VLOOKUP(A525,Base!$A$2:$D$460,2,0),\"\")","v":""},{"$f":"IFERROR(VLOOKUP(A525,Base!$A$2:$D$460,3,0),\"\")","v":""},{"$f":"IFERROR(VLOOKUP(A525,Base!$A$2:$D$460,4,0),\"\")","v":""},null,null,null,null,null,null,null,null,null,null,null,null,null,0]
[null,{"$f":"IFERROR(VLOOKUP(A526,Base!$A$2:$D$460,2,0),\"\")","v":""},{"$f":"IFERROR(VLOOKUP(A526,Base!$A$2:$D$460,3,0),\"\")","v":""},{"$f":"IFERROR(VLOOKUP(A526,Base!$A$2:$D$460,4,0),\"\")","v":""},null,null,null,null,null,null,null,null,null,null,null,null,null,0]
[null,{"$f":"IFERROR(VLOOKUP(A527,Base!$A$2:$D$460,2,0),\"\")","v":""},{"$f":"IFERROR(VLOOKUP(A527,Base!$A$2:$D$460,3,0),\"\")","v":""},{"$f":"IFERROR(VLOOKUP(A527,Base!$A$2:$D$460,4,0),\"\")","v":""},null,null,null,null,null,null,null,null,null,null,null,null,null,0]
[null,{"$f":"IFERROR(VLOOKUP(A528,Base!$A$2:$D$460,2,0),\"\")","v":""},{"$f":"IFERROR(VLOOKUP(A528,Base!$A$2:$D$460,3,0),\"\")","v":""},{"$f":"IFERROR(VLOOKUP(A528,Base!$A$2:$D$460,4,0),\"\")","v":""},null,null,null,null,null,null,null,null,null,null,null,null,null,0]
[null,{"$f":"IFERROR(VLOOKUP(A529,Base!$A$2:$D$460,2,0),\"\")","v":""},{"$f":"IFERROR(VLOOKUP(A529,Base!$A$2:$D$460,3,0),\"\")","v":""},{"$f":"IFERROR(VLOOKUP(A529,Base!$A$2:$D$460,4,0),\"\")","v":""},null,null,null,null,null,null,null,null,null,null,null,null,null,0]
[null,{"$f":"IFERROR(VLOOKUP(A530,Base!$A$2:$D$460,2,0),\"\")","v":""},{"$f":"IFERROR(VLOOKUP(A530,Base!$A$2:$D$460,3,0),\"\")","v":""},{"$f":"IFERROR(VLOOKUP(A530,Base!$A$2:$D$460,4,0),\"\")","v":""},null,null,null,null,null,null,null,null,null,null,null,null,null,0]
[null,{"$f":"IFERROR(VLOOKUP(A531,Base!$A$2:$D$460,2,0),\"\")","v":""},{"$f":"IFERROR(VLOOKUP(A531,Base!$A$2:$D$460,3,0),\"\")","v":""},{"$f":"IFERROR(VLOOKUP(A531,Base!$A$2:$D$460,4,0),\"\")","v":""},null,null,null,null,null,null,null,null,null,null,null,null,null,0]
[null,{"$f":"IFERROR(VLOOKUP(A532,Base!$A$2:$D$460,2,0),\"\")","v":""},{"$f":"IFERROR(VLOOKUP(A532,Base!$A$2:$D$460,3,0),\"\")","v":""},{"$f":"IFERROR(VLOOKUP(A532,Base!$A$2:$D$460,4,0),\"\")","v":""},null,null,null,null,null,null,null,null,null,null,null,null,null,0]
[null,{"$f":"IFERROR(VLOOKUP(A533,Base!$A$2:$D$460,2,0),\"\")","v":""},{"$f":"IFERROR(VLOOKUP(A533,Base!$A$2:$D$460,3,0),\"\")","v":""},{"$f":"IFERROR(VLOOKUP(A533,Base!$A$2:$D$460,4,0),\"\")","v":""},null,null,null,null,null,null,null,null,null,null,null,null,null,0]
[null,{"$f":"IFERROR(VLOOKUP(A534,Base!$A$2:$D$460,2,0),\"\")","v":""},{"$f":"IFERROR(VLOOKUP(A534,Base!$A$2:$D$460,3,0),\"\")","v":""},{"$f":"IFERROR(VLOOKUP(A534,Base!$A$2:$D$460,4,0),\"\")","v":""},null,null,null,null,null,null,null,null,null,null,null,null,null,0]
[null,{"$f":"IFERROR(VLOOKUP(A535,Base!$A$2:$D$460,2,0),\"\")","v":""},{"$f":"IFERROR(VLOOKUP(A535,Base!$A$2:$D$460,3,0),\"\")","v":""},{"$f":"IFERROR(VLOOKUP(A535,Base!$A$2:$D$460,4,0),\"\")","v":""},null,null,null,null,null,null,null,null,null,null,null,null,null,0]
[null,{"$f":"IFERROR(VLOOKUP(A536,Base!$A$2:$D$460,2,0),\"\")","v":""},{"$f":"IFERROR(VLOOKUP(A536,Base!$A$2:$D$460,3,0),\"\")","v":""},{"$f":"IFERROR(VLOOKUP(A536,Base!$A$2:$D$460,4,0),\"\")","v":""},null,null,null,null,null,null,null,null,null,null,null,null,null,0]
[null,{"$f":"IFERROR(VLOOKUP(A537,Base!$A$2:$D$460,2,0),\"\")","v":""},{"$f":"IFERROR(VLOOKUP(A537,Base!$A$2:$D$460,3,0),\"\")","v":""},{"$f":"IFERROR(VLOOKUP(A537,Base!$A$2:$D$460,4,0),\"\")","v":""},null,null,null,null,null,null,null,null,null,null,null,null,null,0]
[null,{"$f":"IFERROR(VLOOKUP(A538,Base!$A$2:$D$460,2,0),\"\")","v":""},{"$f":"IFERROR(VLOOKUP(A538,Base!$A$2:$D$460,3,0),\"\")","v":""},{"$f":"IFERROR(VLOOKUP(A538,Base!$A$2:$D$460,4,0),\"\")","v":""},null,null,null,null,null,null,null,null,null,null,null,null,null,0]
[null,{"$f":"IFERROR(VLOOKUP(A539,Base!$A$2:$D$460,2,0),\"\")","v":""},{"$f":"IFERROR(VLOOKUP(A539,Base!$A$2:$D$460,3,0),\"\")","v":""},{"$f":"IFERROR(VLOOKUP(A539,Base!$A$2:$D$460,4,0),\"\")","v":""},null,null,null,null,null,null,null,null,null,null,null,null,null,0]
[null,{"$f":"IFERROR(VLOOKUP(A540,Base!$A$2:$D$460,2,0),\"\")","v":""},{"$f":"IFERROR(VLOOKUP(A540,Base!$A$2:$D$460,3,0),\"\")","v":""},{"$f":"IFERROR(VLOOKUP(A540,Base!$A$2:$D$460,4,0),\"\")","v":""},null,null,null,null,null,null,null,null,null,null,null,null,null,0]
[null,{"$f":"IFERROR(VLOOKUP(A541,Base!$A$2:$D$460,2,0),\"\")","v":""},{"$f":"IFERROR(VLOOKUP(A541,Base!$A$2:$D$460,3,0),\"\")","v":""},{"$f":"IFERROR(VLOOKUP(A541,Base!$A$2:$D$460,4,0),\"\")","v":""},null,null,null,null,null,null,null,null,null,null,null,null,null,0]
[null,{"$f":"IFERROR(VLOOKUP(A542,Base!$A$2:$D$460,2,0),\"\")","v":""},{"$f":"IFERROR(VLOOKUP(A542,Base!$A$2:$D$460,3,0),\"\")","v":""},{"$f":"IFERROR(VLOOKUP(A542,Base!$A$2:$D$460,4,0),\"\")","v":""},null,null,null,null,null,null,null,null,null,null,null,null,null,0]
[null,{"$f":"IFERROR(VLOOKUP(A543,Base!$A$2:$D$460,2,0),\"\")","v":""},{"$f":"IFERROR(VLOOKUP(A543,Base!$A$2:$D$460,3,0),\"\")","v":""},{"$f":"IFERROR(VLOOKUP(A543,Base!$A$2:$D$460,4,0),\"\")","v":""},null,null,null,null,null,null,null,null,null,null,null,null,null,0]
[null,{"$f":"IFERROR(VLOOKUP(A544,Base!$A$2:$D$460,2,0),\"\")","v":""},{"$f":"IFERROR(VLOOKUP(A544,Base!$A$2:$D$460,3,0),\"\")","v":""},{"$f":"IFERROR(VLOOKUP(A544,Base!$A$2:$D$460,4,0),\"\")","v":""},null,null,null,null,null,null,null,null,null,null,null,null,null,0]
[null,{"$f":"IFERROR(VLOOKUP(A545,Base!$A$2:$D$460,2,0),\"\")","v":""},{"$f":"IFERROR(VLOOKUP(A545,Base!$A$2:$D$460,3,0),\"\")","v":""},{"$f":"IFERROR(VLOOKUP(A545,Base!$A$2:$D$460,4,0),\"\")","v":""},null,null,null,null,null,null,null,null,null,null,null,null,null,0]
[null,{"$f":"IFERROR(VLOOKUP(A546,Base!$A$2:$D$460,2,0),\"\")","v":""},{"$f":"IFERROR(VLOOKUP(A546,Base!$A$2:$D$460,3,0),\"\")","v":""},{"$f":"IFERROR(VLOOKUP(A546,Base!$A$2:$D$460,4,0),\"\")","v":""},null,null,null,null,null,null,null,null,null,null,null,null,null,0]
[null,{"$f":"IFERROR(VLOOKUP(A547,Base!$A$2:$D$460,2,0),\"\")","v":""},{"$f":"IFERROR(VLOOKUP(A547,Base!$A$2:$D$460,3,0),\"\")","v":""},{"$f":"IFERROR(VLOOKUP(A547,Base!$A$2:$D$460,4,0),\"\")","v":""},null,null,null,null,null,null,null,null,null,null,null,null,null,0]
[null,{"$f":"IFERROR(VLOOKUP(A548,Base!$A$2:$D$460,2,0),\"\")","v":""},{"$f":"IFERROR(VLOOKUP(A548,Base!$A$2:$D$460,3,0),\"\")","v":""},{"$f":"IFERROR(VLOOKUP(A548,Base!$A$2:$D$460,4,0),\"\")","v":""},null,null,null,null,null,null,null,null,null,null,null,null,null,0]
[null,{"$f":"IFERROR(VLOOKUP(A549,Base!$A$2:$D$460,2,0),\"\")","v":""},{"$f":"IFERROR(VLOOKUP(A549,Base!$A$2:$D$460,3,0),\"\")","v":""},{"$f":"IFERROR(VLOOKUP(A549,Base!$A$2:$D$460,4,0),\"\")","v":""},null,null,null,null,null,null,null,null,null,null,null,null,null,0]
[null,{"$f":"IFERROR(VLOOKUP(A550,Base!$A$2:$D$460,2,0),\"\")","v":""},{"$f":"IFERROR(VLOOKUP(A550,Base!$A$2:$D$460,3,0),\"\")","v":""},{"$f":"IFERROR(VLOOKUP(A550,Base!$A$2:$D$460,4,0),\"\")","v":""},null,null,null,null,null,null,null,null,null,null,null,null,null,0]
[null,{"$f":"IFERROR(VLOOKUP(A551,Base!$A$2:$D$460,2,0),\"\")","v":""},{"$f":"IFERROR(VLOOKUP(A551,Base!$A$2:$D$460,3,0),\"\")","v":""},{"$f":"IFERROR(VLOOKUP(A551,Base!$A$2:$D$460,4,0),\"\")","v":""},null,null,null,null,null,null,null,null,null,null,null,null,null,0]
[null,{"$f":"IFERROR(VLOOKUP(A552,Base!$A$2:$D$460,2,0),\"\")","v":""},{"$f":"IFERROR(VLOOKUP(A552,Base!$A$2:$D$460,3,0),\"\")","v":""},{"$f":"IFERROR(VLOOKUP(A552,Base!$A$2:$D$460,4,0),\"\")","v":""},null,null,null,null,null,null,null,null,null,null,null,null,null,0]
[null,{"$f":"IFERROR(VLOOKUP(A553,Base!$A$2:$D$460,2,0),\"\")","v":""},{"$f":"IFERROR(VLOOKUP(A553,Base!$A$2:$D$460,3,0),\"\")","v":""},{"$f":"IFERROR(VLOOKUP(A553,Base!$A$2:$D$460,4,0),\"\")","v":""},null,null,null,null,null,null,null,null,null,null,null,null,null,0]
[null,{"$f":"IFERROR(VLOOKUP(A554,Base!$A$2:$D$460,2,0),\"\")","v":""},{"$f":"IFERROR(VLOOKUP(A554,Base!$A$2:$D$460,3,0),\"\")","v":""},{"$f":"IFERROR(VLOOKUP(A554,Base!$A$2:$D$460,4,0),\"\")","v":""},null,null,null,null,null,null,null,null,null,null,null,null,null,0]
[null,{"$f":"IFERROR(VLOOKUP(A555,Base!$A$2:$D$460,2,0),\"\")","v":""},{"$f":"IFERROR(VLOOKUP(A555,Base!$A$2:$D$460,3,0),\"\")","v":""},{"$f":"IFERROR(VLOOKUP(A555,Base!$A$2:$D$460,4,0),\"\")","v":""},null,null,null,null,null,null,null,null,null,null,null,null,null,0]
[null,{"$f":"IFERROR(VLOOKUP(A556,Base!$A$2:$D$460,2,0),\"\")","v":""},{"$f":"IFERROR(VLOOKUP(A556,Base!$A$2:$D$460,3,0),\"\")","v":""},{"$f":"IFERROR(VLOOKUP(A556,Base!$A$2:$D$460,4,0),\"\")","v":""},null,null,null,null,null,null,null,null,null,null,null,null,null,0]
[null,{"$f":"IFERROR(VLOOKUP(A557,Base!$A$2:$D$460,2,0),\"\")","v":""},{"$f":"IFERROR(VLOOKUP(A557,Base!$A$2:$D$460,3,0),\"\")","v":""},{"$f":"IFERROR(VLOOKUP(A557,Base!$A$2:$D$460,4,0),\"\")","v":""},null,null,null,null,null,null,null,null,null,null,null,null,null,0]
[null,{"$f":"IFERROR(VLOOKUP(A558,Base!$A$2:$D$460,2,0),\"\")","v":""},{"$f":"IFERROR(VLOOKUP(A558,Base!$A$2:$D$460,3,0),\"\")","v":""},{"$f":"IFERROR(VLOOKUP(A558,Base!$A$2:$D$460,4,0),\"\")","v":""},null,null,null,null,null,null,null,null,null,null,null,null,null,0]
[null,{"$f":"IFERROR(VLOOKUP(A559,Base!$A$2:$D$460,2,0),\"\")","v":""},{"$f":"IFERROR(VLOOKUP(A559,Base!$A$2:$D$460,3,0),\"\")","v":""},{"$f":"IFERROR(VLOOKUP(A559,Base!$A$2:$D$460,4,0),\"\")","v":""},null,null,null,null,null,null,null,null,null,null,null,null,null,0]
[null,{"$f":"IFERROR(VLOOKUP(A560,Base!$A$2:$D$460,2,0),\"\")","v":""},{"$f":"IFERROR(VLOOKUP(A560,Base!$A$2:$D$460,3,0),\"\")","v":""},{"$f":"IFERROR(VLOOKUP(A560,Base!$A$2:$D$460,4,0),\"\")","v":""},null,null,null,null,null,null,null,null,null,null,null,null,null,0]
[null,{"$f":"IFERROR(VLOOKUP(A561,Base!$A$2:$D$460,2,0),\"\")","v":""},{"$f":"IFERROR(VLOOKUP(A561,Base!$A$2:$D$460,3,0),\"\")","v":""},{"$f":"IFERROR(VLOOKUP(A561,Base!$A$2:$D$460,4,0),\"\")","v":""},null,null,null,null,null,null,null,null,null,null,null,null,null,0]
[null,{"$f":"IFERROR(VLOOKUP(A562,Base!$A$2:$D$460,2,0),\"\")","v":""},{"$f":"IFERROR(VLOOKUP(A562,Base!$A$2:$D$460,3,0),\"\")","v":""},{"$f":"IFERROR(VLOOKUP(A562,Base!$A$2:$D$460,4,0),\"\")","v":""},null,null,null,null,null,null,null,null,null,null,null,null,null,0]
[null,{"$f":"IFERROR(VLOOKUP(A563,Base!$A$2:$D$460,2,0),\"\")","v":""},{"$f":"IFERROR(VLOOKUP(A563,Base!$A$2:$D$460,3,0),\"\")","v":""},{"$f":"IFERROR(VLOOKUP(A563,Base!$A$2:$D$460,4,0),\"\")","v":""},null,null,null,null,null,null,null,null,null,null,null,null,null,0]
[null,{"$f":"IFERROR(VLOOKUP(A564,Base!$A$2:$D$460,2,0),\"\")","v":""},{"$f":"IFERROR(VLOOKUP(A564,Base!$A$2:$D$460,3,0),\"\")","v":""},{"$f":"IFERROR(VLOOKUP(A564,Base!$A$2:$D$460,4,0),\"\")","v":""},null,null,null,null,null,null,null,null,null,null,null,null,null,0]
[null,{"$f":"IFERROR(VLOOKUP(A565,Base!$A$2:$D$460,2,0),\"\")","v":""},{"$f":"IFERROR(VLOOKUP(A565,Base!$A$2:$D$460,3,0),\"\")","v":""},{"$f":"IFERROR(VLOOKUP(A565,Base!$A$2:$D$460,4,0),\"\")","v":""},null,null,null,null,null,null,null,null,null,null,null,null,null,0]
[null,{"$f":"IFERROR(VLOOKUP(A566,Base!$A$2:$D$460,2,0),\"\")","v":""},{"$f":"IFERROR(VLOOKUP(A566,Base!$A$2:$D$460,3,0),\"\")","v":""},{"$f":"IFERROR(VLOOKUP(A566,Base!$A$2:$D$460,4,0),\"\")","v":""},null,null,null,null,null,null,null,null,null,null,null,null,null,0]
[null,{"$f":"IFERROR(VLOOKUP(A567,Base!$A$2:$D$460,2,0),\"\")","v":""},{"$f":"IFERROR(VLOOKUP(A567,Base!$A$2:$D$460,3,0),\"\")","v":""},{"$f":"IFERROR(VLOOKUP(A567,Base!$A$2:$D$460,4,0),\"\")","v":""},null,null,null,null,null,null,null,null,null,null,null,null,null,0]
[null,{"$f":"IFERROR(VLOOKUP(A568,Base!$A$2:$D$460,2,0),\"\")","v":""},{"$f":"IFERROR(VLOOKUP(A568,Base!$A$2:$D$460,3,0),\"\")","v":""},{"$f":"IFERROR(VLOOKUP(A568,Base!$A$2:$D$460,4,0),\"\")","v":""},null,null,null,null,null,null,null,null,null,null,null,null,null,0]
[null,{"$f":"IFERROR(VLOOKUP(A569,Base!$A$2:$D$460,2,0),\"\")","v":""},{"$f":"IFERROR(VLOOKUP(A569,Base!$A$2:$D$460,3,0),\"\")","v":""},{"$f":"IFERROR(VLOOKUP(A569,Base!$A$2:$D$460,4,0),\"\")","v":""},null,null,null,null,null,null,null,null,null,null,null,null,null,0]
[null,{"$f":"IFERROR(VLOOKUP(A570,Base!$A$2:$D$460,2,0),\"\")","v":""},{"$f":"IFERROR(VLOOKUP(A570,Base!$A$2:$D$460,3,0),\"\")","v":""},{"$f":"IFERROR(VLOOKUP(A570,Base!$A$2:$D$460,4,0),\"\")","v":""},null,null,null,null,null,null,null,null,null,null,null,null,null,0]
[null,{"$f":"IFERROR(VLOOKUP(A571,Base!$A$2:$D$460,2,0),\"\")","v":""},{"$f":"IFERROR(VLOOKUP(A571,Base!$A$2:$D$460,3,0),\"\")","v":""},{"$f":"IFERROR(VLOOKUP(A571,Base!$A$2:$D$460,4,0),\"\")","v":""},null,null,null,null,null,null,null,null,null,null,null,null,null,0]
[null,{"$f":"IFERROR(VLOOKUP(A572,Base!$A$2:$D$460,2,0),\"\")","v":""},{"$f":"IFERROR(VLOOKUP(A572,Base!$A$2:$D$460,3,0),\"\")","v":""},{"$f":"IFERROR(VLOOKUP(A572,Base!$A$2:$D$460,4,0),\"\")","v":""},null,null,null,null,null,null,null,null,null,null,null,null,null,0]
[null,{"$f":"IFERROR(VLOOKUP(A573,Base!$A$2:$D$460,2,0),\"\")","v":""},{"$f":"IFERROR(VLOOKUP(A573,Base!$A$2:$D$460,3,0),\"\")","v":""},{"$f":"IFERROR(VLOOKUP(A573,Base!$A$2:$D$460,4,0),\"\")","v":""},null,null,null,null,null,null,null,null,null,null,null,null,null,0]
[null,{"$f":"IFERROR(VLOOKUP(A574,Base!$A$2:$D$460,2,0),\"\")","v":""},{"$f":"IFERROR(VLOOKUP(A574,Base!$A$2:$D$460,3,0),\"\")","v":""},{"$f":"IFERROR(VLOOKUP(A574,Base!$A$2:$D$460,4,0),\"\")","v":""},null,null,null,null,null,null,null,null,null,null,null,null,null,0]
[null,{"$f":"IFERROR(VLOOKUP(A575,Base!$A$2:$D$460,2,0),\"\")","v":""},{"$f":"IFERROR(VLOOKUP(A575,Base!$A$2:$D$460,3,0),\"\")","v":""},{"$f":"IFERROR(VLOOKUP(A575,Base!$A$2:$D$460,4,0),\"\")","v":""},null,null,null,null,null,null,null,null,null,null,null,null,null,0]
[null,{"$f":"IFERROR(VLOOKUP(A576,Base!$A$2:$D$460,2,0),\"\")","v":""},{"$f":"IFERROR(VLOOKUP(A576,Base!$A$2:$D$460,3,0),\"\")","v":""},{"$f":"IFERROR(VLOOKUP(A576,Base!$A$2:$D$460,4,0),\"\")","v":""},null,null,null,null,null,null,null,null,null,null,null,null,null,0]
[null,{"$f":"IFERROR(VLOOKUP(A577,Base!$A$2:$D$460,2,0),\"\")","v":""},{"$f":"IFERROR(VLOOKUP(A577,Base!$A$2:$D$460,3,0),\"\")","v":""},{"$f":"IFERROR(VLOOKUP(A577,Base!$A$2:$D$460,4,0),\"\")","v":""},null,null,null,null,null,null,null,null,null,null,null,null,null,0]
[null,{"$f":"IFERROR(VLOOKUP(A578,Base!$A$2:$D$460,2,0),\"\")","v":""},{"$f":"IFERROR(VLOOKUP(A578,Base!$A$2:$D$460,3,0),\"\")","v":""},{"$f":"IFERROR(VLOOKUP(A578,Base!$A$2:$D$460,4,0),\"\")","v":""},null,null,null,null,null,null,null,null,null,null,null,null,null,0]
[null,{"$f":"IFERROR(VLOOKUP(A579,Base!$A$2:$D$460,2,0),\"\")","v":""},{"$f":"IFERROR(VLOOKUP(A579,Base!$A$2:$D$460,3,0),\"\")","v":""},{"$f":"IFERROR(VLOOKUP(A579,Base!$A$2:$D$460,4,0),\"\")","v":""},null,null,null,null,null,null,null,null,null,null,null,null,null,0]
[null,{"$f":"IFERROR(VLOOKUP(A580,Base!$A$2:$D$460,2,0),\"\")","v":""},{"$f":"IFERROR(VLOOKUP(A580,Base!$A$2:$D$460,3,0),\"\")","v":""},{"$f":"IFERROR(VLOOKUP(A580,Base!$A$2:$D$460,4,0),\"\")","v":""},null,null,null,null,null,null,null,null,null,null,null,null,null,0]
[null,{"$f":"IFERROR(VLOOKUP(A581,Base!$A$2:$D$460,2,0),\"\")","v":""},{"$f":"IFERROR(VLOOKUP(A581,Base!$A$2:$D$460,3,0),\"\")","v":""},{"$f":"IFERROR(VLOOKUP(A581,Base!$A$2:$D$460,4,0),\"\")","v":""},null,null,null,null,null,null,null,null,null,null,null,null,null,0]
[null,{"$f":"IFERROR(VLOOKUP(A582,Base!$A$2:$D$460,2,0),\"\")","v":""},{"$f":"IFERROR(VLOOKUP(A582,Base!$A$2:$D$460,3,0),\"\")","v":""},{"$f":"IFERROR(VLOOKUP(A582,Base!$A$2:$D$460,4,0),\"\")","v":""},null,null,null,null,null,null,null,null,null,null,null,null,null,0]
[null,{"$f":"IFERROR(VLOOKUP(A583,Base!$A$2:$D$460,2,0),\"\")","v":""},{"$f":"IFERROR(VLOOKUP(A583,Base!$A$2:$D$460,3,0),\"\")","v":""},{"$f":"IFERROR(VLOOKUP(A583,Base!$A$2:$D$460,4,0),\"\")","v":""},null,null,null,null,null,null,null,null,null,null,null,null,null,0]
[null,{"$f":"IFERROR(VLOOKUP(A584,Base!$A$2:$D$460,2,0),\"\")","v":""},{"$f":"IFERROR(VLOOKUP(A584,Base!$A$2:$D$460,3,0),\"\")","v":""},{"$f":"IFERROR(VLOOKUP(A584,Base!$A$2:$D$460,4,0),\"\")","v":""},null,null,null,null,null,null,null,null,null,null,null,null,null,0]
[null,{"$f":"IFERROR(VLOOKUP(A585,Base!$A$2:$D$460,2,0),\"\")","v":""},{"$f":"IFERROR(VLOOKUP(A585,Base!$A$2:$D$460,3,0),\"\")","v":""},{"$f":"IFERROR(VLOOKUP(A585,Base!$A$2:$D$460,4,0),\"\")","v":""},null,null,null,null,null,null,null,null,null,null,null,null,null,0]
[null,{"$f":"IFERROR(VLOOKUP(A586,Base!$A$2:$D$460,2,0),\"\")","v":""},{"$f":"IFERROR(VLOOKUP(A586,Base!$A$2:$D$460,3,0),\"\")","v":""},{"$f":"IFERROR(VLOOKUP(A586,Base!$A$2:$D$460,4,0),\"\")","v":""},null,null,null,null,null,null,null,null,null,null,null,null,null,0]
[null,{"$f":"IFERROR(VLOOKUP(A587,Base!$A$2:$D$460,2,0),\"\")","v":""},{"$f":"IFERROR(VLOOKUP(A587,Base!$A$2:$D$460,3,0),\"\")","v":""},{"$f":"IFERROR(VLOOKUP(A587,Base!$A$2:$D$460,4,0),\"\")","v":""},null,null,null,null,null,null,null,null,null,null,null,null,null,{"$f":"SUM(N587:Q587)/4","v":0}]
[null,{"$f":"IFERROR(VLOOKUP(A588,Base!$A$2:$D$460,2,0),\"\")","v":""},{"$f":"IFERROR(VLOOKUP(A588,Base!$A$2:$D$460,3,0),\"\")","v":""},{"$f":"IFERROR(VLOOKUP(A588,Base!$A$2:$D$460,4,0),\"\")","v":""},null,null,null,null,null,null,null,null,null,null,null,null,null,0]
[null,{"$f":"IFERROR(VLOOKUP(A589,Base!$A$2:$D$460,2,0),\"\")","v":""},{"$f":"IFERROR(VLOOKUP(A589,Base!$A$2:$D$460,3,0),\"\")","v":""},{"$f":"IFERROR(VLOOKUP(A589,Base!$A$2:$D$460,4,0),\"\")","v":""},null,null,null,null,null,null,null,null,null,null,null,null,null,0]
[null,{"$f":"IFERROR(VLOOKUP(A590,Base!$A$2:$D$460,2,0),\"\")","v":""},{"$f":"IFERROR(VLOOKUP(A590,Base!$A$2:$D$460,3,0),\"\")","v":""},{"$f":"IFERROR(VLOOKUP(A590,Base!$A$2:$D$460,4,0),\"\")","v":""},null,null,null,null,null,null,null,null,null,null,null,null,null,0]
[null,{"$f":"IFERROR(VLOOKUP(A591,Base!$A$2:$D$460,2,0),\"\")","v":""},{"$f":"IFERROR(VLOOKUP(A591,Base!$A$2:$D$460,3,0),\"\")","v":""},{"$f":"IFERROR(VLOOKUP(A591,Base!$A$2:$D$460,4,0),\"\")","v":""},null,null,null,null,null,null,null,null,null,null,null,null,null,0]
[null,{"$f":"IFERROR(VLOOKUP(A592,Base!$A$2:$D$460,2,0),\"\")","v":""},{"$f":"IFERROR(VLOOKUP(A592,Base!$A$2:$D$460,3,0),\"\")","v":""},{"$f":"IFERROR(VLOOKUP(A592,Base!$A$2:$D$460,4,0),\"\")","v":""},null,null,null,null,null,null,null,null,null,null,null,null,null,0]
[null,{"$f":"IFERROR(VLOOKUP(A593,Base!$A$2:$D$460,2,0),\"\")","v":""},{"$f":"IFERROR(VLOOKUP(A593,Base!$A$2:$D$460,3,0),\"\")","v":""},{"$f":"IFERROR(VLOOKUP(A593,Base!$A$2:$D$460,4,0),\"\")","v":""},null,null,null,null,null,null,null,null,null,null,null,null,null,0]
[null,{"$f":"IFERROR(VLOOKUP(A594,Base!$A$2:$D$460,2,0),\"\")","v":""},{"$f":"IFERROR(VLOOKUP(A594,Base!$A$2:$D$460,3,0),\"\")","v":""},{"$f":"IFERROR(VLOOKUP(A594,Base!$A$2:$D$460,4,0),\"\")","v":""},null,null,null,null,null,null,null,null,null,null,null,null,null,0]
[null,{"$f":"IFERROR(VLOOKUP(A595,Base!$A$2:$D$460,2,0),\"\")","v":""},{"$f":"IFERROR(VLOOKUP(A595,Base!$A$2:$D$460,3,0),\"\")","v":""},{"$f":"IFERROR(VLOOKUP(A595,Base!$A$2:$D$460,4,0),\"\")","v":""},null,null,null,null,null,null,null,null,null,null,null,null,null,0]
[null,{"$f":"IFERROR(VLOOKUP(A596,Base!$A$2:$D$460,2,0),\"\")","v":""},{"$f":"IFERROR(VLOOKUP(A596,Base!$A$2:$D$460,3,0),\"\")","v":""},{"$f":"IFERROR(VLOOKUP(A596,Base!$A$2:$D$460,4,0),\"\")","v":""},null,null,null,null,null,null,null,null,null,null,null,null,null,0]
[null,{"$f":"IFERROR(VLOOKUP(A597,Base!$A$2:$D$460,2,0),\"\")","v":""},{"$f":"IFERROR(VLOOKUP(A597,Base!$A$2:$D$460,3,0),\"\")","v":""},{"$f":"IFERROR(VLOOKUP(A597,Base!$A$2:$D$460,4,0),\"\")","v":""},null,null,null,null,null,null,null,null,null,null,null,null,null,0]
[null,{"$f":"IFERROR(VLOOKUP(A598,Base!$A$2:$D$460,2,0),\"\")","v":""},{"$f":"IFERROR(VLOOKUP(A598,Base!$A$2:$D$460,3,0),\"\")","v":""},{"$f":"IFERROR(VLOOKUP(A598,Base!$A$2:$D$460,4,0),\"\")","v":""},null,null,null,null,null,null,null,null,null,null,null,null,null,0]
[null,{"$f":"IFERROR(VLOOKUP(A599,Base!$A$2:$D$460,2,0),\"\")","v":""},{"$f":"IFERROR(VLOOKUP(A599,Base!$A$2:$D$460,3,0),\"\")","v":""},{"$f":"IFERROR(VLOOKUP(A599,Base!$A$2:$D$460,4,0),\"\")","v":""},null,null,null,null,null,null,null,null,null,null,null,null,null,0]
[null,{"$f":"IFERROR(VLOOKUP(A600,Base!$A$2:$D$460,2,0),\"\")","v":""},{"$f":"IFERROR(VLOOKUP(A600,Base!$A$2:$D$460,3,0),\"\")","v":""},{"$f":"IFERROR(VLOOKUP(A600,Base!$A$2:$D$460,4,0),\"\")","v":""},null,null,null,null,null,null,null,null,null,null,null,null,null,0]
[null,{"$f":"IFERROR(VLOOKUP(A601,Base!$A$2:$D$460,2,0),\"\")","v":""},{"$f":"IFERROR(VLOOKUP(A601,Base!$A$2:$D$460,3,0),\"\")","v":""},{"$f":"IFERROR(VLOOKUP(A601,Base!$A$2:$D$460,4,0),\"\")","v":""},null,null,null,null,null,null,null,null,null,null,null,null,null,0]
[null,{"$f":"IFERROR(VLOOKUP(A602,Base!$A$2:$D$460,2,0),\"\")","v":""},{"$f":"IFERROR(VLOOKUP(A602,Base!$A$2:$D$460,3,0),\"\")","v":""},{"$f":"IFERROR(VLOOKUP(A602,Base!$A$2:$D$460,4,0),\"\")","v":""},null,null,null,null,null,null,null,null,null,null,null,null,null,0]
[null,{"$f":"IFERROR(VLOOKUP(A603,Base!$A$2:$D$460,2,0),\"\")","v":""},{"$f":"IFERROR(VLOOKUP(A603,Base!$A$2:$D$460,3,0),\"\")","v":""},{"$f":"IFERROR(VLOOKUP(A603,Base!$A$2:$D$460,4,0),\"\")","v":""},null,null,null,null,null,null,null,null,null,null,null,null,null,0]
[null,{"$f":"IFERROR(VLOOKUP(A604,Base!$A$2:$D$460,2,0),\"\")","v":""},{"$f":"IFERROR(VLOOKUP(A604,Base!$A$2:$D$460,3,0),\"\")","v":""},{"$f":"IFERROR(VLOOKUP(A604,Base!$A$2:$D$460,4,0),\"\")","v":""},null,null,null,null,null,null,null,null,null,null,null,null,null,0]
[null,{"$f":"IFERROR(VLOOKUP(A605,Base!$A$2:$D$460,2,0),\"\")","v":""},{"$f":"IFERROR(VLOOKUP(A605,Base!$A$2:$D$460,3,0),\"\")","v":""},{"$f":"IFERROR(VLOOKUP(A605,Base!$A$2:$D$460,4,0),\"\")","v":""},null,null,null,null,null,null,null,null,null,null,null,null,null,0]
[null,{"$f":"IFERROR(VLOOKUP(A606,Base!$A$2:$D$460,2,0),\"\")","v":""},{"$f":"IFERROR(VLOOKUP(A606,Base!$A$2:$D$460,3,0),\"\")","v":""},{"$f":"IFERROR(VLOOKUP(A606,Base!$A$2:$D$460,4,0),\"\")","v":""},null,null,null,null,null,null,null,null,null,null,null,null,null,0]
[null,{"$f":"IFERROR(VLOOKUP(A607,Base!$A$2:$D$460,2,0),\"\")","v":""},{"$f":"IFERROR(VLOOKUP(A607,Base!$A$2:$D$460,3,0),\"\")","v":""},{"$f":"IFERROR(VLOOKUP(A607,Base!$A$2:$D$460,4,0),\"\")","v":""},null,null,null,null,null,null,null,null,null,null,null,null,null,0]
[null,{"$f":"IFERROR(VLOOKUP(A608,Base!$A$2:$D$460,2,0),\"\")","v":""},{"$f":"IFERROR(VLOOKUP(A608,Base!$A$2:$D$460,3,0),\"\")","v":""},{"$f":"IFERROR(VLOOKUP(A608,Base!$A$2:$D$460,4,0),\"\")","v":""},null,null,null,null,null,null,null,null,null,null,null,null,null,0]
[null,{"$f":"IFERROR(VLOOKUP(A609,Base!$A$2:$D$460,2,0),\"\")","v":""},{"$f":"IFERROR(VLOOKUP(A609,Base!$A$2:$D$460,3,0),\"\")","v":""},{"$f":"IFERROR(VLOOKUP(A609,Base!$A$2:$D$460,4,0),\"\")","v":""},null,null,null,null,null,null,null,null,null,null,null,null,null,0]
[null,{"$f":"IFERROR(VLOOKUP(A610,Base!$A$2:$D$460,2,0),\"\")","v":""},{"$f":"IFERROR(VLOOKUP(A610,Base!$A$2:$D$460,3,0),\"\")","v":""},{"$f":"IFERROR(VLOOKUP(A610,Base!$A$2:$D$460,4,0),\"\")","v":""},null,null,null,null,null,null,null,null,null,null,null,null,null,0]
[null,{"$f":"IFERROR(VLOOKUP(A611,Base!$A$2:$D$460,2,0),\"\")","v":""},{"$f":"IFERROR(VLOOKUP(A611,Base!$A$2:$D$460,3,0),\"\")","v":""},{"$f":"IFERROR(VLOOKUP(A611,Base!$A$2:$D$460,4,0),\"\")","v":""},null,null,null,null,null,null,null,null,null,null,null,null,null,0]
[null,{"$f":"IFERROR(VLOOKUP(A612,Base!$A$2:$D$460,2,0),\"\")","v":""},{"$f":"IFERROR(VLOOKUP(A612,Base!$A$2:$D$460,3,0),\"\")","v":""},{"$f":"IFERROR(VLOOKUP(A612,Base!$A$2:$D$460,4,0),\"\")","v":""},null,null,null,null,null,null,null,null,null,null,null,null,null,0]
[null,{"$f":"IFERROR(VLOOKUP(A613,Base!$A$2:$D$460,2,0),\"\")","v":""},{"$f":"IFERROR(VLOOKUP(A613,Base!$A$2:$D$460,3,0),\"\")","v":""},{"$f":"IFERROR(VLOOKUP(A613,Base!$A$2:$D$460,4,0),\"\")","v":""},null,null,null,null,null,null,null,null,null,null,null,null,null,0]
[null,{"$f":"IFERROR(VLOOKUP(A614,Base!$A$2:$D$460,2,0),\"\")","v":""},{"$f":"IFERROR(VLOOKUP(A614,Base!$A$2:$D$460,3,0),\"\")","v":""},{"$f":"IFERROR(VLOOKUP(A614,Base!$A$2:$D$460,4,0),\"\")","v":""},null,null,null,null,null,null,null,null,null,null,null,null,null,0]
[null,{"$f":"IFERROR(VLOOKUP(A615,Base!$A$2:$D$460,2,0),\"\")","v":""},{"$f":"IFERROR(VLOOKUP(A615,Base!$A$2:$D$460,3,0),\"\")","v":""},{"$f":"IFERROR(VLOOKUP(A615,Base!$A$2:$D$460,4,0),\"\")","v":""},null,null,null,null,null,null,null,null,null,null,null,null,null,0]
[null,{"$f":"IFERROR(VLOOKUP(A616,Base!$A$2:$D$460,2,0),\"\")","v":""},{"$f":"IFERROR(VLOOKUP(A616,Base!$A$2:$D$460,3,0),\"\")","v":""},{"$f":"IFERROR(VLOOKUP(A616,Base!$A$2:$D$460,4,0),\"\")","v":""},null,null,null,null,null,null,null,null,null,null,null,null,null,0]
[null,{"$f":"IFERROR(VLOOKUP(A617,Base!$A$2:$D$460,2,0),\"\")","v":""},{"$f":"IFERROR(VLOOKUP(A617,Base!$A$2:$D$460,3,0),\"\")","v":""},{"$f":"IFERROR(VLOOKUP(A617,Base!$A$2:$D$460,4,0),\"\")","v":""},null,null,null,null,null,null,null,null,null,null,null,null,null,0]
[null,{"$f":"IFERROR(VLOOKUP(A618,Base!$A$2:$D$460,2,0),\"\")","v":""},{"$f":"IFERROR(VLOOKUP(A618,Base!$A$2:$D$460,3,0),\"\")","v":""},{"$f":"IFERROR(VLOOKUP(A618,Base!$A$2:$D$460,4,0),\"\")","v":""},null,null,null,null,null,null,null,null,null,null,null,null,null,0]
[null,{"$f":"IFERROR(VLOOKUP(A619,Base!$A$2:$D$460,2,0),\"\")","v":""},{"$f":"IFERROR(VLOOKUP(A619,Base!$A$2:$D$460,3,0),\"\")","v":""},{"$f":"IFERROR(VLOOKUP(A619,Base!$A$2:$D$460,4,0),\"\")","v":""},null,null,null,null,null,null,null,null,null,null,null,null,null,0]
[null,{"$f":"IFERROR(VLOOKUP(A620,Base!$A$2:$D$460,2,0),\"\")","v":""},{"$f":"IFERROR(VLOOKUP(A620,Base!$A$2:$D$460,3,0),\"\")","v":""},{"$f":"IFERROR(VLOOKUP(A620,Base!$A$2:$D$460,4,0),\"\")","v":""},null,null,null,null,null,null,null,null,null,null,null,null,null,0]
[null,{"$f":"IFERROR(VLOOKUP(A621,Base!$A$2:$D$460,2,0),\"\")","v":""},{"$f":"IFERROR(VLOOKUP(A621,Base!$A$2:$D$460,3,0),\"\")","v":""},{"$f":"IFERROR(VLOOKUP(A621,Base!$A$2:$D$460,4,0),\"\")","v":""},null,null,null,null,null,null,null,null,null,null,null,null,null,0]
[null,{"$f":"IFERROR(VLOOKUP(A622,Base!$A$2:$D$460,2,0),\"\")","v":""},{"$f":"IFERROR(VLOOKUP(A622,Base!$A$2:$D$460,3,0),\"\")","v":""},{"$f":"IFERROR(VLOOKUP(A622,Base!$A$2:$D$460,4,0),\"\")","v":""},null,null,null,null,null,null,null,null,null,null,null,null,null,0]
[null,{"$f":"IFERROR(VLOOKUP(A623,Base!$A$2:$D$460,2,0),\"\")","v":""},{"$f":"IFERROR(VLOOKUP(A623,Base!$A$2:$D$460,3,0),\"\")","v":""},{"$f":"IFERROR(VLOOKUP(A623,Base!$A$2:$D$460,4,0),\"\")","v":""},null,null,null,null,null,null,null,null,null,null,null,null,null,0]
[null,{"$f":"IFERROR(VLOOKUP(A624,Base!$A$2:$D$460,2,0),\"\")","v":""},{"$f":"IFERROR(VLOOKUP(A624,Base!$A$2:$D$460,3,0),\"\")","v":""},{"$f":"IFERROR(VLOOKUP(A624,Base!$A$2:$D$460,4,0),\"\")","v":""},null,null,null,null,null,null,null,null,null,null,null,null,null,0]
[null,{"$f":"IFERROR(VLOOKUP(A625,Base!$A$2:$D$460,2,0),\"\")","v":""},{"$f":"IFERROR(VLOOKUP(A625,Base!$A$2:$D$460,3,0),\"\")","v":""},{"$f":"IFERROR(VLOOKUP(A625,Base!$A$2:$D$460,4,0),\"\")","v":""},null,null,null,null,null,null,null,null,null,null,null,null,null,0]
[null,{"$f":"IFERROR(VLOOKUP(A626,Base!$A$2:$D$460,2,0),\"\")","v":""},{"$f":"IFERROR(VLOOKUP(A626,Base!$A$2:$D$460,3,0),\"\")","v":""},{"$f":"IFERROR(VLOOKUP(A626,Base!$A$2:$D$460,4,0),\"\")","v":""},null,null,null,null,null,null,null,null,null,null,null,null,null,0]
[null,{"$f":"IFERROR(VLOOKUP(A627,Base!$A$2:$D$460,2,0),\"\")","v":""},{"$f":"IFERROR(VLOOKUP(A627,Base!$A$2:$D$460,3,0),\"\")","v":""},{"$f":"IFERROR(VLOOKUP(A627,Base!$A$2:$D$460,4,0),\"\")","v":""},null,null,null,null,null,null,null,null,null,null,null,null,null,0]
[null,{"$f":"IFERROR(VLOOKUP(A628,Base!$A$2:$D$460,2,0),\"\")","v":""},{"$f":"IFERROR(VLOOKUP(A628,Base!$A$2:$D$460,3,0),\"\")","v":""},{"$f":"IFERROR(VLOOKUP(A628,Base!$A$2:$D$460,4,0),\"\")","v":""},null,null,null,null,null,null,null,null,null,null,null,null,null,0]
[null,{"$f":"IFERROR(VLOOKUP(A629,Base!$A$2:$D$460,2,0),\"\")","v":""},{"$f":"IFERROR(VLOOKUP(A629,Base!$A$2:$D$460,3,0),\"\")","v":""},{"$f":"IFERROR(VLOOKUP(A629,Base!$A$2:$D$460,4,0),\"\")","v":""},null,null,null,null,null,null,null,null,null,null,null,null,null,0]
[null,{"$f":"IFERROR(VLOOKUP(A630,Base!$A$2:$D$460,2,0),\"\")","v":""},{"$f":"IFERROR(VLOOKUP(A630,Base!$A$2:$D$460,3,0),\"\")","v":""},{"$f":"IFERROR(VLOOKUP(A630,Base!$A$2:$D$460,4,0),\"\")","v":""},null,null,null,null,null,null,null,null,null,null,null,null,null,0]
[null,{"$f":"IFERROR(VLOOKUP(A631,Base!$A$2:$D$460,2,0),\"\")","v":""},{"$f":"IFERROR(VLOOKUP(A631,Base!$A$2:$D$460,3,0),\"\")","v":""},{"$f":"IFERROR(VLOOKUP(A631,Base!$A$2:$D$460,4,0),\"\")","v":""},null,null,null,null,null,null,null,null,null,null,null,null,null,0]
[null,{"$f":"IFERROR(VLOOKUP(A632,Base!$A$2:$D$460,2,0),\"\")","v":""},{"$f":"IFERROR(VLOOKUP(A632,Base!$A$2:$D$460,3,0),\"\")","v":""},{"$f":"IFERROR(VLOOKUP(A632,Base!$A$2:$D$460,4,0),\"\")","v":""},null,null,null,null,null,null,null,null,null,null,null,null,null,0]
[null,{"$f":"IFERROR(VLOOKUP(A633,Base!$A$2:$D$460,2,0),\"\")","v":""},{"$f":"IFERROR(VLOOKUP(A633,Base!$A$2:$D$460,3,0),\"\")","v":""},{"$f":"IFERROR(VLOOKUP(A633,Base!$A$2:$D$460,4,0),\"\")","v":""},null,null,null,null,null,null,null,null,null,null,null,null,null,0]
[null,{"$f":"IFERROR(VLOOKUP(A634,Base!$A$2:$D$460,2,0),\"\")","v":""},{"$f":"IFERROR(VLOOKUP(A634,Base!$A$2:$D$460,3,0),\"\")","v":""},{"$f":"IFERROR(VLOOKUP(A634,Base!$A$2:$D$460,4,0),\"\")","v":""},null,null,null,null,null,null,null,null,null,null,null,null,null,0]
[null,{"$f":"IFERROR(VLOOKUP(A635,Base!$A$2:$D$460,2,0),\"\")","v":""},{"$f":"IFERROR(VLOOKUP(A635,Base!$A$2:$D$460,3,0),\"\")","v":""},{"$f":"IFERROR(VLOOKUP(A635,Base!$A$2:$D$460,4,0),\"\")","v":""},null,null,null,null,null,null,null,null,null,null,null,null,null,0]
[null,{"$f":"IFERROR(VLOOKUP(A636,Base!$A$2:$D$460,2,0),\"\")","v":""},{"$f":"IFERROR(VLOOKUP(A636,Base!$A$2:$D$460,3,0),\"\")","v":""},{"$f":"IFERROR(VLOOKUP(A636,Base!$A$2:$D$460,4,0),\"\")","v":""},null,null,null,null,null,null,null,null,null,null,null,null,null,0]
[null,{"$f":"IFERROR(VLOOKUP(A637,Base!$A$2:$D$460,2,0),\"\")","v":""},{"$f":"IFERROR(VLOOKUP(A637,Base!$A$2:$D$460,3,0),\"\")","v":""},{"$f":"IFERROR(VLOOKUP(A637,Base!$A$2:$D$460,4,0),\"\")","v":""},null,null,null,null,null,null,null,null,null,null,null,null,null,0]
[null,{"$f":"IFERROR(VLOOKUP(A638,Base!$A$2:$D$460,2,0),\"\")","v":""},{"$f":"IFERROR(VLOOKUP(A638,Base!$A$2:$D$460,3,0),\"\")","v":""},{"$f":"IFERROR(VLOOKUP(A638,Base!$A$2:$D$460,4,0),\"\")","v":""},null,null,null,null,null,null,null,null,null,null,null,null,null,0]
[null,{"$f":"IFERROR(VLOOKUP(A639,Base!$A$2:$D$460,2,0),\"\")","v":""},{"$f":"IFERROR(VLOOKUP(A639,Base!$A$2:$D$460,3,0),\"\")","v":""},{"$f":"IFERROR(VLOOKUP(A639,Base!$A$2:$D$460,4,0),\"\")","v":""},null,null,null,null,null,null,null,null,null,null,null,null,null,0]
[null,{"$f":"IFERROR(VLOOKUP(A640,Base!$A$2:$D$460,2,0),\"\")","v":""},{"$f":"IFERROR(VLOOKUP(A640,Base!$A$2:$D$460,3,0),\"\")","v":""},{"$f":"IFERROR(VLOOKUP(A640,Base!$A$2:$D$460,4,0),\"\")","v":""},null,null,null,null,null,null,null,null,null,null,null,null,null,0]
[null,{"$f":"IFERROR(VLOOKUP(A641,Base!$A$2:$D$460,2,0),\"\")","v":""},{"$f":"IFERROR(VLOOKUP(A641,Base!$A$2:$D$460,3,0),\"\")","v":""},{"$f":"IFERROR(VLOOKUP(A641,Base!$A$2:$D$460,4,0),\"\")","v":""},null,null,null,null,null,null,null,null,null,null,null,null,null,0]
[null,{"$f":"IFERROR(VLOOKUP(A642,Base!$A$2:$D$460,2,0),\"\")","v":""},{"$f":"IFERROR(VLOOKUP(A642,Base!$A$2:$D$460,3,0),\"\")","v":""},{"$f":"IFERROR(VLOOKUP(A642,Base!$A$2:$D$460,4,0),\"\")","v":""},null,null,null,null,null,null,null,null,null,null,null,null,null,0]
[null,{"$f":"IFERROR(VLOOKUP(A643,Base!$A$2:$D$460,2,0),\"\")","v":""},{"$f":"IFERROR(VLOOKUP(A643,Base!$A$2:$D$460,3,0),\"\")","v":""},{"$f":"IFERROR(VLOOKUP(A643,Base!$A$2:$D$460,4,0),\"\")","v":""},null,null,null,null,null,null,null,null,null,null,null,null,null,0]
[null,{"$f":"IFERROR(VLOOKUP(A644,Base!$A$2:$D$460,2,0),\"\")","v":""},{"$f":"IFERROR(VLOOKUP(A644,Base!$A$2:$D$460,3,0),\"\")","v":""},{"$f":"IFERROR(VLOOKUP(A644,Base!$A$2:$D$460,4,0),\"\")","v":""},null,null,null,null,null,null,null,null,null,null,null,null,null,0]
[null,{"$f":"IFERROR(VLOOKUP(A645,Base!$A$2:$D$460,2,0),\"\")","v":""},{"$f":"IFERROR(VLOOKUP(A645,Base!$A$2:$D$460,3,0),\"\")","v":""},{"$f":"IFERROR(VLOOKUP(A645,Base!$A$2:$D$460,4,0),\"\")","v":""},null,null,null,null,null,null,null,null,null,null,null,null,null,0]
[null,{"$f":"IFERROR(VLOOKUP(A646,Base!$A$2:$D$460,2,0),\"\")","v":""},{"$f":"IFERROR(VLOOKUP(A646,Base!$A$2:$D$460,3,0),\"\")","v":""},{"$f":"IFERROR(VLOOKUP(A646,Base!$A$2:$D$460,4,0),\"\")","v":""},null,null,null,null,null,null,null,null,null,null,null,null,null,0]
[null,{"$f":"IFERROR(VLOOKUP(A647,Base!$A$2:$D$460,2,0),\"\")","v":""},{"$f":"IFERROR(VLOOKUP(A647,Base!$A$2:$D$460,3,0),\"\")","v":""},{"$f":"IFERROR(VLOOKUP(A647,Base!$A$2:$D$460,4,0),\"\")","v":""},null,null,null,null,null,null,null,null,null,null,null,null,null,0]
[null,{"$f":"IFERROR(VLOOKUP(A648,Base!$A$2:$D$460,2,0),\"\")","v":""},{"$f":"IFERROR(VLOOKUP(A648,Base!$A$2:$D$460,3,0),\"\")","v":""},{"$f":"IFERROR(VLOOKUP(A648,Base!$A$2:$D$460,4,0),\"\")","v":""},null,null,null,null,null,null,null,null,null,null,null,null,null,0]
[null,{"$f":"IFERROR(VLOOKUP(A649,Base!$A$2:$D$460,2,0),\"\")","v":""},{"$f":"IFERROR(VLOOKUP(A649,Base!$A$2:$D$460,3,0),\"\")","v":""},{"$f":"IFERROR(VLOOKUP(A649,Base!$A$2:$D$460,4,0),\"\")","v":""},null,null,null,null,null,null,null,null,null,null,null,null,null,0]
[null,{"$f":"IFERROR(VLOOKUP(A650,Base!$A$2:$D$460,2,0),\"\")","v":""},{"$f":"IFERROR(VLOOKUP(A650,Base!$A$2:$D$460,3,0),\"\")","v":""},{"$f":"IFERROR(VLOOKUP(A650,Base!$A$2:$D$460,4,0),\"\")","v":""},null,null,null,null,null,null,null,null,null,null,null,null,null,0]
[null,{"$f":"IFERROR(VLOOKUP(A651,Base!$A$2:$D$460,2,0),\"\")","v":""},{"$f":"IFERROR(VLOOKUP(A651,Base!$A$2:$D$460,3,0),\"\")","v":""},{"$f":"IFERROR(VLOOKUP(A651,Base!$A$2:$D$460,4,0),\"\")","v":""},null,null,null,null,null,null,null,null,null,null,null,null,null,{"$f":"SUM(N651:Q651)/4","v":0}]
[null,{"$f":"IFERROR(VLOOKUP(A652,Base!$A$2:$D$460,2,0),\"\")","v":""},{"$f":"IFERROR(VLOOKUP(A652,Base!$A$2:$D$460,3,0),\"\")","v":""},{"$f":"IFERROR(VLOOKUP(A652,Base!$A$2:$D$460,4,0),\"\")","v":""},null,null,null,null,null,null,null,null,null,null,null,null,null,0]
[null,{"$f":"IFERROR(VLOOKUP(A653,Base!$A$2:$D$460,2,0),\"\")","v":""},{"$f":"IFERROR(VLOOKUP(A653,Base!$A$2:$D$460,3,0),\"\")","v":""},{"$f":"IFERROR(VLOOKUP(A653,Base!$A$2:$D$460,4,0),\"\")","v":""},null,null,null,null,null,null,null,null,null,null,null,null,null,0]
[null,{"$f":"IFERROR(VLOOKUP(A654,Base!$A$2:$D$460,2,0),\"\")","v":""},{"$f":"IFERROR(VLOOKUP(A654,Base!$A$2:$D$460,3,0),\"\")","v":""},{"$f":"IFERROR(VLOOKUP(A654,Base!$A$2:$D$460,4,0),\"\")","v":""},null,null,null,null,null,null,null,null,null,null,null,null,null,0]
[null,{"$f":"IFERROR(VLOOKUP(A655,Base!$A$2:$D$460,2,0),\"\")","v":""},{"$f":"IFERROR(VLOOKUP(A655,Base!$A$2:$D$460,3,0),\"\")","v":""},{"$f":"IFERROR(VLOOKUP(A655,Base!$A$2:$D$460,4,0),\"\")","v":""},null,null,null,null,null,null,null,null,null,null,null,null,null,0]
[null,{"$f":"IFERROR(VLOOKUP(A656,Base!$A$2:$D$460,2,0),\"\")","v":""},{"$f":"IFERROR(VLOOKUP(A656,Base!$A$2:$D$460,3,0),\"\")","v":""},{"$f":"IFERROR(VLOOKUP(A656,Base!$A$2:$D$460,4,0),\"\")","v":""},null,null,null,null,null,null,null,null,null,null,null,null,null,0]
[null,{"$f":"IFERROR(VLOOKUP(A657,Base!$A$2:$D$460,2,0),\"\")","v":""},{"$f":"IFERROR(VLOOKUP(A657,Base!$A$2:$D$460,3,0),\"\")","v":""},{"$f":"IFERROR(VLOOKUP(A657,Base!$A$2:$D$460,4,0),\"\")","v":""},null,null,null,null,null,null,null,null,null,null,null,null,null,0]
[null,{"$f":"IFERROR(VLOOKUP(A658,Base!$A$2:$D$460,2,0),\"\")","v":""},{"$f":"IFERROR(VLOOKUP(A658,Base!$A$2:$D$460,3,0),\"\")","v":""},{"$f":"IFERROR(VLOOKUP(A658,Base!$A$2:$D$460,4,0),\"\")","v":""},null,null,null,null,null,null,null,null,null,null,null,null,null,0]
[null,{"$f":"IFERROR(VLOOKUP(A659,Base!$A$2:$D$460,2,0),\"\")","v":""},{"$f":"IFERROR(VLOOKUP(A659,Base!$A$2:$D$460,3,0),\"\")","v":""},{"$f":"IFERROR(VLOOKUP(A659,Base!$A$2:$D$460,4,0),\"\")","v":""},null,null,null,null,null,null,null,null,null,null,null,null,null,0]
[null,{"$f":"IFERROR(VLOOKUP(A660,Base!$A$2:$D$460,2,0),\"\")","v":""},{"$f":"IFERROR(VLOOKUP(A660,Base!$A$2:$D$460,3,0),\"\")","v":""},{"$f":"IFERROR(VLOOKUP(A660,Base!$A$2:$D$460,4,0),\"\")","v":""},null,null,null,null,null,null,null,null,null,null,null,null,null,0]
[null,{"$f":"IFERROR(VLOOKUP(A661,Base!$A$2:$D$460,2,0),\"\")","v":""},{"$f":"IFERROR(VLOOKUP(A661,Base!$A$2:$D$460,3,0),\"\")","v":""},{"$f":"IFERROR(VLOOKUP(A661,Base!$A$2:$D$460,4,0),\"\")","v":""},null,null,null,null,null,null,null,null,null,null,null,null,null,0]
[null,{"$f":"IFERROR(VLOOKUP(A662,Base!$A$2:$D$460,2,0),\"\")","v":""},{"$f":"IFERROR(VLOOKUP(A662,Base!$A$2:$D$460,3,0),\"\")","v":""},{"$f":"IFERROR(VLOOKUP(A662,Base!$A$2:$D$460,4,0),\"\")","v":""},null,null,null,null,null,null,null,null,null,null,null,null,null,0]
[null,{"$f":"IFERROR(VLOOKUP(A663,Base!$A$2:$D$460,2,0),\"\")","v":""},{"$f":"IFERROR(VLOOKUP(A663,Base!$A$2:$D$460,3,0),\"\")","v":""},{"$f":"IFERROR(VLOOKUP(A663,Base!$A$2:$D$460,4,0),\"\")","v":""},null,null,null,null,null,null,null,null,null,null,null,null,null,0]
[null,{"$f":"IFERROR(VLOOKUP(A664,Base!$A$2:$D$460,2,0),\"\")","v":""},{"$f":"IFERROR(VLOOKUP(A664,Base!$A$2:$D$460,3,0),\"\")","v":""},{"$f":"IFERROR(VLOOKUP(A664,Base!$A$2:$D$460,4,0),\"\")","v":""},null,null,null,null,null,null,null,null,null,null,null,null,null,0]
[null,{"$f":"IFERROR(VLOOKUP(A665,Base!$A$2:$D$460,2,0),\"\")","v":""},{"$f":"IFERROR(VLOOKUP(A665,Base!$A$2:$D$460,3,0),\"\")","v":""},{"$f":"IFERROR(VLOOKUP(A665,Base!$A$2:$D$460,4,0),\"\")","v":""},null,null,null,null,null,null,null,null,null,null,null,null,null,0]
[null,{"$f":"IFERROR(VLOOKUP(A666,Base!$A$2:$D$460,2,0),\"\")","v":""},{"$f":"IFERROR(VLOOKUP(A666,Base!$A$2:$D$460,3,0),\"\")","v":""},{"$f":"IFERROR(VLOOKUP(A666,Base!$A$2:$D$460,4,0),\"\")","v":""},null,null,null,null,null,null,null,null,null,null,null,null,null,0]
[null,{"$f":"IFERROR(VLOOKUP(A667,Base!$A$2:$D$460,2,0),\"\")","v":""},{"$f":"IFERROR(VLOOKUP(A667,Base!$A$2:$D$460,3,0),\"\")","v":""},{"$f":"IFERROR(VLOOKUP(A667,Base!$A$2:$D$460,4,0),\"\")","v":""},null,null,null,null,null,null,null,null,null,null,null,null,null,0]
[null,{"$f":"IFERROR(VLOOKUP(A668,Base!$A$2:$D$460,2,0),\"\")","v":""},{"$f":"IFERROR(VLOOKUP(A668,Base!$A$2:$D$460,3,0),\"\")","v":""},{"$f":"IFERROR(VLOOKUP(A668,Base!$A$2:$D$460,4,0),\"\")","v":""},null,null,null,null,null,null,null,null,null,null,null,null,null,0]
[null,{"$f":"IFERROR(VLOOKUP(A669,Base!$A$2:$D$460,2,0),\"\")","v":""},{"$f":"IFERROR(VLOOKUP(A669,Base!$A$2:$D$460,3,0),\"\")","v":""},{"$f":"IFERROR(VLOOKUP(A669,Base!$A$2:$D$460,4,0),\"\")","v":""},null,null,null,null,null,null,null,null,null,null,null,null,null,0]
[null,{"$f":"IFERROR(VLOOKUP(A670,Base!$A$2:$D$460,2,0),\"\")","v":""},{"$f":"IFERROR(VLOOKUP(A670,Base!$A$2:$D$460,3,0),\"\")","v":""},{"$f":"IFERROR(VLOOKUP(A670,Base!$A$2:$D$460,4,0),\"\")","v":""},null,null,null,null,null,null,null,null,null,null,null,null,null,0]
[null,{"$f":"IFERROR(VLOOKUP(A671,Base!$A$2:$D$460,2,0),\"\")","v":""},{"$f":"IFERROR(VLOOKUP(A671,Base!$A$2:$D$460,3,0),\"\")","v":""},{"$f":"IFERROR(VLOOKUP(A671,Base!$A$2:$D$460,4,0),\"\")","v":""},null,null,null,null,null,null,null,null,null,null,null,null,null,0]
[null,{"$f":"IFERROR(VLOOKUP(A672,Base!$A$2:$D$460,2,0),\"\")","v":""},{"$f":"IFERROR(VLOOKUP(A672,Base!$A$2:$D$460,3,0),\"\")","v":""},{"$f":"IFERROR(VLOOKUP(A672,Base!$A$2:$D$460,4,0),\"\")","v":""},null,null,null,null,null,null,null,null,null,null,null,null,null,0]
[null,{"$f":"IFERROR(VLOOKUP(A673,Base!$A$2:$D$460,2,0),\"\")","v":""},{"$f":"IFERROR(VLOOKUP(A673,Base!$A$2:$D$460,3,0),\"\")","v":""},{"$f":"IFERROR(VLOOKUP(A673,Base!$A$2:$D$460,4,0),\"\")","v":""},null,null,null,null,null,null,null,null,null,null,null,null,null,0]
[null,{"$f":"IFERROR(VLOOKUP(A674,Base!$A$2:$D$460,2,0),\"\")","v":""},{"$f":"IFERROR(VLOOKUP(A674,Base!$A$2:$D$460,3,0),\"\")","v":""},{"$f":"IFERROR(VLOOKUP(A674,Base!$A$2:$D$460,4,0),\"\")","v":""},null,null,null,null,null,null,null,null,null,null,null,null,null,0]
[null,{"$f":"IFERROR(VLOOKUP(A675,Base!$A$2:$D$460,2,0),\"\")","v":""},{"$f":"IFERROR(VLOOKUP(A675,Base!$A$2:$D$460,3,0),\"\")","v":""},{"$f":"IFERROR(VLOOKUP(A675,Base!$A$2:$D$460,4,0),\"\")","v":""},null,null,null,null,null,null,null,null,null,null,null,null,null,0]
[null,{"$f":"IFERROR(VLOOKUP(A676,Base!$A$2:$D$460,2,0),\"\")","v":""},{"$f":"IFERROR(VLOOKUP(A676,Base!$A$2:$D$460,3,0),\"\")","v":""},{"$f":"IFERROR(VLOOKUP(A676,Base!$A$2:$D$460,4,0),\"\")","v":""},null,null,null,null,null,null,null,null,null,null,null,null,null,0]
[null,{"$f":"IFERROR(VLOOKUP(A677,Base!$A$2:$D$460,2,0),\"\")","v":""},{"$f":"IFERROR(VLOOKUP(A677,Base!$A$2:$D$460,3,0),\"\")","v":""},{"$f":"IFERROR(VLOOKUP(A677,Base!$A$2:$D$460,4,0),\"\")","v":""},null,null,null,null,null,null,null,null,null,null,null,null,null,0]
[null,{"$f":"IFERROR(VLOOKUP(A678,Base!$A$2:$D$460,2,0),\"\")","v":""},{"$f":"IFERROR(VLOOKUP(A678,Base!$A$2:$D$460,3,0),\"\")","v":""},{"$f":"IFERROR(VLOOKUP(A678,Base!$A$2:$D$460,4,0),\"\")","v":""},null,null,null,null,null,null,null,null,null,null,null,null,null,0]
[null,{"$f":"IFERROR(VLOOKUP(A679,Base!$A$2:$D$460,2,0),\"\")","v":""},{"$f":"IFERROR(VLOOKUP(A679,Base!$A$2:$D$460,3,0),\"\")","v":""},{"$f":"IFERROR(VLOOKUP(A679,Base!$A$2:$D$460,4,0),\"\")","v":""},null,null,null,null,null,null,null,null,null,null,null,null,null,0]
[null,{"$f":"IFERROR(VLOOKUP(A680,Base!$A$2:$D$460,2,0),\"\")","v":""},{"$f":"IFERROR(VLOOKUP(A680,Base!$A$2:$D$460,3,0),\"\")","v":""},{"$f":"IFERROR(VLOOKUP(A680,Base!$A$2:$D$460,4,0),\"\")","v":""},null,null,null,null,null,null,null,null,null,null,null,null,null,0]
[null,{"$f":"IFERROR(VLOOKUP(A681,Base!$A$2:$D$460,2,0),\"\")","v":""},{"$f":"IFERROR(VLOOKUP(A681,Base!$A$2:$D$460,3,0),\"\")","v":""},{"$f":"IFERROR(VLOOKUP(A681,Base!$A$2:$D$460,4,0),\"\")","v":""},null,null,null,null,null,null,null,null,null,null,null,null,null,0]
[null,{"$f":"IFERROR(VLOOKUP(A682,Base!$A$2:$D$460,2,0),\"\")","v":""},{"$f":"IFERROR(VLOOKUP(A682,Base!$A$2:$D$460,3,0),\"\")","v":""},{"$f":"IFERROR(VLOOKUP(A682,Base!$A$2:$D$460,4,0),\"\")","v":""},null,null,null,null,null,null,null,null,null,null,null,null,null,0]
[null,{"$f":"IFERROR(VLOOKUP(A683,Base!$A$2:$D$460,2,0),\"\")","v":""},{"$f":"IFERROR(VLOOKUP(A683,Base!$A$2:$D$460,3,0),\"\")","v":""},{"$f":"IFERROR(VLOOKUP(A683,Base!$A$2:$D$460,4,0),\"\")","v":""},null,null,null,null,null,null,null,null,null,null,null,null,null,0]
[null,{"$f":"IFERROR(VLOOKUP(A684,Base!$A$2:$D$460,2,0),\"\")","v":""},{"$f":"IFERROR(VLOOKUP(A684,Base!$A$2:$D$460,3,0),\"\")","v":""},{"$f":"IFERROR(VLOOKUP(A684,Base!$A$2:$D$460,4,0),\"\")","v":""},null,null,null,null,null,null,null,null,null,null,null,null,null,0]
[null,{"$f":"IFERROR(VLOOKUP(A685,Base!$A$2:$D$460,2,0),\"\")","v":""},{"$f":"IFERROR(VLOOKUP(A685,Base!$A$2:$D$460,3,0),\"\")","v":""},{"$f":"IFERROR(VLOOKUP(A685,Base!$A$2:$D$460,4,0),\"\")","v":""},null,null,null,null,null,null,null,null,null,null,null,null,null,0]
[null,{"$f":"IFERROR(VLOOKUP(A686,Base!$A$2:$D$460,2,0),\"\")","v":""},{"$f":"IFERROR(VLOOKUP(A686,Base!$A$2:$D$460,3,0),\"\")","v":""},{"$f":"IFERROR(VLOOKUP(A686,Base!$A$2:$D$460,4,0),\"\")","v":""},null,null,null,null,null,null,null,null,null,null,null,null,null,0]
[null,{"$f":"IFERROR(VLOOKUP(A687,Base!$A$2:$D$460,2,0),\"\")","v":""},{"$f":"IFERROR(VLOOKUP(A687,Base!$A$2:$D$460,3,0),\"\")","v":""},{"$f":"IFERROR(VLOOKUP(A687,Base!$A$2:$D$460,4,0),\"\")","v":""},null,null,null,null,null,null,null,null,null,null,null,null,null,0]
[null,{"$f":"IFERROR(VLOOKUP(A688,Base!$A$2:$D$460,2,0),\"\")","v":""},{"$f":"IFERROR(VLOOKUP(A688,Base!$A$2:$D$460,3,0),\"\")","v":""},{"$f":"IFERROR(VLOOKUP(A688,Base!$A$2:$D$460,4,0),\"\")","v":""},null,null,null,null,null,null,null,null,null,null,null,null,null,0]
[null,{"$f":"IFERROR(VLOOKUP(A689,Base!$A$2:$D$460,2,0),\"\")","v":""},{"$f":"IFERROR(VLOOKUP(A689,Base!$A$2:$D$460,3,0),\"\")","v":""},{"$f":"IFERROR(VLOOKUP(A689,Base!$A$2:$D$460,4,0),\"\")","v":""},null,null,null,null,null,null,null,null,null,null,null,null,null,0]
[null,{"$f":"IFERROR(VLOOKUP(A690,Base!$A$2:$D$460,2,0),\"\")","v":""},{"$f":"IFERROR(VLOOKUP(A690,Base!$A$2:$D$460,3,0),\"\")","v":""},{"$f":"IFERROR(VLOOKUP(A690,Base!$A$2:$D$460,4,0),\"\")","v":""},null,null,null,null,null,null,null,null,null,null,null,null,null,0]
[null,{"$f":"IFERROR(VLOOKUP(A691,Base!$A$2:$D$460,2,0),\"\")","v":""},{"$f":"IFERROR(VLOOKUP(A691,Base!$A$2:$D$460,3,0),\"\")","v":""},{"$f":"IFERROR(VLOOKUP(A691,Base!$A$2:$D$460,4,0),\"\")","v":""},null,null,null,null,null,null,null,null,null,null,null,null,null,0]
[null,{"$f":"IFERROR(VLOOKUP(A692,Base!$A$2:$D$460,2,0),\"\")","v":""},{"$f":"IFERROR(VLOOKUP(A692,Base!$A$2:$D$460,3,0),\"\")","v":""},{"$f":"IFERROR(VLOOKUP(A692,Base!$A$2:$D$460,4,0),\"\")","v":""},null,null,null,null,null,null,null,null,null,null,null,null,null,0]
[null,{"$f":"IFERROR(VLOOKUP(A693,Base!$A$2:$D$460,2,0),\"\")","v":""},{"$f":"IFERROR(VLOOKUP(A693,Base!$A$2:$D$460,3,0),\"\")","v":""},{"$f":"IFERROR(VLOOKUP(A693,Base!$A$2:$D$460,4,0),\"\")","v":""},null,null,null,null,null,null,null,null,null,null,null,null,null,0]
[null,{"$f":"IFERROR(VLOOKUP(A694,Base!$A$2:$D$460,2,0),\"\")","v":""},{"$f":"IFERROR(VLOOKUP(A694,Base!$A$2:$D$460,3,0),\"\")","v":""},{"$f":"IFERROR(VLOOKUP(A694,Base!$A$2:$D$460,4,0),\"\")","v":""},null,null,null,null,null,null,null,null,null,null,null,null,null,0]
[null,{"$f":"IFERROR(VLOOKUP(A695,Base!$A$2:$D$460,2,0),\"\")","v":""},{"$f":"IFERROR(VLOOKUP(A695,Base!$A$2:$D$460,3,0),\"\")","v":""},{"$f":"IFERROR(VLOOKUP(A695,Base!$A$2:$D$460,4,0),\"\")","v":""},null,null,null,null,null,null,null,null,null,null,null,null,null,0]
[null,{"$f":"IFERROR(VLOOKUP(A696,Base!$A$2:$D$460,2,0),\"\")","v":""},{"$f":"IFERROR(VLOOKUP(A696,Base!$A$2:$D$460,3,0),\"\")","v":""},{"$f":"IFERROR(VLOOKUP(A696,Base!$A$2:$D$460,4,0),\"\")","v":""},null,null,null,null,null,null,null,null,null,null,null,null,null,0]
[null,{"$f":"IFERROR(VLOOKUP(A697,Base!$A$2:$D$460,2,0),\"\")","v":""},{"$f":"IFERROR(VLOOKUP(A697,Base!$A$2:$D$460,3,0),\"\")","v":""},{"$f":"IFERROR(VLOOKUP(A697,Base!$A$2:$D$460,4,0),\"\")","v":""},null,null,null,null,null,null,null,null,null,null,null,null,null,0]
[null,{"$f":"IFERROR(VLOOKUP(A698,Base!$A$2:$D$460,2,0),\"\")","v":""},{"$f":"IFERROR(VLOOKUP(A698,Base!$A$2:$D$460,3,0),\"\")","v":""},{"$f":"IFERROR(VLOOKUP(A698,Base!$A$2:$D$460,4,0),\"\")","v":""},null,null,null,null,null,null,null,null,null,null,null,null,null,0]
[null,{"$f":"IFERROR(VLOOKUP(A699,Base!$A$2:$D$460,2,0),\"\")","v":""},{"$f":"IFERROR(VLOOKUP(A699,Base!$A$2:$D$460,3,0),\"\")","v":""},{"$f":"IFERROR(VLOOKUP(A699,Base!$A$2:$D$460,4,0),\"\")","v":""},null,null,null,null,null,null,null,null,null,null,null,null,null,0]
[null,{"$f":"IFERROR(VLOOKUP(A700,Base!$A$2:$D$460,2,0),\"\")","v":""},{"$f":"IFERROR(VLOOKUP(A700,Base!$A$2:$D$460,3,0),\"\")","v":""},{"$f":"IFERROR(VLOOKUP(A700,Base!$A$2:$D$460,4,0),\"\")","v":""},null,null,null,null,null,null,null,null,null,null,null,null,null,0]
[null,{"$f":"IFERROR(VLOOKUP(A701,Base!$A$2:$D$460,2,0),\"\")","v":""},{"$f":"IFERROR(VLOOKUP(A701,Base!$A$2:$D$460,3,0),\"\")","v":""},{"$f":"IFERROR(VLOOKUP(A701,Base!$A$2:$D$460,4,0),\"\")","v":""},null,null,null,null,null,null,null,null,null,null,null,null,null,0]
[null,{"$f":"IFERROR(VLOOKUP(A702,Base!$A$2:$D$460,2,0),\"\")","v":""},{"$f":"IFERROR(VLOOKUP(A702,Base!$A$2:$D$460,3,0),\"\")","v":""},{"$f":"IFERROR(VLOOKUP(A702,Base!$A$2:$D$460,4,0),\"\")","v":""},null,null,null,null,null,null,null,null,null,null,null,null,null,0]
[null,{"$f":"IFERROR(VLOOKUP(A703,Base!$A$2:$D$460,2,0),\"\")","v":""},{"$f":"IFERROR(VLOOKUP(A703,Base!$A$2:$D$460,3,0),\"\")","v":""},{"$f":"IFERROR(VLOOKUP(A703,Base!$A$2:$D$460,4,0),\"\")","v":""},null,null,null,null,null,null,null,null,null,null,null,null,null,0]
[null,{"$f":"IFERROR(VLOOKUP(A704,Base!$A$2:$D$460,2,0),\"\")","v":""},{"$f":"IFERROR(VLOOKUP(A704,Base!$A$2:$D$460,3,0),\"\")","v":""},{"$f":"IFERROR(VLOOKUP(A704,Base!$A$2:$D$460,4,0),\"\")","v":""},null,null,null,null,null,null,null,null,null,null,null,null,null,0]
[null,{"$f":"IFERROR(VLOOKUP(A705,Base!$A$2:$D$460,2,0),\"\")","v":""},{"$f":"IFERROR(VLOOKUP(A705,Base!$A$2:$D$460,3,0),\"\")","v":""},{"$f":"IFERROR(VLOOKUP(A705,Base!$A$2:$D$460,4,0),\"\")","v":""},null,null,null,null,null,null,null,null,null,null,null,null,null,0]
[null,{"$f":"IFERROR(VLOOKUP(A706,Base!$A$2:$D$460,2,0),\"\")","v":""},{"$f":"IFERROR(VLOOKUP(A706,Base!$A$2:$D$460,3,0),\"\")","v":""},{"$f":"IFERROR(VLOOKUP(A706,Base!$A$2:$D$460,4,0),\"\")","v":""},null,null,null,null,null,null,null,null,null,null,null,null,null,0]
[null,{"$f":"IFERROR(VLOOKUP(A707,Base!$A$2:$D$460,2,0),\"\")","v":""},{"$f":"IFERROR(VLOOKUP(A707,Base!$A$2:$D$460,3,0),\"\")","v":""},{"$f":"IFERROR(VLOOKUP(A707,Base!$A$2:$D$460,4,0),\"\")","v":""},null,null,null,null,null,null,null,null,null,null,null,null,null,0]
[null,{"$f":"IFERROR(VLOOKUP(A708,Base!$A$2:$D$460,2,0),\"\")","v":""},{"$f":"IFERROR(VLOOKUP(A708,Base!$A$2:$D$460,3,0),\"\")","v":""},{"$f":"IFERROR(VLOOKUP(A708,Base!$A$2:$D$460,4,0),\"\")","v":""},null,null,null,null,null,null,null,null,null,null,null,null,null,0]
[null,{"$f":"IFERROR(VLOOKUP(A709,Base!$A$2:$D$460,2,0),\"\")","v":""},{"$f":"IFERROR(VLOOKUP(A709,Base!$A$2:$D$460,3,0),\"\")","v":""},{"$f":"IFERROR(VLOOKUP(A709,Base!$A$2:$D$460,4,0),\"\")","v":""},null,null,null,null,null,null,null,null,null,null,null,null,null,0]
[null,{"$f":"IFERROR(VLOOKUP(A710,Base!$A$2:$D$460,2,0),\"\")","v":""},{"$f":"IFERROR(VLOOKUP(A710,Base!$A$2:$D$460,3,0),\"\")","v":""},{"$f":"IFERROR(VLOOKUP(A710,Base!$A$2:$D$460,4,0),\"\")","v":""},null,null,null,null,null,null,null,null,null,null,null,null,null,0]
[null,{"$f":"IFERROR(VLOOKUP(A711,Base!$A$2:$D$460,2,0),\"\")","v":""},{"$f":"IFERROR(VLOOKUP(A711,Base!$A$2:$D$460,3,0),\"\")","v":""},{"$f":"IFERROR(VLOOKUP(A711,Base!$A$2:$D$460,4,0),\"\")","v":""},null,null,null,null,null,null,null,null,null,null,null,null,null,0]
[null,{"$f":"IFERROR(VLOOKUP(A712,Base!$A$2:$D$460,2,0),\"\")","v":""},{"$f":"IFERROR(VLOOKUP(A712,Base!$A$2:$D$460,3,0),\"\")","v":""},{"$f":"IFERROR(VLOOKUP(A712,Base!$A$2:$D$460,4,0),\"\")","v":""},null,null,null,null,null,null,null,null,null,null,null,null,null,0]
[null,{"$f":"IFERROR(VLOOKUP(A713,Base!$A$2:$D$460,2,0),\"\")","v":""},{"$f":"IFERROR(VLOOKUP(A713,Base!$A$2:$D$460,3,0),\"\")","v":""},{"$f":"IFERROR(VLOOKUP(A713,Base!$A$2:$D$460,4,0),\"\")","v":""},null,null,null,null,null,null,null,null,null,null,null,null,null,0]
[null,{"$f":"IFERROR(VLOOKUP(A714,Base!$A$2:$D$460,2,0),\"\")","v":""},{"$f":"IFERROR(VLOOKUP(A714,Base!$A$2:$D$460,3,0),\"\")","v":""},{"$f":"IFERROR(VLOOKUP(A714,Base!$A$2:$D$460,4,0),\"\")","v":""},null,null,null,null,null,null,null,null,null,null,null,null,null,0]
[null,{"$f":"IFERROR(VLOOKUP(A715,Base!$A$2:$D$460,2,0),\"\")","v":""},{"$f":"IFERROR(VLOOKUP(A715,Base!$A$2:$D$460,3,0),\"\")","v":""},{"$f":"IFERROR(VLOOKUP(A715,Base!$A$2:$D$460,4,0),\"\")","v":""},null,null,null,null,null,null,null,null,null,null,null,null,null,{"$f":"SUM(N715:Q715)/4","v":0}]
[null,{"$f":"IFERROR(VLOOKUP(A716,Base!$A$2:$D$460,2,0),\"\")","v":""},{"$f":"IFERROR(VLOOKUP(A716,Base!$A$2:$D$460,3,0),\"\")","v":""},{"$f":"IFERROR(VLOOKUP(A716,Base!$A$2:$D$460,4,0),\"\")","v":""},null,null,null,null,null,null,null,null,null,null,null,null,null,0]
[null,{"$f":"IFERROR(VLOOKUP(A717,Base!$A$2:$D$460,2,0),\"\")","v":""},{"$f":"IFERROR(VLOOKUP(A717,Base!$A$2:$D$460,3,0),\"\")","v":""},{"$f":"IFERROR(VLOOKUP(A717,Base!$A$2:$D$460,4,0),\"\")","v":""},null,null,null,null,null,null,null,null,null,null,null,null,null,0]
[null,{"$f":"IFERROR(VLOOKUP(A718,Base!$A$2:$D$460,2,0),\"\")","v":""},{"$f":"IFERROR(VLOOKUP(A718,Base!$A$2:$D$460,3,0),\"\")","v":""},{"$f":"IFERROR(VLOOKUP(A718,Base!$A$2:$D$460,4,0),\"\")","v":""},null,null,null,null,null,null,null,null,null,null,null,null,null,0]
[null,{"$f":"IFERROR(VLOOKUP(A719,Base!$A$2:$D$460,2,0),\"\")","v":""},{"$f":"IFERROR(VLOOKUP(A719,Base!$A$2:$D$460,3,0),\"\")","v":""},{"$f":"IFERROR(VLOOKUP(A719,Base!$A$2:$D$460,4,0),\"\")","v":""},null,null,null,null,null,null,null,null,null,null,null,null,null,0]
[null,{"$f":"IFERROR(VLOOKUP(A720,Base!$A$2:$D$460,2,0),\"\")","v":""},{"$f":"IFERROR(VLOOKUP(A720,Base!$A$2:$D$460,3,0),\"\")","v":""},{"$f":"IFERROR(VLOOKUP(A720,Base!$A$2:$D$460,4,0),\"\")","v":""},null,null,null,null,null,null,null,null,null,null,null,null,null,0]
[null,{"$f":"IFERROR(VLOOKUP(A721,Base!$A$2:$D$460,2,0),\"\")","v":""},{"$f":"IFERROR(VLOOKUP(A721,Base!$A$2:$D$460,3,0),\"\")","v":""},{"$f":"IFERROR(VLOOKUP(A721,Base!$A$2:$D$460,4,0),\"\")","v":""},null,null,null,null,null,null,null,null,null,null,null,null,null,0]
[null,{"$f":"IFERROR(VLOOKUP(A722,Base!$A$2:$D$460,2,0),\"\")","v":""},{"$f":"IFERROR(VLOOKUP(A722,Base!$A$2:$D$460,3,0),\"\")","v":""},{"$f":"IFERROR(VLOOKUP(A722,Base!$A$2:$D$460,4,0),\"\")","v":""},null,null,null,null,null,null,null,null,null,null,null,null,null,0]
[null,{"$f":"IFERROR(VLOOKUP(A723,Base!$A$2:$D$460,2,0),\"\")","v":""},{"$f":"IFERROR(VLOOKUP(A723,Base!$A$2:$D$460,3,0),\"\")","v":""},{"$f":"IFERROR(VLOOKUP(A723,Base!$A$2:$D$460,4,0),\"\")","v":""},null,null,null,null,null,null,null,null,null,null,null,null,null,0]
[null,{"$f":"IFERROR(VLOOKUP(A724,Base!$A$2:$D$460,2,0),\"\")","v":""},{"$f":"IFERROR(VLOOKUP(A724,Base!$A$2:$D$460,3,0),\"\")","v":""},{"$f":"IFERROR(VLOOKUP(A724,Base!$A$2:$D$460,4,0),\"\")","v":""},null,null,null,null,null,null,null,null,null,null,null,null,null,0]
[null,{"$f":"IFERROR(VLOOKUP(A725,Base!$A$2:$D$460,2,0),\"\")","v":""},{"$f":"IFERROR(VLOOKUP(A725,Base!$A$2:$D$460,3,0),\"\")","v":""},{"$f":"IFERROR(VLOOKUP(A725,Base!$A$2:$D$460,4,0),\"\")","v":""},null,null,null,null,null,null,null,null,null,null,null,null,null,0]
[null,{"$f":"IFERROR(VLOOKUP(A726,Base!$A$2:$D$460,2,0),\"\")","v":""},{"$f":"IFERROR(VLOOKUP(A726,Base!$A$2:$D$460,3,0),\"\")","v":""},{"$f":"IFERROR(VLOOKUP(A726,Base!$A$2:$D$460,4,0),\"\")","v":""},null,null,null,null,null,null,null,null,null,null,null,null,null,0]
[null,{"$f":"IFERROR(VLOOKUP(A727,Base!$A$2:$D$460,2,0),\"\")","v":""},{"$f":"IFERROR(VLOOKUP(A727,Base!$A$2:$D$460,3,0),\"\")","v":""},{"$f":"IFERROR(VLOOKUP(A727,Base!$A$2:$D$460,4,0),\"\")","v":""},null,null,null,null,null,null,null,null,null,null,null,null,null,0]
[null,{"$f":"IFERROR(VLOOKUP(A728,Base!$A$2:$D$460,2,0),\"\")","v":""},{"$f":"IFERROR(VLOOKUP(A728,Base!$A$2:$D$460,3,0),\"\")","v":""},{"$f":"IFERROR(VLOOKUP(A728,Base!$A$2:$D$460,4,0),\"\")","v":""},null,null,null,null,null,null,null,null,null,null,null,null,null,0]
[null,{"$f":"IFERROR(VLOOKUP(A729,Base!$A$2:$D$460,2,0),\"\")","v":""},{"$f":"IFERROR(VLOOKUP(A729,Base!$A$2:$D$460,3,0),\"\")","v":""},{"$f":"IFERROR(VLOOKUP(A729,Base!$A$2:$D$460,4,0),\"\")","v":""},null,null,null,null,null,null,null,null,null,null,null,null,null,0]
[null,{"$f":"IFERROR(VLOOKUP(A730,Base!$A$2:$D$460,2,0),\"\")","v":""},{"$f":"IFERROR(VLOOKUP(A730,Base!$A$2:$D$460,3,0),\"\")","v":""},{"$f":"IFERROR(VLOOKUP(A730,Base!$A$2:$D$460,4,0),\"\")","v":""},null,null,null,null,null,null,null,null,null,null,null,null,null,0]
[null,{"$f":"IFERROR(VLOOKUP(A731,Base!$A$2:$D$460,2,0),\"\")","v":""},{"$f":"IFERROR(VLOOKUP(A731,Base!$A$2:$D$460,3,0),\"\")","v":""},{"$f":"IFERROR(VLOOKUP(A731,Base!$A$2:$D$460,4,0),\"\")","v":""},null,null,null,null,null,null,null,null,null,null,null,null,null,0]
[null,{"$f":"IFERROR(VLOOKUP(A732,Base!$A$2:$D$460,2,0),\"\")","v":""},{"$f":"IFERROR(VLOOKUP(A732,Base!$A$2:$D$460,3,0),\"\")","v":""},{"$f":"IFERROR(VLOOKUP(A732,Base!$A$2:$D$460,4,0),\"\")","v":""},null,null,null,null,null,null,null,null,null,null,null,null,null,0]
[null,{"$f":"IFERROR(VLOOKUP(A733,Base!$A$2:$D$460,2,0),\"\")","v":""},{"$f":"IFERROR(VLOOKUP(A733,Base!$A$2:$D$460,3,0),\"\")","v":""},{"$f":"IFERROR(VLOOKUP(A733,Base!$A$2:$D$460,4,0),\"\")","v":""},null,null,null,null,null,null,null,null,null,null,null,null,null,0]
[null,{"$f":"IFERROR(VLOOKUP(A734,Base!$A$2:$D$460,2,0),\"\")","v":""},{"$f":"IFERROR(VLOOKUP(A734,Base!$A$2:$D$460,3,0),\"\")","v":""},{"$f":"IFERROR(VLOOKUP(A734,Base!$A$2:$D$460,4,0),\"\")","v":""},null,null,null,null,null,null,null,null,null,null,null,null,null,0]
[null,{"$f":"IFERROR(VLOOKUP(A735,Base!$A$2:$D$460,2,0),\"\")","v":""},{"$f":"IFERROR(VLOOKUP(A735,Base!$A$2:$D$460,3,0),\"\")","v":""},{"$f":"IFERROR(VLOOKUP(A735,Base!$A$2:$D$460,4,0),\"\")","v":""},null,null,null,null,null,null,null,null,null,null,null,null,null,0]
[null,{"$f":"IFERROR(VLOOKUP(A736,Base!$A$2:$D$460,2,0),\"\")","v":""},{"$f":"IFERROR(VLOOKUP(A736,Base!$A$2:$D$460,3,0),\"\")","v":""},{"$f":"IFERROR(VLOOKUP(A736,Base!$A$2:$D$460,4,0),\"\")","v":""},null,null,null,null,null,null,null,null,null,null,null,null,null,0]
[null,{"$f":"IFERROR(VLOOKUP(A737,Base!$A$2:$D$460,2,0),\"\")","v":""},{"$f":"IFERROR(VLOOKUP(A737,Base!$A$2:$D$460,3,0),\"\")","v":""},{"$f":"IFERROR(VLOOKUP(A737,Base!$A$2:$D$460,4,0),\"\")","v":""},null,null,null,null,null,null,null,null,null,null,null,null,null,0]
[null,{"$f":"IFERROR(VLOOKUP(A738,Base!$A$2:$D$460,2,0),\"\")","v":""},{"$f":"IFERROR(VLOOKUP(A738,Base!$A$2:$D$460,3,0),\"\")","v":""},{"$f":"IFERROR(VLOOKUP(A738,Base!$A$2:$D$460,4,0),\"\")","v":""},null,null,null,null,null,null,null,null,null,null,null,null,null,0]
[null,{"$f":"IFERROR(VLOOKUP(A739,Base!$A$2:$D$460,2,0),\"\")","v":""},{"$f":"IFERROR(VLOOKUP(A739,Base!$A$2:$D$460,3,0),\"\")","v":""},{"$f":"IFERROR(VLOOKUP(A739,Base!$A$2:$D$460,4,0),\"\")","v":""},null,null,null,null,null,null,null,null,null,null,null,null,null,0]
[null,{"$f":"IFERROR(VLOOKUP(A740,Base!$A$2:$D$460,2,0),\"\")","v":""},{"$f":"IFERROR(VLOOKUP(A740,Base!$A$2:$D$460,3,0),\"\")","v":""},{"$f":"IFERROR(VLOOKUP(A740,Base!$A$2:$D$460,4,0),\"\")","v":""},null,null,null,null,null,null,null,null,null,null,null,null,null,0]
[null,{"$f":"IFERROR(VLOOKUP(A741,Base!$A$2:$D$460,2,0),\"\")","v":""},{"$f":"IFERROR(VLOOKUP(A741,Base!$A$2:$D$460,3,0),\"\")","v":""},{"$f":"IFERROR(VLOOKUP(A741,Base!$A$2:$D$460,4,0),\"\")","v":""},null,null,null,null,null,null,null,null,null,null,null,null,null,0]
[null,{"$f":"IFERROR(VLOOKUP(A742,Base!$A$2:$D$460,2,0),\"\")","v":""},{"$f":"IFERROR(VLOOKUP(A742,Base!$A$2:$D$460,3,0),\"\")","v":""},{"$f":"IFERROR(VLOOKUP(A742,Base!$A$2:$D$460,4,0),\"\")","v":""},null,null,null,null,null,null,null,null,null,null,null,null,null,0]
[null,{"$f":"IFERROR(VLOOKUP(A743,Base!$A$2:$D$460,2,0),\"\")","v":""},{"$f":"IFERROR(VLOOKUP(A743,Base!$A$2:$D$460,3,0),\"\")","v":""},{"$f":"IFERROR(VLOOKUP(A743,Base!$A$2:$D$460,4,0),\"\")","v":""},null,null,null,null,null,null,null,null,null,null,null,null,null,0]
[null,{"$f":"IFERROR(VLOOKUP(A744,Base!$A$2:$D$460,2,0),\"\")","v":""},{"$f":"IFERROR(VLOOKUP(A744,Base!$A$2:$D$460,3,0),\"\")","v":""},{"$f":"IFERROR(VLOOKUP(A744,Base!$A$2:$D$460,4,0),\"\")","v":""},null,null,null,null,null,null,null,null,null,null,null,null,null,0]
[null,{"$f":"IFERROR(VLOOKUP(A745,Base!$A$2:$D$460,2,0),\"\")","v":""},{"$f":"IFERROR(VLOOKUP(A745,Base!$A$2:$D$460,3,0),\"\")","v":""},{"$f":"IFERROR(VLOOKUP(A745,Base!$A$2:$D$460,4,0),\"\")","v":""},null,null,null,null,null,null,null,null,null,null,null,null,null,0]
[null,{"$f":"IFERROR(VLOOKUP(A746,Base!$A$2:$D$460,2,0),\"\")","v":""},{"$f":"IFERROR(VLOOKUP(A746,Base!$A$2:$D$460,3,0),\"\")","v":""},{"$f":"IFERROR(VLOOKUP(A746,Base!$A$2:$D$460,4,0),\"\")","v":""},null,null,null,null,null,null,null,null,null,null,null,null,null,0]
[null,{"$f":"IFERROR(VLOOKUP(A747,Base!$A$2:$D$460,2,0),\"\")","v":""},{"$f":"IFERROR(VLOOKUP(A747,Base!$A$2:$D$460,3,0),\"\")","v":""},{"$f":"IFERROR(VLOOKUP(A747,Base!$A$2:$D$460,4,0),\"\")","v":""},null,null,null,null,null,null,null,null,null,null,null,null,null,0]
[null,{"$f":"IFERROR(VLOOKUP(A748,Base!$A$2:$D$460,2,0),\"\")","v":""},{"$f":"IFERROR(VLOOKUP(A748,Base!$A$2:$D$460,3,0),\"\")","v":""},{"$f":"IFERROR(VLOOKUP(A748,Base!$A$2:$D$460,4,0),\"\")","v":""},null,null,null,null,null,null,null,null,null,null,null,null,null,0]
[null,{"$f":"IFERROR(VLOOKUP(A749,Base!$A$2:$D$460,2,0),\"\")","v":""},{"$f":"IFERROR(VLOOKUP(A749,Base!$A$2:$D$460,3,0),\"\")","v":""},{"$f":"IFERROR(VLOOKUP(A749,Base!$A$2:$D$460,4,0),\"\")","v":""},null,null,null,null,null,null,null,null,null,null,null,null,null,0]
[null,{"$f":"IFERROR(VLOOKUP(A750,Base!$A$2:$D$460,2,0),\"\")","v":""},{"$f":"IFERROR(VLOOKUP(A750,Base!$A$2:$D$460,3,0),\"\")","v":""},{"$f":"IFERROR(VLOOKUP(A750,Base!$A$2:$D$460,4,0),\"\")","v":""},null,null,null,null,null,null,null,null,null,null,null,null,null,0]
[null,{"$f":"IFERROR(VLOOKUP(A751,Base!$A$2:$D$460,2,0),\"\")","v":""},{"$f":"IFERROR(VLOOKUP(A751,Base!$A$2:$D$460,3,0),\"\")","v":""},{"$f":"IFERROR(VLOOKUP(A751,Base!$A$2:$D$460,4,0),\"\")","v":""},null,null,null,null,null,null,null,null,null,null,null,null,null,0]
[null,{"$f":"IFERROR(VLOOKUP(A752,Base!$A$2:$D$460,2,0),\"\")","v":""},{"$f":"IFERROR(VLOOKUP(A752,Base!$A$2:$D$460,3,0),\"\")","v":""},{"$f":"IFERROR(VLOOKUP(A752,Base!$A$2:$D$460,4,0),\"\")","v":""},null,null,null,null,null,null,null,null,null,null,null,null,null,0]
[null,{"$f":"IFERROR(VLOOKUP(A753,Base!$A$2:$D$460,2,0),\"\")","v":""},{"$f":"IFERROR(VLOOKUP(A753,Base!$A$2:$D$460,3,0),\"\")","v":""},{"$f":"IFERROR(VLOOKUP(A753,Base!$A$2:$D$460,4,0),\"\")","v":""},null,null,null,null,null,null,null,null,null,null,null,null,null,0]
[null,{"$f":"IFERROR(VLOOKUP(A754,Base!$A$2:$D$460,2,0),\"\")","v":""},{"$f":"IFERROR(VLOOKUP(A754,Base!$A$2:$D$460,3,0),\"\")","v":""},{"$f":"IFERROR(VLOOKUP(A754,Base!$A$2:$D$460,4,0),\"\")","v":""},null,null,null,null,null,null,null,null,null,null,null,null,null,0]
[null,{"$f":"IFERROR(VLOOKUP(A755,Base!$A$2:$D$460,2,0),\"\")","v":""},{"$f":"IFERROR(VLOOKUP(A755,Base!$A$2:$D$460,3,0),\"\")","v":""},{"$f":"IFERROR(VLOOKUP(A755,Base!$A$2:$D$460,4,0),\"\")","v":""},null,null,null,null,null,null,null,null,null,null,null,null,null,0]
[null,{"$f":"IFERROR(VLOOKUP(A756,Base!$A$2:$D$460,2,0),\"\")","v":""},{"$f":"IFERROR(VLOOKUP(A756,Base!$A$2:$D$460,3,0),\"\")","v":""},{"$f":"IFERROR(VLOOKUP(A756,Base!$A$2:$D$460,4,0),\"\")","v":""},null,null,null,null,null,null,null,null,null,null,null,null,null,0]
[null,{"$f":"IFERROR(VLOOKUP(A757,Base!$A$2:$D$460,2,0),\"\")","v":""},{"$f":"IFERROR(VLOOKUP(A757,Base!$A$2:$D$460,3,0),\"\")","v":""},{"$f":"IFERROR(VLOOKUP(A757,Base!$A$2:$D$460,4,0),\"\")","v":""},null,null,null,null,null,null,null,null,null,null,null,null,null,0]
[null,{"$f":"IFERROR(VLOOKUP(A758,Base!$A$2:$D$460,2,0),\"\")","v":""},{"$f":"IFERROR(VLOOKUP(A758,Base!$A$2:$D$460,3,0),\"\")","v":""},{"$f":"IFERROR(VLOOKUP(A758,Base!$A$2:$D$460,4,0),\"\")","v":""},null,null,null,null,null,null,null,null,null,null,null,null,null,0]
[null,{"$f":"IFERROR(VLOOKUP(A759,Base!$A$2:$D$460,2,0),\"\")","v":""},{"$f":"IFERROR(VLOOKUP(A759,Base!$A$2:$D$460,3,0),\"\")","v":""},{"$f":"IFERROR(VLOOKUP(A759,Base!$A$2:$D$460,4,0),\"\")","v":""},null,null,null,null,null,null,null,null,null,null,null,null,null,0]
[null,{"$f":"IFERROR(VLOOKUP(A760,Base!$A$2:$D$460,2,0),\"\")","v":""},{"$f":"IFERROR(VLOOKUP(A760,Base!$A$2:$D$460,3,0),\"\")","v":""},{"$f":"IFERROR(VLOOKUP(A760,Base!$A$2:$D$460,4,0),\"\")","v":""},null,null,null,null,null,null,null,null,null,null,null,null,null,0]
[null,{"$f":"IFERROR(VLOOKUP(A761,Base!$A$2:$D$460,2,0),\"\")","v":""},{"$f":"IFERROR(VLOOKUP(A761,Base!$A$2:$D$460,3,0),\"\")","v":""},{"$f":"IFERROR(VLOOKUP(A761,Base!$A$2:$D$460,4,0),\"\")","v":""},null,null,null,null,null,null,null,null,null,null,null,null,null,0]
[null,{"$f":"IFERROR(VLOOKUP(A762,Base!$A$2:$D$460,2,0),\"\")","v":""},{"$f":"IFERROR(VLOOKUP(A762,Base!$A$2:$D$460,3,0),\"\")","v":""},{"$f":"IFERROR(VLOOKUP(A762,Base!$A$2:$D$460,4,0),\"\")","v":""},null,null,null,null,null,null,null,null,null,null,null,null,null,0]
[null,{"$f":"IFERROR(VLOOKUP(A763,Base!$A$2:$D$460,2,0),\"\")","v":""},{"$f":"IFERROR(VLOOKUP(A763,Base!$A$2:$D$460,3,0),\"\")","v":""},{"$f":"IFERROR(VLOOKUP(A763,Base!$A$2:$D$460,4,0),\"\")","v":""},null,null,null,null,null,null,null,null,null,null,null,null,null,0]
[null,{"$f":"IFERROR(VLOOKUP(A764,Base!$A$2:$D$460,2,0),\"\")","v":""},{"$f":"IFERROR(VLOOKUP(A764,Base!$A$2:$D$460,3,0),\"\")","v":""},{"$f":"IFERROR(VLOOKUP(A764,Base!$A$2:$D$460,4,0),\"\")","v":""},null,null,null,null,null,null,null,null,null,null,null,null,null,0]
[null,{"$f":"IFERROR(VLOOKUP(A765,Base!$A$2:$D$460,2,0),\"\")","v":""},{"$f":"IFERROR(VLOOKUP(A765,Base!$A$2:$D$460,3,0),\"\")","v":""},{"$f":"IFERROR(VLOOKUP(A765,Base!$A$2:$D$460,4,0),\"\")","v":""},null,null,null,null,null,null,null,null,null,null,null,null,null,0]
[null,{"$f":"IFERROR(VLOOKUP(A766,Base!$A$2:$D$460,2,0),\"\")","v":""},{"$f":"IFERROR(VLOOKUP(A766,Base!$A$2:$D$460,3,0),\"\")","v":""},{"$f":"IFERROR(VLOOKUP(A766,Base!$A$2:$D$460,4,0),\"\")","v":""},null,null,null,null,null,null,null,null,null,null,null,null,null,0]
[null,{"$f":"IFERROR(VLOOKUP(A767,Base!$A$2:$D$460,2,0),\"\")","v":""},{"$f":"IFERROR(VLOOKUP(A767,Base!$A$2:$D$460,3,0),\"\")","v":""},{"$f":"IFERROR(VLOOKUP(A767,Base!$A$2:$D$460,4,0),\"\")","v":""},null,null,null,null,null,null,null,null,null,null,null,null,null,0]
[null,{"$f":"IFERROR(VLOOKUP(A768,Base!$A$2:$D$460,2,0),\"\")","v":""},{"$f":"IFERROR(VLOOKUP(A768,Base!$A$2:$D$460,3,0),\"\")","v":""},{"$f":"IFERROR(VLOOKUP(A768,Base!$A$2:$D$460,4,0),\"\")","v":""},null,null,null,null,null,null,null,null,null,null,null,null,null,0]
[null,{"$f":"IFERROR(VLOOKUP(A769,Base!$A$2:$D$460,2,0),\"\")","v":""},{"$f":"IFERROR(VLOOKUP(A769,Base!$A$2:$D$460,3,0),\"\")","v":""},{"$f":"IFERROR(VLOOKUP(A769,Base!$A$2:$D$460,4,0),\"\")","v":""},null,null,null,null,null,null,null,null,null,null,null,null,null,0]
[null,{"$f":"IFERROR(VLOOKUP(A770,Base!$A$2:$D$460,2,0),\"\")","v":""},{"$f":"IFERROR(VLOOKUP(A770,Base!$A$2:$D$460,3,0),\"\")","v":""},{"$f":"IFERROR(VLOOKUP(A770,Base!$A$2:$D$460,4,0),\"\")","v":""},null,null,null,null,null,null,null,null,null,null,null,null,null,0]
[null,{"$f":"IFERROR(VLOOKUP(A771,Base!$A$2:$D$460,2,0),\"\")","v":""},{"$f":"IFERROR(VLOOKUP(A771,Base!$A$2:$D$460,3,0),\"\")","v":""},{"$f":"IFERROR(VLOOKUP(A771,Base!$A$2:$D$460,4,0),\"\")","v":""},null,null,null,null,null,null,null,null,null,null,null,null,null,0]
[null,{"$f":"IFERROR(VLOOKUP(A772,Base!$A$2:$D$460,2,0),\"\")","v":""},{"$f":"IFERROR(VLOOKUP(A772,Base!$A$2:$D$460,3,0),\"\")","v":""},{"$f":"IFERROR(VLOOKUP(A772,Base!$A$2:$D$460,4,0),\"\")","v":""},null,null,null,null,null,null,null,null,null,null,null,null,null,0]
[null,{"$f":"IFERROR(VLOOKUP(A773,Base!$A$2:$D$460,2,0),\"\")","v":""},{"$f":"IFERROR(VLOOKUP(A773,Base!$A$2:$D$460,3,0),\"\")","v":""},{"$f":"IFERROR(VLOOKUP(A773,Base!$A$2:$D$460,4,0),\"\")","v":""},null,null,null,null,null,null,null,null,null,null,null,null,null,0]
[null,{"$f":"IFERROR(VLOOKUP(A774,Base!$A$2:$D$460,2,0),\"\")","v":""},{"$f":"IFERROR(VLOOKUP(A774,Base!$A$2:$D$460,3,0),\"\")","v":""},{"$f":"IFERROR(VLOOKUP(A774,Base!$A$2:$D$460,4,0),\"\")","v":""},null,null,null,null,null,null,null,null,null,null,null,null,null,0]
[null,{"$f":"IFERROR(VLOOKUP(A775,Base!$A$2:$D$460,2,0),\"\")","v":""},{"$f":"IFERROR(VLOOKUP(A775,Base!$A$2:$D$460,3,0),\"\")","v":""},{"$f":"IFERROR(VLOOKUP(A775,Base!$A$2:$D$460,4,0),\"\")","v":""},null,null,null,null,null,null,null,null,null,null,null,null,null,0]
[null,{"$f":"IFERROR(VLOOKUP(A776,Base!$A$2:$D$460,2,0),\"\")","v":""},{"$f":"IFERROR(VLOOKUP(A776,Base!$A$2:$D$460,3,0),\"\")","v":""},{"$f":"IFERROR(VLOOKUP(A776,Base!$A$2:$D$460,4,0),\"\")","v":""},null,null,null,null,null,null,null,null,null,null,null,null,null,0]
[null,{"$f":"IFERROR(VLOOKUP(A777,Base!$A$2:$D$460,2,0),\"\")","v":""},{"$f":"IFERROR(VLOOKUP(A777,Base!$A$2:$D$460,3,0),\"\")","v":""},{"$f":"IFERROR(VLOOKUP(A777,Base!$A$2:$D$460,4,0),\"\")","v":""},null,null,null,null,null,null,null,null,null,null,null,null,null,0]
[null,{"$f":"IFERROR(VLOOKUP(A778,Base!$A$2:$D$460,2,0),\"\")","v":""},{"$f":"IFERROR(VLOOKUP(A778,Base!$A$2:$D$460,3,0),\"\")","v":""},{"$f":"IFERROR(VLOOKUP(A778,Base!$A$2:$D$460,4,0),\"\")","v":""},null,null,null,null,null,null,null,null,null,null,null,null,null,0]
[null,{"$f":"IFERROR(VLOOKUP(A779,Base!$A$2:$D$460,2,0),\"\")","v":""},{"$f":"IFERROR(VLOOKUP(A779,Base!$A$2:$D$460,3,0),\"\")","v":""},{"$f":"IFERROR(VLOOKUP(A779,Base!$A$2:$D$460,4,0),\"\")","v":""},null,null,null,null,null,null,null,null,null,null,null,null,null,{"$f":"SUM(N779:Q779)/4","v":0}]
[null,{"$f":"IFERROR(VLOOKUP(A780,Base!$A$2:$D$460,2,0),\"\")","v":""},{"$f":"IFERROR(VLOOKUP(A780,Base!$A$2:$D$460,3,0),\"\")","v":""},{"$f":"IFERROR(VLOOKUP(A780,Base!$A$2:$D$460,4,0),\"\")","v":""},null,null,null,null,null,null,null,null,null,null,null,null,null,0]
[null,{"$f":"IFERROR(VLOOKUP(A781,Base!$A$2:$D$460,2,0),\"\")","v":""},{"$f":"IFERROR(VLOOKUP(A781,Base!$A$2:$D$460,3,0),\"\")","v":""},{"$f":"IFERROR(VLOOKUP(A781,Base!$A$2:$D$460,4,0),\"\")","v":""},null,null,null,null,null,null,null,null,null,null,null,null,null,0]
[null,{"$f":"IFERROR(VLOOKUP(A782,Base!$A$2:$D$460,2,0),\"\")","v":""},{"$f":"IFERROR(VLOOKUP(A782,Base!$A$2:$D$460,3,0),\"\")","v":""},{"$f":"IFERROR(VLOOKUP(A782,Base!$A$2:$D$460,4,0),\"\")","v":""},null,null,null,null,null,null,null,null,null,null,null,null,null,0]
[null,{"$f":"IFERROR(VLOOKUP(A783,Base!$A$2:$D$460,2,0),\"\")","v":""},{"$f":"IFERROR(VLOOKUP(A783,Base!$A$2:$D$460,3,0),\"\")","v":""},{"$f":"IFERROR(VLOOKUP(A783,Base!$A$2:$D$460,4,0),\"\")","v":""},null,null,null,null,null,null,null,null,null,null,null,null,null,0]
[null,{"$f":"IFERROR(VLOOKUP(A784,Base!$A$2:$D$460,2,0),\"\")","v":""},{"$f":"IFERROR(VLOOKUP(A784,Base!$A$2:$D$460,3,0),\"\")","v":""},{"$f":"IFERROR(VLOOKUP(A784,Base!$A$2:$D$460,4,0),\"\")","v":""},null,null,null,null,null,null,null,null,null,null,null,null,null,0]
[null,{"$f":"IFERROR(VLOOKUP(A785,Base!$A$2:$D$460,2,0),\"\")","v":""},{"$f":"IFERROR(VLOOKUP(A785,Base!$A$2:$D$460,3,0),\"\")","v":""},{"$f":"IFERROR(VLOOKUP(A785,Base!$A$2:$D$460,4,0),\"\")","v":""},null,null,null,null,null,null,null,null,null,null,null,null,null,0]
[null,{"$f":"IFERROR(VLOOKUP(A786,Base!$A$2:$D$460,2,0),\"\")","v":""},{"$f":"IFERROR(VLOOKUP(A786,Base!$A$2:$D$460,3,0),\"\")","v":""},{"$f":"IFERROR(VLOOKUP(A786,Base!$A$2:$D$460,4,0),\"\")","v":""},null,null,null,null,null,null,null,null,null,null,null,null,null,0]
[null,{"$f":"IFERROR(VLOOKUP(A787,Base!$A$2:$D$460,2,0),\"\")","v":""},{"$f":"IFERROR(VLOOKUP(A787,Base!$A$2:$D$460,3,0),\"\")","v":""},{"$f":"IFERROR(VLOOKUP(A787,Base!$A$2:$D$460,4,0),\"\")","v":""},null,null,null,null,null,null,null,null,null,null,null,null,null,0]
[null,{"$f":"IFERROR(VLOOKUP(A788,Base!$A$2:$D$460,2,0),\"\")","v":""},{"$f":"IFERROR(VLOOKUP(A788,Base!$A$2:$D$460,3,0),\"\")","v":""},{"$f":"IFERROR(VLOOKUP(A788,Base!$A$2:$D$460,4,0),\"\")","v":""},null,null,null,null,null,null,null,null,null,null,null,null,null,0]
[null,{"$f":"IFERROR(VLOOKUP(A789,Base!$A$2:$D$460,2,0),\"\")","v":""},{"$f":"IFERROR(VLOOKUP(A789,Base!$A$2:$D$460,3,0),\"\")","v":""},{"$f":"IFERROR(VLOOKUP(A789,Base!$A$2:$D$460,4,0),\"\")","v":""},null,null,null,null,null,null,null,null,null,null,null,null,null,0]
[null,{"$f":"IFERROR(VLOOKUP(A790,Base!$A$2:$D$460,2,0),\"\")","v":""},{"$f":"IFERROR(VLOOKUP(A790,Base!$A$2:$D$460,3,0),\"\")","v":""},{"$f":"IFERROR(VLOOKUP(A790,Base!$A$2:$D$460,4,0),\"\")","v":""},null,null,null,null,null,null,null,null,null,null,null,null,null,0]
[null,{"$f":"IFERROR(VLOOKUP(A791,Base!$A$2:$D$460,2,0),\"\")","v":""},{"$f":"IFERROR(VLOOKUP(A791,Base!$A$2:$D$460,3,0),\"\")","v":""},{"$f":"IFERROR(VLOOKUP(A791,Base!$A$2:$D$460,4,0),\"\")","v":""},null,null,null,null,null,null,null,null,null,null,null,null,null,0]
[null,{"$f":"IFERROR(VLOOKUP(A792,Base!$A$2:$D$460,2,0),\"\")","v":""},{"$f":"IFERROR(VLOOKUP(A792,Base!$A$2:$D$460,3,0),\"\")","v":""},{"$f":"IFERROR(VLOOKUP(A792,Base!$A$2:$D$460,4,0),\"\")","v":""},null,null,null,null,null,null,null,null,null,null,null,null,null,0]
[null,{"$f":"IFERROR(VLOOKUP(A793,Base!$A$2:$D$460,2,0),\"\")","v":""},{"$f":"IFERROR(VLOOKUP(A793,Base!$A$2:$D$460,3,0),\"\")","v":""},{"$f":"IFERROR(VLOOKUP(A793,Base!$A$2:$D$460,4,0),\"\")","v":""},null,null,null,null,null,null,null,null,null,null,null,null,null,0]
[null,{"$f":"IFERROR(VLOOKUP(A794,Base!$A$2:$D$460,2,0),\"\")","v":""},{"$f":"IFERROR(VLOOKUP(A794,Base!$A$2:$D$460,3,0),\"\")","v":""},{"$f":"IFERROR(VLOOKUP(A794,Base!$A$2:$D$460,4,0),\"\")","v":""},null,null,null,null,null,null,null,null,null,null,null,null,null,0]
[null,{"$f":"IFERROR(VLOOKUP(A795,Base!$A$2:$D$460,2,0),\"\")","v":""},{"$f":"IFERROR(VLOOKUP(A795,Base!$A$2:$D$460,3,0),\"\")","v":""},{"$f":"IFERROR(VLOOKUP(A795,Base!$A$2:$D$460,4,0),\"\")","v":""},null,null,null,null,null,null,null,null,null,null,null,null,null,0]
[null,{"$f":"IFERROR(VLOOKUP(A796,Base!$A$2:$D$460,2,0),\"\")","v":""},{"$f":"IFERROR(VLOOKUP(A796,Base!$A$2:$D$460,3,0),\"\")","v":""},{"$f":"IFERROR(VLOOKUP(A796,Base!$A$2:$D$460,4,0),\"\")","v":""},null,null,null,null,null,null,null,null,null,null,null,null,null,0]
[null,{"$f":"IFERROR(VLOOKUP(A797,Base!$A$2:$D$460,2,0),\"\")","v":""},{"$f":"IFERROR(VLOOKUP(A797,Base!$A$2:$D$460,3,0),\"\")","v":""},{"$f":"IFERROR(VLOOKUP(A797,Base!$A$2:$D$460,4,0),\"\")","v":""},null,null,null,null,null,null,null,null,null,null,null,null,null,0]
[null,{"$f":"IFERROR(VLOOKUP(A798,Base!$A$2:$D$460,2,0),\"\")","v":""},{"$f":"IFERROR(VLOOKUP(A798,Base!$A$2:$D$460,3,0),\"\")","v":""},{"$f":"IFERROR(VLOOKUP(A798,Base!$A$2:$D$460,4,0),\"\")","v":""},null,null,null,null,null,null,null,null,null,null,null,null,null,0]
[null,{"$f":"IFERROR(VLOOKUP(A799,Base!$A$2:$D$460,2,0),\"\")","v":""},{"$f":"IFERROR(VLOOKUP(A799,Base!$A$2:$D$460,3,0),\"\")","v":""},{"$f":"IFERROR(VLOOKUP(A799,Base!$A$2:$D$460,4,0),\"\")","v":""},null,null,null,null,null,null,null,null,null,null,null,null,null,0]
[null,{"$f":"IFERROR(VLOOKUP(A800,Base!$A$2:$D$460,2,0),\"\")","v":""},{"$f":"IFERROR(VLOOKUP(A800,Base!$A$2:$D$460,3,0),\"\")","v":""},{"$f":"IFERROR(VLOOKUP(A800,Base!$A$2:$D$460,4,0),\"\")","v":""},null,null,null,null,null,null,null,null,null,null,null,null,null,0]
[null,{"$f":"IFERROR(VLOOKUP(A801,Base!$A$2:$D$460,2,0),\"\")","v":""},{"$f":"IFERROR(VLOOKUP(A801,Base!$A$2:$D$460,3,0),\"\")","v":""},{"$f":"IFERROR(VLOOKUP(A801,Base!$A$2:$D$460,4,0),\"\")","v":""},null,null,null,null,null,null,null,null,null,null,null,null,null,0]
[null,{"$f":"IFERROR(VLOOKUP(A802,Base!$A$2:$D$460,2,0),\"\")","v":""},{"$f":"IFERROR(VLOOKUP(A802,Base!$A$2:$D$460,3,0),\"\")","v":""},{"$f":"IFERROR(VLOOKUP(A802,Base!$A$2:$D$460,4,0),\"\")","v":""},null,null,null,null,null,null,null,null,null,null,null,null,null,0]
[null,{"$f":"IFERROR(VLOOKUP(A803,Base!$A$2:$D$460,2,0),\"\")","v":""},{"$f":"IFERROR(VLOOKUP(A803,Base!$A$2:$D$460,3,0),\"\")","v":""},{"$f":"IFERROR(VLOOKUP(A803,Base!$A$2:$D$460,4,0),\"\")","v":""},null,null,null,null,null,null,null,null,null,null,null,null,null,0]
[null,{"$f":"IFERROR(VLOOKUP(A804,Base!$A$2:$D$460,2,0),\"\")","v":""},{"$f":"IFERROR(VLOOKUP(A804,Base!$A$2:$D$460,3,0),\"\")","v":""},{"$f":"IFERROR(VLOOKUP(A804,Base!$A$2:$D$460,4,0),\"\")","v":""},null,null,null,null,null,null,null,null,null,null,null,null,null,0]
[null,{"$f":"IFERROR(VLOOKUP(A805,Base!$A$2:$D$460,2,0),\"\")","v":""},{"$f":"IFERROR(VLOOKUP(A805,Base!$A$2:$D$460,3,0),\"\")","v":""},{"$f":"IFERROR(VLOOKUP(A805,Base!$A$2:$D$460,4,0),\"\")","v":""},null,null,null,null,null,null,null,null,null,null,null,null,null,0]
[null,{"$f":"IFERROR(VLOOKUP(A806,Base!$A$2:$D$460,2,0),\"\")","v":""},{"$f":"IFERROR(VLOOKUP(A806,Base!$A$2:$D$460,3,0),\"\")","v":""},{"$f":"IFERROR(VLOOKUP(A806,Base!$A$2:$D$460,4,0),\"\")","v":""},null,null,null,null,null,null,null,null,null,null,null,null,null,0]
[null,{"$f":"IFERROR(VLOOKUP(A807,Base!$A$2:$D$460,2,0),\"\")","v":""},{"$f":"IFERROR(VLOOKUP(A807,Base!$A$2:$D$460,3,0),\"\")","v":""},{"$f":"IFERROR(VLOOKUP(A807,Base!$A$2:$D$460,4,0),\"\")","v":""},null,null,null,null,null,null,null,null,null,null,null,null,null,0]
[null,{"$f":"IFERROR(VLOOKUP(A808,Base!$A$2:$D$460,2,0),\"\")","v":""},{"$f":"IFERROR(VLOOKUP(A808,Base!$A$2:$D$460,3,0),\"\")","v":""},{"$f":"IFERROR(VLOOKUP(A808,Base!$A$2:$D$460,4,0),\"\")","v":""},null,null,null,null,null,null,null,null,null,null,null,null,null,0]
[null,{"$f":"IFERROR(VLOOKUP(A809,Base!$A$2:$D$460,2,0),\"\")","v":""},{"$f":"IFERROR(VLOOKUP(A809,Base!$A$2:$D$460,3,0),\"\")","v":""},{"$f":"IFERROR(VLOOKUP(A809,Base!$A$2:$D$460,4,0),\"\")","v":""},null,null,null,null,null,null,null,null,null,null,null,null,null,0]
[null,{"$f":"IFERROR(VLOOKUP(A810,Base!$A$2:$D$460,2,0),\"\")","v":""},{"$f":"IFERROR(VLOOKUP(A810,Base!$A$2:$D$460,3,0),\"\")","v":""},{"$f":"IFERROR(VLOOKUP(A810,Base!$A$2:$D$460,4,0),\"\")","v":""},null,null,null,null,null,null,null,null,null,null,null,null,null,0]
[null,{"$f":"IFERROR(VLOOKUP(A811,Base!$A$2:$D$460,2,0),\"\")","v":""},{"$f":"IFERROR(VLOOKUP(A811,Base!$A$2:$D$460,3,0),\"\")","v":""},{"$f":"IFERROR(VLOOKUP(A811,Base!$A$2:$D$460,4,0),\"\")","v":""},null,null,null,null,null,null,null,null,null,null,null,null,null,0]
[null,{"$f":"IFERROR(VLOOKUP(A812,Base!$A$2:$D$460,2,0),\"\")","v":""},{"$f":"IFERROR(VLOOKUP(A812,Base!$A$2:$D$460,3,0),\"\")","v":""},{"$f":"IFERROR(VLOOKUP(A812,Base!$A$2:$D$460,4,0),\"\")","v":""},null,null,null,null,null,null,null,null,null,null,null,null,null,0]
[null,{"$f":"IFERROR(VLOOKUP(A813,Base!$A$2:$D$460,2,0),\"\")","v":""},{"$f":"IFERROR(VLOOKUP(A813,Base!$A$2:$D$460,3,0),\"\")","v":""},{"$f":"IFERROR(VLOOKUP(A813,Base!$A$2:$D$460,4,0),\"\")","v":""},null,null,null,null,null,null,null,null,null,null,null,null,null,0]
[null,{"$f":"IFERROR(VLOOKUP(A814,Base!$A$2:$D$460,2,0),\"\")","v":""},{"$f":"IFERROR(VLOOKUP(A814,Base!$A$2:$D$460,3,0),\"\")","v":""},{"$f":"IFERROR(VLOOKUP(A814,Base!$A$2:$D$460,4,0),\"\")","v":""},null,null,null,null,null,null,null,null,null,null,null,null,null,0]
[null,{"$f":"IFERROR(VLOOKUP(A815,Base!$A$2:$D$460,2,0),\"\")","v":""},{"$f":"IFERROR(VLOOKUP(A815,Base!$A$2:$D$460,3,0),\"\")","v":""},{"$f":"IFERROR(VLOOKUP(A815,Base!$A$2:$D$460,4,0),\"\")","v":""},null,null,null,null,null,null,null,null,null,null,null,null,null,0]
[null,{"$f":"IFERROR(VLOOKUP(A816,Base!$A$2:$D$460,2,0),\"\")","v":""},{"$f":"IFERROR(VLOOKUP(A816,Base!$A$2:$D$460,3,0),\"\")","v":""},{"$f":"IFERROR(VLOOKUP(A816,Base!$A$2:$D$460,4,0),\"\")","v":""},null,null,null,null,null,null,null,null,null,null,null,null,null,0]
[null,{"$f":"IFERROR(VLOOKUP(A817,Base!$A$2:$D$460,2,0),\"\")","v":""},{"$f":"IFERROR(VLOOKUP(A817,Base!$A$2:$D$460,3,0),\"\")","v":""},{"$f":"IFERROR(VLOOKUP(A817,Base!$A$2:$D$460,4,0),\"\")","v":""},null,null,null,null,null,null,null,null,null,null,null,null,null,0]
[null,{"$f":"IFERROR(VLOOKUP(A818,Base!$A$2:$D$460,2,0),\"\")","v":""},{"$f":"IFERROR(VLOOKUP(A818,Base!$A$2:$D$460,3,0),\"\")","v":""},{"$f":"IFERROR(VLOOKUP(A818,Base!$A$2:$D$460,4,0),\"\")","v":""},null,null,null,null,null,null,null,null,null,null,null,null,null,0]
[null,{"$f":"IFERROR(VLOOKUP(A819,Base!$A$2:$D$460,2,0),\"\")","v":""},{"$f":"IFERROR(VLOOKUP(A819,Base!$A$2:$D$460,3,0),\"\")","v":""},{"$f":"IFERROR(VLOOKUP(A819,Base!$A$2:$D$460,4,0),\"\")","v":""},null,null,null,null,null,null,null,null,null,null,null,null,null,0]
[null,{"$f":"IFERROR(VLOOKUP(A820,Base!$A$2:$D$460,2,0),\"\")","v":""},{"$f":"IFERROR(VLOOKUP(A820,Base!$A$2:$D$460,3,0),\"\")","v":""},{"$f":"IFERROR(VLOOKUP(A820,Base!$A$2:$D$460,4,0),\"\")","v":""},null,null,null,null,null,null,null,null,null,null,null,null,null,0]
[null,{"$f":"IFERROR(VLOOKUP(A821,Base!$A$2:$D$460,2,0),\"\")","v":""},{"$f":"IFERROR(VLOOKUP(A821,Base!$A$2:$D$460,3,0),\"\")","v":""},{"$f":"IFERROR(VLOOKUP(A821,Base!$A$2:$D$460,4,0),\"\")","v":""},null,null,null,null,null,null,null,null,null,null,null,null,null,0]
[null,{"$f":"IFERROR(VLOOKUP(A822,Base!$A$2:$D$460,2,0),\"\")","v":""},{"$f":"IFERROR(VLOOKUP(A822,Base!$A$2:$D$460,3,0),\"\")","v":""},{"$f":"IFERROR(VLOOKUP(A822,Base!$A$2:$D$460,4,0),\"\")","v":""},null,null,null,null,null,null,null,null,null,null,null,null,null,0]
[null,{"$f":"IFERROR(VLOOKUP(A823,Base!$A$2:$D$460,2,0),\"\")","v":""},{"$f":"IFERROR(VLOOKUP(A823,Base!$A$2:$D$460,3,0),\"\")","v":""},{"$f":"IFERROR(VLOOKUP(A823,Base!$A$2:$D$460,4,0),\"\")","v":""},null,null,null,null,null,null,null,null,null,null,null,null,null,0]
[null,{"$f":"IFERROR(VLOOKUP(A824,Base!$A$2:$D$460,2,0),\"\")","v":""},{"$f":"IFERROR(VLOOKUP(A824,Base!$A$2:$D$460,3,0),\"\")","v":""},{"$f":"IFERROR(VLOOKUP(A824,Base!$A$2:$D$460,4,0),\"\")","v":""},null,null,null,null,null,null,null,null,null,null,null,null,null,0]
[null,{"$f":"IFERROR(VLOOKUP(A825,Base!$A$2:$D$460,2,0),\"\")","v":""},{"$f":"IFERROR(VLOOKUP(A825,Base!$A$2:$D$460,3,0),\"\")","v":""},{"$f":"IFERROR(VLOOKUP(A825,Base!$A$2:$D$460,4,0),\"\")","v":""},null,null,null,null,null,null,null,null,null,null,null,null,null,0]
[null,{"$f":"IFERROR(VLOOKUP(A826,Base!$A$2:$D$460,2,0),\"\")","v":""},{"$f":"IFERROR(VLOOKUP(A826,Base!$A$2:$D$460,3,0),\"\")","v":""},{"$f":"IFERROR(VLOOKUP(A826,Base!$A$2:$D$460,4,0),\"\")","v":""},null,null,null,null,null,null,null,null,null,null,null,null,null,0]
[null,{"$f":"IFERROR(VLOOKUP(A827,Base!$A$2:$D$460,2,0),\"\")","v":""},{"$f":"IFERROR(VLOOKUP(A827,Base!$A$2:$D$460,3,0),\"\")","v":""},{"$f":"IFERROR(VLOOKUP(A827,Base!$A$2:$D$460,4,0),\"\")","v":""},null,null,null,null,null,null,null,null,null,null,null,null,null,0]
[null,{"$f":"IFERROR(VLOOKUP(A828,Base!$A$2:$D$460,2,0),\"\")","v":""},{"$f":"IFERROR(VLOOKUP(A828,Base!$A$2:$D$460,3,0),\"\")","v":""},{"$f":"IFERROR(VLOOKUP(A828,Base!$A$2:$D$460,4,0),\"\")","v":""},null,null,null,null,null,null,null,null,null,null,null,null,null,0]
[null,{"$f":"IFERROR(VLOOKUP(A829,Base!$A$2:$D$460,2,0),\"\")","v":""},{"$f":"IFERROR(VLOOKUP(A829,Base!$A$2:$D$460,3,0),\"\")","v":""},{"$f":"IFERROR(VLOOKUP(A829,Base!$A$2:$D$460,4,0),\"\")","v":""},null,null,null,null,null,null,null,null,null,null,null,null,null,0]
[null,{"$f":"IFERROR(VLOOKUP(A830,Base!$A$2:$D$460,2,0),\"\")","v":""},{"$f":"IFERROR(VLOOKUP(A830,Base!$A$2:$D$460,3,0),\"\")","v":""},{"$f":"IFERROR(VLOOKUP(A830,Base!$A$2:$D$460,4,0),\"\")","v":""},null,null,null,null,null,null,null,null,null,null,null,null,null,0]
[null,{"$f":"IFERROR(VLOOKUP(A831,Base!$A$2:$D$460,2,0),\"\")","v":""},{"$f":"IFERROR(VLOOKUP(A831,Base!$A$2:$D$460,3,0),\"\")","v":""},{"$f":"IFERROR(VLOOKUP(A831,Base!$A$2:$D$460,4,0),\"\")","v":""},null,null,null,null,null,null,null,null,null,null,null,null,null,0]
[null,{"$f":"IFERROR(VLOOKUP(A832,Base!$A$2:$D$460,2,0),\"\")","v":""},{"$f":"IFERROR(VLOOKUP(A832,Base!$A$2:$D$460,3,0),\"\")","v":""},{"$f":"IFERROR(VLOOKUP(A832,Base!$A$2:$D$460,4,0),\"\")","v":""},null,null,null,null,null,null,null,null,null,null,null,null,null,0]
[null,{"$f":"IFERROR(VLOOKUP(A833,Base!$A$2:$D$460,2,0),\"\")","v":""},{"$f":"IFERROR(VLOOKUP(A833,Base!$A$2:$D$460,3,0),\"\")","v":""},{"$f":"IFERROR(VLOOKUP(A833,Base!$A$2:$D$460,4,0),\"\")","v":""},null,null,null,null,null,null,null,null,null,null,null,null,null,0]
[null,{"$f":"IFERROR(VLOOKUP(A834,Base!$A$2:$D$460,2,0),\"\")","v":""},{"$f":"IFERROR(VLOOKUP(A834,Base!$A$2:$D$460,3,0),\"\")","v":""},{"$f":"IFERROR(VLOOKUP(A834,Base!$A$2:$D$460,4,0),\"\")","v":""},null,null,null,null,null,null,null,null,null,null,null,null,null,0]
[null,{"$f":"IFERROR(VLOOKUP(A835,Base!$A$2:$D$460,2,0),\"\")","v":""},{"$f":"IFERROR(VLOOKUP(A835,Base!$A$2:$D$460,3,0),\"\")","v":""},{"$f":"IFERROR(VLOOKUP(A835,Base!$A$2:$D$460,4,0),\"\")","v":""},null,null,null,null,null,null,null,null,null,null,null,null,null,0]
[null,{"$f":"IFERROR(VLOOKUP(A836,Base!$A$2:$D$460,2,0),\"\")","v":""},{"$f":"IFERROR(VLOOKUP(A836,Base!$A$2:$D$460,3,0),\"\")","v":""},{"$f":"IFERROR(VLOOKUP(A836,Base!$A$2:$D$460,4,0),\"\")","v":""},null,null,null,null,null,null,null,null,null,null,null,null,null,0]
[null,{"$f":"IFERROR(VLOOKUP(A837,Base!$A$2:$D$460,2,0),\"\")","v":""},{"$f":"IFERROR(VLOOKUP(A837,Base!$A$2:$D$460,3,0),\"\")","v":""},{"$f":"IFERROR(VLOOKUP(A837,Base!$A$2:$D$460,4,0),\"\")","v":""},null,null,null,null,null,null,null,null,null,null,null,null,null,0]
[null,{"$f":"IFERROR(VLOOKUP(A838,Base!$A$2:$D$460,2,0),\"\")","v":""},{"$f":"IFERROR(VLOOKUP(A838,Base!$A$2:$D$460,3,0),\"\")","v":""},{"$f":"IFERROR(VLOOKUP(A838,Base!$A$2:$D$460,4,0),\"\")","v":""},null,null,null,null,null,null,null,null,null,null,null,null,null,0]
[null,{"$f":"IFERROR(VLOOKUP(A839,Base!$A$2:$D$460,2,0),\"\")","v":""},{"$f":"IFERROR(VLOOKUP(A839,Base!$A$2:$D$460,3,0),\"\")","v":""},{"$f":"IFERROR(VLOOKUP(A839,Base!$A$2:$D$460,4,0),\"\")","v":""},null,null,null,null,null,null,null,null,null,null,null,null,null,0]
[null,{"$f":"IFERROR(VLOOKUP(A840,Base!$A$2:$D$460,2,0),\"\")","v":""},{"$f":"IFERROR(VLOOKUP(A840,Base!$A$2:$D$460,3,0),\"\")","v":""},{"$f":"IFERROR(VLOOKUP(A840,Base!$A$2:$D$460,4,0),\"\")","v":""},null,null,null,null,null,null,null,null,null,null,null,null,null,0]
[null,{"$f":"IFERROR(VLOOKUP(A841,Base!$A$2:$D$460,2,0),\"\")","v":""},{"$f":"IFERROR(VLOOKUP(A841,Base!$A$2:$D$460,3,0),\"\")","v":""},{"$f":"IFERROR(VLOOKUP(A841,Base!$A$2:$D$460,4,0),\"\")","v":""},null,null,null,null,null,null,null,null,null,null,null,null,null,0]
[null,{"$f":"IFERROR(VLOOKUP(A842,Base!$A$2:$D$460,2,0),\"\")","v":""},{"$f":"IFERROR(VLOOKUP(A842,Base!$A$2:$D$460,3,0),\"\")","v":""},{"$f":"IFERROR(VLOOKUP(A842,Base!$A$2:$D$460,4,0),\"\")","v":""},null,null,null,null,null,null,null,null,null,null,null,null,null,0]
[null,{"$f":"IFERROR(VLOOKUP(A843,Base!$A$2:$D$460,2,0),\"\")","v":""},{"$f":"IFERROR(VLOOKUP(A843,Base!$A$2:$D$460,3,0),\"\")","v":""},{"$f":"IFERROR(VLOOKUP(A843,Base!$A$2:$D$460,4,0),\"\")","v":""},null,null,null,null,null,null,null,null,null,null,null,null,null,{"$f":"SUM(N843:Q843)/4","v":0}]
[null,{"$f":"IFERROR(VLOOKUP(A844,Base!$A$2:$D$460,2,0),\"\")","v":""},{"$f":"IFERROR(VLOOKUP(A844,Base!$A$2:$D$460,3,0),\"\")","v":""},{"$f":"IFERROR(VLOOKUP(A844,Base!$A$2:$D$460,4,0),\"\")","v":""},null,null,null,null,null,null,null,null,null,null,null,null,null,0]
[null,{"$f":"IFERROR(VLOOKUP(A845,Base!$A$2:$D$460,2,0),\"\")","v":""},{"$f":"IFERROR(VLOOKUP(A845,Base!$A$2:$D$460,3,0),\"\")","v":""},{"$f":"IFERROR(VLOOKUP(A845,Base!$A$2:$D$460,4,0),\"\")","v":""},null,null,null,null,null,null,null,null,null,null,null,null,null,0]
[null,{"$f":"IFERROR(VLOOKUP(A846,Base!$A$2:$D$460,2,0),\"\")","v":""},{"$f":"IFERROR(VLOOKUP(A846,Base!$A$2:$D$460,3,0),\"\")","v":""},{"$f":"IFERROR(VLOOKUP(A846,Base!$A$2:$D$460,4,0),\"\")","v":""},null,null,null,null,null,null,null,null,null,null,null,null,null,0]
[null,{"$f":"IFERROR(VLOOKUP(A847,Base!$A$2:$D$460,2,0),\"\")","v":""},{"$f":"IFERROR(VLOOKUP(A847,Base!$A$2:$D$460,3,0),\"\")","v":""},{"$f":"IFERROR(VLOOKUP(A847,Base!$A$2:$D$460,4,0),\"\")","v":""},null,null,null,null,null,null,null,null,null,null,null,null,null,0]
[null,{"$f":"IFERROR(VLOOKUP(A848,Base!$A$2:$D$460,2,0),\"\")","v":""},{"$f":"IFERROR(VLOOKUP(A848,Base!$A$2:$D$460,3,0),\"\")","v":""},{"$f":"IFERROR(VLOOKUP(A848,Base!$A$2:$D$460,4,0),\"\")","v":""},null,null,null,null,null,null,null,null,null,null,null,null,null,0]
[null,{"$f":"IFERROR(VLOOKUP(A849,Base!$A$2:$D$460,2,0),\"\")","v":""},{"$f":"IFERROR(VLOOKUP(A849,Base!$A$2:$D$460,3,0),\"\")","v":""},{"$f":"IFERROR(VLOOKUP(A849,Base!$A$2:$D$460,4,0),\"\")","v":""},null,null,null,null,null,null,null,null,null,null,null,null,null,0]
[null,{"$f":"IFERROR(VLOOKUP(A850,Base!$A$2:$D$460,2,0),\"\")","v":""},{"$f":"IFERROR(VLOOKUP(A850,Base!$A$2:$D$460,3,0),\"\")","v":""},{"$f":"IFERROR(VLOOKUP(A850,Base!$A$2:$D$460,4,0),\"\")","v":""},null,null,null,null,null,null,null,null,null,null,null,null,null,0]
[null,{"$f":"IFERROR(VLOOKUP(A851,Base!$A$2:$D$460,2,0),\"\")","v":""},{"$f":"IFERROR(VLOOKUP(A851,Base!$A$2:$D$460,3,0),\"\")","v":""},{"$f":"IFERROR(VLOOKUP(A851,Base!$A$2:$D$460,4,0),\"\")","v":""},null,null,null,null,null,null,null,null,null,null,null,null,null,0]
[null,{"$f":"IFERROR(VLOOKUP(A852,Base!$A$2:$D$460,2,0),\"\")","v":""},{"$f":"IFERROR(VLOOKUP(A852,Base!$A$2:$D$460,3,0),\"\")","v":""},{"$f":"IFERROR(VLOOKUP(A852,Base!$A$2:$D$460,4,0),\"\")","v":""},null,null,null,null,null,null,null,null,null,null,null,null,null,0]
[null,{"$f":"IFERROR(VLOOKUP(A853,Base!$A$2:$D$460,2,0),\"\")","v":""},{"$f":"IFERROR(VLOOKUP(A853,Base!$A$2:$D$460,3,0),\"\")","v":""},{"$f":"IFERROR(VLOOKUP(A853,Base!$A$2:$D$460,4,0),\"\")","v":""},null,null,null,null,null,null,null,null,null,null,null,null,null,0]
[null,{"$f":"IFERROR(VLOOKUP(A854,Base!$A$2:$D$460,2,0),\"\")","v":""},{"$f":"IFERROR(VLOOKUP(A854,Base!$A$2:$D$460,3,0),\"\")","v":""},{"$f":"IFERROR(VLOOKUP(A854,Base!$A$2:$D$460,4,0),\"\")","v":""},null,null,null,null,null,null,null,null,null,null,null,null,null,0]
[null,{"$f":"IFERROR(VLOOKUP(A855,Base!$A$2:$D$460,2,0),\"\")","v":""},{"$f":"IFERROR(VLOOKUP(A855,Base!$A$2:$D$460,3,0),\"\")","v":""},{"$f":"IFERROR(VLOOKUP(A855,Base!$A$2:$D$460,4,0),\"\")","v":""},null,null,null,null,null,null,null,null,null,null,null,null,null,0]
[null,{"$f":"IFERROR(VLOOKUP(A856,Base!$A$2:$D$460,2,0),\"\")","v":""},{"$f":"IFERROR(VLOOKUP(A856,Base!$A$2:$D$460,3,0),\"\")","v":""},{"$f":"IFERROR(VLOOKUP(A856,Base!$A$2:$D$460,4,0),\"\")","v":""},null,null,null,null,null,null,null,null,null,null,null,null,null,0]
[null,{"$f":"IFERROR(VLOOKUP(A857,Base!$A$2:$D$460,2,0),\"\")","v":""},{"$f":"IFERROR(VLOOKUP(A857,Base!$A$2:$D$460,3,0),\"\")","v":""},{"$f":"IFERROR(VLOOKUP(A857,Base!$A$2:$D$460,4,0),\"\")","v":""},null,null,null,null,null,null,null,null,null,null,null,null,null,0]
[null,{"$f":"IFERROR(VLOOKUP(A858,Base!$A$2:$D$460,2,0),\"\")","v":""},{"$f":"IFERROR(VLOOKUP(A858,Base!$A$2:$D$460,3,0),\"\")","v":""},{"$f":"IFERROR(VLOOKUP(A858,Base!$A$2:$D$460,4,0),\"\")","v":""},null,null,null,null,null,null,null,null,null,null,null,null,null,0]
[null,{"$f":"IFERROR(VLOOKUP(A859,Base!$A$2:$D$460,2,0),\"\")","v":""},{"$f":"IFERROR(VLOOKUP(A859,Base!$A$2:$D$460,3,0),\"\")","v":""},{"$f":"IFERROR(VLOOKUP(A859,Base!$A$2:$D$460,4,0),\"\")","v":""},null,null,null,null,null,null,null,null,null,null,null,null,null,0]
[null,{"$f":"IFERROR(VLOOKUP(A860,Base!$A$2:$D$460,2,0),\"\")","v":""},{"$f":"IFERROR(VLOOKUP(A860,Base!$A$2:$D$460,3,0),\"\")","v":""},{"$f":"IFERROR(VLOOKUP(A860,Base!$A$2:$D$460,4,0),\"\")","v":""},null,null,null,null,null,null,null,null,null,null,null,null,null,0]
[null,{"$f":"IFERROR(VLOOKUP(A861,Base!$A$2:$D$460,2,0),\"\")","v":""},{"$f":"IFERROR(VLOOKUP(A861,Base!$A$2:$D$460,3,0),\"\")","v":""},{"$f":"IFERROR(VLOOKUP(A861,Base!$A$2:$D$460,4,0),\"\")","v":""},null,null,null,null,null,null,null,null,null,null,null,null,null,0]
[null,{"$f":"IFERROR(VLOOKUP(A862,Base!$A$2:$D$460,2,0),\"\")","v":""},{"$f":"IFERROR(VLOOKUP(A862,Base!$A$2:$D$460,3,0),\"\")","v":""},{"$f":"IFERROR(VLOOKUP(A862,Base!$A$2:$D$460,4,0),\"\")","v":""},null,null,null,null,null,null,null,null,null,null,null,null,null,0]
[null,{"$f":"IFERROR(VLOOKUP(A863,Base!$A$2:$D$460,2,0),\"\")","v":""},{"$f":"IFERROR(VLOOKUP(A863,Base!$A$2:$D$460,3,0),\"\")","v":""},{"$f":"IFERROR(VLOOKUP(A863,Base!$A$2:$D$460,4,0),\"\")","v":""},null,null,null,null,null,null,null,null,null,null,null,null,null,0]
[null,{"$f":"IFERROR(VLOOKUP(A864,Base!$A$2:$D$460,2,0),\"\")","v":""},{"$f":"IFERROR(VLOOKUP(A864,Base!$A$2:$D$460,3,0),\"\")","v":""},{"$f":"IFERROR(VLOOKUP(A864,Base!$A$2:$D$460,4,0),\"\")","v":""},null,null,null,null,null,null,null,null,null,null,null,null,null,0]
[null,{"$f":"IFERROR(VLOOKUP(A865,Base!$A$2:$D$460,2,0),\"\")","v":""},{"$f":"IFERROR(VLOOKUP(A865,Base!$A$2:$D$460,3,0),\"\")","v":""},{"$f":"IFERROR(VLOOKUP(A865,Base!$A$2:$D$460,4,0),\"\")","v":""},null,null,null,null,null,null,null,null,null,null,null,null,null,0]
[null,{"$f":"IFERROR(VLOOKUP(A866,Base!$A$2:$D$460,2,0),\"\")","v":""},{"$f":"IFERROR(VLOOKUP(A866,Base!$A$2:$D$460,3,0),\"\")","v":""},{"$f":"IFERROR(VLOOKUP(A866,Base!$A$2:$D$460,4,0),\"\")","v":""},null,null,null,null,null,null,null,null,null,null,null,null,null,0]
[null,{"$f":"IFERROR(VLOOKUP(A867,Base!$A$2:$D$460,2,0),\"\")","v":""},{"$f":"IFERROR(VLOOKUP(A867,Base!$A$2:$D$460,3,0),\"\")","v":""},{"$f":"IFERROR(VLOOKUP(A867,Base!$A$2:$D$460,4,0),\"\")","v":""},null,null,null,null,null,null,null,null,null,null,null,null,null,0]
[null,{"$f":"IFERROR(VLOOKUP(A868,Base!$A$2:$D$460,2,0),\"\")","v":""},{"$f":"IFERROR(VLOOKUP(A868,Base!$A$2:$D$460,3,0),\"\")","v":""},{"$f":"IFERROR(VLOOKUP(A868,Base!$A$2:$D$460,4,0),\"\")","v":""},null,null,null,null,null,null,null,null,null,null,null,null,null,0]
[null,{"$f":"IFERROR(VLOOKUP(A869,Base!$A$2:$D$460,2,0),\"\")","v":""},{"$f":"IFERROR(VLOOKUP(A869,Base!$A$2:$D$460,3,0),\"\")","v":""},{"$f":"IFERROR(VLOOKUP(A869,Base!$A$2:$D$460,4,0),\"\")","v":""},null,null,null,null,null,null,null,null,null,null,null,null,null,0]
[null,{"$f":"IFERROR(VLOOKUP(A870,Base!$A$2:$D$460,2,0),\"\")","v":""},{"$f":"IFERROR(VLOOKUP(A870,Base!$A$2:$D$460,3,0),\"\")","v":""},{"$f":"IFERROR(VLOOKUP(A870,Base!$A$2:$D$460,4,0),\"\")","v":""},null,null,null,null,null,null,null,null,null,null,null,null,null,0]
[null,{"$f":"IFERROR(VLOOKUP(A871,Base!$A$2:$D$460,2,0),\"\")","v":""},{"$f":"IFERROR(VLOOKUP(A871,Base!$A$2:$D$460,3,0),\"\")","v":""},{"$f":"IFERROR(VLOOKUP(A871,Base!$A$2:$D$460,4,0),\"\")","v":""},null,null,null,null,null,null,null,null,null,null,null,null,null,0]
[null,{"$f":"IFERROR(VLOOKUP(A872,Base!$A$2:$D$460,2,0),\"\")","v":""},{"$f":"IFERROR(VLOOKUP(A872,Base!$A$2:$D$460,3,0),\"\")","v":""},{"$f":"IFERROR(VLOOKUP(A872,Base!$A$2:$D$460,4,0),\"\")","v":""},null,null,null,null,null,null,null,null,null,null,null,null,null,0]
[null,{"$f":"IFERROR(VLOOKUP(A873,Base!$A$2:$D$460,2,0),\"\")","v":""},{"$f":"IFERROR(VLOOKUP(A873,Base!$A$2:$D$460,3,0),\"\")","v":""},{"$f":"IFERROR(VLOOKUP(A873,Base!$A$2:$D$460,4,0),\"\")","v":""},null,null,null,null,null,null,null,null,null,null,null,null,null,0]
[null,{"$f":"IFERROR(VLOOKUP(A874,Base!$A$2:$D$460,2,0),\"\")","v":""},{"$f":"IFERROR(VLOOKUP(A874,Base!$A$2:$D$460,3,0),\"\")","v":""},{"$f":"IFERROR(VLOOKUP(A874,Base!$A$2:$D$460,4,0),\"\")","v":""},null,null,null,null,null,null,null,null,null,null,null,null,null,0]
[null,{"$f":"IFERROR(VLOOKUP(A875,Base!$A$2:$D$460,2,0),\"\")","v":""},{"$f":"IFERROR(VLOOKUP(A875,Base!$A$2:$D$460,3,0),\"\")","v":""},{"$f":"IFERROR(VLOOKUP(A875,Base!$A$2:$D$460,4,0),\"\")","v":""},null,null,null,null,null,null,null,null,null,null,null,null,null,0]
[null,{"$f":"IFERROR(VLOOKUP(A876,Base!$A$2:$D$460,2,0),\"\")","v":""},{"$f":"IFERROR(VLOOKUP(A876,Base!$A$2:$D$460,3,0),\"\")","v":""},{"$f":"IFERROR(VLOOKUP(A876,Base!$A$2:$D$460,4,0),\"\")","v":""},null,null,null,null,null,null,null,null,null,null,null,null,null,0]
[null,{"$f":"IFERROR(VLOOKUP(A877,Base!$A$2:$D$460,2,0),\"\")","v":""},{"$f":"IFERROR(VLOOKUP(A877,Base!$A$2:$D$460,3,0),\"\")","v":""},{"$f":"IFERROR(VLOOKUP(A877,Base!$A$2:$D$460,4,0),\"\")","v":""},null,null,null,null,null,null,null,null,null,null,null,null,null,0]
[null,{"$f":"IFERROR(VLOOKUP(A878,Base!$A$2:$D$460,2,0),\"\")","v":""},{"$f":"IFERROR(VLOOKUP(A878,Base!$A$2:$D$460,3,0),\"\")","v":""},{"$f":"IFERROR(VLOOKUP(A878,Base!$A$2:$D$460,4,0),\"\")","v":""},null,null,null,null,null,null,null,null,null,null,null,null,null,0]
[null,{"$f":"IFERROR(VLOOKUP(A879,Base!$A$2:$D$460,2,0),\"\")","v":""},{"$f":"IFERROR(VLOOKUP(A879,Base!$A$2:$D$460,3,0),\"\")","v":""},{"$f":"IFERROR(VLOOKUP(A879,Base!$A$2:$D$460,4,0),\"\")","v":""},null,null,null,null,null,null,null,null,null,null,null,null,null,0]
[null,{"$f":"IFERROR(VLOOKUP(A880,Base!$A$2:$D$460,2,0),\"\")","v":""},{"$f":"IFERROR(VLOOKUP(A880,Base!$A$2:$D$460,3,0),\"\")","v":""},{"$f":"IFERROR(VLOOKUP(A880,Base!$A$2:$D$460,4,0),\"\")","v":""},null,null,null,null,null,null,null,null,null,null,null,null,null,0]
[null,{"$f":"IFERROR(VLOOKUP(A881,Base!$A$2:$D$460,2,0),\"\")","v":""},{"$f":"IFERROR(VLOOKUP(A881,Base!$A$2:$D$460,3,0),\"\")","v":""},{"$f":"IFERROR(VLOOKUP(A881,Base!$A$2:$D$460,4,0),\"\")","v":""},null,null,null,null,null,null,null,null,null,null,null,null,null,0]
[null,{"$f":"IFERROR(VLOOKUP(A882,Base!$A$2:$D$460,2,0),\"\")","v":""},{"$f":"IFERROR(VLOOKUP(A882,Base!$A$2:$D$460,3,0),\"\")","v":""},{"$f":"IFERROR(VLOOKUP(A882,Base!$A$2:$D$460,4,0),\"\")","v":""},null,null,null,null,null,null,null,null,null,null,null,null,null,0]
[null,{"$f":"IFERROR(VLOOKUP(A883,Base!$A$2:$D$460,2,0),\"\")","v":""},{"$f":"IFERROR(VLOOKUP(A883,Base!$A$2:$D$460,3,0),\"\")","v":""},{"$f":"IFERROR(VLOOKUP(A883,Base!$A$2:$D$460,4,0),\"\")","v":""},null,null,null,null,null,null,null,null,null,null,null,null,null,0]
[null,{"$f":"IFERROR(VLOOKUP(A884,Base!$A$2:$D$460,2,0),\"\")","v":""},{"$f":"IFERROR(VLOOKUP(A884,Base!$A$2:$D$460,3,0),\"\")","v":""},{"$f":"IFERROR(VLOOKUP(A884,Base!$A$2:$D$460,4,0),\"\")","v":""},null,null,null,null,null,null,null,null,null,null,null,null,null,0]
[null,{"$f":"IFERROR(VLOOKUP(A885,Base!$A$2:$D$460,2,0),\"\")","v":""},{"$f":"IFERROR(VLOOKUP(A885,Base!$A$2:$D$460,3,0),\"\")","v":""},{"$f":"IFERROR(VLOOKUP(A885,Base!$A$2:$D$460,4,0),\"\")","v":""},null,null,null,null,null,null,null,null,null,null,null,null,null,0]
[null,{"$f":"IFERROR(VLOOKUP(A886,Base!$A$2:$D$460,2,0),\"\")","v":""},{"$f":"IFERROR(VLOOKUP(A886,Base!$A$2:$D$460,3,0),\"\")","v":""},{"$f":"IFERROR(VLOOKUP(A886,Base!$A$2:$D$460,4,0),\"\")","v":""},null,null,null,null,null,null,null,null,null,null,null,null,null,0]
[null,{"$f":"IFERROR(VLOOKUP(A887,Base!$A$2:$D$460,2,0),\"\")","v":""},{"$f":"IFERROR(VLOOKUP(A887,Base!$A$2:$D$460,3,0),\"\")","v":""},{"$f":"IFERROR(VLOOKUP(A887,Base!$A$2:$D$460,4,0),\"\")","v":""},null,null,null,null,null,null,null,null,null,null,null,null,null,0]
[null,{"$f":"IFERROR(VLOOKUP(A888,Base!$A$2:$D$460,2,0),\"\")","v":""},{"$f":"IFERROR(VLOOKUP(A888,Base!$A$2:$D$460,3,0),\"\")","v":""},{"$f":"IFERROR(VLOOKUP(A888,Base!$A$2:$D$460,4,0),\"\")","v":""},null,null,null,null,null,null,null,null,null,null,null,null,null,0]
[null,{"$f":"IFERROR(VLOOKUP(A889,Base!$A$2:$D$460,2,0),\"\")","v":""},{"$f":"IFERROR(VLOOKUP(A889,Base!$A$2:$D$460,3,0),\"\")","v":""},{"$f":"IFERROR(VLOOKUP(A889,Base!$A$2:$D$460,4,0),\"\")","v":""},null,null,null,null,null,null,null,null,null,null,null,null,null,0]
[null,{"$f":"IFERROR(VLOOKUP(A890,Base!$A$2:$D$460,2,0),\"\")","v":""},{"$f":"IFERROR(VLOOKUP(A890,Base!$A$2:$D$460,3,0),\"\")","v":""},{"$f":"IFERROR(VLOOKUP(A890,Base!$A$2:$D$460,4,0),\"\")","v":""},null,null,null,null,null,null,null,null,null,null,null,null,null,0]
[null,{"$f":"IFERROR(VLOOKUP(A891,Base!$A$2:$D$460,2,0),\"\")","v":""},{"$f":"IFERROR(VLOOKUP(A891,Base!$A$2:$D$460,3,0),\"\")","v":""},{"$f":"IFERROR(VLOOKUP(A891,Base!$A$2:$D$460,4,0),\"\")","v":""},null,null,null,null,null,null,null,null,null,null,null,null,null,0]
[null,{"$f":"IFERROR(VLOOKUP(A892,Base!$A$2:$D$460,2,0),\"\")","v":""},{"$f":"IFERROR(VLOOKUP(A892,Base!$A$2:$D$460,3,0),\"\")","v":""},{"$f":"IFERROR(VLOOKUP(A892,Base!$A$2:$D$460,4,0),\"\")","v":""},null,null,null,null,null,null,null,null,null,null,null,null,null,0]
[null,{"$f":"IFERROR(VLOOKUP(A893,Base!$A$2:$D$460,2,0),\"\")","v":""},{"$f":"IFERROR(VLOOKUP(A893,Base!$A$2:$D$460,3,0),\"\")","v":""},{"$f":"IFERROR(VLOOKUP(A893,Base!$A$2:$D$460,4,0),\"\")","v":""},null,null,null,null,null,null,null,null,null,null,null,null,null,0]
[null,{"$f":"IFERROR(VLOOKUP(A894,Base!$A$2:$D$460,2,0),\"\")","v":""},{"$f":"IFERROR(VLOOKUP(A894,Base!$A$2:$D$460,3,0),\"\")","v":""},{"$f":"IFERROR(VLOOKUP(A894,Base!$A$2:$D$460,4,0),\"\")","v":""},null,null,null,null,null,null,null,null,null,null,null,null,null,0]
[null,{"$f":"IFERROR(VLOOKUP(A895,Base!$A$2:$D$460,2,0),\"\")","v":""},{"$f":"IFERROR(VLOOKUP(A895,Base!$A$2:$D$460,3,0),\"\")","v":""},{"$f":"IFERROR(VLOOKUP(A895,Base!$A$2:$D$460,4,0),\"\")","v":""},null,null,null,null,null,null,null,null,null,null,null,null,null,0]
[null,{"$f":"IFERROR(VLOOKUP(A896,Base!$A$2:$D$460,2,0),\"\")","v":""},{"$f":"IFERROR(VLOOKUP(A896,Base!$A$2:$D$460,3,0),\"\")","v":""},{"$f":"IFERROR(VLOOKUP(A896,Base!$A$2:$D$460,4,0),\"\")","v":""},null,null,null,null,null,null,null,null,null,null,null,null,null,0]
[null,{"$f":"IFERROR(VLOOKUP(A897,Base!$A$2:$D$460,2,0),\"\")","v":""},{"$f":"IFERROR(VLOOKUP(A897,Base!$A$2:$D$460,3,0),\"\")","v":""},{"$f":"IFERROR(VLOOKUP(A897,Base!$A$2:$D$460,4,0),\"\")","v":""},null,null,null,null,null,null,null,null,null,null,null,null,null,0]
[null,{"$f":"IFERROR(VLOOKUP(A898,Base!$A$2:$D$460,2,0),\"\")","v":""},{"$f":"IFERROR(VLOOKUP(A898,Base!$A$2:$D$460,3,0),\"\")","v":""},{"$f":"IFERROR(VLOOKUP(A898,Base!$A$2:$D$460,4,0),\"\")","v":""},null,null,null,null,null,null,null,null,null,null,null,null,null,0]
[null,{"$f":"IFERROR(VLOOKUP(A899,Base!$A$2:$D$460,2,0),\"\")","v":""},{"$f":"IFERROR(VLOOKUP(A899,Base!$A$2:$D$460,3,0),\"\")","v":""},{"$f":"IFERROR(VLOOKUP(A899,Base!$A$2:$D$460,4,0),\"\")","v":""},null,null,null,null,null,null,null,null,null,null,null,null,null,0]
[null,{"$f":"IFERROR(VLOOKUP(A900,Base!$A$2:$D$460,2,0),\"\")","v":""},{"$f":"IFERROR(VLOOKUP(A900,Base!$A$2:$D$460,3,0),\"\")","v":""},{"$f":"IFERROR(VLOOKUP(A900,Base!$A$2:$D$460,4,0),\"\")","v":""},null,null,null,null,null,null,null,null,null,null,null,null,null,0]
[null,{"$f":"IFERROR(VLOOKUP(A901,Base!$A$2:$D$460,2,0),\"\")","v":""},{"$f":"IFERROR(VLOOKUP(A901,Base!$A$2:$D$460,3,0),\"\")","v":""},{"$f":"IFERROR(VLOOKUP(A901,Base!$A$2:$D$460,4,0),\"\")","v":""},null,null,null,null,null,null,null,null,null,null,null,null,null,0]
[null,{"$f":"IFERROR(VLOOKUP(A902,Base!$A$2:$D$460,2,0),\"\")","v":""},{"$f":"IFERROR(VLOOKUP(A902,Base!$A$2:$D$460,3,0),\"\")","v":""},{"$f":"IFERROR(VLOOKUP(A902,Base!$A$2:$D$460,4,0),\"\")","v":""},null,null,null,null,null,null,null,null,null,null,null,null,null,0]
[null,{"$f":"IFERROR(VLOOKUP(A903,Base!$A$2:$D$460,2,0),\"\")","v":""},{"$f":"IFERROR(VLOOKUP(A903,Base!$A$2:$D$460,3,0),\"\")","v":""},{"$f":"IFERROR(VLOOKUP(A903,Base!$A$2:$D$460,4,0),\"\")","v":""},null,null,null,null,null,null,null,null,null,null,null,null,null,0]
[null,{"$f":"IFERROR(VLOOKUP(A904,Base!$A$2:$D$460,2,0),\"\")","v":""},{"$f":"IFERROR(VLOOKUP(A904,Base!$A$2:$D$460,3,0),\"\")","v":""},{"$f":"IFERROR(VLOOKUP(A904,Base!$A$2:$D$460,4,0),\"\")","v":""},null,null,null,null,null,null,null,null,null,null,null,null,null,0]
[null,{"$f":"IFERROR(VLOOKUP(A905,Base!$A$2:$D$460,2,0),\"\")","v":""},{"$f":"IFERROR(VLOOKUP(A905,Base!$A$2:$D$460,3,0),\"\")","v":""},{"$f":"IFERROR(VLOOKUP(A905,Base!$A$2:$D$460,4,0),\"\")","v":""},null,null,null,null,null,null,null,null,null,null,null,null,null,0]
[null,{"$f":"IFERROR(VLOOKUP(A906,Base!$A$2:$D$460,2,0),\"\")","v":""},{"$f":"IFERROR(VLOOKUP(A906,Base!$A$2:$D$460,3,0),\"\")","v":""},{"$f":"IFERROR(VLOOKUP(A906,Base!$A$2:$D$460,4,0),\"\")","v":""},null,null,null,null,null,null,null,null,null,null,null,null,null,0]
[null,{"$f":"IFERROR(VLOOKUP(A907,Base!$A$2:$D$460,2,0),\"\")","v":""},{"$f":"IFERROR(VLOOKUP(A907,Base!$A$2:$D$460,3,0),\"\")","v":""},{"$f":"IFERROR(VLOOKUP(A907,Base!$A$2:$D$460,4,0),\"\")","v":""},null,null,null,null,null,null,null,null,null,null,null,null,null,{"$f":"SUM(N907:Q907)/4","v":0}]
[null,{"$f":"IFERROR(VLOOKUP(A908,Base!$A$2:$D$460,2,0),\"\")","v":""},{"$f":"IFERROR(VLOOKUP(A908,Base!$A$2:$D$460,3,0),\"\")","v":""},{"$f":"IFERROR(VLOOKUP(A908,Base!$A$2:$D$460,4,0),\"\")","v":""},null,null,null,null,null,null,null,null,null,null,null,null,null,0]
[null,{"$f":"IFERROR(VLOOKUP(A909,Base!$A$2:$D$460,2,0),\"\")","v":""},{"$f":"IFERROR(VLOOKUP(A909,Base!$A$2:$D$460,3,0),\"\")","v":""},{"$f":"IFERROR(VLOOKUP(A909,Base!$A$2:$D$460,4,0),\"\")","v":""},null,null,null,null,null,null,null,null,null,null,null,null,null,0]
[null,{"$f":"IFERROR(VLOOKUP(A910,Base!$A$2:$D$460,2,0),\"\")","v":""},{"$f":"IFERROR(VLOOKUP(A910,Base!$A$2:$D$460,3,0),\"\")","v":""},{"$f":"IFERROR(VLOOKUP(A910,Base!$A$2:$D$460,4,0),\"\")","v":""},null,null,null,null,null,null,null,null,null,null,null,null,null,0]
[null,{"$f":"IFERROR(VLOOKUP(A911,Base!$A$2:$D$460,2,0),\"\")","v":""},{"$f":"IFERROR(VLOOKUP(A911,Base!$A$2:$D$460,3,0),\"\")","v":""},{"$f":"IFERROR(VLOOKUP(A911,Base!$A$2:$D$460,4,0),\"\")","v":""},null,null,null,null,null,null,null,null,null,null,null,null,null,0]
[null,{"$f":"IFERROR(VLOOKUP(A912,Base!$A$2:$D$460,2,0),\"\")","v":""},{"$f":"IFERROR(VLOOKUP(A912,Base!$A$2:$D$460,3,0),\"\")","v":""},{"$f":"IFERROR(VLOOKUP(A912,Base!$A$2:$D$460,4,0),\"\")","v":""},null,null,null,null,null,null,null,null,null,null,null,null,null,0]
[null,{"$f":"IFERROR(VLOOKUP(A913,Base!$A$2:$D$460,2,0),\"\")","v":""},{"$f":"IFERROR(VLOOKUP(A913,Base!$A$2:$D$460,3,0),\"\")","v":""},{"$f":"IFERROR(VLOOKUP(A913,Base!$A$2:$D$460,4,0),\"\")","v":""},null,null,null,null,null,null,null,null,null,null,null,null,null,0]
[null,{"$f":"IFERROR(VLOOKUP(A914,Base!$A$2:$D$460,2,0),\"\")","v":""},{"$f":"IFERROR(VLOOKUP(A914,Base!$A$2:$D$460,3,0),\"\")","v":""},{"$f":"IFERROR(VLOOKUP(A914,Base!$A$2:$D$460,4,0),\"\")","v":""},null,null,null,null,null,null,null,null,null,null,null,null,null,0]
[null,{"$f":"IFERROR(VLOOKUP(A915,Base!$A$2:$D$460,2,0),\"\")","v":""},{"$f":"IFERROR(VLOOKUP(A915,Base!$A$2:$D$460,3,0),\"\")","v":""},{"$f":"IFERROR(VLOOKUP(A915,Base!$A$2:$D$460,4,0),\"\")","v":""},null,null,null,null,null,null,null,null,null,null,null,null,null,0]
[null,{"$f":"IFERROR(VLOOKUP(A916,Base!$A$2:$D$460,2,0),\"\")","v":""},{"$f":"IFERROR(VLOOKUP(A916,Base!$A$2:$D$460,3,0),\"\")","v":""},{"$f":"IFERROR(VLOOKUP(A916,Base!$A$2:$D$460,4,0),\"\")","v":""},null,null,null,null,null,null,null,null,null,null,null,null,null,0]
[null,{"$f":"IFERROR(VLOOKUP(A917,Base!$A$2:$D$460,2,0),\"\")","v":""},{"$f":"IFERROR(VLOOKUP(A917,Base!$A$2:$D$460,3,0),\"\")","v":""},{"$f":"IFERROR(VLOOKUP(A917,Base!$A$2:$D$460,4,0),\"\")","v":""},null,null,null,null,null,null,null,null,null,null,null,null,null,0]
[null,{"$f":"IFERROR(VLOOKUP(A918,Base!$A$2:$D$460,2,0),\"\")","v":""},{"$f":"IFERROR(VLOOKUP(A918,Base!$A$2:$D$460,3,0),\"\")","v":""},{"$f":"IFERROR(VLOOKUP(A918,Base!$A$2:$D$460,4,0),\"\")","v":""},null,null,null,null,null,null,null,null,null,null,null,null,null,0]
[null,{"$f":"IFERROR(VLOOKUP(A919,Base!$A$2:$D$460,2,0),\"\")","v":""},{"$f":"IFERROR(VLOOKUP(A919,Base!$A$2:$D$460,3,0),\"\")","v":""},{"$f":"IFERROR(VLOOKUP(A919,Base!$A$2:$D$460,4,0),\"\")","v":""},null,null,null,null,null,null,null,null,null,null,null,null,null,0]
[null,{"$f":"IFERROR(VLOOKUP(A920,Base!$A$2:$D$460,2,0),\"\")","v":""},{"$f":"IFERROR(VLOOKUP(A920,Base!$A$2:$D$460,3,0),\"\")","v":""},{"$f":"IFERROR(VLOOKUP(A920,Base!$A$2:$D$460,4,0),\"\")","v":""},null,null,null,null,null,null,null,null,null,null,null,null,null,0]
[null,{"$f":"IFERROR(VLOOKUP(A921,Base!$A$2:$D$460,2,0),\"\")","v":""},{"$f":"IFERROR(VLOOKUP(A921,Base!$A$2:$D$460,3,0),\"\")","v":""},{"$f":"IFERROR(VLOOKUP(A921,Base!$A$2:$D$460,4,0),\"\")","v":""},null,null,null,null,null,null,null,null,null,null,null,null,null,0]
[null,{"$f":"IFERROR(VLOOKUP(A922,Base!$A$2:$D$460,2,0),\"\")","v":""},{"$f":"IFERROR(VLOOKUP(A922,Base!$A$2:$D$460,3,0),\"\")","v":""},{"$f":"IFERROR(VLOOKUP(A922,Base!$A$2:$D$460,4,0),\"\")","v":""},null,null,null,null,null,null,null,null,null,null,null,null,null,0]
[null,{"$f":"IFERROR(VLOOKUP(A923,Base!$A$2:$D$460,2,0),\"\")","v":""},{"$f":"IFERROR(VLOOKUP(A923,Base!$A$2:$D$460,3,0),\"\")","v":""},{"$f":"IFERROR(VLOOKUP(A923,Base!$A$2:$D$460,4,0),\"\")","v":""},null,null,null,null,null,null,null,null,null,null,null,null,null,0]
[null,{"$f":"IFERROR(VLOOKUP(A924,Base!$A$2:$D$460,2,0),\"\")","v":""},{"$f":"IFERROR(VLOOKUP(A924,Base!$A$2:$D$460,3,0),\"\")","v":""},{"$f":"IFERROR(VLOOKUP(A924,Base!$A$2:$D$460,4,0),\"\")","v":""},null,null,null,null,null,null,null,null,null,null,null,null,null,0]
[null,{"$f":"IFERROR(VLOOKUP(A925,Base!$A$2:$D$460,2,0),\"\")","v":""},{"$f":"IFERROR(VLOOKUP(A925,Base!$A$2:$D$460,3,0),\"\")","v":""},{"$f":"IFERROR(VLOOKUP(A925,Base!$A$2:$D$460,4,0),\"\")","v":""},null,null,null,null,null,null,null,null,null,null,null,null,null,0]
[null,{"$f":"IFERROR(VLOOKUP(A926,Base!$A$2:$D$460,2,0),\"\")","v":""},{"$f":"IFERROR(VLOOKUP(A926,Base!$A$2:$D$460,3,0),\"\")","v":""},{"$f":"IFERROR(VLOOKUP(A926,Base!$A$2:$D$460,4,0),\"\")","v":""},null,null,null,null,null,null,null,null,null,null,null,null,null,0]
[null,{"$f":"IFERROR(VLOOKUP(A927,Base!$A$2:$D$460,2,0),\"\")","v":""},{"$f":"IFERROR(VLOOKUP(A927,Base!$A$2:$D$460,3,0),\"\")","v":""},{"$f":"IFERROR(VLOOKUP(A927,Base!$A$2:$D$460,4,0),\"\")","v":""},null,null,null,null,null,null,null,null,null,null,null,null,null,0]
[null,{"$f":"IFERROR(VLOOKUP(A928,Base!$A$2:$D$460,2,0),\"\")","v":""},{"$f":"IFERROR(VLOOKUP(A928,Base!$A$2:$D$460,3,0),\"\")","v":""},{"$f":"IFERROR(VLOOKUP(A928,Base!$A$2:$D$460,4,0),\"\")","v":""},null,null,null,null,null,null,null,null,null,null,null,null,null,0]
[null,{"$f":"IFERROR(VLOOKUP(A929,Base!$A$2:$D$460,2,0),\"\")","v":""},{"$f":"IFERROR(VLOOKUP(A929,Base!$A$2:$D$460,3,0),\"\")","v":""},{"$f":"IFERROR(VLOOKUP(A929,Base!$A$2:$D$460,4,0),\"\")","v":""},null,null,null,null,null,null,null,null,null,null,null,null,null,0]
[null,{"$f":"IFERROR(VLOOKUP(A930,Base!$A$2:$D$460,2,0),\"\")","v":""},{"$f":"IFERROR(VLOOKUP(A930,Base!$A$2:$D$460,3,0),\"\")","v":""},{"$f":"IFERROR(VLOOKUP(A930,Base!$A$2:$D$460,4,0),\"\")","v":""},null,null,null,null,null,null,null,null,null,null,null,null,null,0]
[null,{"$f":"IFERROR(VLOOKUP(A931,Base!$A$2:$D$460,2,0),\"\")","v":""},{"$f":"IFERROR(VLOOKUP(A931,Base!$A$2:$D$460,3,0),\"\")","v":""},{"$f":"IFERROR(VLOOKUP(A931,Base!$A$2:$D$460,4,0),\"\")","v":""},null,null,null,null,null,null,null,null,null,null,null,null,null,0]
[null,{"$f":"IFERROR(VLOOKUP(A932,Base!$A$2:$D$460,2,0),\"\")","v":""},{"$f":"IFERROR(VLOOKUP(A932,Base!$A$2:$D$460,3,0),\"\")","v":""},{"$f":"IFERROR(VLOOKUP(A932,Base!$A$2:$D$460,4,0),\"\")","v":""},null,null,null,null,null,null,null,null,null,null,null,null,null,0]
[null,{"$f":"IFERROR(VLOOKUP(A933,Base!$A$2:$D$460,2,0),\"\")","v":""},{"$f":"IFERROR(VLOOKUP(A933,Base!$A$2:$D$460,3,0),\"\")","v":""},{"$f":"IFERROR(VLOOKUP(A933,Base!$A$2:$D$460,4,0),\"\")","v":""},null,null,null,null,null,null,null,null,null,null,null,null,null,0]
[null,{"$f":"IFERROR(VLOOKUP(A934,Base!$A$2:$D$460,2,0),\"\")","v":""},{"$f":"IFERROR(VLOOKUP(A934,Base!$A$2:$D$460,3,0),\"\")","v":""},{"$f":"IFERROR(VLOOKUP(A934,Base!$A$2:$D$460,4,0),\"\")","v":""},null,null,null,null,null,null,null,null,null,null,null,null,null,0]
[null,{"$f":"IFERROR(VLOOKUP(A935,Base!$A$2:$D$460,2,0),\"\")","v":""},{"$f":"IFERROR(VLOOKUP(A935,Base!$A$2:$D$460,3,0),\"\")","v":""},{"$f":"IFERROR(VLOOKUP(A935,Base!$A$2:$D$460,4,0),\"\")","v":""},null,null,null,null,null,null,null,null,null,null,null,null,null,0]
[null,{"$f":"IFERROR(VLOOKUP(A936,Base!$A$2:$D$460,2,0),\"\")","v":""},{"$f":"IFERROR(VLOOKUP(A936,Base!$A$2:$D$460,3,0),\"\")","v":""},{"$f":"IFERROR(VLOOKUP(A936,Base!$A$2:$D$460,4,0),\"\")","v":""},null,null,null,null,null,null,null,null,null,null,null,null,null,0]
[null,{"$f":"IFERROR(VLOOKUP(A937,Base!$A$2:$D$460,2,0),\"\")","v":""},{"$f":"IFERROR(VLOOKUP(A937,Base!$A$2:$D$460,3,0),\"\")","v":""},{"$f":"IFERROR(VLOOKUP(A937,Base!$A$2:$D$460,4,0),\"\")","v":""},null,null,null,null,null,null,null,null,null,null,null,null,null,0]
[null,{"$f":"IFERROR(VLOOKUP(A938,Base!$A$2:$D$460,2,0),\"\")","v":""},{"$f":"IFERROR(VLOOKUP(A938,Base!$A$2:$D$460,3,0),\"\")","v":""},{"$f":"IFERROR(VLOOKUP(A938,Base!$A$2:$D$460,4,0),\"\")","v":""},null,null,null,null,null,null,null,null,null,null,null,null,null,0]
[null,{"$f":"IFERROR(VLOOKUP(A939,Base!$A$2:$D$460,2,0),\"\")","v":""},{"$f":"IFERROR(VLOOKUP(A939,Base!$A$2:$D$460,3,0),\"\")","v":""},{"$f":"IFERROR(VLOOKUP(A939,Base!$A$2:$D$460,4,0),\"\")","v":""},null,null,null,null,null,null,null,null,null,null,null,null,null,0]
[null,{"$f":"IFERROR(VLOOKUP(A940,Base!$A$2:$D$460,2,0),\"\")","v":""},{"$f":"IFERROR(VLOOKUP(A940,Base!$A$2:$D$460,3,0),\"\")","v":""},{"$f":"IFERROR(VLOOKUP(A940,Base!$A$2:$D$460,4,0),\"\")","v":""},null,null,null,null,null,null,null,null,null,null,null,null,null,0]
[null,{"$f":"IFERROR(VLOOKUP(A941,Base!$A$2:$D$460,2,0),\"\")","v":""},{"$f":"IFERROR(VLOOKUP(A941,Base!$A$2:$D$460,3,0),\"\")","v":""},{"$f":"IFERROR(VLOOKUP(A941,Base!$A$2:$D$460,4,0),\"\")","v":""},null,null,null,null,null,null,null,null,null,null,null,null,null,0]
[null,{"$f":"IFERROR(VLOOKUP(A942,Base!$A$2:$D$460,2,0),\"\")","v":""},{"$f":"IFERROR(VLOOKUP(A942,Base!$A$2:$D$460,3,0),\"\")","v":""},{"$f":"IFERROR(VLOOKUP(A942,Base!$A$2:$D$460,4,0),\"\")","v":""},null,null,null,null,null,null,null,null,null,null,null,null,null,0]
[null,{"$f":"IFERROR(VLOOKUP(A943,Base!$A$2:$D$460,2,0),\"\")","v":""},{"$f":"IFERROR(VLOOKUP(A943,Base!$A$2:$D$460,3,0),\"\")","v":""},{"$f":"IFERROR(VLOOKUP(A943,Base!$A$2:$D$460,4,0),\"\")","v":""},null,null,null,null,null,null,null,null,null,null,null,null,null,0]
[null,{"$f":"IFERROR(VLOOKUP(A944,Base!$A$2:$D$460,2,0),\"\")","v":""},{"$f":"IFERROR(VLOOKUP(A944,Base!$A$2:$D$460,3,0),\"\")","v":""},{"$f":"IFERROR(VLOOKUP(A944,Base!$A$2:$D$460,4,0),\"\")","v":""},null,null,null,null,null,null,null,null,null,null,null,null,null,0]
[null,{"$f":"IFERROR(VLOOKUP(A945,Base!$A$2:$D$460,2,0),\"\")","v":""},{"$f":"IFERROR(VLOOKUP(A945,Base!$A$2:$D$460,3,0),\"\")","v":""},{"$f":"IFERROR(VLOOKUP(A945,Base!$A$2:$D$460,4,0),\"\")","v":""},null,null,null,null,null,null,null,null,null,null,null,null,null,0]
[null,{"$f":"IFERROR(VLOOKUP(A946,Base!$A$2:$D$460,2,0),\"\")","v":""},{"$f":"IFERROR(VLOOKUP(A946,Base!$A$2:$D$460,3,0),\"\")","v":""},{"$f":"IFERROR(VLOOKUP(A946,Base!$A$2:$D$460,4,0),\"\")","v":""},null,null,null,null,null,null,null,null,null,null,null,null,null,0]
[null,{"$f":"IFERROR(VLOOKUP(A947,Base!$A$2:$D$460,2,0),\"\")","v":""},{"$f":"IFERROR(VLOOKUP(A947,Base!$A$2:$D$460,3,0),\"\")","v":""},{"$f":"IFERROR(VLOOKUP(A947,Base!$A$2:$D$460,4,0),\"\")","v":""},null,null,null,null,null,null,null,null,null,null,null,null,null,0]
[null,{"$f":"IFERROR(VLOOKUP(A948,Base!$A$2:$D$460,2,0),\"\")","v":""},{"$f":"IFERROR(VLOOKUP(A948,Base!$A$2:$D$460,3,0),\"\")","v":""},{"$f":"IFERROR(VLOOKUP(A948,Base!$A$2:$D$460,4,0),\"\")","v":""},null,null,null,null,null,null,null,null,null,null,null,null,null,0]
[null,{"$f":"IFERROR(VLOOKUP(A949,Base!$A$2:$D$460,2,0),\"\")","v":""},{"$f":"IFERROR(VLOOKUP(A949,Base!$A$2:$D$460,3,0),\"\")","v":""},{"$f":"IFERROR(VLOOKUP(A949,Base!$A$2:$D$460,4,0),\"\")","v":""},null,null,null,null,null,null,null,null,null,null,null,null,null,0]
[null,{"$f":"IFERROR(VLOOKUP(A950,Base!$A$2:$D$460,2,0),\"\")","v":""},{"$f":"IFERROR(VLOOKUP(A950,Base!$A$2:$D$460,3,0),\"\")","v":""},{"$f":"IFERROR(VLOOKUP(A950,Base!$A$2:$D$460,4,0),\"\")","v":""},null,null,null,null,null,null,null,null,null,null,null,null,null,0]
[null,{"$f":"IFERROR(VLOOKUP(A951,Base!$A$2:$D$460,2,0),\"\")","v":""},{"$f":"IFERROR(VLOOKUP(A951,Base!$A$2:$D$460,3,0),\"\")","v":""},{"$f":"IFERROR(VLOOKUP(A951,Base!$A$2:$D$460,4,0),\"\")","v":""},null,null,null,null,null,null,null,null,null,null,null,null,null,0]
[null,{"$f":"IFERROR(VLOOKUP(A952,Base!$A$2:$D$460,2,0),\"\")","v":""},{"$f":"IFERROR(VLOOKUP(A952,Base!$A$2:$D$460,3,0),\"\")","v":""},{"$f":"IFERROR(VLOOKUP(A952,Base!$A$2:$D$460,4,0),\"\")","v":""},null,null,null,null,null,null,null,null,null,null,null,null,null,0]
[null,{"$f":"IFERROR(VLOOKUP(A953,Base!$A$2:$D$460,2,0),\"\")","v":""},{"$f":"IFERROR(VLOOKUP(A953,Base!$A$2:$D$460,3,0),\"\")","v":""},{"$f":"IFERROR(VLOOKUP(A953,Base!$A$2:$D$460,4,0),\"\")","v":""},null,null,null,null,null,null,null,null,null,null,null,null,null,0]
[null,{"$f":"IFERROR(VLOOKUP(A954,Base!$A$2:$D$460,2,0),\"\")","v":""},{"$f":"IFERROR(VLOOKUP(A954,Base!$A$2:$D$460,3,0),\"\")","v":""},{"$f":"IFERROR(VLOOKUP(A954,Base!$A$2:$D$460,4,0),\"\")","v":""},null,null,null,null,null,null,null,null,null,null,null,null,null,0]
[null,{"$f":"IFERROR(VLOOKUP(A955,Base!$A$2:$D$460,2,0),\"\")","v":""},{"$f":"IFERROR(VLOOKUP(A955,Base!$A$2:$D$460,3,0),\"\")","v":""},{"$f":"IFERROR(VLOOKUP(A955,Base!$A$2:$D$460,4,0),\"\")","v":""},null,null,null,null,null,null,null,null,null,null,null,null,null,0]
[null,{"$f":"IFERROR(VLOOKUP(A956,Base!$A$2:$D$460,2,0),\"\")","v":""},{"$f":"IFERROR(VLOOKUP(A956,Base!$A$2:$D$460,3,0),\"\")","v":""},{"$f":"IFERROR(VLOOKUP(A956,Base!$A$2:$D$460,4,0),\"\")","v":""},null,null,null,null,null,null,null,null,null,null,null,null,null,0]
[null,{"$f":"IFERROR(VLOOKUP(A957,Base!$A$2:$D$460,2,0),\"\")","v":""},{"$f":"IFERROR(VLOOKUP(A957,Base!$A$2:$D$460,3,0),\"\")","v":""},{"$f":"IFERROR(VLOOKUP(A957,Base!$A$2:$D$460,4,0),\"\")","v":""},null,null,null,null,null,null,null,null,null,null,null,null,null,0]
[null,{"$f":"IFERROR(VLOOKUP(A958,Base!$A$2:$D$460,2,0),\"\")","v":""},{"$f":"IFERROR(VLOOKUP(A958,Base!$A$2:$D$460,3,0),\"\")","v":""},{"$f":"IFERROR(VLOOKUP(A958,Base!$A$2:$D$460,4,0),\"\")","v":""},null,null,null,null,null,null,null,null,null,null,null,null,null,0]
[null,{"$f":"IFERROR(VLOOKUP(A959,Base!$A$2:$D$460,2,0),\"\")","v":""},{"$f":"IFERROR(VLOOKUP(A959,Base!$A$2:$D$460,3,0),\"\")","v":""},{"$f":"IFERROR(VLOOKUP(A959,Base!$A$2:$D$460,4,0),\"\")","v":""},null,null,null,null,null,null,null,null,null,null,null,null,null,0]
[null,{"$f":"IFERROR(VLOOKUP(A960,Base!$A$2:$D$460,2,0),\"\")","v":""},{"$f":"IFERROR(VLOOKUP(A960,Base!$A$2:$D$460,3,0),\"\")","v":""},{"$f":"IFERROR(VLOOKUP(A960,Base!$A$2:$D$460,4,0),\"\")","v":""},null,null,null,null,null,null,null,null,null,null,null,null,null,0]
[null,{"$f":"IFERROR(VLOOKUP(A961,Base!$A$2:$D$460,2,0),\"\")","v":""},{"$f":"IFERROR(VLOOKUP(A961,Base!$A$2:$D$460,3,0),\"\")","v":""},{"$f":"IFERROR(VLOOKUP(A961,Base!$A$2:$D$460,4,0),\"\")","v":""},null,null,null,null,null,null,null,null,null,null,null,null,null,0]
[null,{"$f":"IFERROR(VLOOKUP(A962,Base!$A$2:$D$460,2,0),\"\")","v":""},{"$f":"IFERROR(VLOOKUP(A962,Base!$A$2:$D$460,3,0),\"\")","v":""},{"$f":"IFERROR(VLOOKUP(A962,Base!$A$2:$D$460,4,0),\"\")","v":""},null,null,null,null,null,null,null,null,null,null,null,null,null,0]
[null,{"$f":"IFERROR(VLOOKUP(A963,Base!$A$2:$D$460,2,0),\"\")","v":""},{"$f":"IFERROR(VLOOKUP(A963,Base!$A$2:$D$460,3,0),\"\")","v":""},{"$f":"IFERROR(VLOOKUP(A963,Base!$A$2:$D$460,4,0),\"\")","v":""},null,null,null,null,null,null,null,null,null,null,null,null,null,0]
[null,{"$f":"IFERROR(VLOOKUP(A964,Base!$A$2:$D$460,2,0),\"\")","v":""},{"$f":"IFERROR(VLOOKUP(A964,Base!$A$2:$D$460,3,0),\"\")","v":""},{"$f":"IFERROR(VLOOKUP(A964,Base!$A$2:$D$460,4,0),\"\")","v":""},null,null,null,null,null,null,null,null,null,null,null,null,null,0]
[null,{"$f":"IFERROR(VLOOKUP(A965,Base!$A$2:$D$460,2,0),\"\")","v":""},{"$f":"IFERROR(VLOOKUP(A965,Base!$A$2:$D$460,3,0),\"\")","v":""},{"$f":"IFERROR(VLOOKUP(A965,Base!$A$2:$D$460,4,0),\"\")","v":""},null,null,null,null,null,null,null,null,null,null,null,null,null,0]
[null,{"$f":"IFERROR(VLOOKUP(A966,Base!$A$2:$D$460,2,0),\"\")","v":""},{"$f":"IFERROR(VLOOKUP(A966,Base!$A$2:$D$460,3,0),\"\")","v":""},{"$f":"IFERROR(VLOOKUP(A966,Base!$A$2:$D$460,4,0),\"\")","v":""},null,null,null,null,null,null,null,null,null,null,null,null,null,0]
[null,{"$f":"IFERROR(VLOOKUP(A967,Base!$A$2:$D$460,2,0),\"\")","v":""},{"$f":"IFERROR(VLOOKUP(A967,Base!$A$2:$D$460,3,0),\"\")","v":""},{"$f":"IFERROR(VLOOKUP(A967,Base!$A$2:$D$460,4,0),\"\")","v":""},null,null,null,null,null,null,null,null,null,null,null,null,null,0]
[null,{"$f":"IFERROR(VLOOKUP(A968,Base!$A$2:$D$460,2,0),\"\")","v":""},{"$f":"IFERROR(VLOOKUP(A968,Base!$A$2:$D$460,3,0),\"\")","v":""},{"$f":"IFERROR(VLOOKUP(A968,Base!$A$2:$D$460,4,0),\"\")","v":""},null,null,null,null,null,null,null,null,null,null,null,null,null,0]
[null,{"$f":"IFERROR(VLOOKUP(A969,Base!$A$2:$D$460,2,0),\"\")","v":""},{"$f":"IFERROR(VLOOKUP(A969,Base!$A$2:$D$460,3,0),\"\")","v":""},{"$f":"IFERROR(VLOOKUP(A969,Base!$A$2:$D$460,4,0),\"\")","v":""},null,null,null,null,null,null,null,null,null,null,null,null,null,0]
[null,{"$f":"IFERROR(VLOOKUP(A970,Base!$A$2:$D$460,2,0),\"\")","v":""},{"$f":"IFERROR(VLOOKUP(A970,Base!$A$2:$D$460,3,0),\"\")","v":""},{"$f":"IFERROR(VLOOKUP(A970,Base!$A$2:$D$460,4,0),\"\")","v":""},null,null,null,null,null,null,null,null,null,null,null,null,null,0]
[null,{"$f":"IFERROR(VLOOKUP(A971,Base!$A$2:$D$460,2,0),\"\")","v":""},{"$f":"IFERROR(VLOOKUP(A971,Base!$A$2:$D$460,3,0),\"\")","v":""},{"$f":"IFERROR(VLOOKUP(A971,Base!$A$2:$D$460,4,0),\"\")","v":""},null,null,null,null,null,null,null,null,null,null,null,null,null,{"$f":"SUM(N971:Q971)/4","v":0}]
[null,{"$f":"IFERROR(VLOOKUP(A972,Base!$A$2:$D$460,2,0),\"\")","v":""},{"$f":"IFERROR(VLOOKUP(A972,Base!$A$2:$D$460,3,0),\"\")","v":""},{"$f":"IFERROR(VLOOKUP(A972,Base!$A$2:$D$460,4,0),\"\")","v":""},null,null,null,null,null,null,null,null,null,null,null,null,null,0]
[null,{"$f":"IFERROR(VLOOKUP(A973,Base!$A$2:$D$460,2,0),\"\")","v":""},{"$f":"IFERROR(VLOOKUP(A973,Base!$A$2:$D$460,3,0),\"\")","v":""},{"$f":"IFERROR(VLOOKUP(A973,Base!$A$2:$D$460,4,0),\"\")","v":""},null,null,null,null,null,null,null,null,null,null,null,null,null,0]
[null,{"$f":"IFERROR(VLOOKUP(A974,Base!$A$2:$D$460,2,0),\"\")","v":""},{"$f":"IFERROR(VLOOKUP(A974,Base!$A$2:$D$460,3,0),\"\")","v":""},{"$f":"IFERROR(VLOOKUP(A974,Base!$A$2:$D$460,4,0),\"\")","v":""},null,null,null,null,null,null,null,null,null,null,null,null,null,0]
[null,{"$f":"IFERROR(VLOOKUP(A975,Base!$A$2:$D$460,2,0),\"\")","v":""},{"$f":"IFERROR(VLOOKUP(A975,Base!$A$2:$D$460,3,0),\"\")","v":""},{"$f":"IFERROR(VLOOKUP(A975,Base!$A$2:$D$460,4,0),\"\")","v":""},null,null,null,null,null,null,null,null,null,null,null,null,null,0]
[null,{"$f":"IFERROR(VLOOKUP(A976,Base!$A$2:$D$460,2,0),\"\")","v":""},{"$f":"IFERROR(VLOOKUP(A976,Base!$A$2:$D$460,3,0),\"\")","v":""},{"$f":"IFERROR(VLOOKUP(A976,Base!$A$2:$D$460,4,0),\"\")","v":""},null,null,null,null,null,null,null,null,null,null,null,null,null,0]
[null,{"$f":"IFERROR(VLOOKUP(A977,Base!$A$2:$D$460,2,0),\"\")","v":""},{"$f":"IFERROR(VLOOKUP(A977,Base!$A$2:$D$460,3,0),\"\")","v":""},{"$f":"IFERROR(VLOOKUP(A977,Base!$A$2:$D$460,4,0),\"\")","v":""},null,null,null,null,null,null,null,null,null,null,null,null,null,0]
[null,{"$f":"IFERROR(VLOOKUP(A978,Base!$A$2:$D$460,2,0),\"\")","v":""},{"$f":"IFERROR(VLOOKUP(A978,Base!$A$2:$D$460,3,0),\"\")","v":""},{"$f":"IFERROR(VLOOKUP(A978,Base!$A$2:$D$460,4,0),\"\")","v":""},null,null,null,null,null,null,null,null,null,null,null,null,null,0]
[null,{"$f":"IFERROR(VLOOKUP(A979,Base!$A$2:$D$460,2,0),\"\")","v":""},{"$f":"IFERROR(VLOOKUP(A979,Base!$A$2:$D$460,3,0),\"\")","v":""},{"$f":"IFERROR(VLOOKUP(A979,Base!$A$2:$D$460,4,0),\"\")","v":""},null,null,null,null,null,null,null,null,null,null,null,null,null,0]
[null,{"$f":"IFERROR(VLOOKUP(A980,Base!$A$2:$D$460,2,0),\"\")","v":""},{"$f":"IFERROR(VLOOKUP(A980,Base!$A$2:$D$460,3,0),\"\")","v":""},{"$f":"IFERROR(VLOOKUP(A980,Base!$A$2:$D$460,4,0),\"\")","v":""},null,null,null,null,null,null,null,null,null,null,null,null,null,0]
[null,{"$f":"IFERROR(VLOOKUP(A981,Base!$A$2:$D$460,2,0),\"\")","v":""},{"$f":"IFERROR(VLOOKUP(A981,Base!$A$2:$D$460,3,0),\"\")","v":""},{"$f":"IFERROR(VLOOKUP(A981,Base!$A$2:$D$460,4,0),\"\")","v":""},null,null,null,null,null,null,null,null,null,null,null,null,null,0]
[null,{"$f":"IFERROR(VLOOKUP(A982,Base!$A$2:$D$460,2,0),\"\")","v":""},{"$f":"IFERROR(VLOOKUP(A982,Base!$A$2:$D$460,3,0),\"\")","v":""},{"$f":"IFERROR(VLOOKUP(A982,Base!$A$2:$D$460,4,0),\"\")","v":""},null,null,null,null,null,null,null,null,null,null,null,null,null,0]
[null,{"$f":"IFERROR(VLOOKUP(A983,Base!$A$2:$D$460,2,0),\"\")","v":""},{"$f":"IFERROR(VLOOKUP(A983,Base!$A$2:$D$460,3,0),\"\")","v":""},{"$f":"IFERROR(VLOOKUP(A983,Base!$A$2:$D$460,4,0),\"\")","v":""},null,null,null,null,null,null,null,null,null,null,null,null,null,0]
[null,{"$f":"IFERROR(VLOOKUP(A984,Base!$A$2:$D$460,2,0),\"\")","v":""},{"$f":"IFERROR(VLOOKUP(A984,Base!$A$2:$D$460,3,0),\"\")","v":""},{"$f":"IFERROR(VLOOKUP(A984,Base!$A$2:$D$460,4,0),\"\")","v":""},null,null,null,null,null,null,null,null,null,null,null,null,null,0]
[null,{"$f":"IFERROR(VLOOKUP(A985,Base!$A$2:$D$460,2,0),\"\")","v":""},{"$f":"IFERROR(VLOOKUP(A985,Base!$A$2:$D$460,3,0),\"\")","v":""},{"$f":"IFERROR(VLOOKUP(A985,Base!$A$2:$D$460,4,0),\"\")","v":""},null,null,null,null,null,null,null,null,null,null,null,null,null,0]
[null,{"$f":"IFERROR(VLOOKUP(A986,Base!$A$2:$D$460,2,0),\"\")","v":""},{"$f":"IFERROR(VLOOKUP(A986,Base!$A$2:$D$460,3,0),\"\")","v":""},{"$f":"IFERROR(VLOOKUP(A986,Base!$A$2:$D$460,4,0),\"\")","v":""},null,null,null,null,null,null,null,null,null,null,null,null,null,0]
[null,{"$f":"IFERROR(VLOOKUP(A987,Base!$A$2:$D$460,2,0),\"\")","v":""},{"$f":"IFERROR(VLOOKUP(A987,Base!$A$2:$D$460,3,0),\"\")","v":""},{"$f":"IFERROR(VLOOKUP(A987,Base!$A$2:$D$460,4,0),\"\")","v":""},null,null,null,null,null,null,null,null,null,null,null,null,null,0]
[null,{"$f":"IFERROR(VLOOKUP(A988,Base!$A$2:$D$460,2,0),\"\")","v":""},{"$f":"IFERROR(VLOOKUP(A988,Base!$A$2:$D$460,3,0),\"\")","v":""},{"$f":"IFERROR(VLOOKUP(A988,Base!$A$2:$D$460,4,0),\"\")","v":""},null,null,null,null,null,null,null,null,null,null,null,null,null,0]
[null,{"$f":"IFERROR(VLOOKUP(A989,Base!$A$2:$D$460,2,0),\"\")","v":""},{"$f":"IFERROR(VLOOKUP(A989,Base!$A$2:$D$460,3,0),\"\")","v":""},{"$f":"IFERROR(VLOOKUP(A989,Base!$A$2:$D$460,4,0),\"\")","v":""},null,null,null,null,null,null,null,null,null,null,null,null,null,0]
[null,{"$f":"IFERROR(VLOOKUP(A990,Base!$A$2:$D$460,2,0),\"\")","v":""},{"$f":"IFERROR(VLOOKUP(A990,Base!$A$2:$D$460,3,0),\"\")","v":""},{"$f":"IFERROR(VLOOKUP(A990,Base!$A$2:$D$460,4,0),\"\")","v":""},null,null,null,null,null,null,null,null,null,null,null,null,null,0]
[null,{"$f":"IFERROR(VLOOKUP(A991,Base!$A$2:$D$460,2,0),\"\")","v":""},{"$f":"IFERROR(VLOOKUP(A991,Base!$A$2:$D$460,3,0),\"\")","v":""},{"$f":"IFERROR(VLOOKUP(A991,Base!$A$2:$D$460,4,0),\"\")","v":""},null,null,null,null,null,null,null,null,null,null,null,null,null,0]
[null,{"$f":"IFERROR(VLOOKUP(A992,Base!$A$2:$D$460,2,0),\"\")","v":""},{"$f":"IFERROR(VLOOKUP(A992,Base!$A$2:$D$460,3,0),\"\")","v":""},{"$f":"IFERROR(VLOOKUP(A992,Base!$A$2:$D$460,4,0),\"\")","v":""},null,null,null,null,null,null,null,null,null,null,null,null,null,0]
[null,{"$f":"IFERROR(VLOOKUP(A993,Base!$A$2:$D$460,2,0),\"\")","v":""},{"$f":"IFERROR(VLOOKUP(A993,Base!$A$2:$D$460,3,0),\"\")","v":""},{"$f":"IFERROR(VLOOKUP(A993,Base!$A$2:$D$460,4,0),\"\")","v":""},null,null,null,null,null,null,null,null,null,null,null,null,null,0]
[null,{"$f":"IFERROR(VLOOKUP(A994,Base!$A$2:$D$460,2,0),\"\")","v":""},{"$f":"IFERROR(VLOOKUP(A994,Base!$A$2:$D$460,3,0),\"\")","v":""},{"$f":"IFERROR(VLOOKUP(A994,Base!$A$2:$D$460,4,0),\"\")","v":""},null,null,null,null,null,null,null,null,null,null,null,null,null,0]
[null,{"$f":"IFERROR(VLOOKUP(A995,Base!$A$2:$D$460,2,0),\"\")","v":""},{"$f":"IFERROR(VLOOKUP(A995,Base!$A$2:$D$460,3,0),\"\")","v":""},{"$f":"IFERROR(VLOOKUP(A995,Base!$A$2:$D$460,4,0),\"\")","v":""},null,null,null,null,null,null,null,null,null,null,null,null,null,0]
[null,{"$f":"IFERROR(VLOOKUP(A996,Base!$A$2:$D$460,2,0),\"\")","v":""},{"$f":"IFERROR(VLOOKUP(A996,Base!$A$2:$D$460,3,0),\"\")","v":""},{"$f":"IFERROR(VLOOKUP(A996,Base!$A$2:$D$460,4,0),\"\")","v":""},null,null,null,null,null,null,null,null,null,null,null,null,null,0]
[null,{"$f":"IFERROR(VLOOKUP(A997,Base!$A$2:$D$460,2,0),\"\")","v":""},{"$f":"IFERROR(VLOOKUP(A997,Base!$A$2:$D$460,3,0),\"\")","v":""},{"$f":"IFERROR(VLOOKUP(A997,Base!$A$2:$D$460,4,0),\"\")","v":""},null,null,null,null,null,null,null,null,null,null,null,null,null,0]
[null,{"$f":"IFERROR(VLOOKUP(A998,Base!$A$2:$D$460,2,0),\"\")","v":""},{"$f":"IFERROR(VLOOKUP(A998,Base!$A$2:$D$460,3,0),\"\")","v":""},{"$f":"IFERROR(VLOOKUP(A998,Base!$A$2:$D$460,4,0),\"\")","v":""},null,null,null,null,null,null,null,null,null,null,null,null,null,0]
[null,{"$f":"IFERROR(VLOOKUP(A999,Base!$A$2:$D$460,2,0),\"\")","v":""},{"$f":"IFERROR(VLOOKUP(A999,Base!$A$2:$D$460,3,0),\"\")","v":""},{"$f":"IFERROR(VLOOKUP(A999,Base!$A$2:$D$460,4,0),\"\")","v":""},null,null,null,null,null,null,null,null,null,null,null,null,null,{"$f":"SUM(N999:Q999)/4","v":0}]
[null,{"$f":"IFERROR(VLOOKUP(A1000,Base!$A$2:$D$460,2,0),\"\")","v":""},{"$f":"IFERROR(VLOOKUP(A1000,Base!$A$2:$D$460,3,0),\"\")","v":""},{"$f":"IFERROR(VLOOKUP(A1000,Base!$A$2:$D$460,4,0),\"\")","v":""},null,null,null,null,null,null,null,null,null,null,null,null,null,0]
[null,{"$f":"IFERROR(VLOOKUP(A1001,Base!$A$2:$D$460,2,0),\"\")","v":""},{"$f":"IFERROR(VLOOKUP(A1001,Base!$A$2:$D$460,3,0),\"\")","v":""},{"$f":"IFERROR(VLOOKUP(A1001,Base!$A$2:$D$460,4,0),\"\")","v":""},null,null,null,null,null,null,null,null,null,null,null,null,null,0]
[null,{"$f":"IFERROR(VLOOKUP(A1002,Base!$A$2:$D$460,2,0),\"\")","v":""},{"$f":"IFERROR(VLOOKUP(A1002,Base!$A$2:$D$460,3,0),\"\")","v":""},{"$f":"IFERROR(VLOOKUP(A1002,Base!$A$2:$D$460,4,0),\"\")","v":""},null,null,null,null,null,null,null,null,null,null,null,null,null,0]
[null,{"$f":"IFERROR(VLOOKUP(A1003,Base!$A$2:$D$460,2,0),\"\")","v":""},{"$f":"IFERROR(VLOOKUP(A1003,Base!$A$2:$D$460,3,0),\"\")","v":""},{"$f":"IFERROR(VLOOKUP(A1003,Base!$A$2:$D$460,4,0),\"\")","v":""},null,null,null,null,null,null,null,null,null,null,null,null,null,0]
[null,{"$f":"IFERROR(VLOOKUP(A1004,Base!$A$2:$D$460,2,0),\"\")","v":""},{"$f":"IFERROR(VLOOKUP(A1004,Base!$A$2:$D$460,3,0),\"\")","v":""},{"$f":"IFERROR(VLOOKUP(A1004,Base!$A$2:$D$460,4,0),\"\")","v":""},null,null,null,null,null,null,null,null,null,null,null,null,null,0]
[null,{"$f":"IFERROR(VLOOKUP(A1005,Base!$A$2:$D$460,2,0),\"\")","v":""},{"$f":"IFERROR(VLOOKUP(A1005,Base!$A$2:$D$460,3,0),\"\")","v":""},{"$f":"IFERROR(VLOOKUP(A1005,Base!$A$2:$D$460,4,0),\"\")","v":""},null,null,null,null,null,null,null,null,null,null,null,null,null,0]
[null,{"$f":"IFERROR(VLOOKUP(A1006,Base!$A$2:$D$460,2,0),\"\")","v":""},{"$f":"IFERROR(VLOOKUP(A1006,Base!$A$2:$D$460,3,0),\"\")","v":""},{"$f":"IFERROR(VLOOKUP(A1006,Base!$A$2:$D$460,4,0),\"\")","v":""},null,null,null,null,null,null,null,null,null,null,null,null,null,0]
[null,{"$f":"IFERROR(VLOOKUP(A1007,Base!$A$2:$D$460,2,0),\"\")","v":""},{"$f":"IFERROR(VLOOKUP(A1007,Base!$A$2:$D$460,3,0),\"\")","v":""},{"$f":"IFERROR(VLOOKUP(A1007,Base!$A$2:$D$460,4,0),\"\")","v":""},null,null,null,null,null,null,null,null,null,null,null,null,null,0]
[null,{"$f":"IFERROR(VLOOKUP(A1008,Base!$A$2:$D$460,2,0),\"\")","v":""},{"$f":"IFERROR(VLOOKUP(A1008,Base!$A$2:$D$460,3,0),\"\")","v":""},{"$f":"IFERROR(VLOOKUP(A1008,Base!$A$2:$D$460,4,0),\"\")","v":""},null,null,null,null,null,null,null,null,null,null,null,null,null,0]
[null,{"$f":"IFERROR(VLOOKUP(A1009,Base!$A$2:$D$460,2,0),\"\")","v":""},{"$f":"IFERROR(VLOOKUP(A1009,Base!$A$2:$D$460,3,0),\"\")","v":""},{"$f":"IFERROR(VLOOKUP(A1009,Base!$A$2:$D$460,4,0),\"\")","v":""},null,null,null,null,null,null,null,null,null,null,null,null,null,0]
[null,{"$f":"IFERROR(VLOOKUP(A1010,Base!$A$2:$D$460,2,0),\"\")","v":""},{"$f":"IFERROR(VLOOKUP(A1010,Base!$A$2:$D$460,3,0),\"\")","v":""},{"$f":"IFERROR(VLOOKUP(A1010,Base!$A$2:$D$460,4,0),\"\")","v":""},null,null,null,null,null,null,null,null,null,null,null,null,null,0]
[null,{"$f":"IFERROR(VLOOKUP(A1011,Base!$A$2:$D$460,2,0),\"\")","v":""},{"$f":"IFERROR(VLOOKUP(A1011,Base!$A$2:$D$460,3,0),\"\")","v":""},{"$f":"IFERROR(VLOOKUP(A1011,Base!$A$2:$D$460,4,0),\"\")","v":""},null,null,null,null,null,null,null,null,null,null,null,null,null,0]
[null,{"$f":"IFERROR(VLOOKUP(A1012,Base!$A$2:$D$460,2,0),\"\")","v":""},{"$f":"IFERROR(VLOOKUP(A1012,Base!$A$2:$D$460,3,0),\"\")","v":""},{"$f":"IFERROR(VLOOKUP(A1012,Base!$A$2:$D$460,4,0),\"\")","v":""},null,null,null,null,null,null,null,null,null,null,null,null,null,0]
[null,{"$f":"IFERROR(VLOOKUP(A1013,Base!$A$2:$D$460,2,0),\"\")","v":""},{"$f":"IFERROR(VLOOKUP(A1013,Base!$A$2:$D$460,3,0),\"\")","v":""},{"$f":"IFERROR(VLOOKUP(A1013,Base!$A$2:$D$460,4,0),\"\")","v":""},null,null,null,null,null,null,null,null,null,null,null,null,null,0]
[null,{"$f":"IFERROR(VLOOKUP(A1014,Base!$A$2:$D$460,2,0),\"\")","v":""},{"$f":"IFERROR(VLOOKUP(A1014,Base!$A$2:$D$460,3,0),\"\")","v":""},{"$f":"IFERROR(VLOOKUP(A1014,Base!$A$2:$D$460,4,0),\"\")","v":""},null,null,null,null,null,null,null,null,null,null,null,null,null,0]
[null,{"$f":"IFERROR(VLOOKUP(A1015,Base!$A$2:$D$460,2,0),\"\")","v":""},{"$f":"IFERROR(VLOOKUP(A1015,Base!$A$2:$D$460,3,0),\"\")","v":""},{"$f":"IFERROR(VLOOKUP(A1015,Base!$A$2:$D$460,4,0),\"\")","v":""},null,null,null,null,null,null,null,null,null,null,null,null,null,0]
[null,{"$f":"IFERROR(VLOOKUP(A1016,Base!$A$2:$D$460,2,0),\"\")","v":""},{"$f":"IFERROR(VLOOKUP(A1016,Base!$A$2:$D$460,3,0),\"\")","v":""},{"$f":"IFERROR(VLOOKUP(A1016,Base!$A$2:$D$460,4,0),\"\")","v":""},null,null,null,null,null,null,null,null,null,null,null,null,null,0]
[null,{"$f":"IFERROR(VLOOKUP(A1017,Base!$A$2:$D$460,2,0),\"\")","v":""},{"$f":"IFERROR(VLOOKUP(A1017,Base!$A$2:$D$460,3,0),\"\")","v":""},{"$f":"IFERROR(VLOOKUP(A1017,Base!$A$2:$D$460,4,0),\"\")","v":""},null,null,null,null,null,null,null,null,null,null,null,null,null,0]
[null,{"$f":"IFERROR(VLOOKUP(A1018,Base!$A$2:$D$460,2,0),\"\")","v":""},{"$f":"IFERROR(VLOOKUP(A1018,Base!$A$2:$D$460,3,0),\"\")","v":""},{"$f":"IFERROR(VLOOKUP(A1018,Base!$A$2:$D$460,4,0),\"\")","v":""},null,null,null,null,null,null,null,null,null,null,null,null,null,0]
[null,{"$f":"IFERROR(VLOOKUP(A1019,Base!$A$2:$D$460,2,0),\"\")","v":""},{"$f":"IFERROR(VLOOKUP(A1019,Base!$A$2:$D$460,3,0),\"\")","v":""},{"$f":"IFERROR(VLOOKUP(A1019,Base!$A$2:$D$460,4,0),\"\")","v":""},null,null,null,null,null,null,null,null,null,null,null,null,null,0]
[null,{"$f":"IFERROR(VLOOKUP(A1020,Base!$A$2:$D$460,2,0),\"\")","v":""},{"$f":"IFERROR(VLOOKUP(A1020,Base!$A$2:$D$460,3,0),\"\")","v":""},{"$f":"IFERROR(VLOOKUP(A1020,Base!$A$2:$D$460,4,0),\"\")","v":""},null,null,null,null,null,null,null,null,null,null,null,null,null,0]
[null,{"$f":"IFERROR(VLOOKUP(A1021,Base!$A$2:$D$460,2,0),\"\")","v":""},{"$f":"IFERROR(VLOOKUP(A1021,Base!$A$2:$D$460,3,0),\"\")","v":""},{"$f":"IFERROR(VLOOKUP(A1021,Base!$A$2:$D$460,4,0),\"\")","v":""},null,null,null,null,null,null,null,null,null,null,null,null,null,0]
[null,{"$f":"IFERROR(VLOOKUP(A1022,Base!$A$2:$D$460,2,0),\"\")","v":""},{"$f":"IFERROR(VLOOKUP(A1022,Base!$A$2:$D$460,3,0),\"\")","v":""},{"$f":"IFERROR(VLOOKUP(A1022,Base!$A$2:$D$460,4,0),\"\")","v":""},null,null,null,null,null,null,null,null,null,null,null,null,null,0]
[null,{"$f":"IFERROR(VLOOKUP(A1023,Base!$A$2:$D$460,2,0),\"\")","v":""},{"$f":"IFERROR(VLOOKUP(A1023,Base!$A$2:$D$460,3,0),\"\")","v":""},{"$f":"IFERROR(VLOOKUP(A1023,Base!$A$2:$D$460,4,0),\"\")","v":""},null,null,null,null,null,null,null,null,null,null,null,null,null,0]
[null,{"$f":"IFERROR(VLOOKUP(A1024,Base!$A$2:$D$460,2,0),\"\")","v":""},{"$f":"IFERROR(VLOOKUP(A1024,Base!$A$2:$D$460,3,0),\"\")","v":""},{"$f":"IFERROR(VLOOKUP(A1024,Base!$A$2:$D$460,4,0),\"\")","v":""},null,null,null,null,null,null,null,null,null,null,null,null,null,0]
[null,{"$f":"IFERROR(VLOOKUP(A1025,Base!$A$2:$D$460,2,0),\"\")","v":""},{"$f":"IFERROR(VLOOKUP(A1025,Base!$A$2:$D$460,3,0),\"\")","v":""},{"$f":"IFERROR(VLOOKUP(A1025,Base!$A$2:$D$460,4,0),\"\")","v":""},null,null,null,null,null,null,null,null,null,null,null,null,null,0]
[null,{"$f":"IFERROR(VLOOKUP(A1026,Base!$A$2:$D$460,2,0),\"\")","v":""},{"$f":"IFERROR(VLOOKUP(A1026,Base!$A$2:$D$460,3,0),\"\")","v":""},{"$f":"IFERROR(VLOOKUP(A1026,Base!$A$2:$D$460,4,0),\"\")","v":""},null,null,null,null,null,null,null,null,null,null,null,null,null,0]
[null,{"$f":"IFERROR(VLOOKUP(A1027,Base!$A$2:$D$460,2,0),\"\")","v":""},{"$f":"IFERROR(VLOOKUP(A1027,Base!$A$2:$D$460,3,0),\"\")","v":""},{"$f":"IFERROR(VLOOKUP(A1027,Base!$A$2:$D$460,4,0),\"\")","v":""},null,null,null,null,null,null,null,null,null,null,null,null,null,0]
[null,{"$f":"IFERROR(VLOOKUP(A1028,Base!$A$2:$D$460,2,0),\"\")","v":""},{"$f":"IFERROR(VLOOKUP(A1028,Base!$A$2:$D$460,3,0),\"\")","v":""},{"$f":"IFERROR(VLOOKUP(A1028,Base!$A$2:$D$460,4,0),\"\")","v":""},null,null,null,null,null,null,null,null,null,null,null,null,null,0]
[null,{"$f":"IFERROR(VLOOKUP(A1029,Base!$A$2:$D$460,2,0),\"\")","v":""},{"$f":"IFERROR(VLOOKUP(A1029,Base!$A$2:$D$460,3,0),\"\")","v":""},{"$f":"IFERROR(VLOOKUP(A1029,Base!$A$2:$D$460,4,0),\"\")","v":""},null,null,null,null,null,null,null,null,null,null,null,null,null,0]
[null,{"$f":"IFERROR(VLOOKUP(A1030,Base!$A$2:$D$460,2,0),\"\")","v":""},{"$f":"IFERROR(VLOOKUP(A1030,Base!$A$2:$D$460,3,0),\"\")","v":""},{"$f":"IFERROR(VLOOKUP(A1030,Base!$A$2:$D$460,4,0),\"\")","v":""},null,null,null,null,null,null,null,null,null,null,null,null,null,0]
[null,{"$f":"IFERROR(VLOOKUP(A1031,Base!$A$2:$D$460,2,0),\"\")","v":""},{"$f":"IFERROR(VLOOKUP(A1031,Base!$A$2:$D$460,3,0),\"\")","v":""},{"$f":"IFERROR(VLOOKUP(A1031,Base!$A$2:$D$460,4,0),\"\")","v":""},null,null,null,null,null,null,null,null,null,null,null,null,null,0]
[null,{"$f":"IFERROR(VLOOKUP(A1032,Base!$A$2:$D$460,2,0),\"\")","v":""},{"$f":"IFERROR(VLOOKUP(A1032,Base!$A$2:$D$460,3,0),\"\")","v":""},{"$f":"IFERROR(VLOOKUP(A1032,Base!$A$2:$D$460,4,0),\"\")","v":""},null,null,null,null,null,null,null,null,null,null,null,null,null,0]
[null,{"$f":"IFERROR(VLOOKUP(A1033,Base!$A$2:$D$460,2,0),\"\")","v":""},{"$f":"IFERROR(VLOOKUP(A1033,Base!$A$2:$D$460,3,0),\"\")","v":""},{"$f":"IFERROR(VLOOKUP(A1033,Base!$A$2:$D$460,4,0),\"\")","v":""},null,null,null,null,null,null,null,null,null,null,null,null,null,0]
[null,{"$f":"IFERROR(VLOOKUP(A1034,Base!$A$2:$D$460,2,0),\"\")","v":""},{"$f":"IFERROR(VLOOKUP(A1034,Base!$A$2:$D$460,3,0),\"\")","v":""},{"$f":"IFERROR(VLOOKUP(A1034,Base!$A$2:$D$460,4,0),\"\")","v":""},null,null,null,null,null,null,null,null,null,null,null,null,null,0]
[null,{"$f":"IFERROR(VLOOKUP(A1035,Base!$A$2:$D$460,2,0),\"\")","v":""},{"$f":"IFERROR(VLOOKUP(A1035,Base!$A$2:$D$460,3,0),\"\")","v":""},{"$f":"IFERROR(VLOOKUP(A1035,Base!$A$2:$D$460,4,0),\"\")","v":""},null,null,null,null,null,null,null,null,null,null,null,null,null,0]
[null,{"$f":"IFERROR(VLOOKUP(A1036,Base!$A$2:$D$460,2,0),\"\")","v":""},{"$f":"IFERROR(VLOOKUP(A1036,Base!$A$2:$D$460,3,0),\"\")","v":""},{"$f":"IFERROR(VLOOKUP(A1036,Base!$A$2:$D$460,4,0),\"\")","v":""},null,null,null,null,null,null,null,null,null,null,null,null,null,0]
[null,{"$f":"IFERROR(VLOOKUP(A1037,Base!$A$2:$D$460,2,0),\"\")","v":""},{"$f":"IFERROR(VLOOKUP(A1037,Base!$A$2:$D$460,3,0),\"\")","v":""},{"$f":"IFERROR(VLOOKUP(A1037,Base!$A$2:$D$460,4,0),\"\")","v":""},null,null,null,null,null,null,null,null,null,null,null,null,null,0]
[null,{"$f":"IFERROR(VLOOKUP(A1038,Base!$A$2:$D$460,2,0),\"\")","v":""},{"$f":"IFERROR(VLOOKUP(A1038,Base!$A$2:$D$460,3,0),\"\")","v":""},{"$f":"IFERROR(VLOOKUP(A1038,Base!$A$2:$D$460,4,0),\"\")","v":""},null,null,null,null,null,null,null,null,null,null,null,null,null,0]
[null,{"$f":"IFERROR(VLOOKUP(A1039,Base!$A$2:$D$460,2,0),\"\")","v":""},{"$f":"IFERROR(VLOOKUP(A1039,Base!$A$2:$D$460,3,0),\"\")","v":""},{"$f":"IFERROR(VLOOKUP(A1039,Base!$A$2:$D$460,4,0),\"\")","v":""},null,null,null,null,null,null,null,null,null,null,null,null,null,0]
[null,{"$f":"IFERROR(VLOOKUP(A1040,Base!$A$2:$D$460,2,0),\"\")","v":""},{"$f":"IFERROR(VLOOKUP(A1040,Base!$A$2:$D$460,3,0),\"\")","v":""},{"$f":"IFERROR(VLOOKUP(A1040,Base!$A$2:$D$460,4,0),\"\")","v":""},null,null,null,null,null,null,null,null,null,null,null,null,null,0]
[null,{"$f":"IFERROR(VLOOKUP(A1041,Base!$A$2:$D$460,2,0),\"\")","v":""},{"$f":"IFERROR(VLOOKUP(A1041,Base!$A$2:$D$460,3,0),\"\")","v":""},{"$f":"IFERROR(VLOOKUP(A1041,Base!$A$2:$D$460,4,0),\"\")","v":""},null,null,null,null,null,null,null,null,null,null,null,null,null,0]
[null,{"$f":"IFERROR(VLOOKUP(A1042,Base!$A$2:$D$460,2,0),\"\")","v":""},{"$f":"IFERROR(VLOOKUP(A1042,Base!$A$2:$D$460,3,0),\"\")","v":""},{"$f":"IFERROR(VLOOKUP(A1042,Base!$A$2:$D$460,4,0),\"\")","v":""},null,null,null,null,null,null,null,null,null,null,null,null,null,0]
[null,{"$f":"IFERROR(VLOOKUP(A1043,Base!$A$2:$D$460,2,0),\"\")","v":""},{"$f":"IFERROR(VLOOKUP(A1043,Base!$A$2:$D$460,3,0),\"\")","v":""},{"$f":"IFERROR(VLOOKUP(A1043,Base!$A$2:$D$460,4,0),\"\")","v":""},null,null,null,null,null,null,null,null,null,null,null,null,null,0]
[null,{"$f":"IFERROR(VLOOKUP(A1044,Base!$A$2:$D$460,2,0),\"\")","v":""},{"$f":"IFERROR(VLOOKUP(A1044,Base!$A$2:$D$460,3,0),\"\")","v":""},{"$f":"IFERROR(VLOOKUP(A1044,Base!$A$2:$D$460,4,0),\"\")","v":""},null,null,null,null,null,null,null,null,null,null,null,null,null,0]
[null,{"$f":"IFERROR(VLOOKUP(A1045,Base!$A$2:$D$460,2,0),\"\")","v":""},{"$f":"IFERROR(VLOOKUP(A1045,Base!$A$2:$D$460,3,0),\"\")","v":""},{"$f":"IFERROR(VLOOKUP(A1045,Base!$A$2:$D$460,4,0),\"\")","v":""},null,null,null,null,null,null,null,null,null,null,null,null,null,0]
[null,{"$f":"IFERROR(VLOOKUP(A1046,Base!$A$2:$D$460,2,0),\"\")","v":""},{"$f":"IFERROR(VLOOKUP(A1046,Base!$A$2:$D$460,3,0),\"\")","v":""},{"$f":"IFERROR(VLOOKUP(A1046,Base!$A$2:$D$460,4,0),\"\")","v":""},null,null,null,null,null,null,null,null,null,null,null,null,null,0]
[null,{"$f":"IFERROR(VLOOKUP(A1047,Base!$A$2:$D$460,2,0),\"\")","v":""},{"$f":"IFERROR(VLOOKUP(A1047,Base!$A$2:$D$460,3,0),\"\")","v":""},{"$f":"IFERROR(VLOOKUP(A1047,Base!$A$2:$D$460,4,0),\"\")","v":""},null,null,null,null,null,null,null,null,null,null,null,null,null,0]
[null,{"$f":"IFERROR(VLOOKUP(A1048,Base!$A$2:$D$460,2,0),\"\")","v":""},{"$f":"IFERROR(VLOOKUP(A1048,Base!$A$2:$D$460,3,0),\"\")","v":""},{"$f":"IFERROR(VLOOKUP(A1048,Base!$A$2:$D$460,4,0),\"\")","v":""},null,null,null,null,null,null,null,null,null,null,null,null,null,0]
[null,{"$f":"IFERROR(VLOOKUP(A1049,Base!$A$2:$D$460,2,0),\"\")","v":""},{"$f":"IFERROR(VLOOKUP(A1049,Base!$A$2:$D$460,3,0),\"\")","v":""},{"$f":"IFERROR(VLOOKUP(A1049,Base!$A$2:$D$460,4,0),\"\")","v":""},null,null,null,null,null,null,null,null,null,null,null,null,null,0]
[null,{"$f":"IFERROR(VLOOKUP(A1050,Base!$A$2:$D$460,2,0),\"\")","v":""},{"$f":"IFERROR(VLOOKUP(A1050,Base!$A$2:$D$460,3,0),\"\")","v":""},{"$f":"IFERROR(VLOOKUP(A1050,Base!$A$2:$D$460,4,0),\"\")","v":""},null,null,null,null,null,null,null,null,null,null,null,null,null,0]
[null,{"$f":"IFERROR(VLOOKUP(A1051,Base!$A$2:$D$460,2,0),\"\")","v":""},{"$f":"IFERROR(VLOOKUP(A1051,Base!$A$2:$D$460,3,0),\"\")","v":""},{"$f":"IFERROR(VLOOKUP(A1051,Base!$A$2:$D$460,4,0),\"\")","v":""},null,null,null,null,null,null,null,null,null,null,null,null,null,0]
[null,{"$f":"IFERROR(VLOOKUP(A1052,Base!$A$2:$D$460,2,0),\"\")","v":""},{"$f":"IFERROR(VLOOKUP(A1052,Base!$A$2:$D$460,3,0),\"\")","v":""},{"$f":"IFERROR(VLOOKUP(A1052,Base!$A$2:$D$460,4,0),\"\")","v":""},null,null,null,null,null,null,null,null,null,null,null,null,null,0]
[null,{"$f":"IFERROR(VLOOKUP(A1053,Base!$A$2:$D$460,2,0),\"\")","v":""},{"$f":"IFERROR(VLOOKUP(A1053,Base!$A$2:$D$460,3,0),\"\")","v":""},{"$f":"IFERROR(VLOOKUP(A1053,Base!$A$2:$D$460,4,0),\"\")","v":""},null,null,null,null,null,null,null,null,null,null,null,null,null,0]
[null,{"$f":"IFERROR(VLOOKUP(A1054,Base!$A$2:$D$460,2,0),\"\")","v":""},{"$f":"IFERROR(VLOOKUP(A1054,Base!$A$2:$D$460,3,0),\"\")","v":""},{"$f":"IFERROR(VLOOKUP(A1054,Base!$A$2:$D$460,4,0),\"\")","v":""},null,null,null,null,null,null,null,null,null,null,null,null,null,0]
[null,{"$f":"IFERROR(VLOOKUP(A1055,Base!$A$2:$D$460,2,0),\"\")","v":""},{"$f":"IFERROR(VLOOKUP(A1055,Base!$A$2:$D$460,3,0),\"\")","v":""},{"$f":"IFERROR(VLOOKUP(A1055,Base!$A$2:$D$460,4,0),\"\")","v":""},null,null,null,null,null,null,null,null,null,null,null,null,null,0]
[null,{"$f":"IFERROR(VLOOKUP(A1056,Base!$A$2:$D$460,2,0),\"\")","v":""},{"$f":"IFERROR(VLOOKUP(A1056,Base!$A$2:$D$460,3,0),\"\")","v":""},{"$f":"IFERROR(VLOOKUP(A1056,Base!$A$2:$D$460,4,0),\"\")","v":""},null,null,null,null,null,null,null,null,null,null,null,null,null,0]
[null,{"$f":"IFERROR(VLOOKUP(A1057,Base!$A$2:$D$460,2,0),\"\")","v":""},{"$f":"IFERROR(VLOOKUP(A1057,Base!$A$2:$D$460,3,0),\"\")","v":""},{"$f":"IFERROR(VLOOKUP(A1057,Base!$A$2:$D$460,4,0),\"\")","v":""},null,null,null,null,null,null,null,null,null,null,null,null,null,0]
[null,{"$f":"IFERROR(VLOOKUP(A1058,Base!$A$2:$D$460,2,0),\"\")","v":""},{"$f":"IFERROR(VLOOKUP(A1058,Base!$A$2:$D$460,3,0),\"\")","v":""},{"$f":"IFERROR(VLOOKUP(A1058,Base!$A$2:$D$460,4,0),\"\")","v":""},null,null,null,null,null,null,null,null,null,null,null,null,null,0]
[null,{"$f":"IFERROR(VLOOKUP(A1059,Base!$A$2:$D$460,2,0),\"\")","v":""},{"$f":"IFERROR(VLOOKUP(A1059,Base!$A$2:$D$460,3,0),\"\")","v":""},{"$f":"IFERROR(VLOOKUP(A1059,Base!$A$2:$D$460,4,0),\"\")","v":""},null,null,null,null,null,null,null,null,null,null,null,null,null,0]
[null,{"$f":"IFERROR(VLOOKUP(A1060,Base!$A$2:$D$460,2,0),\"\")","v":""},{"$f":"IFERROR(VLOOKUP(A1060,Base!$A$2:$D$460,3,0),\"\")","v":""},{"$f":"IFERROR(VLOOKUP(A1060,Base!$A$2:$D$460,4,0),\"\")","v":""},null,null,null,null,null,null,null,null,null,null,null,null,null,0]
[null,{"$f":"IFERROR(VLOOKUP(A1061,Base!$A$2:$D$460,2,0),\"\")","v":""},{"$f":"IFERROR(VLOOKUP(A1061,Base!$A$2:$D$460,3,0),\"\")","v":""},{"$f":"IFERROR(VLOOKUP(A1061,Base!$A$2:$D$460,4,0),\"\")","v":""},null,null,null,null,null,null,null,null,null,null,null,null,null,0]
[null,{"$f":"IFERROR(VLOOKUP(A1062,Base!$A$2:$D$460,2,0),\"\")","v":""},{"$f":"IFERROR(VLOOKUP(A1062,Base!$A$2:$D$460,3,0),\"\")","v":""},{"$f":"IFERROR(VLOOKUP(A1062,Base!$A$2:$D$460,4,0),\"\")","v":""},null,null,null,null,null,null,null,null,null,null,null,null,null,0]
[null,{"$f":"IFERROR(VLOOKUP(A1063,Base!$A$2:$D$460,2,0),\"\")","v":""},{"$f":"IFERROR(VLOOKUP(A1063,Base!$A$2:$D$460,3,0),\"\")","v":""},{"$f":"IFERROR(VLOOKUP(A1063,Base!$A$2:$D$460,4,0),\"\")","v":""},null,null,null,null,null,null,null,null,null,null,null,null,null,{"$f":"SUM(N1063:Q1063)/4","v":0}]
[null,{"$f":"IFERROR(VLOOKUP(A1064,Base!$A$2:$D$460,2,0),\"\")","v":""},{"$f":"IFERROR(VLOOKUP(A1064,Base!$A$2:$D$460,3,0),\"\")","v":""},{"$f":"IFERROR(VLOOKUP(A1064,Base!$A$2:$D$460,4,0),\"\")","v":""},null,null,null,null,null,null,null,null,null,null,null,null,null,0]
[null,{"$f":"IFERROR(VLOOKUP(A1065,Base!$A$2:$D$460,2,0),\"\")","v":""},{"$f":"IFERROR(VLOOKUP(A1065,Base!$A$2:$D$460,3,0),\"\")","v":""},{"$f":"IFERROR(VLOOKUP(A1065,Base!$A$2:$D$460,4,0),\"\")","v":""},null,null,null,null,null,null,null,null,null,null,null,null,null,0]
[null,{"$f":"IFERROR(VLOOKUP(A1066,Base!$A$2:$D$460,2,0),\"\")","v":""},{"$f":"IFERROR(VLOOKUP(A1066,Base!$A$2:$D$460,3,0),\"\")","v":""},{"$f":"IFERROR(VLOOKUP(A1066,Base!$A$2:$D$460,4,0),\"\")","v":""},null,null,null,null,null,null,null,null,null,null,null,null,null,0]
[null,{"$f":"IFERROR(VLOOKUP(A1067,Base!$A$2:$D$460,2,0),\"\")","v":""},{"$f":"IFERROR(VLOOKUP(A1067,Base!$A$2:$D$460,3,0),\"\")","v":""},{"$f":"IFERROR(VLOOKUP(A1067,Base!$A$2:$D$460,4,0),\"\")","v":""},null,null,null,null,null,null,null,null,null,null,null,null,null,0]
[null,{"$f":"IFERROR(VLOOKUP(A1068,Base!$A$2:$D$460,2,0),\"\")","v":""},{"$f":"IFERROR(VLOOKUP(A1068,Base!$A$2:$D$460,3,0),\"\")","v":""},{"$f":"IFERROR(VLOOKUP(A1068,Base!$A$2:$D$460,4,0),\"\")","v":""},null,null,null,null,null,null,null,null,null,null,null,null,null,0]
[null,{"$f":"IFERROR(VLOOKUP(A1069,Base!$A$2:$D$460,2,0),\"\")","v":""},{"$f":"IFERROR(VLOOKUP(A1069,Base!$A$2:$D$460,3,0),\"\")","v":""},{"$f":"IFERROR(VLOOKUP(A1069,Base!$A$2:$D$460,4,0),\"\")","v":""},null,null,null,null,null,null,null,null,null,null,null,null,null,0]
[null,{"$f":"IFERROR(VLOOKUP(A1070,Base!$A$2:$D$460,2,0),\"\")","v":""},{"$f":"IFERROR(VLOOKUP(A1070,Base!$A$2:$D$460,3,0),\"\")","v":""},{"$f":"IFERROR(VLOOKUP(A1070,Base!$A$2:$D$460,4,0),\"\")","v":""},null,null,null,null,null,null,null,null,null,null,null,null,null,0]
[null,{"$f":"IFERROR(VLOOKUP(A1071,Base!$A$2:$D$460,2,0),\"\")","v":""},{"$f":"IFERROR(VLOOKUP(A1071,Base!$A$2:$D$460,3,0),\"\")","v":""},{"$f":"IFERROR(VLOOKUP(A1071,Base!$A$2:$D$460,4,0),\"\")","v":""},null,null,null,null,null,null,null,null,null,null,null,null,null,0]
[null,{"$f":"IFERROR(VLOOKUP(A1072,Base!$A$2:$D$460,2,0),\"\")","v":""},{"$f":"IFERROR(VLOOKUP(A1072,Base!$A$2:$D$460,3,0),\"\")","v":""},{"$f":"IFERROR(VLOOKUP(A1072,Base!$A$2:$D$460,4,0),\"\")","v":""},null,null,null,null,null,null,null,null,null,null,null,null,null,0]
[null,{"$f":"IFERROR(VLOOKUP(A1073,Base!$A$2:$D$460,2,0),\"\")","v":""},{"$f":"IFERROR(VLOOKUP(A1073,Base!$A$2:$D$460,3,0),\"\")","v":""},{"$f":"IFERROR(VLOOKUP(A1073,Base!$A$2:$D$460,4,0),\"\")","v":""},null,null,null,null,null,null,null,null,null,null,null,null,null,0]
[null,{"$f":"IFERROR(VLOOKUP(A1074,Base!$A$2:$D$460,2,0),\"\")","v":""},{"$f":"IFERROR(VLOOKUP(A1074,Base!$A$2:$D$460,3,0),\"\")","v":""},{"$f":"IFERROR(VLOOKUP(A1074,Base!$A$2:$D$460,4,0),\"\")","v":""},null,null,null,null,null,null,null,null,null,null,null,null,null,0]
[null,{"$f":"IFERROR(VLOOKUP(A1075,Base!$A$2:$D$460,2,0),\"\")","v":""},{"$f":"IFERROR(VLOOKUP(A1075,Base!$A$2:$D$460,3,0),\"\")","v":""},{"$f":"IFERROR(VLOOKUP(A1075,Base!$A$2:$D$460,4,0),\"\")","v":""},null,null,null,null,null,null,null,null,null,null,null,null,null,0]
[null,{"$f":"IFERROR(VLOOKUP(A1076,Base!$A$2:$D$460,2,0),\"\")","v":""},{"$f":"IFERROR(VLOOKUP(A1076,Base!$A$2:$D$460,3,0),\"\")","v":""},{"$f":"IFERROR(VLOOKUP(A1076,Base!$A$2:$D$460,4,0),\"\")","v":""},null,null,null,null,null,null,null,null,null,null,null,null,null,0]
[null,{"$f":"IFERROR(VLOOKUP(A1077,Base!$A$2:$D$460,2,0),\"\")","v":""},{"$f":"IFERROR(VLOOKUP(A1077,Base!$A$2:$D$460,3,0),\"\")","v":""},{"$f":"IFERROR(VLOOKUP(A1077,Base!$A$2:$D$460,4,0),\"\")","v":""},null,null,null,null,null,null,null,null,null,null,null,null,null,0]
[null,{"$f":"IFERROR(VLOOKUP(A1078,Base!$A$2:$D$460,2,0),\"\")","v":""},{"$f":"IFERROR(VLOOKUP(A1078,Base!$A$2:$D$460,3,0),\"\")","v":""},{"$f":"IFERROR(VLOOKUP(A1078,Base!$A$2:$D$460,4,0),\"\")","v":""},null,null,null,null,null,null,null,null,null,null,null,null,null,0]
[null,{"$f":"IFERROR(VLOOKUP(A1079,Base!$A$2:$D$460,2,0),\"\")","v":""},{"$f":"IFERROR(VLOOKUP(A1079,Base!$A$2:$D$460,3,0),\"\")","v":""},{"$f":"IFERROR(VLOOKUP(A1079,Base!$A$2:$D$460,4,0),\"\")","v":""},null,null,null,null,null,null,null,null,null,null,null,null,null,0]
[null,{"$f":"IFERROR(VLOOKUP(A1080,Base!$A$2:$D$460,2,0),\"\")","v":""},{"$f":"IFERROR(VLOOKUP(A1080,Base!$A$2:$D$460,3,0),\"\")","v":""},{"$f":"IFERROR(VLOOKUP(A1080,Base!$A$2:$D$460,4,0),\"\")","v":""},null,null,null,null,null,null,null,null,null,null,null,null,null,0]
[null,{"$f":"IFERROR(VLOOKUP(A1081,Base!$A$2:$D$460,2,0),\"\")","v":""},{"$f":"IFERROR(VLOOKUP(A1081,Base!$A$2:$D$460,3,0),\"\")","v":""},{"$f":"IFERROR(VLOOKUP(A1081,Base!$A$2:$D$460,4,0),\"\")","v":""},null,null,null,null,null,null,null,null,null,null,null,null,null,0]
[null,{"$f":"IFERROR(VLOOKUP(A1082,Base!$A$2:$D$460,2,0),\"\")","v":""},{"$f":"IFERROR(VLOOKUP(A1082,Base!$A$2:$D$460,3,0),\"\")","v":""},{"$f":"IFERROR(VLOOKUP(A1082,Base!$A$2:$D$460,4,0),\"\")","v":""},null,null,null,null,null,null,null,null,null,null,null,null,null,0]
[null,{"$f":"IFERROR(VLOOKUP(A1083,Base!$A$2:$D$460,2,0),\"\")","v":""},{"$f":"IFERROR(VLOOKUP(A1083,Base!$A$2:$D$460,3,0),\"\")","v":""},{"$f":"IFERROR(VLOOKUP(A1083,Base!$A$2:$D$460,4,0),\"\")","v":""},null,null,null,null,null,null,null,null,null,null,null,null,null,0]
[null,{"$f":"IFERROR(VLOOKUP(A1084,Base!$A$2:$D$460,2,0),\"\")","v":""},{"$f":"IFERROR(VLOOKUP(A1084,Base!$A$2:$D$460,3,0),\"\")","v":""},{"$f":"IFERROR(VLOOKUP(A1084,Base!$A$2:$D$460,4,0),\"\")","v":""},null,null,null,null,null,null,null,null,null,null,null,null,null,0]
[null,{"$f":"IFERROR(VLOOKUP(A1085,Base!$A$2:$D$460,2,0),\"\")","v":""},{"$f":"IFERROR(VLOOKUP(A1085,Base!$A$2:$D$460,3,0),\"\")","v":""},{"$f":"IFERROR(VLOOKUP(A1085,Base!$A$2:$D$460,4,0),\"\")","v":""},null,null,null,null,null,null,null,null,null,null,null,null,null,0]
[null,{"$f":"IFERROR(VLOOKUP(A1086,Base!$A$2:$D$460,2,0),\"\")","v":""},{"$f":"IFERROR(VLOOKUP(A1086,Base!$A$2:$D$460,3,0),\"\")","v":""},{"$f":"IFERROR(VLOOKUP(A1086,Base!$A$2:$D$460,4,0),\"\")","v":""},null,null,null,null,null,null,null,null,null,null,null,null,null,0]
[null,{"$f":"IFERROR(VLOOKUP(A1087,Base!$A$2:$D$460,2,0),\"\")","v":""},{"$f":"IFERROR(VLOOKUP(A1087,Base!$A$2:$D$460,3,0),\"\")","v":""},{"$f":"IFERROR(VLOOKUP(A1087,Base!$A$2:$D$460,4,0),\"\")","v":""},null,null,null,null,null,null,null,null,null,null,null,null,null,0]
[null,{"$f":"IFERROR(VLOOKUP(A1088,Base!$A$2:$D$460,2,0),\"\")","v":""},{"$f":"IFERROR(VLOOKUP(A1088,Base!$A$2:$D$460,3,0),\"\")","v":""},{"$f":"IFERROR(VLOOKUP(A1088,Base!$A$2:$D$460,4,0),\"\")","v":""},null,null,null,null,null,null,null,null,null,null,null,null,null,0]
[null,{"$f":"IFERROR(VLOOKUP(A1089,Base!$A$2:$D$460,2,0),\"\")","v":""},{"$f":"IFERROR(VLOOKUP(A1089,Base!$A$2:$D$460,3,0),\"\")","v":""},{"$f":"IFERROR(VLOOKUP(A1089,Base!$A$2:$D$460,4,0),\"\")","v":""},null,null,null,null,null,null,null,null,null,null,null,null,null,0]
[null,{"$f":"IFERROR(VLOOKUP(A1090,Base!$A$2:$D$460,2,0),\"\")","v":""},{"$f":"IFERROR(VLOOKUP(A1090,Base!$A$2:$D$460,3,0),\"\")","v":""},{"$f":"IFERROR(VLOOKUP(A1090,Base!$A$2:$D$460,4,0),\"\")","v":""},null,null,null,null,null,null,null,null,null,null,null,null,null,0]
[null,{"$f":"IFERROR(VLOOKUP(A1091,Base!$A$2:$D$460,2,0),\"\")","v":""},{"$f":"IFERROR(VLOOKUP(A1091,Base!$A$2:$D$460,3,0),\"\")","v":""},{"$f":"IFERROR(VLOOKUP(A1091,Base!$A$2:$D$460,4,0),\"\")","v":""},null,null,null,null,null,null,null,null,null,null,null,null,null,0]
[null,{"$f":"IFERROR(VLOOKUP(A1092,Base!$A$2:$D$460,2,0),\"\")","v":""},{"$f":"IFERROR(VLOOKUP(A1092,Base!$A$2:$D$460,3,0),\"\")","v":""},{"$f":"IFERROR(VLOOKUP(A1092,Base!$A$2:$D$460,4,0),\"\")","v":""},null,null,null,null,null,null,null,null,null,null,null,null,null,0]
[null,{"$f":"IFERROR(VLOOKUP(A1093,Base!$A$2:$D$460,2,0),\"\")","v":""},{"$f":"IFERROR(VLOOKUP(A1093,Base!$A$2:$D$460,3,0),\"\")","v":""},{"$f":"IFERROR(VLOOKUP(A1093,Base!$A$2:$D$460,4,0),\"\")","v":""},null,null,null,null,null,null,null,null,null,null,null,null,null,0]
[null,{"$f":"IFERROR(VLOOKUP(A1094,Base!$A$2:$D$460,2,0),\"\")","v":""},{"$f":"IFERROR(VLOOKUP(A1094,Base!$A$2:$D$460,3,0),\"\")","v":""},{"$f":"IFERROR(VLOOKUP(A1094,Base!$A$2:$D$460,4,0),\"\")","v":""},null,null,null,null,null,null,null,null,null,null,null,null,null,0]
[null,{"$f":"IFERROR(VLOOKUP(A1095,Base!$A$2:$D$460,2,0),\"\")","v":""},{"$f":"IFERROR(VLOOKUP(A1095,Base!$A$2:$D$460,3,0),\"\")","v":""},{"$f":"IFERROR(VLOOKUP(A1095,Base!$A$2:$D$460,4,0),\"\")","v":""},null,null,null,null,null,null,null,null,null,null,null,null,null,0]
[null,{"$f":"IFERROR(VLOOKUP(A1096,Base!$A$2:$D$460,2,0),\"\")","v":""},{"$f":"IFERROR(VLOOKUP(A1096,Base!$A$2:$D$460,3,0),\"\")","v":""},{"$f":"IFERROR(VLOOKUP(A1096,Base!$A$2:$D$460,4,0),\"\")","v":""},null,null,null,null,null,null,null,null,null,null,null,null,null,0]
[null,{"$f":"IFERROR(VLOOKUP(A1097,Base!$A$2:$D$460,2,0),\"\")","v":""},{"$f":"IFERROR(VLOOKUP(A1097,Base!$A$2:$D$460,3,0),\"\")","v":""},{"$f":"IFERROR(VLOOKUP(A1097,Base!$A$2:$D$460,4,0),\"\")","v":""},null,null,null,null,null,null,null,null,null,null,null,null,null,0]
[null,{"$f":"IFERROR(VLOOKUP(A1098,Base!$A$2:$D$460,2,0),\"\")","v":""},{"$f":"IFERROR(VLOOKUP(A1098,Base!$A$2:$D$460,3,0),\"\")","v":""},{"$f":"IFERROR(VLOOKUP(A1098,Base!$A$2:$D$460,4,0),\"\")","v":""},null,null,null,null,null,null,null,null,null,null,null,null,null,0]
[null,{"$f":"IFERROR(VLOOKUP(A1099,Base!$A$2:$D$460,2,0),\"\")","v":""},{"$f":"IFERROR(VLOOKUP(A1099,Base!$A$2:$D$460,3,0),\"\")","v":""},{"$f":"IFERROR(VLOOKUP(A1099,Base!$A$2:$D$460,4,0),\"\")","v":""},null,null,null,null,null,null,null,null,null,null,null,null,null,0]
[null,{"$f":"IFERROR(VLOOKUP(A1100,Base!$A$2:$D$460,2,0),\"\")","v":""},{"$f":"IFERROR(VLOOKUP(A1100,Base!$A$2:$D$460,3,0),\"\")","v":""},{"$f":"IFERROR(VLOOKUP(A1100,Base!$A$2:$D$460,4,0),\"\")","v":""},null,null,null,null,null,null,null,null,null,null,null,null,null,0]
[null,{"$f":"IFERROR(VLOOKUP(A1101,Base!$A$2:$D$460,2,0),\"\")","v":""},{"$f":"IFERROR(VLOOKUP(A1101,Base!$A$2:$D$460,3,0),\"\")","v":""},{"$f":"IFERROR(VLOOKUP(A1101,Base!$A$2:$D$460,4,0),\"\")","v":""},null,null,null,null,null,null,null,null,null,null,null,null,null,0]
[null,{"$f":"IFERROR(VLOOKUP(A1102,Base!$A$2:$D$460,2,0),\"\")","v":""},{"$f":"IFERROR(VLOOKUP(A1102,Base!$A$2:$D$460,3,0),\"\")","v":""},{"$f":"IFERROR(VLOOKUP(A1102,Base!$A$2:$D$460,4,0),\"\")","v":""},null,null,null,null,null,null,null,null,null,null,null,null,null,0]
[null,{"$f":"IFERROR(VLOOKUP(A1103,Base!$A$2:$D$460,2,0),\"\")","v":""},{"$f":"IFERROR(VLOOKUP(A1103,Base!$A$2:$D$460,3,0),\"\")","v":""},{"$f":"IFERROR(VLOOKUP(A1103,Base!$A$2:$D$460,4,0),\"\")","v":""},null,null,null,null,null,null,null,null,null,null,null,null,null,0]
[null,{"$f":"IFERROR(VLOOKUP(A1104,Base!$A$2:$D$460,2,0),\"\")","v":""},{"$f":"IFERROR(VLOOKUP(A1104,Base!$A$2:$D$460,3,0),\"\")","v":""},{"$f":"IFERROR(VLOOKUP(A1104,Base!$A$2:$D$460,4,0),\"\")","v":""},null,null,null,null,null,null,null,null,null,null,null,null,null,0]
[null,{"$f":"IFERROR(VLOOKUP(A1105,Base!$A$2:$D$460,2,0),\"\")","v":""},{"$f":"IFERROR(VLOOKUP(A1105,Base!$A$2:$D$460,3,0),\"\")","v":""},{"$f":"IFERROR(VLOOKUP(A1105,Base!$A$2:$D$460,4,0),\"\")","v":""},null,null,null,null,null,null,null,null,null,null,null,null,null,0]
[null,{"$f":"IFERROR(VLOOKUP(A1106,Base!$A$2:$D$460,2,0),\"\")","v":""},{"$f":"IFERROR(VLOOKUP(A1106,Base!$A$2:$D$460,3,0),\"\")","v":""},{"$f":"IFERROR(VLOOKUP(A1106,Base!$A$2:$D$460,4,0),\"\")","v":""},null,null,null,null,null,null,null,null,null,null,null,null,null,0]
[null,{"$f":"IFERROR(VLOOKUP(A1107,Base!$A$2:$D$460,2,0),\"\")","v":""},{"$f":"IFERROR(VLOOKUP(A1107,Base!$A$2:$D$460,3,0),\"\")","v":""},{"$f":"IFERROR(VLOOKUP(A1107,Base!$A$2:$D$460,4,0),\"\")","v":""},null,null,null,null,null,null,null,null,null,null,null,null,null,0]
[null,{"$f":"IFERROR(VLOOKUP(A1108,Base!$A$2:$D$460,2,0),\"\")","v":""},{"$f":"IFERROR(VLOOKUP(A1108,Base!$A$2:$D$460,3,0),\"\")","v":""},{"$f":"IFERROR(VLOOKUP(A1108,Base!$A$2:$D$460,4,0),\"\")","v":""},null,null,null,null,null,null,null,null,null,null,null,null,null,0]
[null,{"$f":"IFERROR(VLOOKUP(A1109,Base!$A$2:$D$460,2,0),\"\")","v":""},{"$f":"IFERROR(VLOOKUP(A1109,Base!$A$2:$D$460,3,0),\"\")","v":""},{"$f":"IFERROR(VLOOKUP(A1109,Base!$A$2:$D$460,4,0),\"\")","v":""},null,null,null,null,null,null,null,null,null,null,null,null,null,0]
[null,{"$f":"IFERROR(VLOOKUP(A1110,Base!$A$2:$D$460,2,0),\"\")","v":""},{"$f":"IFERROR(VLOOKUP(A1110,Base!$A$2:$D$460,3,0),\"\")","v":""},{"$f":"IFERROR(VLOOKUP(A1110,Base!$A$2:$D$460,4,0),\"\")","v":""},null,null,null,null,null,null,null,null,null,null,null,null,null,0]
[null,{"$f":"IFERROR(VLOOKUP(A1111,Base!$A$2:$D$460,2,0),\"\")","v":""},{"$f":"IFERROR(VLOOKUP(A1111,Base!$A$2:$D$460,3,0),\"\")","v":""},{"$f":"IFERROR(VLOOKUP(A1111,Base!$A$2:$D$460,4,0),\"\")","v":""},null,null,null,null,null,null,null,null,null,null,null,null,null,0]
[null,{"$f":"IFERROR(VLOOKUP(A1112,Base!$A$2:$D$460,2,0),\"\")","v":""},{"$f":"IFERROR(VLOOKUP(A1112,Base!$A$2:$D$460,3,0),\"\")","v":""},{"$f":"IFERROR(VLOOKUP(A1112,Base!$A$2:$D$460,4,0),\"\")","v":""},null,null,null,null,null,null,null,null,null,null,null,null,null,0]
[null,{"$f":"IFERROR(VLOOKUP(A1113,Base!$A$2:$D$460,2,0),\"\")","v":""},{"$f":"IFERROR(VLOOKUP(A1113,Base!$A$2:$D$460,3,0),\"\")","v":""},{"$f":"IFERROR(VLOOKUP(A1113,Base!$A$2:$D$460,4,0),\"\")","v":""},null,null,null,null,null,null,null,null,null,null,null,null,null,0]
[null,{"$f":"IFERROR(VLOOKUP(A1114,Base!$A$2:$D$460,2,0),\"\")","v":""},{"$f":"IFERROR(VLOOKUP(A1114,Base!$A$2:$D$460,3,0),\"\")","v":""},{"$f":"IFERROR(VLOOKUP(A1114,Base!$A$2:$D$460,4,0),\"\")","v":""},null,null,null,null,null,null,null,null,null,null,null,null,null,0]
[null,{"$f":"IFERROR(VLOOKUP(A1115,Base!$A$2:$D$460,2,0),\"\")","v":""},{"$f":"IFERROR(VLOOKUP(A1115,Base!$A$2:$D$460,3,0),\"\")","v":""},{"$f":"IFERROR(VLOOKUP(A1115,Base!$A$2:$D$460,4,0),\"\")","v":""},null,null,null,null,null,null,null,null,null,null,null,null,null,0]
[null,{"$f":"IFERROR(VLOOKUP(A1116,Base!$A$2:$D$460,2,0),\"\")","v":""},{"$f":"IFERROR(VLOOKUP(A1116,Base!$A$2:$D$460,3,0),\"\")","v":""},{"$f":"IFERROR(VLOOKUP(A1116,Base!$A$2:$D$460,4,0),\"\")","v":""},null,null,null,null,null,null,null,null,null,null,null,null,null,0]
[null,{"$f":"IFERROR(VLOOKUP(A1117,Base!$A$2:$D$460,2,0),\"\")","v":""},{"$f":"IFERROR(VLOOKUP(A1117,Base!$A$2:$D$460,3,0),\"\")","v":""},{"$f":"IFERROR(VLOOKUP(A1117,Base!$A$2:$D$460,4,0),\"\")","v":""},null,null,null,null,null,null,null,null,null,null,null,null,null,0]
[null,{"$f":"IFERROR(VLOOKUP(A1118,Base!$A$2:$D$460,2,0),\"\")","v":""},{"$f":"IFERROR(VLOOKUP(A1118,Base!$A$2:$D$460,3,0),\"\")","v":""},{"$f":"IFERROR(VLOOKUP(A1118,Base!$A$2:$D$460,4,0),\"\")","v":""},null,null,null,null,null,null,null,null,null,null,null,null,null,0]
[null,{"$f":"IFERROR(VLOOKUP(A1119,Base!$A$2:$D$460,2,0),\"\")","v":""},{"$f":"IFERROR(VLOOKUP(A1119,Base!$A$2:$D$460,3,0),\"\")","v":""},{"$f":"IFERROR(VLOOKUP(A1119,Base!$A$2:$D$460,4,0),\"\")","v":""},null,null,null,null,null,null,null,null,null,null,null,null,null,0]
[null,{"$f":"IFERROR(VLOOKUP(A1120,Base!$A$2:$D$460,2,0),\"\")","v":""},{"$f":"IFERROR(VLOOKUP(A1120,Base!$A$2:$D$460,3,0),\"\")","v":""},{"$f":"IFERROR(VLOOKUP(A1120,Base!$A$2:$D$460,4,0),\"\")","v":""},null,null,null,null,null,null,null,null,null,null,null,null,null,0]
[null,{"$f":"IFERROR(VLOOKUP(A1121,Base!$A$2:$D$460,2,0),\"\")","v":""},{"$f":"IFERROR(VLOOKUP(A1121,Base!$A$2:$D$460,3,0),\"\")","v":""},{"$f":"IFERROR(VLOOKUP(A1121,Base!$A$2:$D$460,4,0),\"\")","v":""},null,null,null,null,null,null,null,null,null,null,null,null,null,0]
[null,{"$f":"IFERROR(VLOOKUP(A1122,Base!$A$2:$D$460,2,0),\"\")","v":""},{"$f":"IFERROR(VLOOKUP(A1122,Base!$A$2:$D$460,3,0),\"\")","v":""},{"$f":"IFERROR(VLOOKUP(A1122,Base!$A$2:$D$460,4,0),\"\")","v":""},null,null,null,null,null,null,null,null,null,null,null,null,null,0]
[null,{"$f":"IFERROR(VLOOKUP(A1123,Base!$A$2:$D$460,2,0),\"\")","v":""},{"$f":"IFERROR(VLOOKUP(A1123,Base!$A$2:$D$460,3,0),\"\")","v":""},{"$f":"IFERROR(VLOOKUP(A1123,Base!$A$2:$D$460,4,0),\"\")","v":""},null,null,null,null,null,null,null,null,null,null,null,null,null,0]
[null,{"$f":"IFERROR(VLOOKUP(A1124,Base!$A$2:$D$460,2,0),\"\")","v":""},{"$f":"IFERROR(VLOOKUP(A1124,Base!$A$2:$D$460,3,0),\"\")","v":""},{"$f":"IFERROR(VLOOKUP(A1124,Base!$A$2:$D$460,4,0),\"\")","v":""},null,null,null,null,null,null,null,null,null,null,null,null,null,0]
[null,{"$f":"IFERROR(VLOOKUP(A1125,Base!$A$2:$D$460,2,0),\"\")","v":""},{"$f":"IFERROR(VLOOKUP(A1125,Base!$A$2:$D$460,3,0),\"\")","v":""},{"$f":"IFERROR(VLOOKUP(A1125,Base!$A$2:$D$460,4,0),\"\")","v":""},null,null,null,null,null,null,null,null,null,null,null,null,null,0]
[null,{"$f":"IFERROR(VLOOKUP(A1126,Base!$A$2:$D$460,2,0),\"\")","v":""},{"$f":"IFERROR(VLOOKUP(A1126,Base!$A$2:$D$460,3,0),\"\")","v":""},{"$f":"IFERROR(VLOOKUP(A1126,Base!$A$2:$D$460,4,0),\"\")","v":""},null,null,null,null,null,null,null,null,null,null,null,null,null,0]
[null,{"$f":"IFERROR(VLOOKUP(A1127,Base!$A$2:$D$460,2,0),\"\")","v":""},{"$f":"IFERROR(VLOOKUP(A1127,Base!$A$2:$D$460,3,0),\"\")","v":""},{"$f":"IFERROR(VLOOKUP(A1127,Base!$A$2:$D$460,4,0),\"\")","v":""},null,null,null,null,null,null,null,null,null,null,null,null,null,{"$f":"SUM(N1127:Q1127)/4","v":0}]
[null,{"$f":"IFERROR(VLOOKUP(A1128,Base!$A$2:$D$460,2,0),\"\")","v":""},{"$f":"IFERROR(VLOOKUP(A1128,Base!$A$2:$D$460,3,0),\"\")","v":""},{"$f":"IFERROR(VLOOKUP(A1128,Base!$A$2:$D$460,4,0),\"\")","v":""},null,null,null,null,null,null,null,null,null,null,null,null,null,0]
[null,{"$f":"IFERROR(VLOOKUP(A1129,Base!$A$2:$D$460,2,0),\"\")","v":""},{"$f":"IFERROR(VLOOKUP(A1129,Base!$A$2:$D$460,3,0),\"\")","v":""},{"$f":"IFERROR(VLOOKUP(A1129,Base!$A$2:$D$460,4,0),\"\")","v":""},null,null,null,null,null,null,null,null,null,null,null,null,null,0]
[null,{"$f":"IFERROR(VLOOKUP(A1130,Base!$A$2:$D$460,2,0),\"\")","v":""},{"$f":"IFERROR(VLOOKUP(A1130,Base!$A$2:$D$460,3,0),\"\")","v":""},{"$f":"IFERROR(VLOOKUP(A1130,Base!$A$2:$D$460,4,0),\"\")","v":""},null,null,null,null,null,null,null,null,null,null,null,null,null,0]
[null,{"$f":"IFERROR(VLOOKUP(A1131,Base!$A$2:$D$460,2,0),\"\")","v":""},{"$f":"IFERROR(VLOOKUP(A1131,Base!$A$2:$D$460,3,0),\"\")","v":""},{"$f":"IFERROR(VLOOKUP(A1131,Base!$A$2:$D$460,4,0),\"\")","v":""},null,null,null,null,null,null,null,null,null,null,null,null,null,0]
[null,{"$f":"IFERROR(VLOOKUP(A1132,Base!$A$2:$D$460,2,0),\"\")","v":""},{"$f":"IFERROR(VLOOKUP(A1132,Base!$A$2:$D$460,3,0),\"\")","v":""},{"$f":"IFERROR(VLOOKUP(A1132,Base!$A$2:$D$460,4,0),\"\")","v":""},null,null,null,null,null,null,null,null,null,null,null,null,null,0]
[null,{"$f":"IFERROR(VLOOKUP(A1133,Base!$A$2:$D$460,2,0),\"\")","v":""},{"$f":"IFERROR(VLOOKUP(A1133,Base!$A$2:$D$460,3,0),\"\")","v":""},{"$f":"IFERROR(VLOOKUP(A1133,Base!$A$2:$D$460,4,0),\"\")","v":""},null,null,null,null,null,null,null,null,null,null,null,null,null,0]
[null,{"$f":"IFERROR(VLOOKUP(A1134,Base!$A$2:$D$460,2,0),\"\")","v":""},{"$f":"IFERROR(VLOOKUP(A1134,Base!$A$2:$D$460,3,0),\"\")","v":""},{"$f":"IFERROR(VLOOKUP(A1134,Base!$A$2:$D$460,4,0),\"\")","v":""},null,null,null,null,null,null,null,null,null,null,null,null,null,0]
[null,{"$f":"IFERROR(VLOOKUP(A1135,Base!$A$2:$D$460,2,0),\"\")","v":""},{"$f":"IFERROR(VLOOKUP(A1135,Base!$A$2:$D$460,3,0),\"\")","v":""},{"$f":"IFERROR(VLOOKUP(A1135,Base!$A$2:$D$460,4,0),\"\")","v":""},null,null,null,null,null,null,null,null,null,null,null,null,null,0]
[null,{"$f":"IFERROR(VLOOKUP(A1136,Base!$A$2:$D$460,2,0),\"\")","v":""},{"$f":"IFERROR(VLOOKUP(A1136,Base!$A$2:$D$460,3,0),\"\")","v":""},{"$f":"IFERROR(VLOOKUP(A1136,Base!$A$2:$D$460,4,0),\"\")","v":""},null,null,null,null,null,null,null,null,null,null,null,null,null,0]
[null,{"$f":"IFERROR(VLOOKUP(A1137,Base!$A$2:$D$460,2,0),\"\")","v":""},{"$f":"IFERROR(VLOOKUP(A1137,Base!$A$2:$D$460,3,0),\"\")","v":""},{"$f":"IFERROR(VLOOKUP(A1137,Base!$A$2:$D$460,4,0),\"\")","v":""},null,null,null,null,null,null,null,null,null,null,null,null,null,0]
[null,{"$f":"IFERROR(VLOOKUP(A1138,Base!$A$2:$D$460,2,0),\"\")","v":""},{"$f":"IFERROR(VLOOKUP(A1138,Base!$A$2:$D$460,3,0),\"\")","v":""},{"$f":"IFERROR(VLOOKUP(A1138,Base!$A$2:$D$460,4,0),\"\")","v":""},null,null,null,null,null,null,null,null,null,null,null,null,null,0]
[null,{"$f":"IFERROR(VLOOKUP(A1139,Base!$A$2:$D$460,2,0),\"\")","v":""},{"$f":"IFERROR(VLOOKUP(A1139,Base!$A$2:$D$460,3,0),\"\")","v":""},{"$f":"IFERROR(VLOOKUP(A1139,Base!$A$2:$D$460,4,0),\"\")","v":""},null,null,null,null,null,null,null,null,null,null,null,null,null,0]
[null,{"$f":"IFERROR(VLOOKUP(A1140,Base!$A$2:$D$460,2,0),\"\")","v":""},{"$f":"IFERROR(VLOOKUP(A1140,Base!$A$2:$D$460,3,0),\"\")","v":""},{"$f":"IFERROR(VLOOKUP(A1140,Base!$A$2:$D$460,4,0),\"\")","v":""},null,null,null,null,null,null,null,null,null,null,null,null,null,0]
[null,{"$f":"IFERROR(VLOOKUP(A1141,Base!$A$2:$D$460,2,0),\"\")","v":""},{"$f":"IFERROR(VLOOKUP(A1141,Base!$A$2:$D$460,3,0),\"\")","v":""},{"$f":"IFERROR(VLOOKUP(A1141,Base!$A$2:$D$460,4,0),\"\")","v":""},null,null,null,null,null,null,null,null,null,null,null,null,null,0]
[null,{"$f":"IFERROR(VLOOKUP(A1142,Base!$A$2:$D$460,2,0),\"\")","v":""},{"$f":"IFERROR(VLOOKUP(A1142,Base!$A$2:$D$460,3,0),\"\")","v":""},{"$f":"IFERROR(VLOOKUP(A1142,Base!$A$2:$D$460,4,0),\"\")","v":""},null,null,null,null,null,null,null,null,null,null,null,null,null,0]
[null,{"$f":"IFERROR(VLOOKUP(A1143,Base!$A$2:$D$460,2,0),\"\")","v":""},{"$f":"IFERROR(VLOOKUP(A1143,Base!$A$2:$D$460,3,0),\"\")","v":""},{"$f":"IFERROR(VLOOKUP(A1143,Base!$A$2:$D$460,4,0),\"\")","v":""},null,null,null,null,null,null,null,null,null,null,null,null,null,0]
[null,{"$f":"IFERROR(VLOOKUP(A1144,Base!$A$2:$D$460,2,0),\"\")","v":""},{"$f":"IFERROR(VLOOKUP(A1144,Base!$A$2:$D$460,3,0),\"\")","v":""},{"$f":"IFERROR(VLOOKUP(A1144,Base!$A$2:$D$460,4,0),\"\")","v":""},null,null,null,null,null,null,null,null,null,null,null,null,null,0]
[null,{"$f":"IFERROR(VLOOKUP(A1145,Base!$A$2:$D$460,2,0),\"\")","v":""},{"$f":"IFERROR(VLOOKUP(A1145,Base!$A$2:$D$460,3,0),\"\")","v":""},{"$f":"IFERROR(VLOOKUP(A1145,Base!$A$2:$D$460,4,0),\"\")","v":""},null,null,null,null,null,null,null,null,null,null,null,null,null,0]
[null,{"$f":"IFERROR(VLOOKUP(A1146,Base!$A$2:$D$460,2,0),\"\")","v":""},{"$f":"IFERROR(VLOOKUP(A1146,Base!$A$2:$D$460,3,0),\"\")","v":""},{"$f":"IFERROR(VLOOKUP(A1146,Base!$A$2:$D$460,4,0),\"\")","v":""},null,null,null,null,null,null,null,null,null,null,null,null,null,0]
[null,{"$f":"IFERROR(VLOOKUP(A1147,Base!$A$2:$D$460,2,0),\"\")","v":""},{"$f":"IFERROR(VLOOKUP(A1147,Base!$A$2:$D$460,3,0),\"\")","v":""},{"$f":"IFERROR(VLOOKUP(A1147,Base!$A$2:$D$460,4,0),\"\")","v":""},null,null,null,null,null,null,null,null,null,null,null,null,null,0]
[null,{"$f":"IFERROR(VLOOKUP(A1148,Base!$A$2:$D$460,2,0),\"\")","v":""},{"$f":"IFERROR(VLOOKUP(A1148,Base!$A$2:$D$460,3,0),\"\")","v":""},{"$f":"IFERROR(VLOOKUP(A1148,Base!$A$2:$D$460,4,0),\"\")","v":""},null,null,null,null,null,null,null,null,null,null,null,null,null,0]
[null,{"$f":"IFERROR(VLOOKUP(A1149,Base!$A$2:$D$460,2,0),\"\")","v":""},{"$f":"IFERROR(VLOOKUP(A1149,Base!$A$2:$D$460,3,0),\"\")","v":""},{"$f":"IFERROR(VLOOKUP(A1149,Base!$A$2:$D$460,4,0),\"\")","v":""},null,null,null,null,null,null,null,null,null,null,null,null,null,0]
[null,{"$f":"IFERROR(VLOOKUP(A1150,Base!$A$2:$D$460,2,0),\"\")","v":""},{"$f":"IFERROR(VLOOKUP(A1150,Base!$A$2:$D$460,3,0),\"\")","v":""},{"$f":"IFERROR(VLOOKUP(A1150,Base!$A$2:$D$460,4,0),\"\")","v":""},null,null,null,null,null,null,null,null,null,null,null,null,null,0]
[null,{"$f":"IFERROR(VLOOKUP(A1151,Base!$A$2:$D$460,2,0),\"\")","v":""},{"$f":"IFERROR(VLOOKUP(A1151,Base!$A$2:$D$460,3,0),\"\")","v":""},{"$f":"IFERROR(VLOOKUP(A1151,Base!$A$2:$D$460,4,0),\"\")","v":""},null,null,null,null,null,null,null,null,null,null,null,null,null,0]
[null,{"$f":"IFERROR(VLOOKUP(A1152,Base!$A$2:$D$460,2,0),\"\")","v":""},{"$f":"IFERROR(VLOOKUP(A1152,Base!$A$2:$D$460,3,0),\"\")","v":""},{"$f":"IFERROR(VLOOKUP(A1152,Base!$A$2:$D$460,4,0),\"\")","v":""},null,null,null,null,null,null,null,null,null,null,null,null,null,0]
[null,{"$f":"IFERROR(VLOOKUP(A1153,Base!$A$2:$D$460,2,0),\"\")","v":""},{"$f":"IFERROR(VLOOKUP(A1153,Base!$A$2:$D$460,3,0),\"\")","v":""},{"$f":"IFERROR(VLOOKUP(A1153,Base!$A$2:$D$460,4,0),\"\")","v":""},null,null,null,null,null,null,null,null,null,null,null,null,null,0]
[null,{"$f":"IFERROR(VLOOKUP(A1154,Base!$A$2:$D$460,2,0),\"\")","v":""},{"$f":"IFERROR(VLOOKUP(A1154,Base!$A$2:$D$460,3,0),\"\")","v":""},{"$f":"IFERROR(VLOOKUP(A1154,Base!$A$2:$D$460,4,0),\"\")","v":""},null,null,null,null,null,null,null,null,null,null,null,null,null,0]
[null,{"$f":"IFERROR(VLOOKUP(A1155,Base!$A$2:$D$460,2,0),\"\")","v":""},{"$f":"IFERROR(VLOOKUP(A1155,Base!$A$2:$D$460,3,0),\"\")","v":""},{"$f":"IFERROR(VLOOKUP(A1155,Base!$A$2:$D$460,4,0),\"\")","v":""},null,null,null,null,null,null,null,null,null,null,null,null,null,0]
[null,{"$f":"IFERROR(VLOOKUP(A1156,Base!$A$2:$D$460,2,0),\"\")","v":""},{"$f":"IFERROR(VLOOKUP(A1156,Base!$A$2:$D$460,3,0),\"\")","v":""},{"$f":"IFERROR(VLOOKUP(A1156,Base!$A$2:$D$460,4,0),\"\")","v":""},null,null,null,null,null,null,null,null,null,null,null,null,null,0]
[null,{"$f":"IFERROR(VLOOKUP(A1157,Base!$A$2:$D$460,2,0),\"\")","v":""},{"$f":"IFERROR(VLOOKUP(A1157,Base!$A$2:$D$460,3,0),\"\")","v":""},{"$f":"IFERROR(VLOOKUP(A1157,Base!$A$2:$D$460,4,0),\"\")","v":""},null,null,null,null,null,null,null,null,null,null,null,null,null,0]
[null,{"$f":"IFERROR(VLOOKUP(A1158,Base!$A$2:$D$460,2,0),\"\")","v":""},{"$f":"IFERROR(VLOOKUP(A1158,Base!$A$2:$D$460,3,0),\"\")","v":""},{"$f":"IFERROR(VLOOKUP(A1158,Base!$A$2:$D$460,4,0),\"\")","v":""},null,null,null,null,null,null,null,null,null,null,null,null,null,0]
[null,{"$f":"IFERROR(VLOOKUP(A1159,Base!$A$2:$D$460,2,0),\"\")","v":""},{"$f":"IFERROR(VLOOKUP(A1159,Base!$A$2:$D$460,3,0),\"\")","v":""},{"$f":"IFERROR(VLOOKUP(A1159,Base!$A$2:$D$460,4,0),\"\")","v":""},null,null,null,null,null,null,null,null,null,null,null,null,null,0]
[null,{"$f":"IFERROR(VLOOKUP(A1160,Base!$A$2:$D$460,2,0),\"\")","v":""},{"$f":"IFERROR(VLOOKUP(A1160,Base!$A$2:$D$460,3,0),\"\")","v":""},{"$f":"IFERROR(VLOOKUP(A1160,Base!$A$2:$D$460,4,0),\"\")","v":""},null,null,null,null,null,null,null,null,null,null,null,null,null,0]
[null,{"$f":"IFERROR(VLOOKUP(A1161,Base!$A$2:$D$460,2,0),\"\")","v":""},{"$f":"IFERROR(VLOOKUP(A1161,Base!$A$2:$D$460,3,0),\"\")","v":""},{"$f":"IFERROR(VLOOKUP(A1161,Base!$A$2:$D$460,4,0),\"\")","v":""},null,null,null,null,null,null,null,null,null,null,null,null,null,0]
[null,{"$f":"IFERROR(VLOOKUP(A1162,Base!$A$2:$D$460,2,0),\"\")","v":""},{"$f":"IFERROR(VLOOKUP(A1162,Base!$A$2:$D$460,3,0),\"\")","v":""},{"$f":"IFERROR(VLOOKUP(A1162,Base!$A$2:$D$460,4,0),\"\")","v":""},null,null,null,null,null,null,null,null,null,null,null,null,null,0]
[null,{"$f":"IFERROR(VLOOKUP(A1163,Base!$A$2:$D$460,2,0),\"\")","v":""},{"$f":"IFERROR(VLOOKUP(A1163,Base!$A$2:$D$460,3,0),\"\")","v":""},{"$f":"IFERROR(VLOOKUP(A1163,Base!$A$2:$D$460,4,0),\"\")","v":""},null,null,null,null,null,null,null,null,null,null,null,null,null,0]
[null,{"$f":"IFERROR(VLOOKUP(A1164,Base!$A$2:$D$460,2,0),\"\")","v":""},{"$f":"IFERROR(VLOOKUP(A1164,Base!$A$2:$D$460,3,0),\"\")","v":""},{"$f":"IFERROR(VLOOKUP(A1164,Base!$A$2:$D$460,4,0),\"\")","v":""},null,null,null,null,null,null,null,null,null,null,null,null,null,0]
[null,{"$f":"IFERROR(VLOOKUP(A1165,Base!$A$2:$D$460,2,0),\"\")","v":""},{"$f":"IFERROR(VLOOKUP(A1165,Base!$A$2:$D$460,3,0),\"\")","v":""},{"$f":"IFERROR(VLOOKUP(A1165,Base!$A$2:$D$460,4,0),\"\")","v":""},null,null,null,null,null,null,null,null,null,null,null,null,null,0]
[null,{"$f":"IFERROR(VLOOKUP(A1166,Base!$A$2:$D$460,2,0),\"\")","v":""},{"$f":"IFERROR(VLOOKUP(A1166,Base!$A$2:$D$460,3,0),\"\")","v":""},{"$f":"IFERROR(VLOOKUP(A1166,Base!$A$2:$D$460,4,0),\"\")","v":""},null,null,null,null,null,null,null,null,null,null,null,null,null,0]
[null,{"$f":"IFERROR(VLOOKUP(A1167,Base!$A$2:$D$460,2,0),\"\")","v":""},{"$f":"IFERROR(VLOOKUP(A1167,Base!$A$2:$D$460,3,0),\"\")","v":""},{"$f":"IFERROR(VLOOKUP(A1167,Base!$A$2:$D$460,4,0),\"\")","v":""},null,null,null,null,null,null,null,null,null,null,null,null,null,0]
[null,{"$f":"IFERROR(VLOOKUP(A1168,Base!$A$2:$D$460,2,0),\"\")","v":""},{"$f":"IFERROR(VLOOKUP(A1168,Base!$A$2:$D$460,3,0),\"\")","v":""},{"$f":"IFERROR(VLOOKUP(A1168,Base!$A$2:$D$460,4,0),\"\")","v":""},null,null,null,null,null,null,null,null,null,null,null,null,null,0]
[null,{"$f":"IFERROR(VLOOKUP(A1169,Base!$A$2:$D$460,2,0),\"\")","v":""},{"$f":"IFERROR(VLOOKUP(A1169,Base!$A$2:$D$460,3,0),\"\")","v":""},{"$f":"IFERROR(VLOOKUP(A1169,Base!$A$2:$D$460,4,0),\"\")","v":""},null,null,null,null,null,null,null,null,null,null,null,null,null,0]
[null,{"$f":"IFERROR(VLOOKUP(A1170,Base!$A$2:$D$460,2,0),\"\")","v":""},{"$f":"IFERROR(VLOOKUP(A1170,Base!$A$2:$D$460,3,0),\"\")","v":""},{"$f":"IFERROR(VLOOKUP(A1170,Base!$A$2:$D$460,4,0),\"\")","v":""},null,null,null,null,null,null,null,null,null,null,null,null,null,0]
[null,{"$f":"IFERROR(VLOOKUP(A1171,Base!$A$2:$D$460,2,0),\"\")","v":""},{"$f":"IFERROR(VLOOKUP(A1171,Base!$A$2:$D$460,3,0),\"\")","v":""},{"$f":"IFERROR(VLOOKUP(A1171,Base!$A$2:$D$460,4,0),\"\")","v":""},null,null,null,null,null,null,null,null,null,null,null,null,null,0]
[null,{"$f":"IFERROR(VLOOKUP(A1172,Base!$A$2:$D$460,2,0),\"\")","v":""},{"$f":"IFERROR(VLOOKUP(A1172,Base!$A$2:$D$460,3,0),\"\")","v":""},{"$f":"IFERROR(VLOOKUP(A1172,Base!$A$2:$D$460,4,0),\"\")","v":""},null,null,null,null,null,null,null,null,null,null,null,null,null,0]
[null,{"$f":"IFERROR(VLOOKUP(A1173,Base!$A$2:$D$460,2,0),\"\")","v":""},{"$f":"IFERROR(VLOOKUP(A1173,Base!$A$2:$D$460,3,0),\"\")","v":""},{"$f":"IFERROR(VLOOKUP(A1173,Base!$A$2:$D$460,4,0),\"\")","v":""},null,null,null,null,null,null,null,null,null,null,null,null,null,0]
[null,{"$f":"IFERROR(VLOOKUP(A1174,Base!$A$2:$D$460,2,0),\"\")","v":""},{"$f":"IFERROR(VLOOKUP(A1174,Base!$A$2:$D$460,3,0),\"\")","v":""},{"$f":"IFERROR(VLOOKUP(A1174,Base!$A$2:$D$460,4,0),\"\")","v":""},null,null,null,null,null,null,null,null,null,null,null,null,null,0]
[null,{"$f":"IFERROR(VLOOKUP(A1175,Base!$A$2:$D$460,2,0),\"\")","v":""},{"$f":"IFERROR(VLOOKUP(A1175,Base!$A$2:$D$460,3,0),\"\")","v":""},{"$f":"IFERROR(VLOOKUP(A1175,Base!$A$2:$D$460,4,0),\"\")","v":""},null,null,null,null,null,null,null,null,null,null,null,null,null,0]
[null,{"$f":"IFERROR(VLOOKUP(A1176,Base!$A$2:$D$460,2,0),\"\")","v":""},{"$f":"IFERROR(VLOOKUP(A1176,Base!$A$2:$D$460,3,0),\"\")","v":""},{"$f":"IFERROR(VLOOKUP(A1176,Base!$A$2:$D$460,4,0),\"\")","v":""},null,null,null,null,null,null,null,null,null,null,null,null,null,0]
[null,{"$f":"IFERROR(VLOOKUP(A1177,Base!$A$2:$D$460,2,0),\"\")","v":""},{"$f":"IFERROR(VLOOKUP(A1177,Base!$A$2:$D$460,3,0),\"\")","v":""},{"$f":"IFERROR(VLOOKUP(A1177,Base!$A$2:$D$460,4,0),\"\")","v":""},null,null,null,null,null,null,null,null,null,null,null,null,null,0]
[null,{"$f":"IFERROR(VLOOKUP(A1178,Base!$A$2:$D$460,2,0),\"\")","v":""},{"$f":"IFERROR(VLOOKUP(A1178,Base!$A$2:$D$460,3,0),\"\")","v":""},{"$f":"IFERROR(VLOOKUP(A1178,Base!$A$2:$D$460,4,0),\"\")","v":""},null,null,null,null,null,null,null,null,null,null,null,null,null,0]
[null,{"$f":"IFERROR(VLOOKUP(A1179,Base!$A$2:$D$460,2,0),\"\")","v":""},{"$f":"IFERROR(VLOOKUP(A1179,Base!$A$2:$D$460,3,0),\"\")","v":""},{"$f":"IFERROR(VLOOKUP(A1179,Base!$A$2:$D$460,4,0),\"\")","v":""},null,null,null,null,null,null,null,null,null,null,null,null,null,0]
[null,{"$f":"IFERROR(VLOOKUP(A1180,Base!$A$2:$D$460,2,0),\"\")","v":""},{"$f":"IFERROR(VLOOKUP(A1180,Base!$A$2:$D$460,3,0),\"\")","v":""},{"$f":"IFERROR(VLOOKUP(A1180,Base!$A$2:$D$460,4,0),\"\")","v":""},null,null,null,null,null,null,null,null,null,null,null,null,null,0]
[null,{"$f":"IFERROR(VLOOKUP(A1181,Base!$A$2:$D$460,2,0),\"\")","v":""},{"$f":"IFERROR(VLOOKUP(A1181,Base!$A$2:$D$460,3,0),\"\")","v":""},{"$f":"IFERROR(VLOOKUP(A1181,Base!$A$2:$D$460,4,0),\"\")","v":""},null,null,null,null,null,null,null,null,null,null,null,null,null,0]
[null,{"$f":"IFERROR(VLOOKUP(A1182,Base!$A$2:$D$460,2,0),\"\")","v":""},{"$f":"IFERROR(VLOOKUP(A1182,Base!$A$2:$D$460,3,0),\"\")","v":""},{"$f":"IFERROR(VLOOKUP(A1182,Base!$A$2:$D$460,4,0),\"\")","v":""},null,null,null,null,null,null,null,null,null,null,null,null,null,0]
[null,{"$f":"IFERROR(VLOOKUP(A1183,Base!$A$2:$D$460,2,0),\"\")","v":""},{"$f":"IFERROR(VLOOKUP(A1183,Base!$A$2:$D$460,3,0),\"\")","v":""},{"$f":"IFERROR(VLOOKUP(A1183,Base!$A$2:$D$460,4,0),\"\")","v":""},null,null,null,null,null,null,null,null,null,null,null,null,null,0]
[null,{"$f":"IFERROR(VLOOKUP(A1184,Base!$A$2:$D$460,2,0),\"\")","v":""},{"$f":"IFERROR(VLOOKUP(A1184,Base!$A$2:$D$460,3,0),\"\")","v":""},{"$f":"IFERROR(VLOOKUP(A1184,Base!$A$2:$D$460,4,0),\"\")","v":""},null,null,null,null,null,null,null,null,null,null,null,null,null,0]
[null,{"$f":"IFERROR(VLOOKUP(A1185,Base!$A$2:$D$460,2,0),\"\")","v":""},{"$f":"IFERROR(VLOOKUP(A1185,Base!$A$2:$D$460,3,0),\"\")","v":""},{"$f":"IFERROR(VLOOKUP(A1185,Base!$A$2:$D$460,4,0),\"\")","v":""},null,null,null,null,null,null,null,null,null,null,null,null,null,0]
[null,{"$f":"IFERROR(VLOOKUP(A1186,Base!$A$2:$D$460,2,0),\"\")","v":""},{"$f":"IFERROR(VLOOKUP(A1186,Base!$A$2:$D$460,3,0),\"\")","v":""},{"$f":"IFERROR(VLOOKUP(A1186,Base!$A$2:$D$460,4,0),\"\")","v":""},null,null,null,null,null,null,null,null,null,null,null,null,null,0]
[null,{"$f":"IFERROR(VLOOKUP(A1187,Base!$A$2:$D$460,2,0),\"\")","v":""},{"$f":"IFERROR(VLOOKUP(A1187,Base!$A$2:$D$460,3,0),\"\")","v":""},{"$f":"IFERROR(VLOOKUP(A1187,Base!$A$2:$D$460,4,0),\"\")","v":""},null,null,null,null,null,null,null,null,null,null,null,null,null,0]
[null,{"$f":"IFERROR(VLOOKUP(A1188,Base!$A$2:$D$460,2,0),\"\")","v":""},{"$f":"IFERROR(VLOOKUP(A1188,Base!$A$2:$D$460,3,0),\"\")","v":""},{"$f":"IFERROR(VLOOKUP(A1188,Base!$A$2:$D$460,4,0),\"\")","v":""},null,null,null,null,null,null,null,null,null,null,null,null,null,0]
[null,{"$f":"IFERROR(VLOOKUP(A1189,Base!$A$2:$D$460,2,0),\"\")","v":""},{"$f":"IFERROR(VLOOKUP(A1189,Base!$A$2:$D$460,3,0),\"\")","v":""},{"$f":"IFERROR(VLOOKUP(A1189,Base!$A$2:$D$460,4,0),\"\")","v":""},null,null,null,null,null,null,null,null,null,null,null,null,null,0]
[null,{"$f":"IFERROR(VLOOKUP(A1190,Base!$A$2:$D$460,2,0),\"\")","v":""},{"$f":"IFERROR(VLOOKUP(A1190,Base!$A$2:$D$460,3,0),\"\")","v":""},{"$f":"IFERROR(VLOOKUP(A1190,Base!$A$2:$D$460,4,0),\"\")","v":""},null,null,null,null,null,null,null,null,null,null,null,null,null,0]
[null,{"$f":"IFERROR(VLOOKUP(A1191,Base!$A$2:$D$460,2,0),\"\")","v":""},{"$f":"IFERROR(VLOOKUP(A1191,Base!$A$2:$D$460,3,0),\"\")","v":""},{"$f":"IFERROR(VLOOKUP(A1191,Base!$A$2:$D$460,4,0),\"\")","v":""},null,null,null,null,null,null,null,null,null,null,null,null,null,{"$f":"SUM(N1191:Q1191)/4","v":0}]
[null,{"$f":"IFERROR(VLOOKUP(A1192,Base!$A$2:$D$460,2,0),\"\")","v":""},{"$f":"IFERROR(VLOOKUP(A1192,Base!$A$2:$D$460,3,0),\"\")","v":""},{"$f":"IFERROR(VLOOKUP(A1192,Base!$A$2:$D$460,4,0),\"\")","v":""},null,null,null,null,null,null,null,null,null,null,null,null,null,0]
[null,{"$f":"IFERROR(VLOOKUP(A1193,Base!$A$2:$D$460,2,0),\"\")","v":""},{"$f":"IFERROR(VLOOKUP(A1193,Base!$A$2:$D$460,3,0),\"\")","v":""},{"$f":"IFERROR(VLOOKUP(A1193,Base!$A$2:$D$460,4,0),\"\")","v":""},null,null,null,null,null,null,null,null,null,null,null,null,null,0]
[null,{"$f":"IFERROR(VLOOKUP(A1194,Base!$A$2:$D$460,2,0),\"\")","v":""},{"$f":"IFERROR(VLOOKUP(A1194,Base!$A$2:$D$460,3,0),\"\")","v":""},{"$f":"IFERROR(VLOOKUP(A1194,Base!$A$2:$D$460,4,0),\"\")","v":""},null,null,null,null,null,null,null,null,null,null,null,null,null,0]
[null,{"$f":"IFERROR(VLOOKUP(A1195,Base!$A$2:$D$460,2,0),\"\")","v":""},{"$f":"IFERROR(VLOOKUP(A1195,Base!$A$2:$D$460,3,0),\"\")","v":""},{"$f":"IFERROR(VLOOKUP(A1195,Base!$A$2:$D$460,4,0),\"\")","v":""},null,null,null,null,null,null,null,null,null,null,null,null,null,0]
[null,{"$f":"IFERROR(VLOOKUP(A1196,Base!$A$2:$D$460,2,0),\"\")","v":""},{"$f":"IFERROR(VLOOKUP(A1196,Base!$A$2:$D$460,3,0),\"\")","v":""},{"$f":"IFERROR(VLOOKUP(A1196,Base!$A$2:$D$460,4,0),\"\")","v":""},null,null,null,null,null,null,null,null,null,null,null,null,null,0]
[null,{"$f":"IFERROR(VLOOKUP(A1197,Base!$A$2:$D$460,2,0),\"\")","v":""},{"$f":"IFERROR(VLOOKUP(A1197,Base!$A$2:$D$460,3,0),\"\")","v":""},{"$f":"IFERROR(VLOOKUP(A1197,Base!$A$2:$D$460,4,0),\"\")","v":""},null,null,null,null,null,null,null,null,null,null,null,null,null,0]
[null,{"$f":"IFERROR(VLOOKUP(A1198,Base!$A$2:$D$460,2,0),\"\")","v":""},{"$f":"IFERROR(VLOOKUP(A1198,Base!$A$2:$D$460,3,0),\"\")","v":""},{"$f":"IFERROR(VLOOKUP(A1198,Base!$A$2:$D$460,4,0),\"\")","v":""},null,null,null,null,null,null,null,null,null,null,null,null,null,0]
[null,{"$f":"IFERROR(VLOOKUP(A1199,Base!$A$2:$D$460,2,0),\"\")","v":""},{"$f":"IFERROR(VLOOKUP(A1199,Base!$A$2:$D$460,3,0),\"\")","v":""},{"$f":"IFERROR(VLOOKUP(A1199,Base!$A$2:$D$460,4,0),\"\")","v":""},null,null,null,null,null,null,null,null,null,null,null,null,null,0]
[null,{"$f":"IFERROR(VLOOKUP(A1200,Base!$A$2:$D$460,2,0),\"\")","v":""},{"$f":"IFERROR(VLOOKUP(A1200,Base!$A$2:$D$460,3,0),\"\")","v":""},{"$f":"IFERROR(VLOOKUP(A1200,Base!$A$2:$D$460,4,0),\"\")","v":""},null,null,null,null,null,null,null,null,null,null,null,null,null,0]
[null,{"$f":"IFERROR(VLOOKUP(A1201,Base!$A$2:$D$460,2,0),\"\")","v":""},{"$f":"IFERROR(VLOOKUP(A1201,Base!$A$2:$D$460,3,0),\"\")","v":""},{"$f":"IFERROR(VLOOKUP(A1201,Base!$A$2:$D$460,4,0),\"\")","v":""},null,null,null,null,null,null,null,null,null,null,null,null,null,0]
[null,{"$f":"IFERROR(VLOOKUP(A1202,Base!$A$2:$D$460,2,0),\"\")","v":""},{"$f":"IFERROR(VLOOKUP(A1202,Base!$A$2:$D$460,3,0),\"\")","v":""},{"$f":"IFERROR(VLOOKUP(A1202,Base!$A$2:$D$460,4,0),\"\")","v":""},null,null,null,null,null,null,null,null,null,null,null,null,null,0]
[null,{"$f":"IFERROR(VLOOKUP(A1203,Base!$A$2:$D$460,2,0),\"\")","v":""},{"$f":"IFERROR(VLOOKUP(A1203,Base!$A$2:$D$460,3,0),\"\")","v":""},{"$f":"IFERROR(VLOOKUP(A1203,Base!$A$2:$D$460,4,0),\"\")","v":""},null,null,null,null,null,null,null,null,null,null,null,null,null,0]
[null,{"$f":"IFERROR(VLOOKUP(A1204,Base!$A$2:$D$460,2,0),\"\")","v":""},{"$f":"IFERROR(VLOOKUP(A1204,Base!$A$2:$D$460,3,0),\"\")","v":""},{"$f":"IFERROR(VLOOKUP(A1204,Base!$A$2:$D$460,4,0),\"\")","v":""},null,null,null,null,null,null,null,null,null,null,null,null,null,0]
[null,{"$f":"IFERROR(VLOOKUP(A1205,Base!$A$2:$D$460,2,0),\"\")","v":""},{"$f":"IFERROR(VLOOKUP(A1205,Base!$A$2:$D$460,3,0),\"\")","v":""},{"$f":"IFERROR(VLOOKUP(A1205,Base!$A$2:$D$460,4,0),\"\")","v":""},null,null,null,null,null,null,null,null,null,null,null,null,null,0]
[null,{"$f":"IFERROR(VLOOKUP(A1206,Base!$A$2:$D$460,2,0),\"\")","v":""},{"$f":"IFERROR(VLOOKUP(A1206,Base!$A$2:$D$460,3,0),\"\")","v":""},{"$f":"IFERROR(VLOOKUP(A1206,Base!$A$2:$D$460,4,0),\"\")","v":""},null,null,null,null,null,null,null,null,null,null,null,null,null,0]
[null,{"$f":"IFERROR(VLOOKUP(A1207,Base!$A$2:$D$460,2,0),\"\")","v":""},{"$f":"IFERROR(VLOOKUP(A1207,Base!$A$2:$D$460,3,0),\"\")","v":""},{"$f":"IFERROR(VLOOKUP(A1207,Base!$A$2:$D$460,4,0),\"\")","v":""},null,null,null,null,null,null,null,null,null,null,null,null,null,0]
[null,{"$f":"IFERROR(VLOOKUP(A1208,Base!$A$2:$D$460,2,0),\"\")","v":""},{"$f":"IFERROR(VLOOKUP(A1208,Base!$A$2:$D$460,3,0),\"\")","v":""},{"$f":"IFERROR(VLOOKUP(A1208,Base!$A$2:$D$460,4,0),\"\")","v":""},null,null,null,null,null,null,null,null,null,null,null,null,null,0]
[null,{"$f":"IFERROR(VLOOKUP(A1209,Base!$A$2:$D$460,2,0),\"\")","v":""},{"$f":"IFERROR(VLOOKUP(A1209,Base!$A$2:$D$460,3,0),\"\")","v":""},{"$f":"IFERROR(VLOOKUP(A1209,Base!$A$2:$D$460,4,0),\"\")","v":""},null,null,null,null,null,null,null,null,null,null,null,null,null,0]
[null,{"$f":"IFERROR(VLOOKUP(A1210,Base!$A$2:$D$460,2,0),\"\")","v":""},{"$f":"IFERROR(VLOOKUP(A1210,Base!$A$2:$D$460,3,0),\"\")","v":""},{"$f":"IFERROR(VLOOKUP(A1210,Base!$A$2:$D$460,4,0),\"\")","v":""},null,null,null,null,null,null,null,null,null,null,null,null,null,0]
[null,{"$f":"IFERROR(VLOOKUP(A1211,Base!$A$2:$D$460,2,0),\"\")","v":""},{"$f":"IFERROR(VLOOKUP(A1211,Base!$A$2:$D$460,3,0),\"\")","v":""},{"$f":"IFERROR(VLOOKUP(A1211,Base!$A$2:$D$460,4,0),\"\")","v":""},null,null,null,null,null,null,null,null,null,null,null,null,null,0]
[null,{"$f":"IFERROR(VLOOKUP(A1212,Base!$A$2:$D$460,2,0),\"\")","v":""},{"$f":"IFERROR(VLOOKUP(A1212,Base!$A$2:$D$460,3,0),\"\")","v":""},{"$f":"IFERROR(VLOOKUP(A1212,Base!$A$2:$D$460,4,0),\"\")","v":""},null,null,null,null,null,null,null,null,null,null,null,null,null,0]
[null,{"$f":"IFERROR(VLOOKUP(A1213,Base!$A$2:$D$460,2,0),\"\")","v":""},{"$f":"IFERROR(VLOOKUP(A1213,Base!$A$2:$D$460,3,0),\"\")","v":""},{"$f":"IFERROR(VLOOKUP(A1213,Base!$A$2:$D$460,4,0),\"\")","v":""},null,null,null,null,null,null,null,null,null,null,null,null,null,0]
[null,{"$f":"IFERROR(VLOOKUP(A1214,Base!$A$2:$D$460,2,0),\"\")","v":""},{"$f":"IFERROR(VLOOKUP(A1214,Base!$A$2:$D$460,3,0),\"\")","v":""},{"$f":"IFERROR(VLOOKUP(A1214,Base!$A$2:$D$460,4,0),\"\")","v":""},null,null,null,null,null,null,null,null,null,null,null,null,null,0]
[null,{"$f":"IFERROR(VLOOKUP(A1215,Base!$A$2:$D$460,2,0),\"\")","v":""},{"$f":"IFERROR(VLOOKUP(A1215,Base!$A$2:$D$460,3,0),\"\")","v":""},{"$f":"IFERROR(VLOOKUP(A1215,Base!$A$2:$D$460,4,0),\"\")","v":""},null,null,null,null,null,null,null,null,null,null,null,null,null,0]
[null,{"$f":"IFERROR(VLOOKUP(A1216,Base!$A$2:$D$460,2,0),\"\")","v":""},{"$f":"IFERROR(VLOOKUP(A1216,Base!$A$2:$D$460,3,0),\"\")","v":""},{"$f":"IFERROR(VLOOKUP(A1216,Base!$A$2:$D$460,4,0),\"\")","v":""},null,null,null,null,null,null,null,null,null,null,null,null,null,0]
[null,{"$f":"IFERROR(VLOOKUP(A1217,Base!$A$2:$D$460,2,0),\"\")","v":""},{"$f":"IFERROR(VLOOKUP(A1217,Base!$A$2:$D$460,3,0),\"\")","v":""},{"$f":"IFERROR(VLOOKUP(A1217,Base!$A$2:$D$460,4,0),\"\")","v":""},null,null,null,null,null,null,null,null,null,null,null,null,null,0]
[null,{"$f":"IFERROR(VLOOKUP(A1218,Base!$A$2:$D$460,2,0),\"\")","v":""},{"$f":"IFERROR(VLOOKUP(A1218,Base!$A$2:$D$460,3,0),\"\")","v":""},{"$f":"IFERROR(VLOOKUP(A1218,Base!$A$2:$D$460,4,0),\"\")","v":""},null,null,null,null,null,null,null,null,null,null,null,null,null,0]
[null,{"$f":"IFERROR(VLOOKUP(A1219,Base!$A$2:$D$460,2,0),\"\")","v":""},{"$f":"IFERROR(VLOOKUP(A1219,Base!$A$2:$D$460,3,0),\"\")","v":""},{"$f":"IFERROR(VLOOKUP(A1219,Base!$A$2:$D$460,4,0),\"\")","v":""},null,null,null,null,null,null,null,null,null,null,null,null,null,0]
[null,{"$f":"IFERROR(VLOOKUP(A1220,Base!$A$2:$D$460,2,0),\"\")","v":""},{"$f":"IFERROR(VLOOKUP(A1220,Base!$A$2:$D$460,3,0),\"\")","v":""},{"$f":"IFERROR(VLOOKUP(A1220,Base!$A$2:$D$460,4,0),\"\")","v":""},null,null,null,null,null,null,null,null,null,null,null,null,null,0]
[null,{"$f":"IFERROR(VLOOKUP(A1221,Base!$A$2:$D$460,2,0),\"\")","v":""},{"$f":"IFERROR(VLOOKUP(A1221,Base!$A$2:$D$460,3,0),\"\")","v":""},{"$f":"IFERROR(VLOOKUP(A1221,Base!$A$2:$D$460,4,0),\"\")","v":""},null,null,null,null,null,null,null,null,null,null,null,null,null,0]
[null,{"$f":"IFERROR(VLOOKUP(A1222,Base!$A$2:$D$460,2,0),\"\")","v":""},{"$f":"IFERROR(VLOOKUP(A1222,Base!$A$2:$D$460,3,0),\"\")","v":""},{"$f":"IFERROR(VLOOKUP(A1222,Base!$A$2:$D$460,4,0),\"\")","v":""},null,null,null,null,null,null,null,null,null,null,null,null,null,0]
[null,{"$f":"IFERROR(VLOOKUP(A1223,Base!$A$2:$D$460,2,0),\"\")","v":""},{"$f":"IFERROR(VLOOKUP(A1223,Base!$A$2:$D$460,3,0),\"\")","v":""},{"$f":"IFERROR(VLOOKUP(A1223,Base!$A$2:$D$460,4,0),\"\")","v":""},null,null,null,null,null,null,null,null,null,null,null,null,null,0]
[null,{"$f":"IFERROR(VLOOKUP(A1224,Base!$A$2:$D$460,2,0),\"\")","v":""},{"$f":"IFERROR(VLOOKUP(A1224,Base!$A$2:$D$460,3,0),\"\")","v":""},{"$f":"IFERROR(VLOOKUP(A1224,Base!$A$2:$D$460,4,0),\"\")","v":""},null,null,null,null,null,null,null,null,null,null,null,null,null,0]
[null,{"$f":"IFERROR(VLOOKUP(A1225,Base!$A$2:$D$460,2,0),\"\")","v":""},{"$f":"IFERROR(VLOOKUP(A1225,Base!$A$2:$D$460,3,0),\"\")","v":""},{"$f":"IFERROR(VLOOKUP(A1225,Base!$A$2:$D$460,4,0),\"\")","v":""},null,null,null,null,null,null,null,null,null,null,null,null,null,0]
[null,{"$f":"IFERROR(VLOOKUP(A1226,Base!$A$2:$D$460,2,0),\"\")","v":""},{"$f":"IFERROR(VLOOKUP(A1226,Base!$A$2:$D$460,3,0),\"\")","v":""},{"$f":"IFERROR(VLOOKUP(A1226,Base!$A$2:$D$460,4,0),\"\")","v":""},null,null,null,null,null,null,null,null,null,null,null,null,null,0]
[null,{"$f":"IFERROR(VLOOKUP(A1227,Base!$A$2:$D$460,2,0),\"\")","v":""},{"$f":"IFERROR(VLOOKUP(A1227,Base!$A$2:$D$460,3,0),\"\")","v":""},{"$f":"IFERROR(VLOOKUP(A1227,Base!$A$2:$D$460,4,0),\"\")","v":""},null,null,null,null,null,null,null,null,null,null,null,null,null,0]
[null,{"$f":"IFERROR(VLOOKUP(A1228,Base!$A$2:$D$460,2,0),\"\")","v":""},{"$f":"IFERROR(VLOOKUP(A1228,Base!$A$2:$D$460,3,0),\"\")","v":""},{"$f":"IFERROR(VLOOKUP(A1228,Base!$A$2:$D$460,4,0),\"\")","v":""},null,null,null,null,null,null,null,null,null,null,null,null,null,0]
[null,{"$f":"IFERROR(VLOOKUP(A1229,Base!$A$2:$D$460,2,0),\"\")","v":""},{"$f":"IFERROR(VLOOKUP(A1229,Base!$A$2:$D$460,3,0),\"\")","v":""},{"$f":"IFERROR(VLOOKUP(A1229,Base!$A$2:$D$460,4,0),\"\")","v":""},null,null,null,null,null,null,null,null,null,null,null,null,null,0]
[null,{"$f":"IFERROR(VLOOKUP(A1230,Base!$A$2:$D$460,2,0),\"\")","v":""},{"$f":"IFERROR(VLOOKUP(A1230,Base!$A$2:$D$460,3,0),\"\")","v":""},{"$f":"IFERROR(VLOOKUP(A1230,Base!$A$2:$D$460,4,0),\"\")","v":""},null,null,null,null,null,null,null,null,null,null,null,null,null,0]
[null,{"$f":"IFERROR(VLOOKUP(A1231,Base!$A$2:$D$460,2,0),\"\")","v":""},{"$f":"IFERROR(VLOOKUP(A1231,Base!$A$2:$D$460,3,0),\"\")","v":""},{"$f":"IFERROR(VLOOKUP(A1231,Base!$A$2:$D$460,4,0),\"\")","v":""},null,null,null,null,null,null,null,null,null,null,null,null,null,0]
[null,{"$f":"IFERROR(VLOOKUP(A1232,Base!$A$2:$D$460,2,0),\"\")","v":""},{"$f":"IFERROR(VLOOKUP(A1232,Base!$A$2:$D$460,3,0),\"\")","v":""},{"$f":"IFERROR(VLOOKUP(A1232,Base!$A$2:$D$460,4,0),\"\")","v":""},null,null,null,null,null,null,null,null,null,null,null,null,null,0]
[null,{"$f":"IFERROR(VLOOKUP(A1233,Base!$A$2:$D$460,2,0),\"\")","v":""},{"$f":"IFERROR(VLOOKUP(A1233,Base!$A$2:$D$460,3,0),\"\")","v":""},{"$f":"IFERROR(VLOOKUP(A1233,Base!$A$2:$D$460,4,0),\"\")","v":""},null,null,null,null,null,null,null,null,null,null,null,null,null,0]
[null,{"$f":"IFERROR(VLOOKUP(A1234,Base!$A$2:$D$460,2,0),\"\")","v":""},{"$f":"IFERROR(VLOOKUP(A1234,Base!$A$2:$D$460,3,0),\"\")","v":""},{"$f":"IFERROR(VLOOKUP(A1234,Base!$A$2:$D$460,4,0),\"\")","v":""},null,null,null,null,null,null,null,null,null,null,null,null,null,0]
[null,{"$f":"IFERROR(VLOOKUP(A1235,Base!$A$2:$D$460,2,0),\"\")","v":""},{"$f":"IFERROR(VLOOKUP(A1235,Base!$A$2:$D$460,3,0),\"\")","v":""},{"$f":"IFERROR(VLOOKUP(A1235,Base!$A$2:$D$460,4,0),\"\")","v":""},null,null,null,null,null,null,null,null,null,null,null,null,null,0]
[null,{"$f":"IFERROR(VLOOKUP(A1236,Base!$A$2:$D$460,2,0),\"\")","v":""},{"$f":"IFERROR(VLOOKUP(A1236,Base!$A$2:$D$460,3,0),\"\")","v":""},{"$f":"IFERROR(VLOOKUP(A1236,Base!$A$2:$D$460,4,0),\"\")","v":""},null,null,null,null,null,null,null,null,null,null,null,null,null,0]
[null,{"$f":"IFERROR(VLOOKUP(A1237,Base!$A$2:$D$460,2,0),\"\")","v":""},{"$f":"IFERROR(VLOOKUP(A1237,Base!$A$2:$D$460,3,0),\"\")","v":""},{"$f":"IFERROR(VLOOKUP(A1237,Base!$A$2:$D$460,4,0),\"\")","v":""},null,null,null,null,null,null,null,null,null,null,null,null,null,0]
[null,{"$f":"IFERROR(VLOOKUP(A1238,Base!$A$2:$D$460,2,0),\"\")","v":""},{"$f":"IFERROR(VLOOKUP(A1238,Base!$A$2:$D$460,3,0),\"\")","v":""},{"$f":"IFERROR(VLOOKUP(A1238,Base!$A$2:$D$460,4,0),\"\")","v":""},null,null,null,null,null,null,null,null,null,null,null,null,null,0]
[null,{"$f":"IFERROR(VLOOKUP(A1239,Base!$A$2:$D$460,2,0),\"\")","v":""},{"$f":"IFERROR(VLOOKUP(A1239,Base!$A$2:$D$460,3,0),\"\")","v":""},{"$f":"IFERROR(VLOOKUP(A1239,Base!$A$2:$D$460,4,0),\"\")","v":""},null,null,null,null,null,null,null,null,null,null,null,null,null,0]
[null,{"$f":"IFERROR(VLOOKUP(A1240,Base!$A$2:$D$460,2,0),\"\")","v":""},{"$f":"IFERROR(VLOOKUP(A1240,Base!$A$2:$D$460,3,0),\"\")","v":""},{"$f":"IFERROR(VLOOKUP(A1240,Base!$A$2:$D$460,4,0),\"\")","v":""},null,null,null,null,null,null,null,null,null,null,null,null,null,0]
[null,{"$f":"IFERROR(VLOOKUP(A1241,Base!$A$2:$D$460,2,0),\"\")","v":""},{"$f":"IFERROR(VLOOKUP(A1241,Base!$A$2:$D$460,3,0),\"\")","v":""},{"$f":"IFERROR(VLOOKUP(A1241,Base!$A$2:$D$460,4,0),\"\")","v":""},null,null,null,null,null,null,null,null,null,null,null,null,null,0]
[null,{"$f":"IFERROR(VLOOKUP(A1242,Base!$A$2:$D$460,2,0),\"\")","v":""},{"$f":"IFERROR(VLOOKUP(A1242,Base!$A$2:$D$460,3,0),\"\")","v":""},{"$f":"IFERROR(VLOOKUP(A1242,Base!$A$2:$D$460,4,0),\"\")","v":""},null,null,null,null,null,null,null,null,null,null,null,null,null,0]
[null,{"$f":"IFERROR(VLOOKUP(A1243,Base!$A$2:$D$460,2,0),\"\")","v":""},{"$f":"IFERROR(VLOOKUP(A1243,Base!$A$2:$D$460,3,0),\"\")","v":""},{"$f":"IFERROR(VLOOKUP(A1243,Base!$A$2:$D$460,4,0),\"\")","v":""},null,null,null,null,null,null,null,null,null,null,null,null,null,0]
[null,{"$f":"IFERROR(VLOOKUP(A1244,Base!$A$2:$D$460,2,0),\"\")","v":""},{"$f":"IFERROR(VLOOKUP(A1244,Base!$A$2:$D$460,3,0),\"\")","v":""},{"$f":"IFERROR(VLOOKUP(A1244,Base!$A$2:$D$460,4,0),\"\")","v":""},null,null,null,null,null,null,null,null,null,null,null,null,null,0]
[null,{"$f":"IFERROR(VLOOKUP(A1245,Base!$A$2:$D$460,2,0),\"\")","v":""},{"$f":"IFERROR(VLOOKUP(A1245,Base!$A$2:$D$460,3,0),\"\")","v":""},{"$f":"IFERROR(VLOOKUP(A1245,Base!$A$2:$D$460,4,0),\"\")","v":""},null,null,null,null,null,null,null,null,null,null,null,null,null,0]
[null,{"$f":"IFERROR(VLOOKUP(A1246,Base!$A$2:$D$460,2,0),\"\")","v":""},{"$f":"IFERROR(VLOOKUP(A1246,Base!$A$2:$D$460,3,0),\"\")","v":""},{"$f":"IFERROR(VLOOKUP(A1246,Base!$A$2:$D$460,4,0),\"\")","v":""},null,null,null,null,null,null,null,null,null,null,null,null,null,0]
[null,{"$f":"IFERROR(VLOOKUP(A1247,Base!$A$2:$D$460,2,0),\"\")","v":""},{"$f":"IFERROR(VLOOKUP(A1247,Base!$A$2:$D$460,3,0),\"\")","v":""},{"$f":"IFERROR(VLOOKUP(A1247,Base!$A$2:$D$460,4,0),\"\")","v":""},null,null,null,null,null,null,null,null,null,null,null,null,null,0]
[null,{"$f":"IFERROR(VLOOKUP(A1248,Base!$A$2:$D$460,2,0),\"\")","v":""},{"$f":"IFERROR(VLOOKUP(A1248,Base!$A$2:$D$460,3,0),\"\")","v":""},{"$f":"IFERROR(VLOOKUP(A1248,Base!$A$2:$D$460,4,0),\"\")","v":""},null,null,null,null,null,null,null,null,null,null,null,null,null,0]
[null,{"$f":"IFERROR(VLOOKUP(A1249,Base!$A$2:$D$460,2,0),\"\")","v":""},{"$f":"IFERROR(VLOOKUP(A1249,Base!$A$2:$D$460,3,0),\"\")","v":""},{"$f":"IFERROR(VLOOKUP(A1249,Base!$A$2:$D$460,4,0),\"\")","v":""},null,null,null,null,null,null,null,null,null,null,null,null,null,0]
[null,{"$f":"IFERROR(VLOOKUP(A1250,Base!$A$2:$D$460,2,0),\"\")","v":""},{"$f":"IFERROR(VLOOKUP(A1250,Base!$A$2:$D$460,3,0),\"\")","v":""},{"$f":"IFERROR(VLOOKUP(A1250,Base!$A$2:$D$460,4,0),\"\")","v":""},null,null,null,null,null,null,null,null,null,null,null,null,null,0]
[null,{"$f":"IFERROR(VLOOKUP(A1251,Base!$A$2:$D$460,2,0),\"\")","v":""},{"$f":"IFERROR(VLOOKUP(A1251,Base!$A$2:$D$460,3,0),\"\")","v":""},{"$f":"IFERROR(VLOOKUP(A1251,Base!$A$2:$D$460,4,0),\"\")","v":""},null,null,null,null,null,null,null,null,null,null,null,null,null,0]
[null,{"$f":"IFERROR(VLOOKUP(A1252,Base!$A$2:$D$460,2,0),\"\")","v":""},{"$f":"IFERROR(VLOOKUP(A1252,Base!$A$2:$D$460,3,0),\"\")","v":""},{"$f":"IFERROR(VLOOKUP(A1252,Base!$A$2:$D$460,4,0),\"\")","v":""},null,null,null,null,null,null,null,null,null,null,null,null,null,0]
[null,{"$f":"IFERROR(VLOOKUP(A1253,Base!$A$2:$D$460,2,0),\"\")","v":""},{"$f":"IFERROR(VLOOKUP(A1253,Base!$A$2:$D$460,3,0),\"\")","v":""},{"$f":"IFERROR(VLOOKUP(A1253,Base!$A$2:$D$460,4,0),\"\")","v":""},null,null,null,null,null,null,null,null,null,null,null,null,null,0]
[null,{"$f":"IFERROR(VLOOKUP(A1254,Base!$A$2:$D$460,2,0),\"\")","v":""},{"$f":"IFERROR(VLOOKUP(A1254,Base!$A$2:$D$460,3,0),\"\")","v":""},{"$f":"IFERROR(VLOOKUP(A1254,Base!$A$2:$D$460,4,0),\"\")","v":""},null,null,null,null,null,null,null,null,null,null,null,null,null,0]
[null,{"$f":"IFERROR(VLOOKUP(A1255,Base!$A$2:$D$460,2,0),\"\")","v":""},{"$f":"IFERROR(VLOOKUP(A1255,Base!$A$2:$D$460,3,0),\"\")","v":""},{"$f":"IFERROR(VLOOKUP(A1255,Base!$A$2:$D$460,4,0),\"\")","v":""},null,null,null,null,null,null,null,null,null,null,null,null,null,{"$f":"SUM(N1255:Q1255)/4","v":0}]
[null,{"$f":"IFERROR(VLOOKUP(A1256,Base!$A$2:$D$460,2,0),\"\")","v":""},{"$f":"IFERROR(VLOOKUP(A1256,Base!$A$2:$D$460,3,0),\"\")","v":""},{"$f":"IFERROR(VLOOKUP(A1256,Base!$A$2:$D$460,4,0),\"\")","v":""},null,null,null,null,null,null,null,null,null,null,null,null,null,0]
[null,{"$f":"IFERROR(VLOOKUP(A1257,Base!$A$2:$D$460,2,0),\"\")","v":""},{"$f":"IFERROR(VLOOKUP(A1257,Base!$A$2:$D$460,3,0),\"\")","v":""},{"$f":"IFERROR(VLOOKUP(A1257,Base!$A$2:$D$460,4,0),\"\")","v":""},null,null,null,null,null,null,null,null,null,null,null,null,null,0]
[null,{"$f":"IFERROR(VLOOKUP(A1258,Base!$A$2:$D$460,2,0),\"\")","v":""},{"$f":"IFERROR(VLOOKUP(A1258,Base!$A$2:$D$460,3,0),\"\")","v":""},{"$f":"IFERROR(VLOOKUP(A1258,Base!$A$2:$D$460,4,0),\"\")","v":""},null,null,null,null,null,null,null,null,null,null,null,null,null,0]
[null,{"$f":"IFERROR(VLOOKUP(A1259,Base!$A$2:$D$460,2,0),\"\")","v":""},{"$f":"IFERROR(VLOOKUP(A1259,Base!$A$2:$D$460,3,0),\"\")","v":""},{"$f":"IFERROR(VLOOKUP(A1259,Base!$A$2:$D$460,4,0),\"\")","v":""},null,null,null,null,null,null,null,null,null,null,null,null,null,0]
[null,{"$f":"IFERROR(VLOOKUP(A1260,Base!$A$2:$D$460,2,0),\"\")","v":""},{"$f":"IFERROR(VLOOKUP(A1260,Base!$A$2:$D$460,3,0),\"\")","v":""},{"$f":"IFERROR(VLOOKUP(A1260,Base!$A$2:$D$460,4,0),\"\")","v":""},null,null,null,null,null,null,null,null,null,null,null,null,null,0]
[null,{"$f":"IFERROR(VLOOKUP(A1261,Base!$A$2:$D$460,2,0),\"\")","v":""},{"$f":"IFERROR(VLOOKUP(A1261,Base!$A$2:$D$460,3,0),\"\")","v":""},{"$f":"IFERROR(VLOOKUP(A1261,Base!$A$2:$D$460,4,0),\"\")","v":""},null,null,null,null,null,null,null,null,null,null,null,null,null,0]
[null,{"$f":"IFERROR(VLOOKUP(A1262,Base!$A$2:$D$460,2,0),\"\")","v":""},{"$f":"IFERROR(VLOOKUP(A1262,Base!$A$2:$D$460,3,0),\"\")","v":""},{"$f":"IFERROR(VLOOKUP(A1262,Base!$A$2:$D$460,4,0),\"\")","v":""},null,null,null,null,null,null,null,null,null,null,null,null,null,0]
[null,{"$f":"IFERROR(VLOOKUP(A1263,Base!$A$2:$D$460,2,0),\"\")","v":""},{"$f":"IFERROR(VLOOKUP(A1263,Base!$A$2:$D$460,3,0),\"\")","v":""},{"$f":"IFERROR(VLOOKUP(A1263,Base!$A$2:$D$460,4,0),\"\")","v":""},null,null,null,null,null,null,null,null,null,null,null,null,null,0]
[null,{"$f":"IFERROR(VLOOKUP(A1264,Base!$A$2:$D$460,2,0),\"\")","v":""},{"$f":"IFERROR(VLOOKUP(A1264,Base!$A$2:$D$460,3,0),\"\")","v":""},{"$f":"IFERROR(VLOOKUP(A1264,Base!$A$2:$D$460,4,0),\"\")","v":""},null,null,null,null,null,null,null,null,null,null,null,null,null,0]
[null,{"$f":"IFERROR(VLOOKUP(A1265,Base!$A$2:$D$460,2,0),\"\")","v":""},{"$f":"IFERROR(VLOOKUP(A1265,Base!$A$2:$D$460,3,0),\"\")","v":""},{"$f":"IFERROR(VLOOKUP(A1265,Base!$A$2:$D$460,4,0),\"\")","v":""},null,null,null,null,null,null,null,null,null,null,null,null,null,0]
[null,{"$f":"IFERROR(VLOOKUP(A1266,Base!$A$2:$D$460,2,0),\"\")","v":""},{"$f":"IFERROR(VLOOKUP(A1266,Base!$A$2:$D$460,3,0),\"\")","v":""},{"$f":"IFERROR(VLOOKUP(A1266,Base!$A$2:$D$460,4,0),\"\")","v":""},null,null,null,null,null,null,null,null,null,null,null,null,null,0]
[null,{"$f":"IFERROR(VLOOKUP(A1267,Base!$A$2:$D$460,2,0),\"\")","v":""},{"$f":"IFERROR(VLOOKUP(A1267,Base!$A$2:$D$460,3,0),\"\")","v":""},{"$f":"IFERROR(VLOOKUP(A1267,Base!$A$2:$D$460,4,0),\"\")","v":""},null,null,null,null,null,null,null,null,null,null,null,null,null,0]
[null,{"$f":"IFERROR(VLOOKUP(A1268,Base!$A$2:$D$460,2,0),\"\")","v":""},{"$f":"IFERROR(VLOOKUP(A1268,Base!$A$2:$D$460,3,0),\"\")","v":""},{"$f":"IFERROR(VLOOKUP(A1268,Base!$A$2:$D$460,4,0),\"\")","v":""},null,null,null,null,null,null,null,null,null,null,null,null,null,0]
[null,{"$f":"IFERROR(VLOOKUP(A1269,Base!$A$2:$D$460,2,0),\"\")","v":""},{"$f":"IFERROR(VLOOKUP(A1269,Base!$A$2:$D$460,3,0),\"\")","v":""},{"$f":"IFERROR(VLOOKUP(A1269,Base!$A$2:$D$460,4,0),\"\")","v":""},null,null,null,null,null,null,null,null,null,null,null,null,null,0]
[null,{"$f":"IFERROR(VLOOKUP(A1270,Base!$A$2:$D$460,2,0),\"\")","v":""},{"$f":"IFERROR(VLOOKUP(A1270,Base!$A$2:$D$460,3,0),\"\")","v":""},{"$f":"IFERROR(VLOOKUP(A1270,Base!$A$2:$D$460,4,0),\"\")","v":""},null,null,null,null,null,null,null,null,null,null,null,null,null,0]
[null,{"$f":"IFERROR(VLOOKUP(A1271,Base!$A$2:$D$460,2,0),\"\")","v":""},{"$f":"IFERROR(VLOOKUP(A1271,Base!$A$2:$D$460,3,0),\"\")","v":""},{"$f":"IFERROR(VLOOKUP(A1271,Base!$A$2:$D$460,4,0),\"\")","v":""},null,null,null,null,null,null,null,null,null,null,null,null,null,0]
[null,{"$f":"IFERROR(VLOOKUP(A1272,Base!$A$2:$D$460,2,0),\"\")","v":""},{"$f":"IFERROR(VLOOKUP(A1272,Base!$A$2:$D$460,3,0),\"\")","v":""},{"$f":"IFERROR(VLOOKUP(A1272,Base!$A$2:$D$460,4,0),\"\")","v":""},null,null,null,null,null,null,null,null,null,null,null,null,null,0]
[null,{"$f":"IFERROR(VLOOKUP(A1273,Base!$A$2:$D$460,2,0),\"\")","v":""},{"$f":"IFERROR(VLOOKUP(A1273,Base!$A$2:$D$460,3,0),\"\")","v":""},{"$f":"IFERROR(VLOOKUP(A1273,Base!$A$2:$D$460,4,0),\"\")","v":""},null,null,null,null,null,null,null,null,null,null,null,null,null,0]
[null,{"$f":"IFERROR(VLOOKUP(A1274,Base!$A$2:$D$460,2,0),\"\")","v":""},{"$f":"IFERROR(VLOOKUP(A1274,Base!$A$2:$D$460,3,0),\"\")","v":""},{"$f":"IFERROR(VLOOKUP(A1274,Base!$A$2:$D$460,4,0),\"\")","v":""},null,null,null,null,null,null,null,null,null,null,null,null,null,0]
[null,{"$f":"IFERROR(VLOOKUP(A1275,Base!$A$2:$D$460,2,0),\"\")","v":""},{"$f":"IFERROR(VLOOKUP(A1275,Base!$A$2:$D$460,3,0),\"\")","v":""},{"$f":"IFERROR(VLOOKUP(A1275,Base!$A$2:$D$460,4,0),\"\")","v":""},null,null,null,null,null,null,null,null,null,null,null,null,null,0]
[null,{"$f":"IFERROR(VLOOKUP(A1276,Base!$A$2:$D$460,2,0),\"\")","v":""},{"$f":"IFERROR(VLOOKUP(A1276,Base!$A$2:$D$460,3,0),\"\")","v":""},{"$f":"IFERROR(VLOOKUP(A1276,Base!$A$2:$D$460,4,0),\"\")","v":""},null,null,null,null,null,null,null,null,null,null,null,null,null,0]
[null,{"$f":"IFERROR(VLOOKUP(A1277,Base!$A$2:$D$460,2,0),\"\")","v":""},{"$f":"IFERROR(VLOOKUP(A1277,Base!$A$2:$D$460,3,0),\"\")","v":""},{"$f":"IFERROR(VLOOKUP(A1277,Base!$A$2:$D$460,4,0),\"\")","v":""},null,null,null,null,null,null,null,null,null,null,null,null,null,0]
[null,{"$f":"IFERROR(VLOOKUP(A1278,Base!$A$2:$D$460,2,0),\"\")","v":""},{"$f":"IFERROR(VLOOKUP(A1278,Base!$A$2:$D$460,3,0),\"\")","v":""},{"$f":"IFERROR(VLOOKUP(A1278,Base!$A$2:$D$460,4,0),\"\")","v":""},null,null,null,null,null,null,null,null,null,null,null,null,null,0]
[null,{"$f":"IFERROR(VLOOKUP(A1279,Base!$A$2:$D$460,2,0),\"\")","v":""},{"$f":"IFERROR(VLOOKUP(A1279,Base!$A$2:$D$460,3,0),\"\")","v":""},{"$f":"IFERROR(VLOOKUP(A1279,Base!$A$2:$D$460,4,0),\"\")","v":""},null,null,null,null,null,null,null,null,null,null,null,null,null,0]
[null,{"$f":"IFERROR(VLOOKUP(A1280,Base!$A$2:$D$460,2,0),\"\")","v":""},{"$f":"IFERROR(VLOOKUP(A1280,Base!$A$2:$D$460,3,0),\"\")","v":""},{"$f":"IFERROR(VLOOKUP(A1280,Base!$A$2:$D$460,4,0),\"\")","v":""},null,null,null,null,null,null,null,null,null,null,null,null,null,0]
[null,{"$f":"IFERROR(VLOOKUP(A1281,Base!$A$2:$D$460,2,0),\"\")","v":""},{"$f":"IFERROR(VLOOKUP(A1281,Base!$A$2:$D$460,3,0),\"\")","v":""},{"$f":"IFERROR(VLOOKUP(A1281,Base!$A$2:$D$460,4,0),\"\")","v":""},null,null,null,null,null,null,null,null,null,null,null,null,null,0]
[null,{"$f":"IFERROR(VLOOKUP(A1282,Base!$A$2:$D$460,2,0),\"\")","v":""},{"$f":"IFERROR(VLOOKUP(A1282,Base!$A$2:$D$460,3,0),\"\")","v":""},{"$f":"IFERROR(VLOOKUP(A1282,Base!$A$2:$D$460,4,0),\"\")","v":""},null,null,null,null,null,null,null,null,null,null,null,null,null,0]
[null,{"$f":"IFERROR(VLOOKUP(A1283,Base!$A$2:$D$460,2,0),\"\")","v":""},{"$f":"IFERROR(VLOOKUP(A1283,Base!$A$2:$D$460,3,0),\"\")","v":""},{"$f":"IFERROR(VLOOKUP(A1283,Base!$A$2:$D$460,4,0),\"\")","v":""},null,null,null,null,null,null,null,null,null,null,null,null,null,0]
[null,{"$f":"IFERROR(VLOOKUP(A1284,Base!$A$2:$D$460,2,0),\"\")","v":""},{"$f":"IFERROR(VLOOKUP(A1284,Base!$A$2:$D$460,3,0),\"\")","v":""},{"$f":"IFERROR(VLOOKUP(A1284,Base!$A$2:$D$460,4,0),\"\")","v":""},null,null,null,null,null,null,null,null,null,null,null,null,null,0]
[null,{"$f":"IFERROR(VLOOKUP(A1285,Base!$A$2:$D$460,2,0),\"\")","v":""},{"$f":"IFERROR(VLOOKUP(A1285,Base!$A$2:$D$460,3,0),\"\")","v":""},{"$f":"IFERROR(VLOOKUP(A1285,Base!$A$2:$D$460,4,0),\"\")","v":""},null,null,null,null,null,null,null,null,null,null,null,null,null,0]
[null,{"$f":"IFERROR(VLOOKUP(A1286,Base!$A$2:$D$460,2,0),\"\")","v":""},{"$f":"IFERROR(VLOOKUP(A1286,Base!$A$2:$D$460,3,0),\"\")","v":""},{"$f":"IFERROR(VLOOKUP(A1286,Base!$A$2:$D$460,4,0),\"\")","v":""},null,null,null,null,null,null,null,null,null,null,null,null,null,0]
[null,{"$f":"IFERROR(VLOOKUP(A1287,Base!$A$2:$D$460,2,0),\"\")","v":""},{"$f":"IFERROR(VLOOKUP(A1287,Base!$A$2:$D$460,3,0),\"\")","v":""},{"$f":"IFERROR(VLOOKUP(A1287,Base!$A$2:$D$460,4,0),\"\")","v":""},null,null,null,null,null,null,null,null,null,null,null,null,null,0]
[null,{"$f":"IFERROR(VLOOKUP(A1288,Base!$A$2:$D$460,2,0),\"\")","v":""},{"$f":"IFERROR(VLOOKUP(A1288,Base!$A$2:$D$460,3,0),\"\")","v":""},{"$f":"IFERROR(VLOOKUP(A1288,Base!$A$2:$D$460,4,0),\"\")","v":""},null,null,null,null,null,null,null,null,null,null,null,null,null,0]
[null,{"$f":"IFERROR(VLOOKUP(A1289,Base!$A$2:$D$460,2,0),\"\")","v":""},{"$f":"IFERROR(VLOOKUP(A1289,Base!$A$2:$D$460,3,0),\"\")","v":""},{"$f":"IFERROR(VLOOKUP(A1289,Base!$A$2:$D$460,4,0),\"\")","v":""},null,null,null,null,null,null,null,null,null,null,null,null,null,0]
[null,{"$f":"IFERROR(VLOOKUP(A1290,Base!$A$2:$D$460,2,0),\"\")","v":""},{"$f":"IFERROR(VLOOKUP(A1290,Base!$A$2:$D$460,3,0),\"\")","v":""},{"$f":"IFERROR(VLOOKUP(A1290,Base!$A$2:$D$460,4,0),\"\")","v":""},null,null,null,null,null,null,null,null,null,null,null,null,null,0]
[null,{"$f":"IFERROR(VLOOKUP(A1291,Base!$A$2:$D$460,2,0),\"\")","v":""},{"$f":"IFERROR(VLOOKUP(A1291,Base!$A$2:$D$460,3,0),\"\")","v":""},{"$f":"IFERROR(VLOOKUP(A1291,Base!$A$2:$D$460,4,0),\"\")","v":""},null,null,null,null,null,null,null,null,null,null,null,null,null,0]
[null,{"$f":"IFERROR(VLOOKUP(A1292,Base!$A$2:$D$460,2,0),\"\")","v":""},{"$f":"IFERROR(VLOOKUP(A1292,Base!$A$2:$D$460,3,0),\"\")","v":""},{"$f":"IFERROR(VLOOKUP(A1292,Base!$A$2:$D$460,4,0),\"\")","v":""},null,null,null,null,null,null,null,null,null,null,null,null,null,0]
[null,{"$f":"IFERROR(VLOOKUP(A1293,Base!$A$2:$D$460,2,0),\"\")","v":""},{"$f":"IFERROR(VLOOKUP(A1293,Base!$A$2:$D$460,3,0),\"\")","v":""},{"$f":"IFERROR(VLOOKUP(A1293,Base!$A$2:$D$460,4,0),\"\")","v":""},null,null,null,null,null,null,null,null,null,null,null,null,null,0]
[null,{"$f":"IFERROR(VLOOKUP(A1294,Base!$A$2:$D$460,2,0),\"\")","v":""},{"$f":"IFERROR(VLOOKUP(A1294,Base!$A$2:$D$460,3,0),\"\")","v":""},{"$f":"IFERROR(VLOOKUP(A1294,Base!$A$2:$D$460,4,0),\"\")","v":""},null,null,null,null,null,null,null,null,null,null,null,null,null,0]
[null,{"$f":"IFERROR(VLOOKUP(A1295,Base!$A$2:$D$460,2,0),\"\")","v":""},{"$f":"IFERROR(VLOOKUP(A1295,Base!$A$2:$D$460,3,0),\"\")","v":""},{"$f":"IFERROR(VLOOKUP(A1295,Base!$A$2:$D$460,4,0),\"\")","v":""},null,null,null,null,null,null,null,null,null,null,null,null,null,0]
[null,{"$f":"IFERROR(VLOOKUP(A1296,Base!$A$2:$D$460,2,0),\"\")","v":""},{"$f":"IFERROR(VLOOKUP(A1296,Base!$A$2:$D$460,3,0),\"\")","v":""},{"$f":"IFERROR(VLOOKUP(A1296,Base!$A$2:$D$460,4,0),\"\")","v":""},null,null,null,null,null,null,null,null,null,null,null,null,null,0]
[null,{"$f":"IFERROR(VLOOKUP(A1297,Base!$A$2:$D$460,2,0),\"\")","v":""},{"$f":"IFERROR(VLOOKUP(A1297,Base!$A$2:$D$460,3,0),\"\")","v":""},{"$f":"IFERROR(VLOOKUP(A1297,Base!$A$2:$D$460,4,0),\"\")","v":""},null,null,null,null,null,null,null,null,null,null,null,null,null,0]
[null,{"$f":"IFERROR(VLOOKUP(A1298,Base!$A$2:$D$460,2,0),\"\")","v":""},{"$f":"IFERROR(VLOOKUP(A1298,Base!$A$2:$D$460,3,0),\"\")","v":""},{"$f":"IFERROR(VLOOKUP(A1298,Base!$A$2:$D$460,4,0),\"\")","v":""},null,null,null,null,null,null,null,null,null,null,null,null,null,0]
[null,{"$f":"IFERROR(VLOOKUP(A1299,Base!$A$2:$D$460,2,0),\"\")","v":""},{"$f":"IFERROR(VLOOKUP(A1299,Base!$A$2:$D$460,3,0),\"\")","v":""},{"$f":"IFERROR(VLOOKUP(A1299,Base!$A$2:$D$460,4,0),\"\")","v":""},null,null,null,null,null,null,null,null,null,null,null,null,null,0]
[null,{"$f":"IFERROR(VLOOKUP(A1300,Base!$A$2:$D$460,2,0),\"\")","v":""},{"$f":"IFERROR(VLOOKUP(A1300,Base!$A$2:$D$460,3,0),\"\")","v":""},{"$f":"IFERROR(VLOOKUP(A1300,Base!$A$2:$D$460,4,0),\"\")","v":""},null,null,null,null,null,null,null,null,null,null,null,null,null,0]
[null,{"$f":"IFERROR(VLOOKUP(A1301,Base!$A$2:$D$460,2,0),\"\")","v":""},{"$f":"IFERROR(VLOOKUP(A1301,Base!$A$2:$D$460,3,0),\"\")","v":""},{"$f":"IFERROR(VLOOKUP(A1301,Base!$A$2:$D$460,4,0),\"\")","v":""},null,null,null,null,null,null,null,null,null,null,null,null,null,0]
[null,{"$f":"IFERROR(VLOOKUP(A1302,Base!$A$2:$D$460,2,0),\"\")","v":""},{"$f":"IFERROR(VLOOKUP(A1302,Base!$A$2:$D$460,3,0),\"\")","v":""},{"$f":"IFERROR(VLOOKUP(A1302,Base!$A$2:$D$460,4,0),\"\")","v":""},null,null,null,null,null,null,null,null,null,null,null,null,null,0]
[null,{"$f":"IFERROR(VLOOKUP(A1303,Base!$A$2:$D$460,2,0),\"\")","v":""},{"$f":"IFERROR(VLOOKUP(A1303,Base!$A$2:$D$460,3,0),\"\")","v":""},{"$f":"IFERROR(VLOOKUP(A1303,Base!$A$2:$D$460,4,0),\"\")","v":""},null,null,null,null,null,null,null,null,null,null,null,null,null,0]
[null,{"$f":"IFERROR(VLOOKUP(A1304,Base!$A$2:$D$460,2,0),\"\")","v":""},{"$f":"IFERROR(VLOOKUP(A1304,Base!$A$2:$D$460,3,0),\"\")","v":""},{"$f":"IFERROR(VLOOKUP(A1304,Base!$A$2:$D$460,4,0),\"\")","v":""},null,null,null,null,null,null,null,null,null,null,null,null,null,0]
[null,{"$f":"IFERROR(VLOOKUP(A1305,Base!$A$2:$D$460,2,0),\"\")","v":""},{"$f":"IFERROR(VLOOKUP(A1305,Base!$A$2:$D$460,3,0),\"\")","v":""},{"$f":"IFERROR(VLOOKUP(A1305,Base!$A$2:$D$460,4,0),\"\")","v":""},null,null,null,null,null,null,null,null,null,null,null,null,null,0]
[null,{"$f":"IFERROR(VLOOKUP(A1306,Base!$A$2:$D$460,2,0),\"\")","v":""},{"$f":"IFERROR(VLOOKUP(A1306,Base!$A$2:$D$460,3,0),\"\")","v":""},{"$f":"IFERROR(VLOOKUP(A1306,Base!$A$2:$D$460,4,0),\"\")","v":""},null,null,null,null,null,null,null,null,null,null,null,null,null,0]
[null,{"$f":"IFERROR(VLOOKUP(A1307,Base!$A$2:$D$460,2,0),\"\")","v":""},{"$f":"IFERROR(VLOOKUP(A1307,Base!$A$2:$D$460,3,0),\"\")","v":""},{"$f":"IFERROR(VLOOKUP(A1307,Base!$A$2:$D$460,4,0),\"\")","v":""},null,null,null,null,null,null,null,null,null,null,null,null,null,0]
[null,{"$f":"IFERROR(VLOOKUP(A1308,Base!$A$2:$D$460,2,0),\"\")","v":""},{"$f":"IFERROR(VLOOKUP(A1308,Base!$A$2:$D$460,3,0),\"\")","v":""},{"$f":"IFERROR(VLOOKUP(A1308,Base!$A$2:$D$460,4,0),\"\")","v":""},null,null,null,null,null,null,null,null,null,null,null,null,null,0]
[null,{"$f":"IFERROR(VLOOKUP(A1309,Base!$A$2:$D$460,2,0),\"\")","v":""},{"$f":"IFERROR(VLOOKUP(A1309,Base!$A$2:$D$460,3,0),\"\")","v":""},{"$f":"IFERROR(VLOOKUP(A1309,Base!$A$2:$D$460,4,0),\"\")","v":""},null,null,null,null,null,null,null,null,null,null,null,null,null,0]
[null,{"$f":"IFERROR(VLOOKUP(A1310,Base!$A$2:$D$460,2,0),\"\")","v":""},{"$f":"IFERROR(VLOOKUP(A1310,Base!$A$2:$D$460,3,0),\"\")","v":""},{"$f":"IFERROR(VLOOKUP(A1310,Base!$A$2:$D$460,4,0),\"\")","v":""},null,null,null,null,null,null,null,null,null,null,null,null,null,0]
[null,{"$f":"IFERROR(VLOOKUP(A1311,Base!$A$2:$D$460,2,0),\"\")","v":""},{"$f":"IFERROR(VLOOKUP(A1311,Base!$A$2:$D$460,3,0),\"\")","v":""},{"$f":"IFERROR(VLOOKUP(A1311,Base!$A$2:$D$460,4,0),\"\")","v":""},null,null,null,null,null,null,null,null,null,null,null,null,null,0]
[null,{"$f":"IFERROR(VLOOKUP(A1312,Base!$A$2:$D$460,2,0),\"\")","v":""},{"$f":"IFERROR(VLOOKUP(A1312,Base!$A$2:$D$460,3,0),\"\")","v":""},{"$f":"IFERROR(VLOOKUP(A1312,Base!$A$2:$D$460,4,0),\"\")","v":""},null,null,null,null,null,null,null,null,null,null,null,null,null,0]
[null,{"$f":"IFERROR(VLOOKUP(A1313,Base!$A$2:$D$460,2,0),\"\")","v":""},{"$f":"IFERROR(VLOOKUP(A1313,Base!$A$2:$D$460,3,0),\"\")","v":""},{"$f":"IFERROR(VLOOKUP(A1313,Base!$A$2:$D$460,4,0),\"\")","v":""},null,null,null,null,null,null,null,null,null,null,null,null,null,0]
[null,{"$f":"IFERROR(VLOOKUP(A1314,Base!$A$2:$D$460,2,0),\"\")","v":""},{"$f":"IFERROR(VLOOKUP(A1314,Base!$A$2:$D$460,3,0),\"\")","v":""},{"$f":"IFERROR(VLOOKUP(A1314,Base!$A$2:$D$460,4,0),\"\")","v":""},null,null,null,null,null,null,null,null,null,null,null,null,null,0]
[null,{"$f":"IFERROR(VLOOKUP(A1315,Base!$A$2:$D$460,2,0),\"\")","v":""},{"$f":"IFERROR(VLOOKUP(A1315,Base!$A$2:$D$460,3,0),\"\")","v":""},{"$f":"IFERROR(VLOOKUP(A1315,Base!$A$2:$D$460,4,0),\"\")","v":""},null,null,null,null,null,null,null,null,null,null,null,null,null,0]
[null,{"$f":"IFERROR(VLOOKUP(A1316,Base!$A$2:$D$460,2,0),\"\")","v":""},{"$f":"IFERROR(VLOOKUP(A1316,Base!$A$2:$D$460,3,0),\"\")","v":""},{"$f":"IFERROR(VLOOKUP(A1316,Base!$A$2:$D$460,4,0),\"\")","v":""},null,null,null,null,null,null,null,null,null,null,null,null,null,0]
[null,{"$f":"IFERROR(VLOOKUP(A1317,Base!$A$2:$D$460,2,0),\"\")","v":""},{"$f":"IFERROR(VLOOKUP(A1317,Base!$A$2:$D$460,3,0),\"\")","v":""},{"$f":"IFERROR(VLOOKUP(A1317,Base!$A$2:$D$460,4,0),\"\")","v":""},null,null,null,null,null,null,null,null,null,null,null,null,null,0]
[null,{"$f":"IFERROR(VLOOKUP(A1318,Base!$A$2:$D$460,2,0),\"\")","v":""},{"$f":"IFERROR(VLOOKUP(A1318,Base!$A$2:$D$460,3,0),\"\")","v":""},{"$f":"IFERROR(VLOOKUP(A1318,Base!$A$2:$D$460,4,0),\"\")","v":""},null,null,null,null,null,null,null,null,null,null,null,null,null,0]
[null,{"$f":"IFERROR(VLOOKUP(A1319,Base!$A$2:$D$460,2,0),\"\")","v":""},{"$f":"IFERROR(VLOOKUP(A1319,Base!$A$2:$D$460,3,0),\"\")","v":""},{"$f":"IFERROR(VLOOKUP(A1319,Base!$A$2:$D$460,4,0),\"\")","v":""},null,null,null,null,null,null,null,null,null,null,null,null,null,{"$f":"SUM(N1319:Q1319)/4","v":0}]
[null,{"$f":"IFERROR(VLOOKUP(A1320,Base!$A$2:$D$460,2,0),\"\")","v":""},{"$f":"IFERROR(VLOOKUP(A1320,Base!$A$2:$D$460,3,0),\"\")","v":""},{"$f":"IFERROR(VLOOKUP(A1320,Base!$A$2:$D$460,4,0),\"\")","v":""},null,null,null,null,null,null,null,null,null,null,null,null,null,0]
[null,{"$f":"IFERROR(VLOOKUP(A1321,Base!$A$2:$D$460,2,0),\"\")","v":""},{"$f":"IFERROR(VLOOKUP(A1321,Base!$A$2:$D$460,3,0),\"\")","v":""},{"$f":"IFERROR(VLOOKUP(A1321,Base!$A$2:$D$460,4,0),\"\")","v":""},null,null,null,null,null,null,null,null,null,null,null,null,null,0]
[null,{"$f":"IFERROR(VLOOKUP(A1322,Base!$A$2:$D$460,2,0),\"\")","v":""},{"$f":"IFERROR(VLOOKUP(A1322,Base!$A$2:$D$460,3,0),\"\")","v":""},{"$f":"IFERROR(VLOOKUP(A1322,Base!$A$2:$D$460,4,0),\"\")","v":""},null,null,null,null,null,null,null,null,null,null,null,null,null,0]
[null,{"$f":"IFERROR(VLOOKUP(A1323,Base!$A$2:$D$460,2,0),\"\")","v":""},{"$f":"IFERROR(VLOOKUP(A1323,Base!$A$2:$D$460,3,0),\"\")","v":""},{"$f":"IFERROR(VLOOKUP(A1323,Base!$A$2:$D$460,4,0),\"\")","v":""},null,null,null,null,null,null,null,null,null,null,null,null,null,0]
[null,{"$f":"IFERROR(VLOOKUP(A1324,Base!$A$2:$D$460,2,0),\"\")","v":""},{"$f":"IFERROR(VLOOKUP(A1324,Base!$A$2:$D$460,3,0),\"\")","v":""},{"$f":"IFERROR(VLOOKUP(A1324,Base!$A$2:$D$460,4,0),\"\")","v":""},null,null,null,null,null,null,null,null,null,null,null,null,null,0]
[null,{"$f":"IFERROR(VLOOKUP(A1325,Base!$A$2:$D$460,2,0),\"\")","v":""},{"$f":"IFERROR(VLOOKUP(A1325,Base!$A$2:$D$460,3,0),\"\")","v":""},{"$f":"IFERROR(VLOOKUP(A1325,Base!$A$2:$D$460,4,0),\"\")","v":""},null,null,null,null,null,null,null,null,null,null,null,null,null,0]
[null,{"$f":"IFERROR(VLOOKUP(A1326,Base!$A$2:$D$460,2,0),\"\")","v":""},{"$f":"IFERROR(VLOOKUP(A1326,Base!$A$2:$D$460,3,0),\"\")","v":""},{"$f":"IFERROR(VLOOKUP(A1326,Base!$A$2:$D$460,4,0),\"\")","v":""},null,null,null,null,null,null,null,null,null,null,null,null,null,0]
[null,{"$f":"IFERROR(VLOOKUP(A1327,Base!$A$2:$D$460,2,0),\"\")","v":""},{"$f":"IFERROR(VLOOKUP(A1327,Base!$A$2:$D$460,3,0),\"\")","v":""},{"$f":"IFERROR(VLOOKUP(A1327,Base!$A$2:$D$460,4,0),\"\")","v":""},null,null,null,null,null,null,null,null,null,null,null,null,null,0]
[null,{"$f":"IFERROR(VLOOKUP(A1328,Base!$A$2:$D$460,2,0),\"\")","v":""},{"$f":"IFERROR(VLOOKUP(A1328,Base!$A$2:$D$460,3,0),\"\")","v":""},{"$f":"IFERROR(VLOOKUP(A1328,Base!$A$2:$D$460,4,0),\"\")","v":""},null,null,null,null,null,null,null,null,null,null,null,null,null,0]
[null,{"$f":"IFERROR(VLOOKUP(A1329,Base!$A$2:$D$460,2,0),\"\")","v":""},{"$f":"IFERROR(VLOOKUP(A1329,Base!$A$2:$D$460,3,0),\"\")","v":""},{"$f":"IFERROR(VLOOKUP(A1329,Base!$A$2:$D$460,4,0),\"\")","v":""},null,null,null,null,null,null,null,null,null,null,null,null,null,0]
[null,{"$f":"IFERROR(VLOOKUP(A1330,Base!$A$2:$D$460,2,0),\"\")","v":""},{"$f":"IFERROR(VLOOKUP(A1330,Base!$A$2:$D$460,3,0),\"\")","v":""},{"$f":"IFERROR(VLOOKUP(A1330,Base!$A$2:$D$460,4,0),\"\")","v":""},null,null,null,null,null,null,null,null,null,null,null,null,null,0]
[null,{"$f":"IFERROR(VLOOKUP(A1331,Base!$A$2:$D$460,2,0),\"\")","v":""},{"$f":"IFERROR(VLOOKUP(A1331,Base!$A$2:$D$460,3,0),\"\")","v":""},{"$f":"IFERROR(VLOOKUP(A1331,Base!$A$2:$D$460,4,0),\"\")","v":""},null,null,null,null,null,null,null,null,null,null,null,null,null,0]
[null,{"$f":"IFERROR(VLOOKUP(A1332,Base!$A$2:$D$460,2,0),\"\")","v":""},{"$f":"IFERROR(VLOOKUP(A1332,Base!$A$2:$D$460,3,0),\"\")","v":""},{"$f":"IFERROR(VLOOKUP(A1332,Base!$A$2:$D$460,4,0),\"\")","v":""},null,null,null,null,null,null,null,null,null,null,null,null,null,0]
[null,{"$f":"IFERROR(VLOOKUP(A1333,Base!$A$2:$D$460,2,0),\"\")","v":""},{"$f":"IFERROR(VLOOKUP(A1333,Base!$A$2:$D$460,3,0),\"\")","v":""},{"$f":"IFERROR(VLOOKUP(A1333,Base!$A$2:$D$460,4,0),\"\")","v":""},null,null,null,null,null,null,null,null,null,null,null,null,null,0]
[null,{"$f":"IFERROR(VLOOKUP(A1334,Base!$A$2:$D$460,2,0),\"\")","v":""},{"$f":"IFERROR(VLOOKUP(A1334,Base!$A$2:$D$460,3,0),\"\")","v":""},{"$f":"IFERROR(VLOOKUP(A1334,Base!$A$2:$D$460,4,0),\"\")","v":""},null,null,null,null,null,null,null,null,null,null,null,null,null,0]
[null,{"$f":"IFERROR(VLOOKUP(A1335,Base!$A$2:$D$460,2,0),\"\")","v":""},{"$f":"IFERROR(VLOOKUP(A1335,Base!$A$2:$D$460,3,0),\"\")","v":""},{"$f":"IFERROR(VLOOKUP(A1335,Base!$A$2:$D$460,4,0),\"\")","v":""},null,null,null,null,null,null,null,null,null,null,null,null,null,0]
[null,{"$f":"IFERROR(VLOOKUP(A1336,Base!$A$2:$D$460,2,0),\"\")","v":""},{"$f":"IFERROR(VLOOKUP(A1336,Base!$A$2:$D$460,3,0),\"\")","v":""},{"$f":"IFERROR(VLOOKUP(A1336,Base!$A$2:$D$460,4,0),\"\")","v":""},null,null,null,null,null,null,null,null,null,null,null,null,null,0]
[null,{"$f":"IFERROR(VLOOKUP(A1337,Base!$A$2:$D$460,2,0),\"\")","v":""},{"$f":"IFERROR(VLOOKUP(A1337,Base!$A$2:$D$460,3,0),\"\")","v":""},{"$f":"IFERROR(VLOOKUP(A1337,Base!$A$2:$D$460,4,0),\"\")","v":""},null,null,null,null,null,null,null,null,null,null,null,null,null,0]
[null,{"$f":"IFERROR(VLOOKUP(A1338,Base!$A$2:$D$460,2,0),\"\")","v":""},{"$f":"IFERROR(VLOOKUP(A1338,Base!$A$2:$D$460,3,0),\"\")","v":""},{"$f":"IFERROR(VLOOKUP(A1338,Base!$A$2:$D$460,4,0),\"\")","v":""},null,null,null,null,null,null,null,null,null,null,null,null,null,0]
[null,{"$f":"IFERROR(VLOOKUP(A1339,Base!$A$2:$D$460,2,0),\"\")","v":""},{"$f":"IFERROR(VLOOKUP(A1339,Base!$A$2:$D$460,3,0),\"\")","v":""},{"$f":"IFERROR(VLOOKUP(A1339,Base!$A$2:$D$460,4,0),\"\")","v":""},null,null,null,null,null,null,null,null,null,null,null,null,null,0]
[null,{"$f":"IFERROR(VLOOKUP(A1340,Base!$A$2:$D$460,2,0),\"\")","v":""},{"$f":"IFERROR(VLOOKUP(A1340,Base!$A$2:$D$460,3,0),\"\")","v":""},{"$f":"IFERROR(VLOOKUP(A1340,Base!$A$2:$D$460,4,0),\"\")","v":""},null,null,null,null,null,null,null,null,null,null,null,null,null,0]
[null,{"$f":"IFERROR(VLOOKUP(A1341,Base!$A$2:$D$460,2,0),\"\")","v":""},{"$f":"IFERROR(VLOOKUP(A1341,Base!$A$2:$D$460,3,0),\"\")","v":""},{"$f":"IFERROR(VLOOKUP(A1341,Base!$A$2:$D$460,4,0),\"\")","v":""},null,null,null,null,null,null,null,null,null,null,null,null,null,0]
[null,{"$f":"IFERROR(VLOOKUP(A1342,Base!$A$2:$D$460,2,0),\"\")","v":""},{"$f":"IFERROR(VLOOKUP(A1342,Base!$A$2:$D$460,3,0),\"\")","v":""},{"$f":"IFERROR(VLOOKUP(A1342,Base!$A$2:$D$460,4,0),\"\")","v":""},null,null,null,null,null,null,null,null,null,null,null,null,null,0]
[null,{"$f":"IFERROR(VLOOKUP(A1343,Base!$A$2:$D$460,2,0),\"\")","v":""},{"$f":"IFERROR(VLOOKUP(A1343,Base!$A$2:$D$460,3,0),\"\")","v":""},{"$f":"IFERROR(VLOOKUP(A1343,Base!$A$2:$D$460,4,0),\"\")","v":""},null,null,null,null,null,null,null,null,null,null,null,null,null,0]
[null,{"$f":"IFERROR(VLOOKUP(A1344,Base!$A$2:$D$460,2,0),\"\")","v":""},{"$f":"IFERROR(VLOOKUP(A1344,Base!$A$2:$D$460,3,0),\"\")","v":""},{"$f":"IFERROR(VLOOKUP(A1344,Base!$A$2:$D$460,4,0),\"\")","v":""},null,null,null,null,null,null,null,null,null,null,null,null,null,0]
[null,{"$f":"IFERROR(VLOOKUP(A1345,Base!$A$2:$D$460,2,0),\"\")","v":""},{"$f":"IFERROR(VLOOKUP(A1345,Base!$A$2:$D$460,3,0),\"\")","v":""},{"$f":"IFERROR(VLOOKUP(A1345,Base!$A$2:$D$460,4,0),\"\")","v":""},null,null,null,null,null,null,null,null,null,null,null,null,null,0]
[null,{"$f":"IFERROR(VLOOKUP(A1346,Base!$A$2:$D$460,2,0),\"\")","v":""},{"$f":"IFERROR(VLOOKUP(A1346,Base!$A$2:$D$460,3,0),\"\")","v":""},{"$f":"IFERROR(VLOOKUP(A1346,Base!$A$2:$D$460,4,0),\"\")","v":""},null,null,null,null,null,null,null,null,null,null,null,null,null,0]
[null,{"$f":"IFERROR(VLOOKUP(A1347,Base!$A$2:$D$460,2,0),\"\")","v":""},{"$f":"IFERROR(VLOOKUP(A1347,Base!$A$2:$D$460,3,0),\"\")","v":""},{"$f":"IFERROR(VLOOKUP(A1347,Base!$A$2:$D$460,4,0),\"\")","v":""},null,null,null,null,null,null,null,null,null,null,null,null,null,0]
[null,{"$f":"IFERROR(VLOOKUP(A1348,Base!$A$2:$D$460,2,0),\"\")","v":""},{"$f":"IFERROR(VLOOKUP(A1348,Base!$A$2:$D$460,3,0),\"\")","v":""},{"$f":"IFERROR(VLOOKUP(A1348,Base!$A$2:$D$460,4,0),\"\")","v":""},null,null,null,null,null,null,null,null,null,null,null,null,null,0]
[null,{"$f":"IFERROR(VLOOKUP(A1349,Base!$A$2:$D$460,2,0),\"\")","v":""},{"$f":"IFERROR(VLOOKUP(A1349,Base!$A$2:$D$460,3,0),\"\")","v":""},{"$f":"IFERROR(VLOOKUP(A1349,Base!$A$2:$D$460,4,0),\"\")","v":""},null,null,null,null,null,null,null,null,null,null,null,null,null,0]
[null,{"$f":"IFERROR(VLOOKUP(A1350,Base!$A$2:$D$460,2,0),\"\")","v":""},{"$f":"IFERROR(VLOOKUP(A1350,Base!$A$2:$D$460,3,0),\"\")","v":""},{"$f":"IFERROR(VLOOKUP(A1350,Base!$A$2:$D$460,4,0),\"\")","v":""},null,null,null,null,null,null,null,null,null,null,null,null,null,0]
[null,{"$f":"IFERROR(VLOOKUP(A1351,Base!$A$2:$D$460,2,0),\"\")","v":""},{"$f":"IFERROR(VLOOKUP(A1351,Base!$A$2:$D$460,3,0),\"\")","v":""},{"$f":"IFERROR(VLOOKUP(A1351,Base!$A$2:$D$460,4,0),\"\")","v":""},null,null,null,null,null,null,null,null,null,null,null,null,null,0]
[null,{"$f":"IFERROR(VLOOKUP(A1352,Base!$A$2:$D$460,2,0),\"\")","v":""},{"$f":"IFERROR(VLOOKUP(A1352,Base!$A$2:$D$460,3,0),\"\")","v":""},{"$f":"IFERROR(VLOOKUP(A1352,Base!$A$2:$D$460,4,0),\"\")","v":""},null,null,null,null,null,null,null,null,null,null,null,null,null,0]
[null,{"$f":"IFERROR(VLOOKUP(A1353,Base!$A$2:$D$460,2,0),\"\")","v":""},{"$f":"IFERROR(VLOOKUP(A1353,Base!$A$2:$D$460,3,0),\"\")","v":""},{"$f":"IFERROR(VLOOKUP(A1353,Base!$A$2:$D$460,4,0),\"\")","v":""},null,null,null,null,null,null,null,null,null,null,null,null,null,0]
[null,{"$f":"IFERROR(VLOOKUP(A1354,Base!$A$2:$D$460,2,0),\"\")","v":""},{"$f":"IFERROR(VLOOKUP(A1354,Base!$A$2:$D$460,3,0),\"\")","v":""},{"$f":"IFERROR(VLOOKUP(A1354,Base!$A$2:$D$460,4,0),\"\")","v":""},null,null,null,null,null,null,null,null,null,null,null,null,null,0]
[null,{"$f":"IFERROR(VLOOKUP(A1355,Base!$A$2:$D$460,2,0),\"\")","v":""},{"$f":"IFERROR(VLOOKUP(A1355,Base!$A$2:$D$460,3,0),\"\")","v":""},{"$f":"IFERROR(VLOOKUP(A1355,Base!$A$2:$D$460,4,0),\"\")","v":""},null,null,null,null,null,null,null,null,null,null,null,null,null,0]
[null,{"$f":"IFERROR(VLOOKUP(A1356,Base!$A$2:$D$460,2,0),\"\")","v":""},{"$f":"IFERROR(VLOOKUP(A1356,Base!$A$2:$D$460,3,0),\"\")","v":""},{"$f":"IFERROR(VLOOKUP(A1356,Base!$A$2:$D$460,4,0),\"\")","v":""},null,null,null,null,null,null,null,null,null,null,null,null,null,0]
[null,{"$f":"IFERROR(VLOOKUP(A1357,Base!$A$2:$D$460,2,0),\"\")","v":""},{"$f":"IFERROR(VLOOKUP(A1357,Base!$A$2:$D$460,3,0),\"\")","v":""},{"$f":"IFERROR(VLOOKUP(A1357,Base!$A$2:$D$460,4,0),\"\")","v":""},null,null,null,null,null,null,null,null,null,null,null,null,null,0]
[null,{"$f":"IFERROR(VLOOKUP(A1358,Base!$A$2:$D$460,2,0),\"\")","v":""},{"$f":"IFERROR(VLOOKUP(A1358,Base!$A$2:$D$460,3,0),\"\")","v":""},{"$f":"IFERROR(VLOOKUP(A1358,Base!$A$2:$D$460,4,0),\"\")","v":""},null,null,null,null,null,null,null,null,null,null,null,null,null,0]
[null,{"$f":"IFERROR(VLOOKUP(A1359,Base!$A$2:$D$460,2,0),\"\")","v":""},{"$f":"IFERROR(VLOOKUP(A1359,Base!$A$2:$D$460,3,0),\"\")","v":""},{"$f":"IFERROR(VLOOKUP(A1359,Base!$A$2:$D$460,4,0),\"\")","v":""},null,null,null,null,null,null,null,null,null,null,null,null,null,0]
[null,{"$f":"IFERROR(VLOOKUP(A1360,Base!$A$2:$D$460,2,0),\"\")","v":""},{"$f":"IFERROR(VLOOKUP(A1360,Base!$A$2:$D$460,3,0),\"\")","v":""},{"$f":"IFERROR(VLOOKUP(A1360,Base!$A$2:$D$460,4,0),\"\")","v":""},null,null,null,null,null,null,null,null,null,null,null,null,null,0]
[null,{"$f":"IFERROR(VLOOKUP(A1361,Base!$A$2:$D$460,2,0),\"\")","v":""},{"$f":"IFERROR(VLOOKUP(A1361,Base!$A$2:$D$460,3,0),\"\")","v":""},{"$f":"IFERROR(VLOOKUP(A1361,Base!$A$2:$D$460,4,0),\"\")","v":""},null,null,null,null,null,null,null,null,null,null,null,null,null,0]
[null,{"$f":"IFERROR(VLOOKUP(A1362,Base!$A$2:$D$460,2,0),\"\")","v":""},{"$f":"IFERROR(VLOOKUP(A1362,Base!$A$2:$D$460,3,0),\"\")","v":""},{"$f":"IFERROR(VLOOKUP(A1362,Base!$A$2:$D$460,4,0),\"\")","v":""},null,null,null,null,null,null,null,null,null,null,null,null,null,0]
[null,{"$f":"IFERROR(VLOOKUP(A1363,Base!$A$2:$D$460,2,0),\"\")","v":""},{"$f":"IFERROR(VLOOKUP(A1363,Base!$A$2:$D$460,3,0),\"\")","v":""},{"$f":"IFERROR(VLOOKUP(A1363,Base!$A$2:$D$460,4,0),\"\")","v":""},null,null,null,null,null,null,null,null,null,null,null,null,null,0]
[null,{"$f":"IFERROR(VLOOKUP(A1364,Base!$A$2:$D$460,2,0),\"\")","v":""},{"$f":"IFERROR(VLOOKUP(A1364,Base!$A$2:$D$460,3,0),\"\")","v":""},{"$f":"IFERROR(VLOOKUP(A1364,Base!$A$2:$D$460,4,0),\"\")","v":""},null,null,null,null,null,null,null,null,null,null,null,null,null,0]
[null,{"$f":"IFERROR(VLOOKUP(A1365,Base!$A$2:$D$460,2,0),\"\")","v":""},{"$f":"IFERROR(VLOOKUP(A1365,Base!$A$2:$D$460,3,0),\"\")","v":""},{"$f":"IFERROR(VLOOKUP(A1365,Base!$A$2:$D$460,4,0),\"\")","v":""},null,null,null,null,null,null,null,null,null,null,null,null,null,0]
[null,{"$f":"IFERROR(VLOOKUP(A1366,Base!$A$2:$D$460,2,0),\"\")","v":""},{"$f":"IFERROR(VLOOKUP(A1366,Base!$A$2:$D$460,3,0),\"\")","v":""},{"$f":"IFERROR(VLOOKUP(A1366,Base!$A$2:$D$460,4,0),\"\")","v":""},null,null,null,null,null,null,null,null,null,null,null,null,null,0]
[null,{"$f":"IFERROR(VLOOKUP(A1367,Base!$A$2:$D$460,2,0),\"\")","v":""},{"$f":"IFERROR(VLOOKUP(A1367,Base!$A$2:$D$460,3,0),\"\")","v":""},{"$f":"IFERROR(VLOOKUP(A1367,Base!$A$2:$D$460,4,0),\"\")","v":""},null,null,null,null,null,null,null,null,null,null,null,null,null,0]
[null,{"$f":"IFERROR(VLOOKUP(A1368,Base!$A$2:$D$460,2,0),\"\")","v":""},{"$f":"IFERROR(VLOOKUP(A1368,Base!$A$2:$D$460,3,0),\"\")","v":""},{"$f":"IFERROR(VLOOKUP(A1368,Base!$A$2:$D$460,4,0),\"\")","v":""},null,null,null,null,null,null,null,null,null,null,null,null,null,0]
[null,{"$f":"IFERROR(VLOOKUP(A1369,Base!$A$2:$D$460,2,0),\"\")","v":""},{"$f":"IFERROR(VLOOKUP(A1369,Base!$A$2:$D$460,3,0),\"\")","v":""},{"$f":"IFERROR(VLOOKUP(A1369,Base!$A$2:$D$460,4,0),\"\")","v":""},null,null,null,null,null,null,null,null,null,null,null,null,null,0]
[null,{"$f":"IFERROR(VLOOKUP(A1370,Base!$A$2:$D$460,2,0),\"\")","v":""},{"$f":"IFERROR(VLOOKUP(A1370,Base!$A$2:$D$460,3,0),\"\")","v":""},{"$f":"IFERROR(VLOOKUP(A1370,Base!$A$2:$D$460,4,0),\"\")","v":""},null,null,null,null,null,null,null,null,null,null,null,null,null,0]
[null,{"$f":"IFERROR(VLOOKUP(A1371,Base!$A$2:$D$460,2,0),\"\")","v":""},{"$f":"IFERROR(VLOOKUP(A1371,Base!$A$2:$D$460,3,0),\"\")","v":""},{"$f":"IFERROR(VLOOKUP(A1371,Base!$A$2:$D$460,4,0),\"\")","v":""},null,null,null,null,null,null,null,null,null,null,null,null,null,0]
[null,{"$f":"IFERROR(VLOOKUP(A1372,Base!$A$2:$D$460,2,0),\"\")","v":""},{"$f":"IFERROR(VLOOKUP(A1372,Base!$A$2:$D$460,3,0),\"\")","v":""},{"$f":"IFERROR(VLOOKUP(A1372,Base!$A$2:$D$460,4,0),\"\")","v":""},null,null,null,null,null,null,null,null,null,null,null,null,null,0]
[null,{"$f":"IFERROR(VLOOKUP(A1373,Base!$A$2:$D$460,2,0),\"\")","v":""},{"$f":"IFERROR(VLOOKUP(A1373,Base!$A$2:$D$460,3,0),\"\")","v":""},{"$f":"IFERROR(VLOOKUP(A1373,Base!$A$2:$D$460,4,0),\"\")","v":""},null,null,null,null,null,null,null,null,null,null,null,null,null,0]
[null,{"$f":"IFERROR(VLOOKUP(A1374,Base!$A$2:$D$460,2,0),\"\")","v":""},{"$f":"IFERROR(VLOOKUP(A1374,Base!$A$2:$D$460,3,0),\"\")","v":""},{"$f":"IFERROR(VLOOKUP(A1374,Base!$A$2:$D$460,4,0),\"\")","v":""},null,null,null,null,null,null,null,null,null,null,null,null,null,0]
[null,{"$f":"IFERROR(VLOOKUP(A1375,Base!$A$2:$D$460,2,0),\"\")","v":""},{"$f":"IFERROR(VLOOKUP(A1375,Base!$A$2:$D$460,3,0),\"\")","v":""},{"$f":"IFERROR(VLOOKUP(A1375,Base!$A$2:$D$460,4,0),\"\")","v":""},null,null,null,null,null,null,null,null,null,null,null,null,null,0]
[null,{"$f":"IFERROR(VLOOKUP(A1376,Base!$A$2:$D$460,2,0),\"\")","v":""},{"$f":"IFERROR(VLOOKUP(A1376,Base!$A$2:$D$460,3,0),\"\")","v":""},{"$f":"IFERROR(VLOOKUP(A1376,Base!$A$2:$D$460,4,0),\"\")","v":""},null,null,null,null,null,null,null,null,null,null,null,null,null,0]
[null,{"$f":"IFERROR(VLOOKUP(A1377,Base!$A$2:$D$460,2,0),\"\")","v":""},{"$f":"IFERROR(VLOOKUP(A1377,Base!$A$2:$D$460,3,0),\"\")","v":""},{"$f":"IFERROR(VLOOKUP(A1377,Base!$A$2:$D$460,4,0),\"\")","v":""},null,null,null,null,null,null,null,null,null,null,null,null,null,0]
[null,{"$f":"IFERROR(VLOOKUP(A1378,Base!$A$2:$D$460,2,0),\"\")","v":""},{"$f":"IFERROR(VLOOKUP(A1378,Base!$A$2:$D$460,3,0),\"\")","v":""},{"$f":"IFERROR(VLOOKUP(A1378,Base!$A$2:$D$460,4,0),\"\")","v":""},null,null,null,null,null,null,null,null,null,null,null,null,null,0]
[null,{"$f":"IFERROR(VLOOKUP(A1379,Base!$A$2:$D$460,2,0),\"\")","v":""},{"$f":"IFERROR(VLOOKUP(A1379,Base!$A$2:$D$460,3,0),\"\")","v":""},{"$f":"IFERROR(VLOOKUP(A1379,Base!$A$2:$D$460,4,0),\"\")","v":""},null,null,null,null,null,null,null,null,null,null,null,null,null,0]
[null,{"$f":"IFERROR(VLOOKUP(A1380,Base!$A$2:$D$460,2,0),\"\")","v":""},{"$f":"IFERROR(VLOOKUP(A1380,Base!$A$2:$D$460,3,0),\"\")","v":""},{"$f":"IFERROR(VLOOKUP(A1380,Base!$A$2:$D$460,4,0),\"\")","v":""},null,null,null,null,null,null,null,null,null,null,null,null,null,0]
[null,{"$f":"IFERROR(VLOOKUP(A1381,Base!$A$2:$D$460,2,0),\"\")","v":""},{"$f":"IFERROR(VLOOKUP(A1381,Base!$A$2:$D$460,3,0),\"\")","v":""},{"$f":"IFERROR(VLOOKUP(A1381,Base!$A$2:$D$460,4,0),\"\")","v":""},null,null,null,null,null,null,null,null,null,null,null,null,null,0]
[null,{"$f":"IFERROR(VLOOKUP(A1382,Base!$A$2:$D$460,2,0),\"\")","v":""},{"$f":"IFERROR(VLOOKUP(A1382,Base!$A$2:$D$460,3,0),\"\")","v":""},{"$f":"IFERROR(VLOOKUP(A1382,Base!$A$2:$D$460,4,0),\"\")","v":""},null,null,null,null,null,null,null,null,null,null,null,null,null,0]
[null,{"$f":"IFERROR(VLOOKUP(A1383,Base!$A$2:$D$460,2,0),\"\")","v":""},{"$f":"IFERROR(VLOOKUP(A1383,Base!$A$2:$D$460,3,0),\"\")","v":""},{"$f":"IFERROR(VLOOKUP(A1383,Base!$A$2:$D$460,4,0),\"\")","v":""},null,null,null,null,null,null,null,null,null,null,null,null,null,{"$f":"SUM(N1383:Q1383)/4","v":0}]
[null,{"$f":"IFERROR(VLOOKUP(A1384,Base!$A$2:$D$460,2,0),\"\")","v":""},{"$f":"IFERROR(VLOOKUP(A1384,Base!$A$2:$D$460,3,0),\"\")","v":""},{"$f":"IFERROR(VLOOKUP(A1384,Base!$A$2:$D$460,4,0),\"\")","v":""},null,null,null,null,null,null,null,null,null,null,null,null,null,0]
[null,{"$f":"IFERROR(VLOOKUP(A1385,Base!$A$2:$D$460,2,0),\"\")","v":""},{"$f":"IFERROR(VLOOKUP(A1385,Base!$A$2:$D$460,3,0),\"\")","v":""},{"$f":"IFERROR(VLOOKUP(A1385,Base!$A$2:$D$460,4,0),\"\")","v":""},null,null,null,null,null,null,null,null,null,null,null,null,null,0]
[null,{"$f":"IFERROR(VLOOKUP(A1386,Base!$A$2:$D$460,2,0),\"\")","v":""},{"$f":"IFERROR(VLOOKUP(A1386,Base!$A$2:$D$460,3,0),\"\")","v":""},{"$f":"IFERROR(VLOOKUP(A1386,Base!$A$2:$D$460,4,0),\"\")","v":""},null,null,null,null,null,null,null,null,null,null,null,null,null,0]
[null,{"$f":"IFERROR(VLOOKUP(A1387,Base!$A$2:$D$460,2,0),\"\")","v":""},{"$f":"IFERROR(VLOOKUP(A1387,Base!$A$2:$D$460,3,0),\"\")","v":""},{"$f":"IFERROR(VLOOKUP(A1387,Base!$A$2:$D$460,4,0),\"\")","v":""},null,null,null,null,null,null,null,null,null,null,null,null,null,0]
[null,{"$f":"IFERROR(VLOOKUP(A1388,Base!$A$2:$D$460,2,0),\"\")","v":""},{"$f":"IFERROR(VLOOKUP(A1388,Base!$A$2:$D$460,3,0),\"\")","v":""},{"$f":"IFERROR(VLOOKUP(A1388,Base!$A$2:$D$460,4,0),\"\")","v":""},null,null,null,null,null,null,null,null,null,null,null,null,null,0]
[null,{"$f":"IFERROR(VLOOKUP(A1389,Base!$A$2:$D$460,2,0),\"\")","v":""},{"$f":"IFERROR(VLOOKUP(A1389,Base!$A$2:$D$460,3,0),\"\")","v":""},{"$f":"IFERROR(VLOOKUP(A1389,Base!$A$2:$D$460,4,0),\"\")","v":""},null,null,null,null,null,null,null,null,null,null,null,null,null,0]
[null,{"$f":"IFERROR(VLOOKUP(A1390,Base!$A$2:$D$460,2,0),\"\")","v":""},{"$f":"IFERROR(VLOOKUP(A1390,Base!$A$2:$D$460,3,0),\"\")","v":""},{"$f":"IFERROR(VLOOKUP(A1390,Base!$A$2:$D$460,4,0),\"\")","v":""},null,null,null,null,null,null,null,null,null,null,null,null,null,0]
[null,{"$f":"IFERROR(VLOOKUP(A1391,Base!$A$2:$D$460,2,0),\"\")","v":""},{"$f":"IFERROR(VLOOKUP(A1391,Base!$A$2:$D$460,3,0),\"\")","v":""},{"$f":"IFERROR(VLOOKUP(A1391,Base!$A$2:$D$460,4,0),\"\")","v":""},null,null,null,null,null,null,null,null,null,null,null,null,null,0]
[null,{"$f":"IFERROR(VLOOKUP(A1392,Base!$A$2:$D$460,2,0),\"\")","v":""},{"$f":"IFERROR(VLOOKUP(A1392,Base!$A$2:$D$460,3,0),\"\")","v":""},{"$f":"IFERROR(VLOOKUP(A1392,Base!$A$2:$D$460,4,0),\"\")","v":""},null,null,null,null,null,null,null,null,null,null,null,null,null,0]
[null,{"$f":"IFERROR(VLOOKUP(A1393,Base!$A$2:$D$460,2,0),\"\")","v":""},{"$f":"IFERROR(VLOOKUP(A1393,Base!$A$2:$D$460,3,0),\"\")","v":""},{"$f":"IFERROR(VLOOKUP(A1393,Base!$A$2:$D$460,4,0),\"\")","v":""},null,null,null,null,null,null,null,null,null,null,null,null,null,0]
[null,{"$f":"IFERROR(VLOOKUP(A1394,Base!$A$2:$D$460,2,0),\"\")","v":""},{"$f":"IFERROR(VLOOKUP(A1394,Base!$A$2:$D$460,3,0),\"\")","v":""},{"$f":"IFERROR(VLOOKUP(A1394,Base!$A$2:$D$460,4,0),\"\")","v":""},null,null,null,null,null,null,null,null,null,null,null,null,null,0]
[null,{"$f":"IFERROR(VLOOKUP(A1395,Base!$A$2:$D$460,2,0),\"\")","v":""},{"$f":"IFERROR(VLOOKUP(A1395,Base!$A$2:$D$460,3,0),\"\")","v":""},{"$f":"IFERROR(VLOOKUP(A1395,Base!$A$2:$D$460,4,0),\"\")","v":""},null,null,null,null,null,null,null,null,null,null,null,null,null,0]
[null,{"$f":"IFERROR(VLOOKUP(A1396,Base!$A$2:$D$460,2,0),\"\")","v":""},{"$f":"IFERROR(VLOOKUP(A1396,Base!$A$2:$D$460,3,0),\"\")","v":""},{"$f":"IFERROR(VLOOKUP(A1396,Base!$A$2:$D$460,4,0),\"\")","v":""},null,null,null,null,null,null,null,null,null,null,null,null,null,0]
[null,{"$f":"IFERROR(VLOOKUP(A1397,Base!$A$2:$D$460,2,0),\"\")","v":""},{"$f":"IFERROR(VLOOKUP(A1397,Base!$A$2:$D$460,3,0),\"\")","v":""},{"$f":"IFERROR(VLOOKUP(A1397,Base!$A$2:$D$460,4,0),\"\")","v":""},null,null,null,null,null,null,null,null,null,null,null,null,null,0]
[null,{"$f":"IFERROR(VLOOKUP(A1398,Base!$A$2:$D$460,2,0),\"\")","v":""},{"$f":"IFERROR(VLOOKUP(A1398,Base!$A$2:$D$460,3,0),\"\")","v":""},{"$f":"IFERROR(VLOOKUP(A1398,Base!$A$2:$D$460,4,0),\"\")","v":""},null,null,null,null,null,null,null,null,null,null,null,null,null,0]
[null,{"$f":"IFERROR(VLOOKUP(A1399,Base!$A$2:$D$460,2,0),\"\")","v":""},{"$f":"IFERROR(VLOOKUP(A1399,Base!$A$2:$D$460,3,0),\"\")","v":""},{"$f":"IFERROR(VLOOKUP(A1399,Base!$A$2:$D$460,4,0),\"\")","v":""},null,null,null,null,null,null,null,null,null,null,null,null,null,0]
[null,{"$f":"IFERROR(VLOOKUP(A1400,Base!$A$2:$D$460,2,0),\"\")","v":""},{"$f":"IFERROR(VLOOKUP(A1400,Base!$A$2:$D$460,3,0),\"\")","v":""},{"$f":"IFERROR(VLOOKUP(A1400,Base!$A$2:$D$460,4,0),\"\")","v":""},null,null,null,null,null,null,null,null,null,null,null,null,null,0]
[null,{"$f":"IFERROR(VLOOKUP(A1401,Base!$A$2:$D$460,2,0),\"\")","v":""},{"$f":"IFERROR(VLOOKUP(A1401,Base!$A$2:$D$460,3,0),\"\")","v":""},{"$f":"IFERROR(VLOOKUP(A1401,Base!$A$2:$D$460,4,0),\"\")","v":""},null,null,null,null,null,null,null,null,null,null,null,null,null,0]
[null,{"$f":"IFERROR(VLOOKUP(A1402,Base!$A$2:$D$460,2,0),\"\")","v":""},{"$f":"IFERROR(VLOOKUP(A1402,Base!$A$2:$D$460,3,0),\"\")","v":""},{"$f":"IFERROR(VLOOKUP(A1402,Base!$A$2:$D$460,4,0),\"\")","v":""},null,null,null,null,null,null,null,null,null,null,null,null,null,0]
[null,{"$f":"IFERROR(VLOOKUP(A1403,Base!$A$2:$D$460,2,0),\"\")","v":""},{"$f":"IFERROR(VLOOKUP(A1403,Base!$A$2:$D$460,3,0),\"\")","v":""},{"$f":"IFERROR(VLOOKUP(A1403,Base!$A$2:$D$460,4,0),\"\")","v":""},null,null,null,null,null,null,null,null,null,null,null,null,null,0]
[null,{"$f":"IFERROR(VLOOKUP(A1404,Base!$A$2:$D$460,2,0),\"\")","v":""},{"$f":"IFERROR(VLOOKUP(A1404,Base!$A$2:$D$460,3,0),\"\")","v":""},{"$f":"IFERROR(VLOOKUP(A1404,Base!$A$2:$D$460,4,0),\"\")","v":""},null,null,null,null,null,null,null,null,null,null,null,null,null,0]
[null,{"$f":"IFERROR(VLOOKUP(A1405,Base!$A$2:$D$460,2,0),\"\")","v":""},{"$f":"IFERROR(VLOOKUP(A1405,Base!$A$2:$D$460,3,0),\"\")","v":""},{"$f":"IFERROR(VLOOKUP(A1405,Base!$A$2:$D$460,4,0),\"\")","v":""},null,null,null,null,null,null,null,null,null,null,null,null,null,0]
[null,{"$f":"IFERROR(VLOOKUP(A1406,Base!$A$2:$D$460,2,0),\"\")","v":""},{"$f":"IFERROR(VLOOKUP(A1406,Base!$A$2:$D$460,3,0),\"\")","v":""},{"$f":"IFERROR(VLOOKUP(A1406,Base!$A$2:$D$460,4,0),\"\")","v":""},null,null,null,null,null,null,null,null,null,null,null,null,null,0]
[null,{"$f":"IFERROR(VLOOKUP(A1407,Base!$A$2:$D$460,2,0),\"\")","v":""},{"$f":"IFERROR(VLOOKUP(A1407,Base!$A$2:$D$460,3,0),\"\")","v":""},{"$f":"IFERROR(VLOOKUP(A1407,Base!$A$2:$D$460,4,0),\"\")","v":""},null,null,null,null,null,null,null,null,null,null,null,null,null,0]
[null,{"$f":"IFERROR(VLOOKUP(A1408,Base!$A$2:$D$460,2,0),\"\")","v":""},{"$f":"IFERROR(VLOOKUP(A1408,Base!$A$2:$D$460,3,0),\"\")","v":""},{"$f":"IFERROR(VLOOKUP(A1408,Base!$A$2:$D$460,4,0),\"\")","v":""},null,null,null,null,null,null,null,null,null,null,null,null,null,0]
[null,{"$f":"IFERROR(VLOOKUP(A1409,Base!$A$2:$D$460,2,0),\"\")","v":""},{"$f":"IFERROR(VLOOKUP(A1409,Base!$A$2:$D$460,3,0),\"\")","v":""},{"$f":"IFERROR(VLOOKUP(A1409,Base!$A$2:$D$460,4,0),\"\")","v":""},null,null,null,null,null,null,null,null,null,null,null,null,null,0]
[null,{"$f":"IFERROR(VLOOKUP(A1410,Base!$A$2:$D$460,2,0),\"\")","v":""},{"$f":"IFERROR(VLOOKUP(A1410,Base!$A$2:$D$460,3,0),\"\")","v":""},{"$f":"IFERROR(VLOOKUP(A1410,Base!$A$2:$D$460,4,0),\"\")","v":""},null,null,null,null,null,null,null,null,null,null,null,null,null,0]
[null,{"$f":"IFERROR(VLOOKUP(A1411,Base!$A$2:$D$460,2,0),\"\")","v":""},{"$f":"IFERROR(VLOOKUP(A1411,Base!$A$2:$D$460,3,0),\"\")","v":""},{"$f":"IFERROR(VLOOKUP(A1411,Base!$A$2:$D$460,4,0),\"\")","v":""},null,null,null,null,null,null,null,null,null,null,null,null,null,0]
[null,{"$f":"IFERROR(VLOOKUP(A1412,Base!$A$2:$D$460,2,0),\"\")","v":""},{"$f":"IFERROR(VLOOKUP(A1412,Base!$A$2:$D$460,3,0),\"\")","v":""},{"$f":"IFERROR(VLOOKUP(A1412,Base!$A$2:$D$460,4,0),\"\")","v":""},null,null,null,null,null,null,null,null,null,null,null,null,null,0]
[null,{"$f":"IFERROR(VLOOKUP(A1413,Base!$A$2:$D$460,2,0),\"\")","v":""},{"$f":"IFERROR(VLOOKUP(A1413,Base!$A$2:$D$460,3,0),\"\")","v":""},{"$f":"IFERROR(VLOOKUP(A1413,Base!$A$2:$D$460,4,0),\"\")","v":""},null,null,null,null,null,null,null,null,null,null,null,null,null,0]
[null,{"$f":"IFERROR(VLOOKUP(A1414,Base!$A$2:$D$460,2,0),\"\")","v":""},{"$f":"IFERROR(VLOOKUP(A1414,Base!$A$2:$D$460,3,0),\"\")","v":""},{"$f":"IFERROR(VLOOKUP(A1414,Base!$A$2:$D$460,4,0),\"\")","v":""},null,null,null,null,null,null,null,null,null,null,null,null,null,0]
[null,{"$f":"IFERROR(VLOOKUP(A1415,Base!$A$2:$D$460,2,0),\"\")","v":""},{"$f":"IFERROR(VLOOKUP(A1415,Base!$A$2:$D$460,3,0),\"\")","v":""},{"$f":"IFERROR(VLOOKUP(A1415,Base!$A$2:$D$460,4,0),\"\")","v":""},null,null,null,null,null,null,null,null,null,null,null,null,null,0]
[null,{"$f":"IFERROR(VLOOKUP(A1416,Base!$A$2:$D$460,2,0),\"\")","v":""},{"$f":"IFERROR(VLOOKUP(A1416,Base!$A$2:$D$460,3,0),\"\")","v":""},{"$f":"IFERROR(VLOOKUP(A1416,Base!$A$2:$D$460,4,0),\"\")","v":""},null,null,null,null,null,null,null,null,null,null,null,null,null,0]
[null,{"$f":"IFERROR(VLOOKUP(A1417,Base!$A$2:$D$460,2,0),\"\")","v":""},{"$f":"IFERROR(VLOOKUP(A1417,Base!$A$2:$D$460,3,0),\"\")","v":""},{"$f":"IFERROR(VLOOKUP(A1417,Base!$A$2:$D$460,4,0),\"\")","v":""},null,null,null,null,null,null,null,null,null,null,null,null,null,0]
[null,{"$f":"IFERROR(VLOOKUP(A1418,Base!$A$2:$D$460,2,0),\"\")","v":""},{"$f":"IFERROR(VLOOKUP(A1418,Base!$A$2:$D$460,3,0),\"\")","v":""},{"$f":"IFERROR(VLOOKUP(A1418,Base!$A$2:$D$460,4,0),\"\")","v":""},null,null,null,null,null,null,null,null,null,null,null,null,null,0]
[null,{"$f":"IFERROR(VLOOKUP(A1419,Base!$A$2:$D$460,2,0),\"\")","v":""},{"$f":"IFERROR(VLOOKUP(A1419,Base!$A$2:$D$460,3,0),\"\")","v":""},{"$f":"IFERROR(VLOOKUP(A1419,Base!$A$2:$D$460,4,0),\"\")","v":""},null,null,null,null,null,null,null,null,null,null,null,null,null,0]
[null,{"$f":"IFERROR(VLOOKUP(A1420,Base!$A$2:$D$460,2,0),\"\")","v":""},{"$f":"IFERROR(VLOOKUP(A1420,Base!$A$2:$D$460,3,0),\"\")","v":""},{"$f":"IFERROR(VLOOKUP(A1420,Base!$A$2:$D$460,4,0),\"\")","v":""},null,null,null,null,null,null,null,null,null,null,null,null,null,0]
[null,{"$f":"IFERROR(VLOOKUP(A1421,Base!$A$2:$D$460,2,0),\"\")","v":""},{"$f":"IFERROR(VLOOKUP(A1421,Base!$A$2:$D$460,3,0),\"\")","v":""},{"$f":"IFERROR(VLOOKUP(A1421,Base!$A$2:$D$460,4,0),\"\")","v":""},null,null,null,null,null,null,null,null,null,null,null,null,null,0]
[null,{"$f":"IFERROR(VLOOKUP(A1422,Base!$A$2:$D$460,2,0),\"\")","v":""},{"$f":"IFERROR(VLOOKUP(A1422,Base!$A$2:$D$460,3,0),\"\")","v":""},{"$f":"IFERROR(VLOOKUP(A1422,Base!$A$2:$D$460,4,0),\"\")","v":""},null,null,null,null,null,null,null,null,null,null,null,null,null,0]
[null,{"$f":"IFERROR(VLOOKUP(A1423,Base!$A$2:$D$460,2,0),\"\")","v":""},{"$f":"IFERROR(VLOOKUP(A1423,Base!$A$2:$D$460,3,0),\"\")","v":""},{"$f":"IFERROR(VLOOKUP(A1423,Base!$A$2:$D$460,4,0),\"\")","v":""},null,null,null,null,null,null,null,null,null,null,null,null,null,0]
[null,{"$f":"IFERROR(VLOOKUP(A1424,Base!$A$2:$D$460,2,0),\"\")","v":""},{"$f":"IFERROR(VLOOKUP(A1424,Base!$A$2:$D$460,3,0),\"\")","v":""},{"$f":"IFERROR(VLOOKUP(A1424,Base!$A$2:$D$460,4,0),\"\")","v":""},null,null,null,null,null,null,null,null,null,null,null,null,null,0]
[null,{"$f":"IFERROR(VLOOKUP(A1425,Base!$A$2:$D$460,2,0),\"\")","v":""},{"$f":"IFERROR(VLOOKUP(A1425,Base!$A$2:$D$460,3,0),\"\")","v":""},{"$f":"IFERROR(VLOOKUP(A1425,Base!$A$2:$D$460,4,0),\"\")","v":""},null,null,null,null,null,null,null,null,null,null,null,null,null,0]
[null,{"$f":"IFERROR(VLOOKUP(A1426,Base!$A$2:$D$460,2,0),\"\")","v":""},{"$f":"IFERROR(VLOOKUP(A1426,Base!$A$2:$D$460,3,0),\"\")","v":""},{"$f":"IFERROR(VLOOKUP(A1426,Base!$A$2:$D$460,4,0),\"\")","v":""},null,null,null,null,null,null,null,null,null,null,null,null,null,0]
[null,{"$f":"IFERROR(VLOOKUP(A1427,Base!$A$2:$D$460,2,0),\"\")","v":""},{"$f":"IFERROR(VLOOKUP(A1427,Base!$A$2:$D$460,3,0),\"\")","v":""},{"$f":"IFERROR(VLOOKUP(A1427,Base!$A$2:$D$460,4,0),\"\")","v":""},null,null,null,null,null,null,null,null,null,null,null,null,null,0]
[null,{"$f":"IFERROR(VLOOKUP(A1428,Base!$A$2:$D$460,2,0),\"\")","v":""},{"$f":"IFERROR(VLOOKUP(A1428,Base!$A$2:$D$460,3,0),\"\")","v":""},{"$f":"IFERROR(VLOOKUP(A1428,Base!$A$2:$D$460,4,0),\"\")","v":""},null,null,null,null,null,null,null,null,null,null,null,null,null,0]
[null,{"$f":"IFERROR(VLOOKUP(A1429,Base!$A$2:$D$460,2,0),\"\")","v":""},{"$f":"IFERROR(VLOOKUP(A1429,Base!$A$2:$D$460,3,0),\"\")","v":""},{"$f":"IFERROR(VLOOKUP(A1429,Base!$A$2:$D$460,4,0),\"\")","v":""},null,null,null,null,null,null,null,null,null,null,null,null,null,0]
[null,{"$f":"IFERROR(VLOOKUP(A1430,Base!$A$2:$D$460,2,0),\"\")","v":""},{"$f":"IFERROR(VLOOKUP(A1430,Base!$A$2:$D$460,3,0),\"\")","v":""},{"$f":"IFERROR(VLOOKUP(A1430,Base!$A$2:$D$460,4,0),\"\")","v":""},null,null,null,null,null,null,null,null,null,null,null,null,null,0]
[null,{"$f":"IFERROR(VLOOKUP(A1431,Base!$A$2:$D$460,2,0),\"\")","v":""},{"$f":"IFERROR(VLOOKUP(A1431,Base!$A$2:$D$460,3,0),\"\")","v":""},{"$f":"IFERROR(VLOOKUP(A1431,Base!$A$2:$D$460,4,0),\"\")","v":""},null,null,null,null,null,null,null,null,null,null,null,null,null,0]
[null,{"$f":"IFERROR(VLOOKUP(A1432,Base!$A$2:$D$460,2,0),\"\")","v":""},{"$f":"IFERROR(VLOOKUP(A1432,Base!$A$2:$D$460,3,0),\"\")","v":""},{"$f":"IFERROR(VLOOKUP(A1432,Base!$A$2:$D$460,4,0),\"\")","v":""},null,null,null,null,null,null,null,null,null,null,null,null,null,0]
[null,{"$f":"IFERROR(VLOOKUP(A1433,Base!$A$2:$D$460,2,0),\"\")","v":""},{"$f":"IFERROR(VLOOKUP(A1433,Base!$A$2:$D$460,3,0),\"\")","v":""},{"$f":"IFERROR(VLOOKUP(A1433,Base!$A$2:$D$460,4,0),\"\")","v":""},null,null,null,null,null,null,null,null,null,null,null,null,null,0]
[null,{"$f":"IFERROR(VLOOKUP(A1434,Base!$A$2:$D$460,2,0),\"\")","v":""},{"$f":"IFERROR(VLOOKUP(A1434,Base!$A$2:$D$460,3,0),\"\")","v":""},{"$f":"IFERROR(VLOOKUP(A1434,Base!$A$2:$D$460,4,0),\"\")","v":""},null,null,null,null,null,null,null,null,null,null,null,null,null,0]
[null,{"$f":"IFERROR(VLOOKUP(A1435,Base!$A$2:$D$460,2,0),\"\")","v":""},{"$f":"IFERROR(VLOOKUP(A1435,Base!$A$2:$D$460,3,0),\"\")","v":""},{"$f":"IFERROR(VLOOKUP(A1435,Base!$A$2:$D$460,4,0),\"\")","v":""},null,null,null,null,null,null,null,null,null,null,null,null,null,0]
[null,{"$f":"IFERROR(VLOOKUP(A1436,Base!$A$2:$D$460,2,0),\"\")","v":""},{"$f":"IFERROR(VLOOKUP(A1436,Base!$A$2:$D$460,3,0),\"\")","v":""},{"$f":"IFERROR(VLOOKUP(A1436,Base!$A$2:$D$460,4,0),\"\")","v":""},null,null,null,null,null,null,null,null,null,null,null,null,null,0]
[null,{"$f":"IFERROR(VLOOKUP(A1437,Base!$A$2:$D$460,2,0),\"\")","v":""},{"$f":"IFERROR(VLOOKUP(A1437,Base!$A$2:$D$460,3,0),\"\")","v":""},{"$f":"IFERROR(VLOOKUP(A1437,Base!$A$2:$D$460,4,0),\"\")","v":""},null,null,null,null,null,null,null,null,null,null,null,null,null,0]
[null,{"$f":"IFERROR(VLOOKUP(A1438,Base!$A$2:$D$460,2,0),\"\")","v":""},{"$f":"IFERROR(VLOOKUP(A1438,Base!$A$2:$D$460,3,0),\"\")","v":""},{"$f":"IFERROR(VLOOKUP(A1438,Base!$A$2:$D$460,4,0),\"\")","v":""},null,null,null,null,null,null,null,null,null,null,null,null,null,0]
[null,{"$f":"IFERROR(VLOOKUP(A1439,Base!$A$2:$D$460,2,0),\"\")","v":""},{"$f":"IFERROR(VLOOKUP(A1439,Base!$A$2:$D$460,3,0),\"\")","v":""},{"$f":"IFERROR(VLOOKUP(A1439,Base!$A$2:$D$460,4,0),\"\")","v":""},null,null,null,null,null,null,null,null,null,null,null,null,null,0]
[null,{"$f":"IFERROR(VLOOKUP(A1440,Base!$A$2:$D$460,2,0),\"\")","v":""},{"$f":"IFERROR(VLOOKUP(A1440,Base!$A$2:$D$460,3,0),\"\")","v":""},{"$f":"IFERROR(VLOOKUP(A1440,Base!$A$2:$D$460,4,0),\"\")","v":""},null,null,null,null,null,null,null,null,null,null,null,null,null,0]
[null,{"$f":"IFERROR(VLOOKUP(A1441,Base!$A$2:$D$460,2,0),\"\")","v":""},{"$f":"IFERROR(VLOOKUP(A1441,Base!$A$2:$D$460,3,0),\"\")","v":""},{"$f":"IFERROR(VLOOKUP(A1441,Base!$A$2:$D$460,4,0),\"\")","v":""},null,null,null,null,null,null,null,null,null,null,null,null,null,0]
[null,{"$f":"IFERROR(VLOOKUP(A1442,Base!$A$2:$D$460,2,0),\"\")","v":""},{"$f":"IFERROR(VLOOKUP(A1442,Base!$A$2:$D$460,3,0),\"\")","v":""},{"$f":"IFERROR(VLOOKUP(A1442,Base!$A$2:$D$460,4,0),\"\")","v":""},null,null,null,null,null,null,null,null,null,null,null,null,null,0]
[null,{"$f":"IFERROR(VLOOKUP(A1443,Base!$A$2:$D$460,2,0),\"\")","v":""},{"$f":"IFERROR(VLOOKUP(A1443,Base!$A$2:$D$460,3,0),\"\")","v":""},{"$f":"IFERROR(VLOOKUP(A1443,Base!$A$2:$D$460,4,0),\"\")","v":""},null,null,null,null,null,null,null,null,null,null,null,null,null,0]
[null,{"$f":"IFERROR(VLOOKUP(A1444,Base!$A$2:$D$460,2,0),\"\")","v":""},{"$f":"IFERROR(VLOOKUP(A1444,Base!$A$2:$D$460,3,0),\"\")","v":""},{"$f":"IFERROR(VLOOKUP(A1444,Base!$A$2:$D$460,4,0),\"\")","v":""},null,null,null,null,null,null,null,null,null,null,null,null,null,0]
[null,{"$f":"IFERROR(VLOOKUP(A1445,Base!$A$2:$D$460,2,0),\"\")","v":""},{"$f":"IFERROR(VLOOKUP(A1445,Base!$A$2:$D$460,3,0),\"\")","v":""},{"$f":"IFERROR(VLOOKUP(A1445,Base!$A$2:$D$460,4,0),\"\")","v":""},null,null,null,null,null,null,null,null,null,null,null,null,null,0]
[null,{"$f":"IFERROR(VLOOKUP(A1446,Base!$A$2:$D$460,2,0),\"\")","v":""},{"$f":"IFERROR(VLOOKUP(A1446,Base!$A$2:$D$460,3,0),\"\")","v":""},{"$f":"IFERROR(VLOOKUP(A1446,Base!$A$2:$D$460,4,0),\"\")","v":""},null,null,null,null,null,null,null,null,null,null,null,null,null,0]
[null,{"$f":"IFERROR(VLOOKUP(A1447,Base!$A$2:$D$460,2,0),\"\")","v":""},{"$f":"IFERROR(VLOOKUP(A1447,Base!$A$2:$D$460,3,0),\"\")","v":""},{"$f":"IFERROR(VLOOKUP(A1447,Base!$A$2:$D$460,4,0),\"\")","v":""},null,null,null,null,null,null,null,null,null,null,null,null,null,{"$f":"SUM(N1447:Q1447)/4","v":0}]
[null,{"$f":"IFERROR(VLOOKUP(A1448,Base!$A$2:$D$460,2,0),\"\")","v":""},{"$f":"IFERROR(VLOOKUP(A1448,Base!$A$2:$D$460,3,0),\"\")","v":""},{"$f":"IFERROR(VLOOKUP(A1448,Base!$A$2:$D$460,4,0),\"\")","v":""},null,null,null,null,null,null,null,null,null,null,null,null,null,0]
[null,{"$f":"IFERROR(VLOOKUP(A1449,Base!$A$2:$D$460,2,0),\"\")","v":""},{"$f":"IFERROR(VLOOKUP(A1449,Base!$A$2:$D$460,3,0),\"\")","v":""},{"$f":"IFERROR(VLOOKUP(A1449,Base!$A$2:$D$460,4,0),\"\")","v":""},null,null,null,null,null,null,null,null,null,null,null,null,null,0]
[null,{"$f":"IFERROR(VLOOKUP(A1450,Base!$A$2:$D$460,2,0),\"\")","v":""},{"$f":"IFERROR(VLOOKUP(A1450,Base!$A$2:$D$460,3,0),\"\")","v":""},{"$f":"IFERROR(VLOOKUP(A1450,Base!$A$2:$D$460,4,0),\"\")","v":""},null,null,null,null,null,null,null,null,null,null,null,null,null,0]
[null,{"$f":"IFERROR(VLOOKUP(A1451,Base!$A$2:$D$460,2,0),\"\")","v":""},{"$f":"IFERROR(VLOOKUP(A1451,Base!$A$2:$D$460,3,0),\"\")","v":""},{"$f":"IFERROR(VLOOKUP(A1451,Base!$A$2:$D$460,4,0),\"\")","v":""},null,null,null,null,null,null,null,null,null,null,null,null,null,0]
[null,{"$f":"IFERROR(VLOOKUP(A1452,Base!$A$2:$D$460,2,0),\"\")","v":""},{"$f":"IFERROR(VLOOKUP(A1452,Base!$A$2:$D$460,3,0),\"\")","v":""},{"$f":"IFERROR(VLOOKUP(A1452,Base!$A$2:$D$460,4,0),\"\")","v":""},null,null,null,null,null,null,null,null,null,null,null,null,null,0]
[null,{"$f":"IFERROR(VLOOKUP(A1453,Base!$A$2:$D$460,2,0),\"\")","v":""},{"$f":"IFERROR(VLOOKUP(A1453,Base!$A$2:$D$460,3,0),\"\")","v":""},{"$f":"IFERROR(VLOOKUP(A1453,Base!$A$2:$D$460,4,0),\"\")","v":""},null,null,null,null,null,null,null,null,null,null,null,null,null,0]
[null,{"$f":"IFERROR(VLOOKUP(A1454,Base!$A$2:$D$460,2,0),\"\")","v":""},{"$f":"IFERROR(VLOOKUP(A1454,Base!$A$2:$D$460,3,0),\"\")","v":""},{"$f":"IFERROR(VLOOKUP(A1454,Base!$A$2:$D$460,4,0),\"\")","v":""},null,null,null,null,null,null,null,null,null,null,null,null,null,0]
[null,{"$f":"IFERROR(VLOOKUP(A1455,Base!$A$2:$D$460,2,0),\"\")","v":""},{"$f":"IFERROR(VLOOKUP(A1455,Base!$A$2:$D$460,3,0),\"\")","v":""},{"$f":"IFERROR(VLOOKUP(A1455,Base!$A$2:$D$460,4,0),\"\")","v":""},null,null,null,null,null,null,null,null,null,null,null,null,null,0]
[null,{"$f":"IFERROR(VLOOKUP(A1456,Base!$A$2:$D$460,2,0),\"\")","v":""},{"$f":"IFERROR(VLOOKUP(A1456,Base!$A$2:$D$460,3,0),\"\")","v":""},{"$f":"IFERROR(VLOOKUP(A1456,Base!$A$2:$D$460,4,0),\"\")","v":""},null,null,null,null,null,null,null,null,null,null,null,null,null,0]
[null,{"$f":"IFERROR(VLOOKUP(A1457,Base!$A$2:$D$460,2,0),\"\")","v":""},{"$f":"IFERROR(VLOOKUP(A1457,Base!$A$2:$D$460,3,0),\"\")","v":""},{"$f":"IFERROR(VLOOKUP(A1457,Base!$A$2:$D$460,4,0),\"\")","v":""},null,null,null,null,null,null,null,null,null,null,null,null,null,0]
[null,{"$f":"IFERROR(VLOOKUP(A1458,Base!$A$2:$D$460,2,0),\"\")","v":""},{"$f":"IFERROR(VLOOKUP(A1458,Base!$A$2:$D$460,3,0),\"\")","v":""},{"$f":"IFERROR(VLOOKUP(A1458,Base!$A$2:$D$460,4,0),\"\")","v":""},null,null,null,null,null,null,null,null,null,null,null,null,null,0]
[null,{"$f":"IFERROR(VLOOKUP(A1459,Base!$A$2:$D$460,2,0),\"\")","v":""},{"$f":"IFERROR(VLOOKUP(A1459,Base!$A$2:$D$460,3,0),\"\")","v":""},{"$f":"IFERROR(VLOOKUP(A1459,Base!$A$2:$D$460,4,0),\"\")","v":""},null,null,null,null,null,null,null,null,null,null,null,null,null,0]
[null,{"$f":"IFERROR(VLOOKUP(A1460,Base!$A$2:$D$460,2,0),\"\")","v":""},{"$f":"IFERROR(VLOOKUP(A1460,Base!$A$2:$D$460,3,0),\"\")","v":""},{"$f":"IFERROR(VLOOKUP(A1460,Base!$A$2:$D$460,4,0),\"\")","v":""},null,null,null,null,null,null,null,null,null,null,null,null,null,0]
[null,{"$f":"IFERROR(VLOOKUP(A1461,Base!$A$2:$D$460,2,0),\"\")","v":""},{"$f":"IFERROR(VLOOKUP(A1461,Base!$A$2:$D$460,3,0),\"\")","v":""},{"$f":"IFERROR(VLOOKUP(A1461,Base!$A$2:$D$460,4,0),\"\")","v":""},null,null,null,null,null,null,null,null,null,null,null,null,null,0]
[null,{"$f":"IFERROR(VLOOKUP(A1462,Base!$A$2:$D$460,2,0),\"\")","v":""},{"$f":"IFERROR(VLOOKUP(A1462,Base!$A$2:$D$460,3,0),\"\")","v":""},{"$f":"IFERROR(VLOOKUP(A1462,Base!$A$2:$D$460,4,0),\"\")","v":""},null,null,null,null,null,null,null,null,null,null,null,null,null,0]
[null,{"$f":"IFERROR(VLOOKUP(A1463,Base!$A$2:$D$460,2,0),\"\")","v":""},{"$f":"IFERROR(VLOOKUP(A1463,Base!$A$2:$D$460,3,0),\"\")","v":""},{"$f":"IFERROR(VLOOKUP(A1463,Base!$A$2:$D$460,4,0),\"\")","v":""},null,null,null,null,null,null,null,null,null,null,null,null,null,0]
[null,{"$f":"IFERROR(VLOOKUP(A1464,Base!$A$2:$D$460,2,0),\"\")","v":""},{"$f":"IFERROR(VLOOKUP(A1464,Base!$A$2:$D$460,3,0),\"\")","v":""},{"$f":"IFERROR(VLOOKUP(A1464,Base!$A$2:$D$460,4,0),\"\")","v":""},null,null,null,null,null,null,null,null,null,null,null,null,null,0]
[null,{"$f":"IFERROR(VLOOKUP(A1465,Base!$A$2:$D$460,2,0),\"\")","v":""},{"$f":"IFERROR(VLOOKUP(A1465,Base!$A$2:$D$460,3,0),\"\")","v":""},{"$f":"IFERROR(VLOOKUP(A1465,Base!$A$2:$D$460,4,0),\"\")","v":""},null,null,null,null,null,null,null,null,null,null,null,null,null,0]
[null,{"$f":"IFERROR(VLOOKUP(A1466,Base!$A$2:$D$460,2,0),\"\")","v":""},{"$f":"IFERROR(VLOOKUP(A1466,Base!$A$2:$D$460,3,0),\"\")","v":""},{"$f":"IFERROR(VLOOKUP(A1466,Base!$A$2:$D$460,4,0),\"\")","v":""},null,null,null,null,null,null,null,null,null,null,null,null,null,0]
[null,{"$f":"IFERROR(VLOOKUP(A1467,Base!$A$2:$D$460,2,0),\"\")","v":""},{"$f":"IFERROR(VLOOKUP(A1467,Base!$A$2:$D$460,3,0),\"\")","v":""},{"$f":"IFERROR(VLOOKUP(A1467,Base!$A$2:$D$460,4,0),\"\")","v":""},null,null,null,null,null,null,null,null,null,null,null,null,null,0]
[null,{"$f":"IFERROR(VLOOKUP(A1468,Base!$A$2:$D$460,2,0),\"\")","v":""},{"$f":"IFERROR(VLOOKUP(A1468,Base!$A$2:$D$460,3,0),\"\")","v":""},{"$f":"IFERROR(VLOOKUP(A1468,Base!$A$2:$D$460,4,0),\"\")","v":""},null,null,null,null,null,null,null,null,null,null,null,null,null,0]
[null,{"$f":"IFERROR(VLOOKUP(A1469,Base!$A$2:$D$460,2,0),\"\")","v":""},{"$f":"IFERROR(VLOOKUP(A1469,Base!$A$2:$D$460,3,0),\"\")","v":""},{"$f":"IFERROR(VLOOKUP(A1469,Base!$A$2:$D$460,4,0),\"\")","v":""},null,null,null,null,null,null,null,null,null,null,null,null,null,0]
[null,{"$f":"IFERROR(VLOOKUP(A1470,Base!$A$2:$D$460,2,0),\"\")","v":""},{"$f":"IFERROR(VLOOKUP(A1470,Base!$A$2:$D$460,3,0),\"\")","v":""},{"$f":"IFERROR(VLOOKUP(A1470,Base!$A$2:$D$460,4,0),\"\")","v":""},null,null,null,null,null,null,null,null,null,null,null,null,null,0]
[null,{"$f":"IFERROR(VLOOKUP(A1471,Base!$A$2:$D$460,2,0),\"\")","v":""},{"$f":"IFERROR(VLOOKUP(A1471,Base!$A$2:$D$460,3,0),\"\")","v":""},{"$f":"IFERROR(VLOOKUP(A1471,Base!$A$2:$D$460,4,0),\"\")","v":""},null,null,null,null,null,null,null,null,null,null,null,null,null,0]
[null,{"$f":"IFERROR(VLOOKUP(A1472,Base!$A$2:$D$460,2,0),\"\")","v":""},{"$f":"IFERROR(VLOOKUP(A1472,Base!$A$2:$D$460,3,0),\"\")","v":""},{"$f":"IFERROR(VLOOKUP(A1472,Base!$A$2:$D$460,4,0),\"\")","v":""},null,null,null,null,null,null,null,null,null,null,null,null,null,0]
[null,{"$f":"IFERROR(VLOOKUP(A1473,Base!$A$2:$D$460,2,0),\"\")","v":""},{"$f":"IFERROR(VLOOKUP(A1473,Base!$A$2:$D$460,3,0),\"\")","v":""},{"$f":"IFERROR(VLOOKUP(A1473,Base!$A$2:$D$460,4,0),\"\")","v":""},null,null,null,null,null,null,null,null,null,null,null,null,null,0]
[null,{"$f":"IFERROR(VLOOKUP(A1474,Base!$A$2:$D$460,2,0),\"\")","v":""},{"$f":"IFERROR(VLOOKUP(A1474,Base!$A$2:$D$460,3,0),\"\")","v":""},{"$f":"IFERROR(VLOOKUP(A1474,Base!$A$2:$D$460,4,0),\"\")","v":""},null,null,null,null,null,null,null,null,null,null,null,null,null,0]
[null,{"$f":"IFERROR(VLOOKUP(A1475,Base!$A$2:$D$460,2,0),\"\")","v":""},{"$f":"IFERROR(VLOOKUP(A1475,Base!$A$2:$D$460,3,0),\"\")","v":""},{"$f":"IFERROR(VLOOKUP(A1475,Base!$A$2:$D$460,4,0),\"\")","v":""},null,null,null,null,null,null,null,null,null,null,null,null,null,0]
[null,{"$f":"IFERROR(VLOOKUP(A1476,Base!$A$2:$D$460,2,0),\"\")","v":""},{"$f":"IFERROR(VLOOKUP(A1476,Base!$A$2:$D$460,3,0),\"\")","v":""},{"$f":"IFERROR(VLOOKUP(A1476,Base!$A$2:$D$460,4,0),\"\")","v":""},null,null,null,null,null,null,null,null,null,null,null,null,null,0]
[null,{"$f":"IFERROR(VLOOKUP(A1477,Base!$A$2:$D$460,2,0),\"\")","v":""},{"$f":"IFERROR(VLOOKUP(A1477,Base!$A$2:$D$460,3,0),\"\")","v":""},{"$f":"IFERROR(VLOOKUP(A1477,Base!$A$2:$D$460,4,0),\"\")","v":""},null,null,null,null,null,null,null,null,null,null,null,null,null,0]
[null,{"$f":"IFERROR(VLOOKUP(A1478,Base!$A$2:$D$460,2,0),\"\")","v":""},{"$f":"IFERROR(VLOOKUP(A1478,Base!$A$2:$D$460,3,0),\"\")","v":""},{"$f":"IFERROR(VLOOKUP(A1478,Base!$A$2:$D$460,4,0),\"\")","v":""},null,null,null,null,null,null,null,null,null,null,null,null,null,0]
[null,{"$f":"IFERROR(VLOOKUP(A1479,Base!$A$2:$D$460,2,0),\"\")","v":""},{"$f":"IFERROR(VLOOKUP(A1479,Base!$A$2:$D$460,3,0),\"\")","v":""},{"$f":"IFERROR(VLOOKUP(A1479,Base!$A$2:$D$460,4,0),\"\")","v":""},null,null,null,null,null,null,null,null,null,null,null,null,null,0]
[null,{"$f":"IFERROR(VLOOKUP(A1480,Base!$A$2:$D$460,2,0),\"\")","v":""},{"$f":"IFERROR(VLOOKUP(A1480,Base!$A$2:$D$460,3,0),\"\")","v":""},{"$f":"IFERROR(VLOOKUP(A1480,Base!$A$2:$D$460,4,0),\"\")","v":""},null,null,null,null,null,null,null,null,null,null,null,null,null,0]
[null,{"$f":"IFERROR(VLOOKUP(A1481,Base!$A$2:$D$460,2,0),\"\")","v":""},{"$f":"IFERROR(VLOOKUP(A1481,Base!$A$2:$D$460,3,0),\"\")","v":""},{"$f":"IFERROR(VLOOKUP(A1481,Base!$A$2:$D$460,4,0),\"\")","v":""},null,null,null,null,null,null,null,null,null,null,null,null,null,0]
[null,{"$f":"IFERROR(VLOOKUP(A1482,Base!$A$2:$D$460,2,0),\"\")","v":""},{"$f":"IFERROR(VLOOKUP(A1482,Base!$A$2:$D$460,3,0),\"\")","v":""},{"$f":"IFERROR(VLOOKUP(A1482,Base!$A$2:$D$460,4,0),\"\")","v":""},null,null,null,null,null,null,null,null,null,null,null,null,null,0]
[null,{"$f":"IFERROR(VLOOKUP(A1483,Base!$A$2:$D$460,2,0),\"\")","v":""},{"$f":"IFERROR(VLOOKUP(A1483,Base!$A$2:$D$460,3,0),\"\")","v":""},{"$f":"IFERROR(VLOOKUP(A1483,Base!$A$2:$D$460,4,0),\"\")","v":""},null,null,null,null,null,null,null,null,null,null,null,null,null,0]
[null,{"$f":"IFERROR(VLOOKUP(A1484,Base!$A$2:$D$460,2,0),\"\")","v":""},{"$f":"IFERROR(VLOOKUP(A1484,Base!$A$2:$D$460,3,0),\"\")","v":""},{"$f":"IFERROR(VLOOKUP(A1484,Base!$A$2:$D$460,4,0),\"\")","v":""},null,null,null,null,null,null,null,null,null,null,null,null,null,0]
[null,{"$f":"IFERROR(VLOOKUP(A1485,Base!$A$2:$D$460,2,0),\"\")","v":""},{"$f":"IFERROR(VLOOKUP(A1485,Base!$A$2:$D$460,3,0),\"\")","v":""},{"$f":"IFERROR(VLOOKUP(A1485,Base!$A$2:$D$460,4,0),\"\")","v":""},null,null,null,null,null,null,null,null,null,null,null,null,null,0]
[null,{"$f":"IFERROR(VLOOKUP(A1486,Base!$A$2:$D$460,2,0),\"\")","v":""},{"$f":"IFERROR(VLOOKUP(A1486,Base!$A$2:$D$460,3,0),\"\")","v":""},{"$f":"IFERROR(VLOOKUP(A1486,Base!$A$2:$D$460,4,0),\"\")","v":""},null,null,null,null,null,null,null,null,null,null,null,null,null,0]
[null,{"$f":"IFERROR(VLOOKUP(A1487,Base!$A$2:$D$460,2,0),\"\")","v":""},{"$f":"IFERROR(VLOOKUP(A1487,Base!$A$2:$D$460,3,0),\"\")","v":""},{"$f":"IFERROR(VLOOKUP(A1487,Base!$A$2:$D$460,4,0),\"\")","v":""},null,null,null,null,null,null,null,null,null,null,null,null,null,0]
[null,{"$f":"IFERROR(VLOOKUP(A1488,Base!$A$2:$D$460,2,0),\"\")","v":""},{"$f":"IFERROR(VLOOKUP(A1488,Base!$A$2:$D$460,3,0),\"\")","v":""},{"$f":"IFERROR(VLOOKUP(A1488,Base!$A$2:$D$460,4,0),\"\")","v":""},null,null,null,null,null,null,null,null,null,null,null,null,null,0]
[null,{"$f":"IFERROR(VLOOKUP(A1489,Base!$A$2:$D$460,2,0),\"\")","v":""},{"$f":"IFERROR(VLOOKUP(A1489,Base!$A$2:$D$460,3,0),\"\")","v":""},{"$f":"IFERROR(VLOOKUP(A1489,Base!$A$2:$D$460,4,0),\"\")","v":""},null,null,null,null,null,null,null,null,null,null,null,null,null,0]
[null,{"$f":"IFERROR(VLOOKUP(A1490,Base!$A$2:$D$460,2,0),\"\")","v":""},{"$f":"IFERROR(VLOOKUP(A1490,Base!$A$2:$D$460,3,0),\"\")","v":""},{"$f":"IFERROR(VLOOKUP(A1490,Base!$A$2:$D$460,4,0),\"\")","v":""},null,null,null,null,null,null,null,null,null,null,null,null,null,0]
[null,{"$f":"IFERROR(VLOOKUP(A1491,Base!$A$2:$D$460,2,0),\"\")","v":""},{"$f":"IFERROR(VLOOKUP(A1491,Base!$A$2:$D$460,3,0),\"\")","v":""},{"$f":"IFERROR(VLOOKUP(A1491,Base!$A$2:$D$460,4,0),\"\")","v":""},null,null,null,null,null,null,null,null,null,null,null,null,null,0]
[null,{"$f":"IFERROR(VLOOKUP(A1492,Base!$A$2:$D$460,2,0),\"\")","v":""},{"$f":"IFERROR(VLOOKUP(A1492,Base!$A$2:$D$460,3,0),\"\")","v":""},{"$f":"IFERROR(VLOOKUP(A1492,Base!$A$2:$D$460,4,0),\"\")","v":""},null,null,null,null,null,null,null,null,null,null,null,null,null,0]
[null,{"$f":"IFERROR(VLOOKUP(A1493,Base!$A$2:$D$460,2,0),\"\")","v":""},{"$f":"IFERROR(VLOOKUP(A1493,Base!$A$2:$D$460,3,0),\"\")","v":""},{"$f":"IFERROR(VLOOKUP(A1493,Base!$A$2:$D$460,4,0),\"\")","v":""},null,null,null,null,null,null,null,null,null,null,null,null,null,0]
[null,{"$f":"IFERROR(VLOOKUP(A1494,Base!$A$2:$D$460,2,0),\"\")","v":""},{"$f":"IFERROR(VLOOKUP(A1494,Base!$A$2:$D$460,3,0),\"\")","v":""},{"$f":"IFERROR(VLOOKUP(A1494,Base!$A$2:$D$460,4,0),\"\")","v":""},null,null,null,null,null,null,null,null,null,null,null,null,null,0]
[null,{"$f":"IFERROR(VLOOKUP(A1495,Base!$A$2:$D$460,2,0),\"\")","v":""},{"$f":"IFERROR(VLOOKUP(A1495,Base!$A$2:$D$460,3,0),\"\")","v":""},{"$f":"IFERROR(VLOOKUP(A1495,Base!$A$2:$D$460,4,0),\"\")","v":""},null,null,null,null,null,null,null,null,null,null,null,null,null,0]
[null,{"$f":"IFERROR(VLOOKUP(A1496,Base!$A$2:$D$460,2,0),\"\")","v":""},{"$f":"IFERROR(VLOOKUP(A1496,Base!$A$2:$D$460,3,0),\"\")","v":""},{"$f":"IFERROR(VLOOKUP(A1496,Base!$A$2:$D$460,4,0),\"\")","v":""},null,null,null,null,null,null,null,null,null,null,null,null,null,0]
[null,{"$f":"IFERROR(VLOOKUP(A1497,Base!$A$2:$D$460,2,0),\"\")","v":""},{"$f":"IFERROR(VLOOKUP(A1497,Base!$A$2:$D$460,3,0),\"\")","v":""},{"$f":"IFERROR(VLOOKUP(A1497,Base!$A$2:$D$460,4,0),\"\")","v":""},null,null,null,null,null,null,null,null,null,null,null,null,null,0]
[null,{"$f":"IFERROR(VLOOKUP(A1498,Base!$A$2:$D$460,2,0),\"\")","v":""},{"$f":"IFERROR(VLOOKUP(A1498,Base!$A$2:$D$460,3,0),\"\")","v":""},{"$f":"IFERROR(VLOOKUP(A1498,Base!$A$2:$D$460,4,0),\"\")","v":""},null,null,null,null,null,null,null,null,null,null,null,null,null,0]
[null,{"$f":"IFERROR(VLOOKUP(A1499,Base!$A$2:$D$460,2,0),\"\")","v":""},{"$f":"IFERROR(VLOOKUP(A1499,Base!$A$2:$D$460,3,0),\"\")","v":""},{"$f":"IFERROR(VLOOKUP(A1499,Base!$A$2:$D$460,4,0),\"\")","v":""},null,null,null,null,null,null,null,null,null,null,null,null,null,0]
[null,{"$f":"IFERROR(VLOOKUP(A1500,Base!$A$2:$D$460,2,0),\"\")","v":""},{"$f":"IFERROR(VLOOKUP(A1500,Base!$A$2:$D$460,3,0),\"\")","v":""},{"$f":"IFERROR(VLOOKUP(A1500,Base!$A$2:$D$460,4,0),\"\")","v":""},null,null,null,null,null,null,null,null,null,null,null,null,null,0]
[null,{"$f":"IFERROR(VLOOKUP(A1501,Base!$A$2:$D$460,2,0),\"\")","v":""},{"$f":"IFERROR(VLOOKUP(A1501,Base!$A$2:$D$460,3,0),\"\")","v":""},{"$f":"IFERROR(VLOOKUP(A1501,Base!$A$2:$D$460,4,0),\"\")","v":""},null,null,null,null,null,null,null,null,null,null,null,null,null,0]
[null,{"$f":"IFERROR(VLOOKUP(A1502,Base!$A$2:$D$460,2,0),\"\")","v":""},{"$f":"IFERROR(VLOOKUP(A1502,Base!$A$2:$D$460,3,0),\"\")","v":""},{"$f":"IFERROR(VLOOKUP(A1502,Base!$A$2:$D$460,4,0),\"\")","v":""},null,null,null,null,null,null,null,null,null,null,null,null,null,0]
[null,{"$f":"IFERROR(VLOOKUP(A1503,Base!$A$2:$D$460,2,0),\"\")","v":""},{"$f":"IFERROR(VLOOKUP(A1503,Base!$A$2:$D$460,3,0),\"\")","v":""},{"$f":"IFERROR(VLOOKUP(A1503,Base!$A$2:$D$460,4,0),\"\")","v":""},null,null,null,null,null,null,null,null,null,null,null,null,null,0]
[null,{"$f":"IFERROR(VLOOKUP(A1504,Base!$A$2:$D$460,2,0),\"\")","v":""},{"$f":"IFERROR(VLOOKUP(A1504,Base!$A$2:$D$460,3,0),\"\")","v":""},{"$f":"IFERROR(VLOOKUP(A1504,Base!$A$2:$D$460,4,0),\"\")","v":""},null,null,null,null,null,null,null,null,null,null,null,null,null,0]
[null,{"$f":"IFERROR(VLOOKUP(A1505,Base!$A$2:$D$460,2,0),\"\")","v":""},{"$f":"IFERROR(VLOOKUP(A1505,Base!$A$2:$D$460,3,0),\"\")","v":""},{"$f":"IFERROR(VLOOKUP(A1505,Base!$A$2:$D$460,4,0),\"\")","v":""},null,null,null,null,null,null,null,null,null,null,null,null,null,0]
[null,{"$f":"IFERROR(VLOOKUP(A1506,Base!$A$2:$D$460,2,0),\"\")","v":""},{"$f":"IFERROR(VLOOKUP(A1506,Base!$A$2:$D$460,3,0),\"\")","v":""},{"$f":"IFERROR(VLOOKUP(A1506,Base!$A$2:$D$460,4,0),\"\")","v":""},null,null,null,null,null,null,null,null,null,null,null,null,null,0]
[null,{"$f":"IFERROR(VLOOKUP(A1507,Base!$A$2:$D$460,2,0),\"\")","v":""},{"$f":"IFERROR(VLOOKUP(A1507,Base!$A$2:$D$460,3,0),\"\")","v":""},{"$f":"IFERROR(VLOOKUP(A1507,Base!$A$2:$D$460,4,0),\"\")","v":""},null,null,null,null,null,null,null,null,null,null,null,null,null,0]
[null,{"$f":"IFERROR(VLOOKUP(A1508,Base!$A$2:$D$460,2,0),\"\")","v":""},{"$f":"IFERROR(VLOOKUP(A1508,Base!$A$2:$D$460,3,0),\"\")","v":""},{"$f":"IFERROR(VLOOKUP(A1508,Base!$A$2:$D$460,4,0),\"\")","v":""},null,null,null,null,null,null,null,null,null,null,null,null,null,0]
[null,{"$f":"IFERROR(VLOOKUP(A1509,Base!$A$2:$D$460,2,0),\"\")","v":""},{"$f":"IFERROR(VLOOKUP(A1509,Base!$A$2:$D$460,3,0),\"\")","v":""},{"$f":"IFERROR(VLOOKUP(A1509,Base!$A$2:$D$460,4,0),\"\")","v":""},null,null,null,null,null,null,null,null,null,null,null,null,null,0]
[null,{"$f":"IFERROR(VLOOKUP(A1510,Base!$A$2:$D$460,2,0),\"\")","v":""},{"$f":"IFERROR(VLOOKUP(A1510,Base!$A$2:$D$460,3,0),\"\")","v":""},{"$f":"IFERROR(VLOOKUP(A1510,Base!$A$2:$D$460,4,0),\"\")","v":""},null,null,null,null,null,null,null,null,null,null,null,null,null,0]
[null,{"$f":"IFERROR(VLOOKUP(A1511,Base!$A$2:$D$460,2,0),\"\")","v":""},{"$f":"IFERROR(VLOOKUP(A1511,Base!$A$2:$D$460,3,0),\"\")","v":""},{"$f":"IFERROR(VLOOKUP(A1511,Base!$A$2:$D$460,4,0),\"\")","v":""},null,null,null,null,null,null,null,null,null,null,null,null,null,{"$f":"SUM(N1511:Q1511)/4","v":0}]
[null,{"$f":"IFERROR(VLOOKUP(A1512,Base!$A$2:$D$460,2,0),\"\")","v":""},{"$f":"IFERROR(VLOOKUP(A1512,Base!$A$2:$D$460,3,0),\"\")","v":""},{"$f":"IFERROR(VLOOKUP(A1512,Base!$A$2:$D$460,4,0),\"\")","v":""},null,null,null,null,null,null,null,null,null,null,null,null,null,0]
[null,{"$f":"IFERROR(VLOOKUP(A1513,Base!$A$2:$D$460,2,0),\"\")","v":""},{"$f":"IFERROR(VLOOKUP(A1513,Base!$A$2:$D$460,3,0),\"\")","v":""},{"$f":"IFERROR(VLOOKUP(A1513,Base!$A$2:$D$460,4,0),\"\")","v":""},null,null,null,null,null,null,null,null,null,null,null,null,null,0]
[null,{"$f":"IFERROR(VLOOKUP(A1514,Base!$A$2:$D$460,2,0),\"\")","v":""},{"$f":"IFERROR(VLOOKUP(A1514,Base!$A$2:$D$460,3,0),\"\")","v":""},{"$f":"IFERROR(VLOOKUP(A1514,Base!$A$2:$D$460,4,0),\"\")","v":""},null,null,null,null,null,null,null,null,null,null,null,null,null,0]
[null,{"$f":"IFERROR(VLOOKUP(A1515,Base!$A$2:$D$460,2,0),\"\")","v":""},{"$f":"IFERROR(VLOOKUP(A1515,Base!$A$2:$D$460,3,0),\"\")","v":""},{"$f":"IFERROR(VLOOKUP(A1515,Base!$A$2:$D$460,4,0),\"\")","v":""},null,null,null,null,null,null,null,null,null,null,null,null,null,0]
[null,{"$f":"IFERROR(VLOOKUP(A1516,Base!$A$2:$D$460,2,0),\"\")","v":""},{"$f":"IFERROR(VLOOKUP(A1516,Base!$A$2:$D$460,3,0),\"\")","v":""},{"$f":"IFERROR(VLOOKUP(A1516,Base!$A$2:$D$460,4,0),\"\")","v":""},null,null,null,null,null,null,null,null,null,null,null,null,null,0]
[null,{"$f":"IFERROR(VLOOKUP(A1517,Base!$A$2:$D$460,2,0),\"\")","v":""},{"$f":"IFERROR(VLOOKUP(A1517,Base!$A$2:$D$460,3,0),\"\")","v":""},{"$f":"IFERROR(VLOOKUP(A1517,Base!$A$2:$D$460,4,0),\"\")","v":""},null,null,null,null,null,null,null,null,null,null,null,null,null,0]
[null,{"$f":"IFERROR(VLOOKUP(A1518,Base!$A$2:$D$460,2,0),\"\")","v":""},{"$f":"IFERROR(VLOOKUP(A1518,Base!$A$2:$D$460,3,0),\"\")","v":""},{"$f":"IFERROR(VLOOKUP(A1518,Base!$A$2:$D$460,4,0),\"\")","v":""},null,null,null,null,null,null,null,null,null,null,null,null,null,0]
[null,{"$f":"IFERROR(VLOOKUP(A1519,Base!$A$2:$D$460,2,0),\"\")","v":""},{"$f":"IFERROR(VLOOKUP(A1519,Base!$A$2:$D$460,3,0),\"\")","v":""},{"$f":"IFERROR(VLOOKUP(A1519,Base!$A$2:$D$460,4,0),\"\")","v":""},null,null,null,null,null,null,null,null,null,null,null,null,null,0]
[null,{"$f":"IFERROR(VLOOKUP(A1520,Base!$A$2:$D$460,2,0),\"\")","v":""},{"$f":"IFERROR(VLOOKUP(A1520,Base!$A$2:$D$460,3,0),\"\")","v":""},{"$f":"IFERROR(VLOOKUP(A1520,Base!$A$2:$D$460,4,0),\"\")","v":""},null,null,null,null,null,null,null,null,null,null,null,null,null,0]
[null,{"$f":"IFERROR(VLOOKUP(A1521,Base!$A$2:$D$460,2,0),\"\")","v":""},{"$f":"IFERROR(VLOOKUP(A1521,Base!$A$2:$D$460,3,0),\"\")","v":""},{"$f":"IFERROR(VLOOKUP(A1521,Base!$A$2:$D$460,4,0),\"\")","v":""},null,null,null,null,null,null,null,null,null,null,null,null,null,0]
[null,{"$f":"IFERROR(VLOOKUP(A1522,Base!$A$2:$D$460,2,0),\"\")","v":""},{"$f":"IFERROR(VLOOKUP(A1522,Base!$A$2:$D$460,3,0),\"\")","v":""},{"$f":"IFERROR(VLOOKUP(A1522,Base!$A$2:$D$460,4,0),\"\")","v":""},null,null,null,null,null,null,null,null,null,null,null,null,null,0]
[null,{"$f":"IFERROR(VLOOKUP(A1523,Base!$A$2:$D$460,2,0),\"\")","v":""},{"$f":"IFERROR(VLOOKUP(A1523,Base!$A$2:$D$460,3,0),\"\")","v":""},{"$f":"IFERROR(VLOOKUP(A1523,Base!$A$2:$D$460,4,0),\"\")","v":""},null,null,null,null,null,null,null,null,null,null,null,null,null,0]
[null,{"$f":"IFERROR(VLOOKUP(A1524,Base!$A$2:$D$460,2,0),\"\")","v":""},{"$f":"IFERROR(VLOOKUP(A1524,Base!$A$2:$D$460,3,0),\"\")","v":""},{"$f":"IFERROR(VLOOKUP(A1524,Base!$A$2:$D$460,4,0),\"\")","v":""},null,null,null,null,null,null,null,null,null,null,null,null,null,0]
[null,{"$f":"IFERROR(VLOOKUP(A1525,Base!$A$2:$D$460,2,0),\"\")","v":""},{"$f":"IFERROR(VLOOKUP(A1525,Base!$A$2:$D$460,3,0),\"\")","v":""},{"$f":"IFERROR(VLOOKUP(A1525,Base!$A$2:$D$460,4,0),\"\")","v":""},null,null,null,null,null,null,null,null,null,null,null,null,null,0]
[null,{"$f":"IFERROR(VLOOKUP(A1526,Base!$A$2:$D$460,2,0),\"\")","v":""},{"$f":"IFERROR(VLOOKUP(A1526,Base!$A$2:$D$460,3,0),\"\")","v":""},{"$f":"IFERROR(VLOOKUP(A1526,Base!$A$2:$D$460,4,0),\"\")","v":""},null,null,null,null,null,null,null,null,null,null,null,null,null,0]
[null,{"$f":"IFERROR(VLOOKUP(A1527,Base!$A$2:$D$460,2,0),\"\")","v":""},{"$f":"IFERROR(VLOOKUP(A1527,Base!$A$2:$D$460,3,0),\"\")","v":""},{"$f":"IFERROR(VLOOKUP(A1527,Base!$A$2:$D$460,4,0),\"\")","v":""},null,null,null,null,null,null,null,null,null,null,null,null,null,0]
[null,{"$f":"IFERROR(VLOOKUP(A1528,Base!$A$2:$D$460,2,0),\"\")","v":""},{"$f":"IFERROR(VLOOKUP(A1528,Base!$A$2:$D$460,3,0),\"\")","v":""},{"$f":"IFERROR(VLOOKUP(A1528,Base!$A$2:$D$460,4,0),\"\")","v":""},null,null,null,null,null,null,null,null,null,null,null,null,null,0]
[null,{"$f":"IFERROR(VLOOKUP(A1529,Base!$A$2:$D$460,2,0),\"\")","v":""},{"$f":"IFERROR(VLOOKUP(A1529,Base!$A$2:$D$460,3,0),\"\")","v":""},{"$f":"IFERROR(VLOOKUP(A1529,Base!$A$2:$D$460,4,0),\"\")","v":""},null,null,null,null,null,null,null,null,null,null,null,null,null,0]
[null,{"$f":"IFERROR(VLOOKUP(A1530,Base!$A$2:$D$460,2,0),\"\")","v":""},{"$f":"IFERROR(VLOOKUP(A1530,Base!$A$2:$D$460,3,0),\"\")","v":""},{"$f":"IFERROR(VLOOKUP(A1530,Base!$A$2:$D$460,4,0),\"\")","v":""},null,null,null,null,null,null,null,null,null,null,null,null,null,0]
[null,{"$f":"IFERROR(VLOOKUP(A1531,Base!$A$2:$D$460,2,0),\"\")","v":""},{"$f":"IFERROR(VLOOKUP(A1531,Base!$A$2:$D$460,3,0),\"\")","v":""},{"$f":"IFERROR(VLOOKUP(A1531,Base!$A$2:$D$460,4,0),\"\")","v":""},null,null,null,null,null,null,null,null,null,null,null,null,null,0]
[null,{"$f":"IFERROR(VLOOKUP(A1532,Base!$A$2:$D$460,2,0),\"\")","v":""},{"$f":"IFERROR(VLOOKUP(A1532,Base!$A$2:$D$460,3,0),\"\")","v":""},{"$f":"IFERROR(VLOOKUP(A1532,Base!$A$2:$D$460,4,0),\"\")","v":""},null,null,null,null,null,null,null,null,null,null,null,null,null,0]
[null,{"$f":"IFERROR(VLOOKUP(A1533,Base!$A$2:$D$460,2,0),\"\")","v":""},{"$f":"IFERROR(VLOOKUP(A1533,Base!$A$2:$D$460,3,0),\"\")","v":""},{"$f":"IFERROR(VLOOKUP(A1533,Base!$A$2:$D$460,4,0),\"\")","v":""},null,null,null,null,null,null,null,null,null,null,null,null,null,0]
[null,{"$f":"IFERROR(VLOOKUP(A1534,Base!$A$2:$D$460,2,0),\"\")","v":""},{"$f":"IFERROR(VLOOKUP(A1534,Base!$A$2:$D$460,3,0),\"\")","v":""},{"$f":"IFERROR(VLOOKUP(A1534,Base!$A$2:$D$460,4,0),\"\")","v":""},null,null,null,null,null,null,null,null,null,null,null,null,null,0]
[null,{"$f":"IFERROR(VLOOKUP(A1535,Base!$A$2:$D$460,2,0),\"\")","v":""},{"$f":"IFERROR(VLOOKUP(A1535,Base!$A$2:$D$460,3,0),\"\")","v":""},{"$f":"IFERROR(VLOOKUP(A1535,Base!$A$2:$D$460,4,0),\"\")","v":""},null,null,null,null,null,null,null,null,null,null,null,null,null,0]
[null,{"$f":"IFERROR(VLOOKUP(A1536,Base!$A$2:$D$460,2,0),\"\")","v":""},{"$f":"IFERROR(VLOOKUP(A1536,Base!$A$2:$D$460,3,0),\"\")","v":""},{"$f":"IFERROR(VLOOKUP(A1536,Base!$A$2:$D$460,4,0),\"\")","v":""},null,null,null,null,null,null,null,null,null,null,null,null,null,0]
[null,{"$f":"IFERROR(VLOOKUP(A1537,Base!$A$2:$D$460,2,0),\"\")","v":""},{"$f":"IFERROR(VLOOKUP(A1537,Base!$A$2:$D$460,3,0),\"\")","v":""},{"$f":"IFERROR(VLOOKUP(A1537,Base!$A$2:$D$460,4,0),\"\")","v":""},null,null,null,null,null,null,null,null,null,null,null,null,null,0]
[null,{"$f":"IFERROR(VLOOKUP(A1538,Base!$A$2:$D$460,2,0),\"\")","v":""},{"$f":"IFERROR(VLOOKUP(A1538,Base!$A$2:$D$460,3,0),\"\")","v":""},{"$f":"IFERROR(VLOOKUP(A1538,Base!$A$2:$D$460,4,0),\"\")","v":""},null,null,null,null,null,null,null,null,null,null,null,null,null,0]
[null,{"$f":"IFERROR(VLOOKUP(A1539,Base!$A$2:$D$460,2,0),\"\")","v":""},{"$f":"IFERROR(VLOOKUP(A1539,Base!$A$2:$D$460,3,0),\"\")","v":""},{"$f":"IFERROR(VLOOKUP(A1539,Base!$A$2:$D$460,4,0),\"\")","v":""},null,null,null,null,null,null,null,null,null,null,null,null,null,0]
[null,{"$f":"IFERROR(VLOOKUP(A1540,Base!$A$2:$D$460,2,0),\"\")","v":""},{"$f":"IFERROR(VLOOKUP(A1540,Base!$A$2:$D$460,3,0),\"\")","v":""},{"$f":"IFERROR(VLOOKUP(A1540,Base!$A$2:$D$460,4,0),\"\")","v":""},null,null,null,null,null,null,null,null,null,null,null,null,null,0]
[null,{"$f":"IFERROR(VLOOKUP(A1541,Base!$A$2:$D$460,2,0),\"\")","v":""},{"$f":"IFERROR(VLOOKUP(A1541,Base!$A$2:$D$460,3,0),\"\")","v":""},{"$f":"IFERROR(VLOOKUP(A1541,Base!$A$2:$D$460,4,0),\"\")","v":""},null,null,null,null,null,null,null,null,null,null,null,null,null,0]
[null,{"$f":"IFERROR(VLOOKUP(A1542,Base!$A$2:$D$460,2,0),\"\")","v":""},{"$f":"IFERROR(VLOOKUP(A1542,Base!$A$2:$D$460,3,0),\"\")","v":""},{"$f":"IFERROR(VLOOKUP(A1542,Base!$A$2:$D$460,4,0),\"\")","v":""},null,null,null,null,null,null,null,null,null,null,null,null,null,0]
[null,{"$f":"IFERROR(VLOOKUP(A1543,Base!$A$2:$D$460,2,0),\"\")","v":""},{"$f":"IFERROR(VLOOKUP(A1543,Base!$A$2:$D$460,3,0),\"\")","v":""},{"$f":"IFERROR(VLOOKUP(A1543,Base!$A$2:$D$460,4,0),\"\")","v":""},null,null,null,null,null,null,null,null,null,null,null,null,null,0]
[null,{"$f":"IFERROR(VLOOKUP(A1544,Base!$A$2:$D$460,2,0),\"\")","v":""},{"$f":"IFERROR(VLOOKUP(A1544,Base!$A$2:$D$460,3,0),\"\")","v":""},{"$f":"IFERROR(VLOOKUP(A1544,Base!$A$2:$D$460,4,0),\"\")","v":""},null,null,null,null,null,null,null,null,null,null,null,null,null,0]
[null,{"$f":"IFERROR(VLOOKUP(A1545,Base!$A$2:$D$460,2,0),\"\")","v":""},{"$f":"IFERROR(VLOOKUP(A1545,Base!$A$2:$D$460,3,0),\"\")","v":""},{"$f":"IFERROR(VLOOKUP(A1545,Base!$A$2:$D$460,4,0),\"\")","v":""},null,null,null,null,null,null,null,null,null,null,null,null,null,0]
[null,{"$f":"IFERROR(VLOOKUP(A1546,Base!$A$2:$D$460,2,0),\"\")","v":""},{"$f":"IFERROR(VLOOKUP(A1546,Base!$A$2:$D$460,3,0),\"\")","v":""},{"$f":"IFERROR(VLOOKUP(A1546,Base!$A$2:$D$460,4,0),\"\")","v":""},null,null,null,null,null,null,null,null,null,null,null,null,null,0]
[null,{"$f":"IFERROR(VLOOKUP(A1547,Base!$A$2:$D$460,2,0),\"\")","v":""},{"$f":"IFERROR(VLOOKUP(A1547,Base!$A$2:$D$460,3,0),\"\")","v":""},{"$f":"IFERROR(VLOOKUP(A1547,Base!$A$2:$D$460,4,0),\"\")","v":""},null,null,null,null,null,null,null,null,null,null,null,null,null,0]
[null,{"$f":"IFERROR(VLOOKUP(A1548,Base!$A$2:$D$460,2,0),\"\")","v":""},{"$f":"IFERROR(VLOOKUP(A1548,Base!$A$2:$D$460,3,0),\"\")","v":""},{"$f":"IFERROR(VLOOKUP(A1548,Base!$A$2:$D$460,4,0),\"\")","v":""},null,null,null,null,null,null,null,null,null,null,null,null,null,0]
[null,{"$f":"IFERROR(VLOOKUP(A1549,Base!$A$2:$D$460,2,0),\"\")","v":""},{"$f":"IFERROR(VLOOKUP(A1549,Base!$A$2:$D$460,3,0),\"\")","v":""},{"$f":"IFERROR(VLOOKUP(A1549,Base!$A$2:$D$460,4,0),\"\")","v":""},null,null,null,null,null,null,null,null,null,null,null,null,null,0]
[null,{"$f":"IFERROR(VLOOKUP(A1550,Base!$A$2:$D$460,2,0),\"\")","v":""},{"$f":"IFERROR(VLOOKUP(A1550,Base!$A$2:$D$460,3,0),\"\")","v":""},{"$f":"IFERROR(VLOOKUP(A1550,Base!$A$2:$D$460,4,0),\"\")","v":""},null,null,null,null,null,null,null,null,null,null,null,null,null,0]
[null,{"$f":"IFERROR(VLOOKUP(A1551,Base!$A$2:$D$460,2,0),\"\")","v":""},{"$f":"IFERROR(VLOOKUP(A1551,Base!$A$2:$D$460,3,0),\"\")","v":""},{"$f":"IFERROR(VLOOKUP(A1551,Base!$A$2:$D$460,4,0),\"\")","v":""},null,null,null,null,null,null,null,null,null,null,null,null,null,0]
[null,{"$f":"IFERROR(VLOOKUP(A1552,Base!$A$2:$D$460,2,0),\"\")","v":""},{"$f":"IFERROR(VLOOKUP(A1552,Base!$A$2:$D$460,3,0),\"\")","v":""},{"$f":"IFERROR(VLOOKUP(A1552,Base!$A$2:$D$460,4,0),\"\")","v":""},null,null,null,null,null,null,null,null,null,null,null,null,null,0]
[null,{"$f":"IFERROR(VLOOKUP(A1553,Base!$A$2:$D$460,2,0),\"\")","v":""},{"$f":"IFERROR(VLOOKUP(A1553,Base!$A$2:$D$460,3,0),\"\")","v":""},{"$f":"IFERROR(VLOOKUP(A1553,Base!$A$2:$D$460,4,0),\"\")","v":""},null,null,null,null,null,null,null,null,null,null,null,null,null,0]
[null,{"$f":"IFERROR(VLOOKUP(A1554,Base!$A$2:$D$460,2,0),\"\")","v":""},{"$f":"IFERROR(VLOOKUP(A1554,Base!$A$2:$D$460,3,0),\"\")","v":""},{"$f":"IFERROR(VLOOKUP(A1554,Base!$A$2:$D$460,4,0),\"\")","v":""},null,null,null,null,null,null,null,null,null,null,null,null,null,0]
[null,{"$f":"IFERROR(VLOOKUP(A1555,Base!$A$2:$D$460,2,0),\"\")","v":""},{"$f":"IFERROR(VLOOKUP(A1555,Base!$A$2:$D$460,3,0),\"\")","v":""},{"$f":"IFERROR(VLOOKUP(A1555,Base!$A$2:$D$460,4,0),\"\")","v":""},null,null,null,null,null,null,null,null,null,null,null,null,null,0]
[null,{"$f":"IFERROR(VLOOKUP(A1556,Base!$A$2:$D$460,2,0),\"\")","v":""},{"$f":"IFERROR(VLOOKUP(A1556,Base!$A$2:$D$460,3,0),\"\")","v":""},{"$f":"IFERROR(VLOOKUP(A1556,Base!$A$2:$D$460,4,0),\"\")","v":""},null,null,null,null,null,null,null,null,null,null,null,null,null,0]
[null,{"$f":"IFERROR(VLOOKUP(A1557,Base!$A$2:$D$460,2,0),\"\")","v":""},{"$f":"IFERROR(VLOOKUP(A1557,Base!$A$2:$D$460,3,0),\"\")","v":""},{"$f":"IFERROR(VLOOKUP(A1557,Base!$A$2:$D$460,4,0),\"\")","v":""},null,null,null,null,null,null,null,null,null,null,null,null,null,0]
[null,{"$f":"IFERROR(VLOOKUP(A1558,Base!$A$2:$D$460,2,0),\"\")","v":""},{"$f":"IFERROR(VLOOKUP(A1558,Base!$A$2:$D$460,3,0),\"\")","v":""},{"$f":"IFERROR(VLOOKUP(A1558,Base!$A$2:$D$460,4,0),\"\")","v":""},null,null,null,null,null,null,null,null,null,null,null,null,null,0]
[null,{"$f":"IFERROR(VLOOKUP(A1559,Base!$A$2:$D$460,2,0),\"\")","v":""},{"$f":"IFERROR(VLOOKUP(A1559,Base!$A$2:$D$460,3,0),\"\")","v":""},{"$f":"IFERROR(VLOOKUP(A1559,Base!$A$2:$D$460,4,0),\"\")","v":""},null,null,null,null,null,null,null,null,null,null,null,null,null,0]
[null,{"$f":"IFERROR(VLOOKUP(A1560,Base!$A$2:$D$460,2,0),\"\")","v":""},{"$f":"IFERROR(VLOOKUP(A1560,Base!$A$2:$D$460,3,0),\"\")","v":""},{"$f":"IFERROR(VLOOKUP(A1560,Base!$A$2:$D$460,4,0),\"\")","v":""},null,null,null,null,null,null,null,null,null,null,null,null,null,0]
[null,{"$f":"IFERROR(VLOOKUP(A1561,Base!$A$2:$D$460,2,0),\"\")","v":""},{"$f":"IFERROR(VLOOKUP(A1561,Base!$A$2:$D$460,3,0),\"\")","v":""},{"$f":"IFERROR(VLOOKUP(A1561,Base!$A$2:$D$460,4,0),\"\")","v":""},null,null,null,null,null,null,null,null,null,null,null,null,null,0]
[null,{"$f":"IFERROR(VLOOKUP(A1562,Base!$A$2:$D$460,2,0),\"\")","v":""},{"$f":"IFERROR(VLOOKUP(A1562,Base!$A$2:$D$460,3,0),\"\")","v":""},{"$f":"IFERROR(VLOOKUP(A1562,Base!$A$2:$D$460,4,0),\"\")","v":""},null,null,null,null,null,null,null,null,null,null,null,null,null,0]
[null,{"$f":"IFERROR(VLOOKUP(A1563,Base!$A$2:$D$460,2,0),\"\")","v":""},{"$f":"IFERROR(VLOOKUP(A1563,Base!$A$2:$D$460,3,0),\"\")","v":""},{"$f":"IFERROR(VLOOKUP(A1563,Base!$A$2:$D$460,4,0),\"\")","v":""},null,null,null,null,null,null,null,null,null,null,null,null,null,0]
[null,{"$f":"IFERROR(VLOOKUP(A1564,Base!$A$2:$D$460,2,0),\"\")","v":""},{"$f":"IFERROR(VLOOKUP(A1564,Base!$A$2:$D$460,3,0),\"\")","v":""},{"$f":"IFERROR(VLOOKUP(A1564,Base!$A$2:$D$460,4,0),\"\")","v":""},null,null,null,null,null,null,null,null,null,null,null,null,null,0]
[null,{"$f":"IFERROR(VLOOKUP(A1565,Base!$A$2:$D$460,2,0),\"\")","v":""},{"$f":"IFERROR(VLOOKUP(A1565,Base!$A$2:$D$460,3,0),\"\")","v":""},{"$f":"IFERROR(VLOOKUP(A1565,Base!$A$2:$D$460,4,0),\"\")","v":""},null,null,null,null,null,null,null,null,null,null,null,null,null,0]
[null,{"$f":"IFERROR(VLOOKUP(A1566,Base!$A$2:$D$460,2,0),\"\")","v":""},{"$f":"IFERROR(VLOOKUP(A1566,Base!$A$2:$D$460,3,0),\"\")","v":""},{"$f":"IFERROR(VLOOKUP(A1566,Base!$A$2:$D$460,4,0),\"\")","v":""},null,null,null,null,null,null,null,null,null,null,null,null,null,0]
[null,{"$f":"IFERROR(VLOOKUP(A1567,Base!$A$2:$D$460,2,0),\"\")","v":""},{"$f":"IFERROR(VLOOKUP(A1567,Base!$A$2:$D$460,3,0),\"\")","v":""},{"$f":"IFERROR(VLOOKUP(A1567,Base!$A$2:$D$460,4,0),\"\")","v":""},null,null,null,null,null,null,null,null,null,null,null,null,null,0]
[null,{"$f":"IFERROR(VLOOKUP(A1568,Base!$A$2:$D$460,2,0),\"\")","v":""},{"$f":"IFERROR(VLOOKUP(A1568,Base!$A$2:$D$460,3,0),\"\")","v":""},{"$f":"IFERROR(VLOOKUP(A1568,Base!$A$2:$D$460,4,0),\"\")","v":""},null,null,null,null,null,null,null,null,null,null,null,null,null,0]
[null,{"$f":"IFERROR(VLOOKUP(A1569,Base!$A$2:$D$460,2,0),\"\")","v":""},{"$f":"IFERROR(VLOOKUP(A1569,Base!$A$2:$D$460,3,0),\"\")","v":""},{"$f":"IFERROR(VLOOKUP(A1569,Base!$A$2:$D$460,4,0),\"\")","v":""},null,null,null,null,null,null,null,null,null,null,null,null,null,0]
[null,{"$f":"IFERROR(VLOOKUP(A1570,Base!$A$2:$D$460,2,0),\"\")","v":""},{"$f":"IFERROR(VLOOKUP(A1570,Base!$A$2:$D$460,3,0),\"\")","v":""},{"$f":"IFERROR(VLOOKUP(A1570,Base!$A$2:$D$460,4,0),\"\")","v":""},null,null,null,null,null,null,null,null,null,null,null,null,null,0]
[null,{"$f":"IFERROR(VLOOKUP(A1571,Base!$A$2:$D$460,2,0),\"\")","v":""},{"$f":"IFERROR(VLOOKUP(A1571,Base!$A$2:$D$460,3,0),\"\")","v":""},{"$f":"IFERROR(VLOOKUP(A1571,Base!$A$2:$D$460,4,0),\"\")","v":""},null,null,null,null,null,null,null,null,null,null,null,null,null,0]
[null,{"$f":"IFERROR(VLOOKUP(A1572,Base!$A$2:$D$460,2,0),\"\")","v":""},{"$f":"IFERROR(VLOOKUP(A1572,Base!$A$2:$D$460,3,0),\"\")","v":""},{"$f":"IFERROR(VLOOKUP(A1572,Base!$A$2:$D$460,4,0),\"\")","v":""},null,null,null,null,null,null,null,null,null,null,null,null,null,0]
[null,{"$f":"IFERROR(VLOOKUP(A1573,Base!$A$2:$D$460,2,0),\"\")","v":""},{"$f":"IFERROR(VLOOKUP(A1573,Base!$A$2:$D$460,3,0),\"\")","v":""},{"$f":"IFERROR(VLOOKUP(A1573,Base!$A$2:$D$460,4,0),\"\")","v":""},null,null,null,null,null,null,null,null,null,null,null,null,null,0]
[null,{"$f":"IFERROR(VLOOKUP(A1574,Base!$A$2:$D$460,2,0),\"\")","v":""},{"$f":"IFERROR(VLOOKUP(A1574,Base!$A$2:$D$460,3,0),\"\")","v":""},{"$f":"IFERROR(VLOOKUP(A1574,Base!$A$2:$D$460,4,0),\"\")","v":""},null,null,null,null,null,null,null,null,null,null,null,null,null,0]
[null,{"$f":"IFERROR(VLOOKUP(A1575,Base!$A$2:$D$460,2,0),\"\")","v":""},{"$f":"IFERROR(VLOOKUP(A1575,Base!$A$2:$D$460,3,0),\"\")","v":""},{"$f":"IFERROR(VLOOKUP(A1575,Base!$A$2:$D$460,4,0),\"\")","v":""},null,null,null,null,null,null,null,null,null,null,null,null,null,{"$f":"SUM(N1575:Q1575)/4","v":0}]
[null,{"$f":"IFERROR(VLOOKUP(A1576,Base!$A$2:$D$460,2,0),\"\")","v":""},{"$f":"IFERROR(VLOOKUP(A1576,Base!$A$2:$D$460,3,0),\"\")","v":""},{"$f":"IFERROR(VLOOKUP(A1576,Base!$A$2:$D$460,4,0),\"\")","v":""},null,null,null,null,null,null,null,null,null,null,null,null,null,0]
[null,{"$f":"IFERROR(VLOOKUP(A1577,Base!$A$2:$D$460,2,0),\"\")","v":""},{"$f":"IFERROR(VLOOKUP(A1577,Base!$A$2:$D$460,3,0),\"\")","v":""},{"$f":"IFERROR(VLOOKUP(A1577,Base!$A$2:$D$460,4,0),\"\")","v":""},null,null,null,null,null,null,null,null,null,null,null,null,null,0]
[null,{"$f":"IFERROR(VLOOKUP(A1578,Base!$A$2:$D$460,2,0),\"\")","v":""},{"$f":"IFERROR(VLOOKUP(A1578,Base!$A$2:$D$460,3,0),\"\")","v":""},{"$f":"IFERROR(VLOOKUP(A1578,Base!$A$2:$D$460,4,0),\"\")","v":""},null,null,null,null,null,null,null,null,null,null,null,null,null,0]
[null,{"$f":"IFERROR(VLOOKUP(A1579,Base!$A$2:$D$460,2,0),\"\")","v":""},{"$f":"IFERROR(VLOOKUP(A1579,Base!$A$2:$D$460,3,0),\"\")","v":""},{"$f":"IFERROR(VLOOKUP(A1579,Base!$A$2:$D$460,4,0),\"\")","v":""},null,null,null,null,null,null,null,null,null,null,null,null,null,0]
[null,{"$f":"IFERROR(VLOOKUP(A1580,Base!$A$2:$D$460,2,0),\"\")","v":""},{"$f":"IFERROR(VLOOKUP(A1580,Base!$A$2:$D$460,3,0),\"\")","v":""},{"$f":"IFERROR(VLOOKUP(A1580,Base!$A$2:$D$460,4,0),\"\")","v":""},null,null,null,null,null,null,null,null,null,null,null,null,null,0]
[null,{"$f":"IFERROR(VLOOKUP(A1581,Base!$A$2:$D$460,2,0),\"\")","v":""},{"$f":"IFERROR(VLOOKUP(A1581,Base!$A$2:$D$460,3,0),\"\")","v":""},{"$f":"IFERROR(VLOOKUP(A1581,Base!$A$2:$D$460,4,0),\"\")","v":""},null,null,null,null,null,null,null,null,null,null,null,null,null,0]
[null,{"$f":"IFERROR(VLOOKUP(A1582,Base!$A$2:$D$460,2,0),\"\")","v":""},{"$f":"IFERROR(VLOOKUP(A1582,Base!$A$2:$D$460,3,0),\"\")","v":""},{"$f":"IFERROR(VLOOKUP(A1582,Base!$A$2:$D$460,4,0),\"\")","v":""},null,null,null,null,null,null,null,null,null,null,null,null,null,0]
[null,{"$f":"IFERROR(VLOOKUP(A1583,Base!$A$2:$D$460,2,0),\"\")","v":""},{"$f":"IFERROR(VLOOKUP(A1583,Base!$A$2:$D$460,3,0),\"\")","v":""},{"$f":"IFERROR(VLOOKUP(A1583,Base!$A$2:$D$460,4,0),\"\")","v":""},null,null,null,null,null,null,null,null,null,null,null,null,null,0]
[null,{"$f":"IFERROR(VLOOKUP(A1584,Base!$A$2:$D$460,2,0),\"\")","v":""},{"$f":"IFERROR(VLOOKUP(A1584,Base!$A$2:$D$460,3,0),\"\")","v":""},{"$f":"IFERROR(VLOOKUP(A1584,Base!$A$2:$D$460,4,0),\"\")","v":""},null,null,null,null,null,null,null,null,null,null,null,null,null,0]
[null,{"$f":"IFERROR(VLOOKUP(A1585,Base!$A$2:$D$460,2,0),\"\")","v":""},{"$f":"IFERROR(VLOOKUP(A1585,Base!$A$2:$D$460,3,0),\"\")","v":""},{"$f":"IFERROR(VLOOKUP(A1585,Base!$A$2:$D$460,4,0),\"\")","v":""},null,null,null,null,null,null,null,null,null,null,null,null,null,0]
[null,{"$f":"IFERROR(VLOOKUP(A1586,Base!$A$2:$D$460,2,0),\"\")","v":""},{"$f":"IFERROR(VLOOKUP(A1586,Base!$A$2:$D$460,3,0),\"\")","v":""},{"$f":"IFERROR(VLOOKUP(A1586,Base!$A$2:$D$460,4,0),\"\")","v":""},null,null,null,null,null,null,null,null,null,null,null,null,null,0]
[null,{"$f":"IFERROR(VLOOKUP(A1587,Base!$A$2:$D$460,2,0),\"\")","v":""},{"$f":"IFERROR(VLOOKUP(A1587,Base!$A$2:$D$460,3,0),\"\")","v":""},{"$f":"IFERROR(VLOOKUP(A1587,Base!$A$2:$D$460,4,0),\"\")","v":""},null,null,null,null,null,null,null,null,null,null,null,null,null,0]
[null,{"$f":"IFERROR(VLOOKUP(A1588,Base!$A$2:$D$460,2,0),\"\")","v":""},{"$f":"IFERROR(VLOOKUP(A1588,Base!$A$2:$D$460,3,0),\"\")","v":""},{"$f":"IFERROR(VLOOKUP(A1588,Base!$A$2:$D$460,4,0),\"\")","v":""},null,null,null,null,null,null,null,null,null,null,null,null,null,0]
[null,{"$f":"IFERROR(VLOOKUP(A1589,Base!$A$2:$D$460,2,0),\"\")","v":""},{"$f":"IFERROR(VLOOKUP(A1589,Base!$A$2:$D$460,3,0),\"\")","v":""},{"$f":"IFERROR(VLOOKUP(A1589,Base!$A$2:$D$460,4,0),\"\")","v":""},null,null,null,null,null,null,null,null,null,null,null,null,null,0]
[null,{"$f":"IFERROR(VLOOKUP(A1590,Base!$A$2:$D$460,2,0),\"\")","v":""},{"$f":"IFERROR(VLOOKUP(A1590,Base!$A$2:$D$460,3,0),\"\")","v":""},{"$f":"IFERROR(VLOOKUP(A1590,Base!$A$2:$D$460,4,0),\"\")","v":""},null,null,null,null,null,null,null,null,null,null,null,null,null,0]
[null,{"$f":"IFERROR(VLOOKUP(A1591,Base!$A$2:$D$460,2,0),\"\")","v":""},{"$f":"IFERROR(VLOOKUP(A1591,Base!$A$2:$D$460,3,0),\"\")","v":""},{"$f":"IFERROR(VLOOKUP(A1591,Base!$A$2:$D$460,4,0),\"\")","v":""},null,null,null,null,null,null,null,null,null,null,null,null,null,0]
[null,{"$f":"IFERROR(VLOOKUP(A1592,Base!$A$2:$D$460,2,0),\"\")","v":""},{"$f":"IFERROR(VLOOKUP(A1592,Base!$A$2:$D$460,3,0),\"\")","v":""},{"$f":"IFERROR(VLOOKUP(A1592,Base!$A$2:$D$460,4,0),\"\")","v":""},null,null,null,null,null,null,null,null,null,null,null,null,null,0]
[null,{"$f":"IFERROR(VLOOKUP(A1593,Base!$A$2:$D$460,2,0),\"\")","v":""},{"$f":"IFERROR(VLOOKUP(A1593,Base!$A$2:$D$460,3,0),\"\")","v":""},{"$f":"IFERROR(VLOOKUP(A1593,Base!$A$2:$D$460,4,0),\"\")","v":""},null,null,null,null,null,null,null,null,null,null,null,null,null,0]
[null,{"$f":"IFERROR(VLOOKUP(A1594,Base!$A$2:$D$460,2,0),\"\")","v":""},{"$f":"IFERROR(VLOOKUP(A1594,Base!$A$2:$D$460,3,0),\"\")","v":""},{"$f":"IFERROR(VLOOKUP(A1594,Base!$A$2:$D$460,4,0),\"\")","v":""},null,null,null,null,null,null,null,null,null,null,null,null,null,0]
[null,{"$f":"IFERROR(VLOOKUP(A1595,Base!$A$2:$D$460,2,0),\"\")","v":""},{"$f":"IFERROR(VLOOKUP(A1595,Base!$A$2:$D$460,3,0),\"\")","v":""},{"$f":"IFERROR(VLOOKUP(A1595,Base!$A$2:$D$460,4,0),\"\")","v":""},null,null,null,null,null,null,null,null,null,null,null,null,null,0]
[null,{"$f":"IFERROR(VLOOKUP(A1596,Base!$A$2:$D$460,2,0),\"\")","v":""},{"$f":"IFERROR(VLOOKUP(A1596,Base!$A$2:$D$460,3,0),\"\")","v":""},{"$f":"IFERROR(VLOOKUP(A1596,Base!$A$2:$D$460,4,0),\"\")","v":""},null,null,null,null,null,null,null,null,null,null,null,null,null,0]
[null,{"$f":"IFERROR(VLOOKUP(A1597,Base!$A$2:$D$460,2,0),\"\")","v":""},{"$f":"IFERROR(VLOOKUP(A1597,Base!$A$2:$D$460,3,0),\"\")","v":""},{"$f":"IFERROR(VLOOKUP(A1597,Base!$A$2:$D$460,4,0),\"\")","v":""},null,null,null,null,null,null,null,null,null,null,null,null,null,0]
[null,{"$f":"IFERROR(VLOOKUP(A1598,Base!$A$2:$D$460,2,0),\"\")","v":""},{"$f":"IFERROR(VLOOKUP(A1598,Base!$A$2:$D$460,3,0),\"\")","v":""},{"$f":"IFERROR(VLOOKUP(A1598,Base!$A$2:$D$460,4,0),\"\")","v":""},null,null,null,null,null,null,null,null,null,null,null,null,null,0]
[null,{"$f":"IFERROR(VLOOKUP(A1599,Base!$A$2:$D$460,2,0),\"\")","v":""},{"$f":"IFERROR(VLOOKUP(A1599,Base!$A$2:$D$460,3,0),\"\")","v":""},{"$f":"IFERROR(VLOOKUP(A1599,Base!$A$2:$D$460,4,0),\"\")","v":""},null,null,null,null,null,null,null,null,null,null,null,null,null,0]
[null,{"$f":"IFERROR(VLOOKUP(A1600,Base!$A$2:$D$460,2,0),\"\")","v":""},{"$f":"IFERROR(VLOOKUP(A1600,Base!$A$2:$D$460,3,0),\"\")","v":""},{"$f":"IFERROR(VLOOKUP(A1600,Base!$A$2:$D$460,4,0),\"\")","v":""},null,null,null,null,null,null,null,null,null,null,null,null,null,0]
[null,{"$f":"IFERROR(VLOOKUP(A1601,Base!$A$2:$D$460,2,0),\"\")","v":""},{"$f":"IFERROR(VLOOKUP(A1601,Base!$A$2:$D$460,3,0),\"\")","v":""},{"$f":"IFERROR(VLOOKUP(A1601,Base!$A$2:$D$460,4,0),\"\")","v":""},null,null,null,null,null,null,null,null,null,null,null,null,null,0]
[null,{"$f":"IFERROR(VLOOKUP(A1602,Base!$A$2:$D$460,2,0),\"\")","v":""},{"$f":"IFERROR(VLOOKUP(A1602,Base!$A$2:$D$460,3,0),\"\")","v":""},{"$f":"IFERROR(VLOOKUP(A1602,Base!$A$2:$D$460,4,0),\"\")","v":""},null,null,null,null,null,null,null,null,null,null,null,null,null,0]
[null,{"$f":"IFERROR(VLOOKUP(A1603,Base!$A$2:$D$460,2,0),\"\")","v":""},{"$f":"IFERROR(VLOOKUP(A1603,Base!$A$2:$D$460,3,0),\"\")","v":""},{"$f":"IFERROR(VLOOKUP(A1603,Base!$A$2:$D$460,4,0),\"\")","v":""},null,null,null,null,null,null,null,null,null,null,null,null,null,0]
[null,{"$f":"IFERROR(VLOOKUP(A1604,Base!$A$2:$D$460,2,0),\"\")","v":""},{"$f":"IFERROR(VLOOKUP(A1604,Base!$A$2:$D$460,3,0),\"\")","v":""},{"$f":"IFERROR(VLOOKUP(A1604,Base!$A$2:$D$460,4,0),\"\")","v":""},null,null,null,null,null,null,null,null,null,null,null,null,null,0]
[null,{"$f":"IFERROR(VLOOKUP(A1605,Base!$A$2:$D$460,2,0),\"\")","v":""},{"$f":"IFERROR(VLOOKUP(A1605,Base!$A$2:$D$460,3,0),\"\")","v":""},{"$f":"IFERROR(VLOOKUP(A1605,Base!$A$2:$D$460,4,0),\"\")","v":""},null,null,null,null,null,null,null,null,null,null,null,null,null,0]
[null,{"$f":"IFERROR(VLOOKUP(A1606,Base!$A$2:$D$460,2,0),\"\")","v":""},{"$f":"IFERROR(VLOOKUP(A1606,Base!$A$2:$D$460,3,0),\"\")","v":""},{"$f":"IFERROR(VLOOKUP(A1606,Base!$A$2:$D$460,4,0),\"\")","v":""},null,null,null,null,null,null,null,null,null,null,null,null,null,0]
[null,{"$f":"IFERROR(VLOOKUP(A1607,Base!$A$2:$D$460,2,0),\"\")","v":""},{"$f":"IFERROR(VLOOKUP(A1607,Base!$A$2:$D$460,3,0),\"\")","v":""},{"$f":"IFERROR(VLOOKUP(A1607,Base!$A$2:$D$460,4,0),\"\")","v":""},null,null,null,null,null,null,null,null,null,null,null,null,null,0]
[null,{"$f":"IFERROR(VLOOKUP(A1608,Base!$A$2:$D$460,2,0),\"\")","v":""},{"$f":"IFERROR(VLOOKUP(A1608,Base!$A$2:$D$460,3,0),\"\")","v":""},{"$f":"IFERROR(VLOOKUP(A1608,Base!$A$2:$D$460,4,0),\"\")","v":""},null,null,null,null,null,null,null,null,null,null,null,null,null,0]
[null,{"$f":"IFERROR(VLOOKUP(A1609,Base!$A$2:$D$460,2,0),\"\")","v":""},{"$f":"IFERROR(VLOOKUP(A1609,Base!$A$2:$D$460,3,0),\"\")","v":""},{"$f":"IFERROR(VLOOKUP(A1609,Base!$A$2:$D$460,4,0),\"\")","v":""},null,null,null,null,null,null,null,null,null,null,null,null,null,0]
[null,{"$f":"IFERROR(VLOOKUP(A1610,Base!$A$2:$D$460,2,0),\"\")","v":""},{"$f":"IFERROR(VLOOKUP(A1610,Base!$A$2:$D$460,3,0),\"\")","v":""},{"$f":"IFERROR(VLOOKUP(A1610,Base!$A$2:$D$460,4,0),\"\")","v":""},null,null,null,null,null,null,null,null,null,null,null,null,null,0]
[null,{"$f":"IFERROR(VLOOKUP(A1611,Base!$A$2:$D$460,2,0),\"\")","v":""},{"$f":"IFERROR(VLOOKUP(A1611,Base!$A$2:$D$460,3,0),\"\")","v":""},{"$f":"IFERROR(VLOOKUP(A1611,Base!$A$2:$D$460,4,0),\"\")","v":""},null,null,null,null,null,null,null,null,null,null,null,null,null,0]
[null,{"$f":"IFERROR(VLOOKUP(A1612,Base!$A$2:$D$460,2,0),\"\")","v":""},{"$f":"IFERROR(VLOOKUP(A1612,Base!$A$2:$D$460,3,0),\"\")","v":""},{"$f":"IFERROR(VLOOKUP(A1612,Base!$A$2:$D$460,4,0),\"\")","v":""},null,null,null,null,null,null,null,null,null,null,null,null,null,0]
[null,{"$f":"IFERROR(VLOOKUP(A1613,Base!$A$2:$D$460,2,0),\"\")","v":""},{"$f":"IFERROR(VLOOKUP(A1613,Base!$A$2:$D$460,3,0),\"\")","v":""},{"$f":"IFERROR(VLOOKUP(A1613,Base!$A$2:$D$460,4,0),\"\")","v":""},null,null,null,null,null,null,null,null,null,null,null,null,null,0]
[null,{"$f":"IFERROR(VLOOKUP(A1614,Base!$A$2:$D$460,2,0),\"\")","v":""},{"$f":"IFERROR(VLOOKUP(A1614,Base!$A$2:$D$460,3,0),\"\")","v":""},{"$f":"IFERROR(VLOOKUP(A1614,Base!$A$2:$D$460,4,0),\"\")","v":""},null,null,null,null,null,null,null,null,null,null,null,null,null,0]
[null,{"$f":"IFERROR(VLOOKUP(A1615,Base!$A$2:$D$460,2,0),\"\")","v":""},{"$f":"IFERROR(VLOOKUP(A1615,Base!$A$2:$D$460,3,0),\"\")","v":""},{"$f":"IFERROR(VLOOKUP(A1615,Base!$A$2:$D$460,4,0),\"\")","v":""},null,null,null,null,null,null,null,null,null,null,null,null,null,0]
[null,{"$f":"IFERROR(VLOOKUP(A1616,Base!$A$2:$D$460,2,0),\"\")","v":""},{"$f":"IFERROR(VLOOKUP(A1616,Base!$A$2:$D$460,3,0),\"\")","v":""},{"$f":"IFERROR(VLOOKUP(A1616,Base!$A$2:$D$460,4,0),\"\")","v":""},null,null,null,null,null,null,null,null,null,null,null,null,null,0]
[null,{"$f":"IFERROR(VLOOKUP(A1617,Base!$A$2:$D$460,2,0),\"\")","v":""},{"$f":"IFERROR(VLOOKUP(A1617,Base!$A$2:$D$460,3,0),\"\")","v":""},{"$f":"IFERROR(VLOOKUP(A1617,Base!$A$2:$D$460,4,0),\"\")","v":""},null,null,null,null,null,null,null,null,null,null,null,null,null,0]
[null,{"$f":"IFERROR(VLOOKUP(A1618,Base!$A$2:$D$460,2,0),\"\")","v":""},{"$f":"IFERROR(VLOOKUP(A1618,Base!$A$2:$D$460,3,0),\"\")","v":""},{"$f":"IFERROR(VLOOKUP(A1618,Base!$A$2:$D$460,4,0),\"\")","v":""},null,null,null,null,null,null,null,null,null,null,null,null,null,0]
[null,{"$f":"IFERROR(VLOOKUP(A1619,Base!$A$2:$D$460,2,0),\"\")","v":""},{"$f":"IFERROR(VLOOKUP(A1619,Base!$A$2:$D$460,3,0),\"\")","v":""},{"$f":"IFERROR(VLOOKUP(A1619,Base!$A$2:$D$460,4,0),\"\")","v":""},null,null,null,null,null,null,null,null,null,null,null,null,null,0]
[null,{"$f":"IFERROR(VLOOKUP(A1620,Base!$A$2:$D$460,2,0),\"\")","v":""},{"$f":"IFERROR(VLOOKUP(A1620,Base!$A$2:$D$460,3,0),\"\")","v":""},{"$f":"IFERROR(VLOOKUP(A1620,Base!$A$2:$D$460,4,0),\"\")","v":""},null,null,null,null,null,null,null,null,null,null,null,null,null,0]
[null,{"$f":"IFERROR(VLOOKUP(A1621,Base!$A$2:$D$460,2,0),\"\")","v":""},{"$f":"IFERROR(VLOOKUP(A1621,Base!$A$2:$D$460,3,0),\"\")","v":""},{"$f":"IFERROR(VLOOKUP(A1621,Base!$A$2:$D$460,4,0),\"\")","v":""},null,null,null,null,null,null,null,null,null,null,null,null,null,0]
[null,{"$f":"IFERROR(VLOOKUP(A1622,Base!$A$2:$D$460,2,0),\"\")","v":""},{"$f":"IFERROR(VLOOKUP(A1622,Base!$A$2:$D$460,3,0),\"\")","v":""},{"$f":"IFERROR(VLOOKUP(A1622,Base!$A$2:$D$460,4,0),\"\")","v":""},null,null,null,null,null,null,null,null,null,null,null,null,null,0]
[null,{"$f":"IFERROR(VLOOKUP(A1623,Base!$A$2:$D$460,2,0),\"\")","v":""},{"$f":"IFERROR(VLOOKUP(A1623,Base!$A$2:$D$460,3,0),\"\")","v":""},{"$f":"IFERROR(VLOOKUP(A1623,Base!$A$2:$D$460,4,0),\"\")","v":""},null,null,null,null,null,null,null,null,null,null,null,null,null,0]
[null,{"$f":"IFERROR(VLOOKUP(A1624,Base!$A$2:$D$460,2,0),\"\")","v":""},{"$f":"IFERROR(VLOOKUP(A1624,Base!$A$2:$D$460,3,0),\"\")","v":""},{"$f":"IFERROR(VLOOKUP(A1624,Base!$A$2:$D$460,4,0),\"\")","v":""},null,null,null,null,null,null,null,null,null,null,null,null,null,0]
[null,{"$f":"IFERROR(VLOOKUP(A1625,Base!$A$2:$D$460,2,0),\"\")","v":""},{"$f":"IFERROR(VLOOKUP(A1625,Base!$A$2:$D$460,3,0),\"\")","v":""},{"$f":"IFERROR(VLOOKUP(A1625,Base!$A$2:$D$460,4,0),\"\")","v":""},null,null,null,null,null,null,null,null,null,null,null,null,null,0]
[null,{"$f":"IFERROR(VLOOKUP(A1626,Base!$A$2:$D$460,2,0),\"\")","v":""},{"$f":"IFERROR(VLOOKUP(A1626,Base!$A$2:$D$460,3,0),\"\")","v":""},{"$f":"IFERROR(VLOOKUP(A1626,Base!$A$2:$D$460,4,0),\"\")","v":""},null,null,null,null,null,null,null,null,null,null,null,null,null,0]
[null,{"$f":"IFERROR(VLOOKUP(A1627,Base!$A$2:$D$460,2,0),\"\")","v":""},{"$f":"IFERROR(VLOOKUP(A1627,Base!$A$2:$D$460,3,0),\"\")","v":""},{"$f":"IFERROR(VLOOKUP(A1627,Base!$A$2:$D$460,4,0),\"\")","v":""},null,null,null,null,null,null,null,null,null,null,null,null,null,0]
[null,{"$f":"IFERROR(VLOOKUP(A1628,Base!$A$2:$D$460,2,0),\"\")","v":""},{"$f":"IFERROR(VLOOKUP(A1628,Base!$A$2:$D$460,3,0),\"\")","v":""},{"$f":"IFERROR(VLOOKUP(A1628,Base!$A$2:$D$460,4,0),\"\")","v":""},null,null,null,null,null,null,null,null,null,null,null,null,null,0]
[null,{"$f":"IFERROR(VLOOKUP(A1629,Base!$A$2:$D$460,2,0),\"\")","v":""},{"$f":"IFERROR(VLOOKUP(A1629,Base!$A$2:$D$460,3,0),\"\")","v":""},{"$f":"IFERROR(VLOOKUP(A1629,Base!$A$2:$D$460,4,0),\"\")","v":""},null,null,null,null,null,null,null,null,null,null,null,null,null,0]
[null,{"$f":"IFERROR(VLOOKUP(A1630,Base!$A$2:$D$460,2,0),\"\")","v":""},{"$f":"IFERROR(VLOOKUP(A1630,Base!$A$2:$D$460,3,0),\"\")","v":""},{"$f":"IFERROR(VLOOKUP(A1630,Base!$A$2:$D$460,4,0),\"\")","v":""},null,null,null,null,null,null,null,null,null,null,null,null,null,0]
[null,{"$f":"IFERROR(VLOOKUP(A1631,Base!$A$2:$D$460,2,0),\"\")","v":""},{"$f":"IFERROR(VLOOKUP(A1631,Base!$A$2:$D$460,3,0),\"\")","v":""},{"$f":"IFERROR(VLOOKUP(A1631,Base!$A$2:$D$460,4,0),\"\")","v":""},null,null,null,null,null,null,null,null,null,null,null,null,null,0]
[null,{"$f":"IFERROR(VLOOKUP(A1632,Base!$A$2:$D$460,2,0),\"\")","v":""},{"$f":"IFERROR(VLOOKUP(A1632,Base!$A$2:$D$460,3,0),\"\")","v":""},{"$f":"IFERROR(VLOOKUP(A1632,Base!$A$2:$D$460,4,0),\"\")","v":""},null,null,null,null,null,null,null,null,null,null,null,null,null,0]
[null,{"$f":"IFERROR(VLOOKUP(A1633,Base!$A$2:$D$460,2,0),\"\")","v":""},{"$f":"IFERROR(VLOOKUP(A1633,Base!$A$2:$D$460,3,0),\"\")","v":""},{"$f":"IFERROR(VLOOKUP(A1633,Base!$A$2:$D$460,4,0),\"\")","v":""},null,null,null,null,null,null,null,null,null,null,null,null,null,0]
[null,{"$f":"IFERROR(VLOOKUP(A1634,Base!$A$2:$D$460,2,0),\"\")","v":""},{"$f":"IFERROR(VLOOKUP(A1634,Base!$A$2:$D$460,3,0),\"\")","v":""},{"$f":"IFERROR(VLOOKUP(A1634,Base!$A$2:$D$460,4,0),\"\")","v":""},null,null,null,null,null,null,null,null,null,null,null,null,null,0]
[null,{"$f":"IFERROR(VLOOKUP(A1635,Base!$A$2:$D$460,2,0),\"\")","v":""},{"$f":"IFERROR(VLOOKUP(A1635,Base!$A$2:$D$460,3,0),\"\")","v":""},{"$f":"IFERROR(VLOOKUP(A1635,Base!$A$2:$D$460,4,0),\"\")","v":""},null,null,null,null,null,null,null,null,null,null,null,null,null,0]
[null,{"$f":"IFERROR(VLOOKUP(A1636,Base!$A$2:$D$460,2,0),\"\")","v":""},{"$f":"IFERROR(VLOOKUP(A1636,Base!$A$2:$D$460,3,0),\"\")","v":""},{"$f":"IFERROR(VLOOKUP(A1636,Base!$A$2:$D$460,4,0),\"\")","v":""},null,null,null,null,null,null,null,null,null,null,null,null,null,0]
[null,{"$f":"IFERROR(VLOOKUP(A1637,Base!$A$2:$D$460,2,0),\"\")","v":""},{"$f":"IFERROR(VLOOKUP(A1637,Base!$A$2:$D$460,3,0),\"\")","v":""},{"$f":"IFERROR(VLOOKUP(A1637,Base!$A$2:$D$460,4,0),\"\")","v":""},null,null,null,null,null,null,null,null,null,null,null,null,null,0]
[null,{"$f":"IFERROR(VLOOKUP(A1638,Base!$A$2:$D$460,2,0),\"\")","v":""},{"$f":"IFERROR(VLOOKUP(A1638,Base!$A$2:$D$460,3,0),\"\")","v":""},{"$f":"IFERROR(VLOOKUP(A1638,Base!$A$2:$D$460,4,0),\"\")","v":""},null,null,null,null,null,null,null,null,null,null,null,null,null,0]
[null,{"$f":"IFERROR(VLOOKUP(A1639,Base!$A$2:$D$460,2,0),\"\")","v":""},{"$f":"IFERROR(VLOOKUP(A1639,Base!$A$2:$D$460,3,0),\"\")","v":""},{"$f":"IFERROR(VLOOKUP(A1639,Base!$A$2:$D$460,4,0),\"\")","v":""},null,null,null,null,null,null,null,null,null,null,null,null,null,{"$f":"SUM(N1639:Q1639)/4","v":0}]
[null,{"$f":"IFERROR(VLOOKUP(A1640,Base!$A$2:$D$460,2,0),\"\")","v":""},{"$f":"IFERROR(VLOOKUP(A1640,Base!$A$2:$D$460,3,0),\"\")","v":""},{"$f":"IFERROR(VLOOKUP(A1640,Base!$A$2:$D$460,4,0),\"\")","v":""},null,null,null,null,null,null,null,null,null,null,null,null,null,0]
[null,{"$f":"IFERROR(VLOOKUP(A1641,Base!$A$2:$D$460,2,0),\"\")","v":""},{"$f":"IFERROR(VLOOKUP(A1641,Base!$A$2:$D$460,3,0),\"\")","v":""},{"$f":"IFERROR(VLOOKUP(A1641,Base!$A$2:$D$460,4,0),\"\")","v":""},null,null,null,null,null,null,null,null,null,null,null,null,null,0]
[null,{"$f":"IFERROR(VLOOKUP(A1642,Base!$A$2:$D$460,2,0),\"\")","v":""},{"$f":"IFERROR(VLOOKUP(A1642,Base!$A$2:$D$460,3,0),\"\")","v":""},{"$f":"IFERROR(VLOOKUP(A1642,Base!$A$2:$D$460,4,0),\"\")","v":""},null,null,null,null,null,null,null,null,null,null,null,null,null,0]
[null,{"$f":"IFERROR(VLOOKUP(A1643,Base!$A$2:$D$460,2,0),\"\")","v":""},{"$f":"IFERROR(VLOOKUP(A1643,Base!$A$2:$D$460,3,0),\"\")","v":""},{"$f":"IFERROR(VLOOKUP(A1643,Base!$A$2:$D$460,4,0),\"\")","v":""},null,null,null,null,null,null,null,null,null,null,null,null,null,0]
[null,{"$f":"IFERROR(VLOOKUP(A1644,Base!$A$2:$D$460,2,0),\"\")","v":""},{"$f":"IFERROR(VLOOKUP(A1644,Base!$A$2:$D$460,3,0),\"\")","v":""},{"$f":"IFERROR(VLOOKUP(A1644,Base!$A$2:$D$460,4,0),\"\")","v":""},null,null,null,null,null,null,null,null,null,null,null,null,null,0]
[null,{"$f":"IFERROR(VLOOKUP(A1645,Base!$A$2:$D$460,2,0),\"\")","v":""},{"$f":"IFERROR(VLOOKUP(A1645,Base!$A$2:$D$460,3,0),\"\")","v":""},{"$f":"IFERROR(VLOOKUP(A1645,Base!$A$2:$D$460,4,0),\"\")","v":""},null,null,null,null,null,null,null,null,null,null,null,null,null,0]
[null,{"$f":"IFERROR(VLOOKUP(A1646,Base!$A$2:$D$460,2,0),\"\")","v":""},{"$f":"IFERROR(VLOOKUP(A1646,Base!$A$2:$D$460,3,0),\"\")","v":""},{"$f":"IFERROR(VLOOKUP(A1646,Base!$A$2:$D$460,4,0),\"\")","v":""},null,null,null,null,null,null,null,null,null,null,null,null,null,0]
[null,{"$f":"IFERROR(VLOOKUP(A1647,Base!$A$2:$D$460,2,0),\"\")","v":""},{"$f":"IFERROR(VLOOKUP(A1647,Base!$A$2:$D$460,3,0),\"\")","v":""},{"$f":"IFERROR(VLOOKUP(A1647,Base!$A$2:$D$460,4,0),\"\")","v":""},null,null,null,null,null,null,null,null,null,null,null,null,null,0]
[null,{"$f":"IFERROR(VLOOKUP(A1648,Base!$A$2:$D$460,2,0),\"\")","v":""},{"$f":"IFERROR(VLOOKUP(A1648,Base!$A$2:$D$460,3,0),\"\")","v":""},{"$f":"IFERROR(VLOOKUP(A1648,Base!$A$2:$D$460,4,0),\"\")","v":""},null,null,null,null,null,null,null,null,null,null,null,null,null,0]
[null,{"$f":"IFERROR(VLOOKUP(A1649,Base!$A$2:$D$460,2,0),\"\")","v":""},{"$f":"IFERROR(VLOOKUP(A1649,Base!$A$2:$D$460,3,0),\"\")","v":""},{"$f":"IFERROR(VLOOKUP(A1649,Base!$A$2:$D$460,4,0),\"\")","v":""},null,null,null,null,null,null,null,null,null,null,null,null,null,0]
[null,{"$f":"IFERROR(VLOOKUP(A1650,Base!$A$2:$D$460,2,0),\"\")","v":""},{"$f":"IFERROR(VLOOKUP(A1650,Base!$A$2:$D$460,3,0),\"\")","v":""},{"$f":"IFERROR(VLOOKUP(A1650,Base!$A$2:$D$460,4,0),\"\")","v":""},null,null,null,null,null,null,null,null,null,null,null,null,null,0]
[null,{"$f":"IFERROR(VLOOKUP(A1651,Base!$A$2:$D$460,2,0),\"\")","v":""},{"$f":"IFERROR(VLOOKUP(A1651,Base!$A$2:$D$460,3,0),\"\")","v":""},{"$f":"IFERROR(VLOOKUP(A1651,Base!$A$2:$D$460,4,0),\"\")","v":""},null,null,null,null,null,null,null,null,null,null,null,null,null,0]
[null,{"$f":"IFERROR(VLOOKUP(A1652,Base!$A$2:$D$460,2,0),\"\")","v":""},{"$f":"IFERROR(VLOOKUP(A1652,Base!$A$2:$D$460,3,0),\"\")","v":""},{"$f":"IFERROR(VLOOKUP(A1652,Base!$A$2:$D$460,4,0),\"\")","v":""},null,null,null,null,null,null,null,null,null,null,null,null,null,0]
[null,{"$f":"IFERROR(VLOOKUP(A1653,Base!$A$2:$D$460,2,0),\"\")","v":""},{"$f":"IFERROR(VLOOKUP(A1653,Base!$A$2:$D$460,3,0),\"\")","v":""},{"$f":"IFERROR(VLOOKUP(A1653,Base!$A$2:$D$460,4,0),\"\")","v":""},null,null,null,null,null,null,null,null,null,null,null,null,null,0]
[null,{"$f":"IFERROR(VLOOKUP(A1654,Base!$A$2:$D$460,2,0),\"\")","v":""},{"$f":"IFERROR(VLOOKUP(A1654,Base!$A$2:$D$460,3,0),\"\")","v":""},{"$f":"IFERROR(VLOOKUP(A1654,Base!$A$2:$D$460,4,0),\"\")","v":""},null,null,null,null,null,null,null,null,null,null,null,null,null,0]
[null,{"$f":"IFERROR(VLOOKUP(A1655,Base!$A$2:$D$460,2,0),\"\")","v":""},{"$f":"IFERROR(VLOOKUP(A1655,Base!$A$2:$D$460,3,0),\"\")","v":""},{"$f":"IFERROR(VLOOKUP(A1655,Base!$A$2:$D$460,4,0),\"\")","v":""},null,null,null,null,null,null,null,null,null,null,null,null,null,0]
[null,{"$f":"IFERROR(VLOOKUP(A1656,Base!$A$2:$D$460,2,0),\"\")","v":""},{"$f":"IFERROR(VLOOKUP(A1656,Base!$A$2:$D$460,3,0),\"\")","v":""},{"$f":"IFERROR(VLOOKUP(A1656,Base!$A$2:$D$460,4,0),\"\")","v":""},null,null,null,null,null,null,null,null,null,null,null,null,null,0]
[null,{"$f":"IFERROR(VLOOKUP(A1657,Base!$A$2:$D$460,2,0),\"\")","v":""},{"$f":"IFERROR(VLOOKUP(A1657,Base!$A$2:$D$460,3,0),\"\")","v":""},{"$f":"IFERROR(VLOOKUP(A1657,Base!$A$2:$D$460,4,0),\"\")","v":""},null,null,null,null,null,null,null,null,null,null,null,null,null,0]
[null,{"$f":"IFERROR(VLOOKUP(A1658,Base!$A$2:$D$460,2,0),\"\")","v":""},{"$f":"IFERROR(VLOOKUP(A1658,Base!$A$2:$D$460,3,0),\"\")","v":""},{"$f":"IFERROR(VLOOKUP(A1658,Base!$A$2:$D$460,4,0),\"\")","v":""},null,null,null,null,null,null,null,null,null,null,null,null,null,0]
[null,{"$f":"IFERROR(VLOOKUP(A1659,Base!$A$2:$D$460,2,0),\"\")","v":""},{"$f":"IFERROR(VLOOKUP(A1659,Base!$A$2:$D$460,3,0),\"\")","v":""},{"$f":"IFERROR(VLOOKUP(A1659,Base!$A$2:$D$460,4,0),\"\")","v":""},null,null,null,null,null,null,null,null,null,null,null,null,null,0]
[null,{"$f":"IFERROR(VLOOKUP(A1660,Base!$A$2:$D$460,2,0),\"\")","v":""},{"$f":"IFERROR(VLOOKUP(A1660,Base!$A$2:$D$460,3,0),\"\")","v":""},{"$f":"IFERROR(VLOOKUP(A1660,Base!$A$2:$D$460,4,0),\"\")","v":""},null,null,null,null,null,null,null,null,null,null,null,null,null,0]
[null,{"$f":"IFERROR(VLOOKUP(A1661,Base!$A$2:$D$460,2,0),\"\")","v":""},{"$f":"IFERROR(VLOOKUP(A1661,Base!$A$2:$D$460,3,0),\"\")","v":""},{"$f":"IFERROR(VLOOKUP(A1661,Base!$A$2:$D$460,4,0),\"\")","v":""},null,null,null,null,null,null,null,null,null,null,null,null,null,0]
[null,{"$f":"IFERROR(VLOOKUP(A1662,Base!$A$2:$D$460,2,0),\"\")","v":""},{"$f":"IFERROR(VLOOKUP(A1662,Base!$A$2:$D$460,3,0),\"\")","v":""},{"$f":"IFERROR(VLOOKUP(A1662,Base!$A$2:$D$460,4,0),\"\")","v":""},null,null,null,null,null,null,null,null,null,null,null,null,null,0]
[null,{"$f":"IFERROR(VLOOKUP(A1663,Base!$A$2:$D$460,2,0),\"\")","v":""},{"$f":"IFERROR(VLOOKUP(A1663,Base!$A$2:$D$460,3,0),\"\")","v":""},{"$f":"IFERROR(VLOOKUP(A1663,Base!$A$2:$D$460,4,0),\"\")","v":""},null,null,null,null,null,null,null,null,null,null,null,null,null,0]
[null,{"$f":"IFERROR(VLOOKUP(A1664,Base!$A$2:$D$460,2,0),\"\")","v":""},{"$f":"IFERROR(VLOOKUP(A1664,Base!$A$2:$D$460,3,0),\"\")","v":""},{"$f":"IFERROR(VLOOKUP(A1664,Base!$A$2:$D$460,4,0),\"\")","v":""},null,null,null,null,null,null,null,null,null,null,null,null,null,0]
[null,{"$f":"IFERROR(VLOOKUP(A1665,Base!$A$2:$D$460,2,0),\"\")","v":""},{"$f":"IFERROR(VLOOKUP(A1665,Base!$A$2:$D$460,3,0),\"\")","v":""},{"$f":"IFERROR(VLOOKUP(A1665,Base!$A$2:$D$460,4,0),\"\")","v":""},null,null,null,null,null,null,null,null,null,null,null,null,null,0]
[null,{"$f":"IFERROR(VLOOKUP(A1666,Base!$A$2:$D$460,2,0),\"\")","v":""},{"$f":"IFERROR(VLOOKUP(A1666,Base!$A$2:$D$460,3,0),\"\")","v":""},{"$f":"IFERROR(VLOOKUP(A1666,Base!$A$2:$D$460,4,0),\"\")","v":""},null,null,null,null,null,null,null,null,null,null,null,null,null,0]
[null,{"$f":"IFERROR(VLOOKUP(A1667,Base!$A$2:$D$460,2,0),\"\")","v":""},{"$f":"IFERROR(VLOOKUP(A1667,Base!$A$2:$D$460,3,0),\"\")","v":""},{"$f":"IFERROR(VLOOKUP(A1667,Base!$A$2:$D$460,4,0),\"\")","v":""},null,null,null,null,null,null,null,null,null,null,null,null,null,0]
[null,{"$f":"IFERROR(VLOOKUP(A1668,Base!$A$2:$D$460,2,0),\"\")","v":""},{"$f":"IFERROR(VLOOKUP(A1668,Base!$A$2:$D$460,3,0),\"\")","v":""},{"$f":"IFERROR(VLOOKUP(A1668,Base!$A$2:$D$460,4,0),\"\")","v":""},null,null,null,null,null,null,null,null,null,null,null,null,null,0]
[null,{"$f":"IFERROR(VLOOKUP(A1669,Base!$A$2:$D$460,2,0),\"\")","v":""},{"$f":"IFERROR(VLOOKUP(A1669,Base!$A$2:$D$460,3,0),\"\")","v":""},{"$f":"IFERROR(VLOOKUP(A1669,Base!$A$2:$D$460,4,0),\"\")","v":""},null,null,null,null,null,null,null,null,null,null,null,null,null,0]
[null,{"$f":"IFERROR(VLOOKUP(A1670,Base!$A$2:$D$460,2,0),\"\")","v":""},{"$f":"IFERROR(VLOOKUP(A1670,Base!$A$2:$D$460,3,0),\"\")","v":""},{"$f":"IFERROR(VLOOKUP(A1670,Base!$A$2:$D$460,4,0),\"\")","v":""},null,null,null,null,null,null,null,null,null,null,null,null,null,0]
[null,{"$f":"IFERROR(VLOOKUP(A1671,Base!$A$2:$D$460,2,0),\"\")","v":""},{"$f":"IFERROR(VLOOKUP(A1671,Base!$A$2:$D$460,3,0),\"\")","v":""},{"$f":"IFERROR(VLOOKUP(A1671,Base!$A$2:$D$460,4,0),\"\")","v":""},null,null,null,null,null,null,null,null,null,null,null,null,null,0]
[null,{"$f":"IFERROR(VLOOKUP(A1672,Base!$A$2:$D$460,2,0),\"\")","v":""},{"$f":"IFERROR(VLOOKUP(A1672,Base!$A$2:$D$460,3,0),\"\")","v":""},{"$f":"IFERROR(VLOOKUP(A1672,Base!$A$2:$D$460,4,0),\"\")","v":""},null,null,null,null,null,null,null,null,null,null,null,null,null,0]
[null,{"$f":"IFERROR(VLOOKUP(A1673,Base!$A$2:$D$460,2,0),\"\")","v":""},{"$f":"IFERROR(VLOOKUP(A1673,Base!$A$2:$D$460,3,0),\"\")","v":""},{"$f":"IFERROR(VLOOKUP(A1673,Base!$A$2:$D$460,4,0),\"\")","v":""},null,null,null,null,null,null,null,null,null,null,null,null,null,0]
[null,{"$f":"IFERROR(VLOOKUP(A1674,Base!$A$2:$D$460,2,0),\"\")","v":""},{"$f":"IFERROR(VLOOKUP(A1674,Base!$A$2:$D$460,3,0),\"\")","v":""},{"$f":"IFERROR(VLOOKUP(A1674,Base!$A$2:$D$460,4,0),\"\")","v":""},null,null,null,null,null,null,null,null,null,null,null,null,null,0]
[null,{"$f":"IFERROR(VLOOKUP(A1675,Base!$A$2:$D$460,2,0),\"\")","v":""},{"$f":"IFERROR(VLOOKUP(A1675,Base!$A$2:$D$460,3,0),\"\")","v":""},{"$f":"IFERROR(VLOOKUP(A1675,Base!$A$2:$D$460,4,0),\"\")","v":""},null,null,null,null,null,null,null,null,null,null,null,null,null,0]
[null,{"$f":"IFERROR(VLOOKUP(A1676,Base!$A$2:$D$460,2,0),\"\")","v":""},{"$f":"IFERROR(VLOOKUP(A1676,Base!$A$2:$D$460,3,0),\"\")","v":""},{"$f":"IFERROR(VLOOKUP(A1676,Base!$A$2:$D$460,4,0),\"\")","v":""},null,null,null,null,null,null,null,null,null,null,null,null,null,0]
[null,{"$f":"IFERROR(VLOOKUP(A1677,Base!$A$2:$D$460,2,0),\"\")","v":""},{"$f":"IFERROR(VLOOKUP(A1677,Base!$A$2:$D$460,3,0),\"\")","v":""},{"$f":"IFERROR(VLOOKUP(A1677,Base!$A$2:$D$460,4,0),\"\")","v":""},null,null,null,null,null,null,null,null,null,null,null,null,null,0]
[null,{"$f":"IFERROR(VLOOKUP(A1678,Base!$A$2:$D$460,2,0),\"\")","v":""},{"$f":"IFERROR(VLOOKUP(A1678,Base!$A$2:$D$460,3,0),\"\")","v":""},{"$f":"IFERROR(VLOOKUP(A1678,Base!$A$2:$D$460,4,0),\"\")","v":""},null,null,null,null,null,null,null,null,null,null,null,null,null,0]
[null,{"$f":"IFERROR(VLOOKUP(A1679,Base!$A$2:$D$460,2,0),\"\")","v":""},{"$f":"IFERROR(VLOOKUP(A1679,Base!$A$2:$D$460,3,0),\"\")","v":""},{"$f":"IFERROR(VLOOKUP(A1679,Base!$A$2:$D$460,4,0),\"\")","v":""},null,null,null,null,null,null,null,null,null,null,null,null,null,0]
[null,{"$f":"IFERROR(VLOOKUP(A1680,Base!$A$2:$D$460,2,0),\"\")","v":""},{"$f":"IFERROR(VLOOKUP(A1680,Base!$A$2:$D$460,3,0),\"\")","v":""},{"$f":"IFERROR(VLOOKUP(A1680,Base!$A$2:$D$460,4,0),\"\")","v":""},null,null,null,null,null,null,null,null,null,null,null,null,null,0]
[null,{"$f":"IFERROR(VLOOKUP(A1681,Base!$A$2:$D$460,2,0),\"\")","v":""},{"$f":"IFERROR(VLOOKUP(A1681,Base!$A$2:$D$460,3,0),\"\")","v":""},{"$f":"IFERROR(VLOOKUP(A1681,Base!$A$2:$D$460,4,0),\"\")","v":""},null,null,null,null,null,null,null,null,null,null,null,null,null,0]
[null,{"$f":"IFERROR(VLOOKUP(A1682,Base!$A$2:$D$460,2,0),\"\")","v":""},{"$f":"IFERROR(VLOOKUP(A1682,Base!$A$2:$D$460,3,0),\"\")","v":""},{"$f":"IFERROR(VLOOKUP(A1682,Base!$A$2:$D$460,4,0),\"\")","v":""},null,null,null,null,null,null,null,null,null,null,null,null,null,0]
[null,{"$f":"IFERROR(VLOOKUP(A1683,Base!$A$2:$D$460,2,0),\"\")","v":""},{"$f":"IFERROR(VLOOKUP(A1683,Base!$A$2:$D$460,3,0),\"\")","v":""},{"$f":"IFERROR(VLOOKUP(A1683,Base!$A$2:$D$460,4,0),\"\")","v":""},null,null,null,null,null,null,null,null,null,null,null,null,null,0]
[null,{"$f":"IFERROR(VLOOKUP(A1684,Base!$A$2:$D$460,2,0),\"\")","v":""},{"$f":"IFERROR(VLOOKUP(A1684,Base!$A$2:$D$460,3,0),\"\")","v":""},{"$f":"IFERROR(VLOOKUP(A1684,Base!$A$2:$D$460,4,0),\"\")","v":""},null,null,null,null,null,null,null,null,null,null,null,null,null,0]
[null,{"$f":"IFERROR(VLOOKUP(A1685,Base!$A$2:$D$460,2,0),\"\")","v":""},{"$f":"IFERROR(VLOOKUP(A1685,Base!$A$2:$D$460,3,0),\"\")","v":""},{"$f":"IFERROR(VLOOKUP(A1685,Base!$A$2:$D$460,4,0),\"\")","v":""},null,null,null,null,null,null,null,null,null,null,null,null,null,0]
[null,{"$f":"IFERROR(VLOOKUP(A1686,Base!$A$2:$D$460,2,0),\"\")","v":""},{"$f":"IFERROR(VLOOKUP(A1686,Base!$A$2:$D$460,3,0),\"\")","v":""},{"$f":"IFERROR(VLOOKUP(A1686,Base!$A$2:$D$460,4,0),\"\")","v":""},null,null,null,null,null,null,null,null,null,null,null,null,null,0]
[null,{"$f":"IFERROR(VLOOKUP(A1687,Base!$A$2:$D$460,2,0),\"\")","v":""},{"$f":"IFERROR(VLOOKUP(A1687,Base!$A$2:$D$460,3,0),\"\")","v":""},{"$f":"IFERROR(VLOOKUP(A1687,Base!$A$2:$D$460,4,0),\"\")","v":""},null,null,null,null,null,null,null,null,null,null,null,null,null,0]
[null,{"$f":"IFERROR(VLOOKUP(A1688,Base!$A$2:$D$460,2,0),\"\")","v":""},{"$f":"IFERROR(VLOOKUP(A1688,Base!$A$2:$D$460,3,0),\"\")","v":""},{"$f":"IFERROR(VLOOKUP(A1688,Base!$A$2:$D$460,4,0),\"\")","v":""},null,null,null,null,null,null,null,null,null,null,null,null,null,0]
[null,{"$f":"IFERROR(VLOOKUP(A1689,Base!$A$2:$D$460,2,0),\"\")","v":""},{"$f":"IFERROR(VLOOKUP(A1689,Base!$A$2:$D$460,3,0),\"\")","v":""},{"$f":"IFERROR(VLOOKUP(A1689,Base!$A$2:$D$460,4,0),\"\")","v":""},null,null,null,null,null,null,null,null,null,null,null,null,null,0]
[null,{"$f":"IFERROR(VLOOKUP(A1690,Base!$A$2:$D$460,2,0),\"\")","v":""},{"$f":"IFERROR(VLOOKUP(A1690,Base!$A$2:$D$460,3,0),\"\")","v":""},{"$f":"IFERROR(VLOOKUP(A1690,Base!$A$2:$D$460,4,0),\"\")","v":""},null,null,null,null,null,null,null,null,null,null,null,null,null,0]
[null,{"$f":"IFERROR(VLOOKUP(A1691,Base!$A$2:$D$460,2,0),\"\")","v":""},{"$f":"IFERROR(VLOOKUP(A1691,Base!$A$2:$D$460,3,0),\"\")","v":""},{"$f":"IFERROR(VLOOKUP(A1691,Base!$A$2:$D$460,4,0),\"\")","v":""},null,null,null,null,null,null,null,null,null,null,null,null,null,0]
[null,{"$f":"IFERROR(VLOOKUP(A1692,Base!$A$2:$D$460,2,0),\"\")","v":""},{"$f":"IFERROR(VLOOKUP(A1692,Base!$A$2:$D$460,3,0),\"\")","v":""},{"$f":"IFERROR(VLOOKUP(A1692,Base!$A$2:$D$460,4,0),\"\")","v":""},null,null,null,null,null,null,null,null,null,null,null,null,null,0]
[null,{"$f":"IFERROR(VLOOKUP(A1693,Base!$A$2:$D$460,2,0),\"\")","v":""},{"$f":"IFERROR(VLOOKUP(A1693,Base!$A$2:$D$460,3,0),\"\")","v":""},{"$f":"IFERROR(VLOOKUP(A1693,Base!$A$2:$D$460,4,0),\"\")","v":""},null,null,null,null,null,null,null,null,null,null,null,null,null,0]
[null,{"$f":"IFERROR(VLOOKUP(A1694,Base!$A$2:$D$460,2,0),\"\")","v":""},{"$f":"IFERROR(VLOOKUP(A1694,Base!$A$2:$D$460,3,0),\"\")","v":""},{"$f":"IFERROR(VLOOKUP(A1694,Base!$A$2:$D$460,4,0),\"\")","v":""},null,null,null,null,null,null,null,null,null,null,null,null,null,0]
[null,{"$f":"IFERROR(VLOOKUP(A1695,Base!$A$2:$D$460,2,0),\"\")","v":""},{"$f":"IFERROR(VLOOKUP(A1695,Base!$A$2:$D$460,3,0),\"\")","v":""},{"$f":"IFERROR(VLOOKUP(A1695,Base!$A$2:$D$460,4,0),\"\")","v":""},null,null,null,null,null,null,null,null,null,null,null,null,null,0]
[null,{"$f":"IFERROR(VLOOKUP(A1696,Base!$A$2:$D$460,2,0),\"\")","v":""},{"$f":"IFERROR(VLOOKUP(A1696,Base!$A$2:$D$460,3,0),\"\")","v":""},{"$f":"IFERROR(VLOOKUP(A1696,Base!$A$2:$D$460,4,0),\"\")","v":""},null,null,null,null,null,null,null,null,null,null,null,null,null,0]
[null,{"$f":"IFERROR(VLOOKUP(A1697,Base!$A$2:$D$460,2,0),\"\")","v":""},{"$f":"IFERROR(VLOOKUP(A1697,Base!$A$2:$D$460,3,0),\"\")","v":""},{"$f":"IFERROR(VLOOKUP(A1697,Base!$A$2:$D$460,4,0),\"\")","v":""},null,null,null,null,null,null,null,null,null,null,null,null,null,0]
[null,{"$f":"IFERROR(VLOOKUP(A1698,Base!$A$2:$D$460,2,0),\"\")","v":""},{"$f":"IFERROR(VLOOKUP(A1698,Base!$A$2:$D$460,3,0),\"\")","v":""},{"$f":"IFERROR(VLOOKUP(A1698,Base!$A$2:$D$460,4,0),\"\")","v":""},null,null,null,null,null,null,null,null,null,null,null,null,null,0]
[null,{"$f":"IFERROR(VLOOKUP(A1699,Base!$A$2:$D$460,2,0),\"\")","v":""},{"$f":"IFERROR(VLOOKUP(A1699,Base!$A$2:$D$460,3,0),\"\")","v":""},{"$f":"IFERROR(VLOOKUP(A1699,Base!$A$2:$D$460,4,0),\"\")","v":""},null,null,null,null,null,null,null,null,null,null,null,null,null,0]
[null,{"$f":"IFERROR(VLOOKUP(A1700,Base!$A$2:$D$460,2,0),\"\")","v":""},{"$f":"IFERROR(VLOOKUP(A1700,Base!$A$2:$D$460,3,0),\"\")","v":""},{"$f":"IFERROR(VLOOKUP(A1700,Base!$A$2:$D$460,4,0),\"\")","v":""},null,null,null,null,null,null,null,null,null,null,null,null,null,0]
[null,{"$f":"IFERROR(VLOOKUP(A1701,Base!$A$2:$D$460,2,0),\"\")","v":""},{"$f":"IFERROR(VLOOKUP(A1701,Base!$A$2:$D$460,3,0),\"\")","v":""},{"$f":"IFERROR(VLOOKUP(A1701,Base!$A$2:$D$460,4,0),\"\")","v":""},null,null,null,null,null,null,null,null,null,null,null,null,null,0]
[null,{"$f":"IFERROR(VLOOKUP(A1702,Base!$A$2:$D$460,2,0),\"\")","v":""},{"$f":"IFERROR(VLOOKUP(A1702,Base!$A$2:$D$460,3,0),\"\")","v":""},{"$f":"IFERROR(VLOOKUP(A1702,Base!$A$2:$D$460,4,0),\"\")","v":""},null,null,null,null,null,null,null,null,null,null,null,null,null,0]
[null,{"$f":"IFERROR(VLOOKUP(A1703,Base!$A$2:$D$460,2,0),\"\")","v":""},{"$f":"IFERROR(VLOOKUP(A1703,Base!$A$2:$D$460,3,0),\"\")","v":""},{"$f":"IFERROR(VLOOKUP(A1703,Base!$A$2:$D$460,4,0),\"\")","v":""},null,null,null,null,null,null,null,null,null,null,null,null,null,{"$f":"SUM(N1703:Q1703)/4","v":0}]
[null,{"$f":"IFERROR(VLOOKUP(A1704,Base!$A$2:$D$460,2,0),\"\")","v":""},{"$f":"IFERROR(VLOOKUP(A1704,Base!$A$2:$D$460,3,0),\"\")","v":""},{"$f":"IFERROR(VLOOKUP(A1704,Base!$A$2:$D$460,4,0),\"\")","v":""},null,null,null,null,null,null,null,null,null,null,null,null,null,0]
[null,{"$f":"IFERROR(VLOOKUP(A1705,Base!$A$2:$D$460,2,0),\"\")","v":""},{"$f":"IFERROR(VLOOKUP(A1705,Base!$A$2:$D$460,3,0),\"\")","v":""},{"$f":"IFERROR(VLOOKUP(A1705,Base!$A$2:$D$460,4,0),\"\")","v":""},null,null,null,null,null,null,null,null,null,null,null,null,null,0]
[null,{"$f":"IFERROR(VLOOKUP(A1706,Base!$A$2:$D$460,2,0),\"\")","v":""},{"$f":"IFERROR(VLOOKUP(A1706,Base!$A$2:$D$460,3,0),\"\")","v":""},{"$f":"IFERROR(VLOOKUP(A1706,Base!$A$2:$D$460,4,0),\"\")","v":""},null,null,null,null,null,null,null,null,null,null,null,null,null,0]
[null,{"$f":"IFERROR(VLOOKUP(A1707,Base!$A$2:$D$460,2,0),\"\")","v":""},{"$f":"IFERROR(VLOOKUP(A1707,Base!$A$2:$D$460,3,0),\"\")","v":""},{"$f":"IFERROR(VLOOKUP(A1707,Base!$A$2:$D$460,4,0),\"\")","v":""},null,null,null,null,null,null,null,null,null,null,null,null,null,0]
[null,{"$f":"IFERROR(VLOOKUP(A1708,Base!$A$2:$D$460,2,0),\"\")","v":""},{"$f":"IFERROR(VLOOKUP(A1708,Base!$A$2:$D$460,3,0),\"\")","v":""},{"$f":"IFERROR(VLOOKUP(A1708,Base!$A$2:$D$460,4,0),\"\")","v":""},null,null,null,null,null,null,null,null,null,null,null,null,null,0]
[null,{"$f":"IFERROR(VLOOKUP(A1709,Base!$A$2:$D$460,2,0),\"\")","v":""},{"$f":"IFERROR(VLOOKUP(A1709,Base!$A$2:$D$460,3,0),\"\")","v":""},{"$f":"IFERROR(VLOOKUP(A1709,Base!$A$2:$D$460,4,0),\"\")","v":""},null,null,null,null,null,null,null,null,null,null,null,null,null,0]
[null,{"$f":"IFERROR(VLOOKUP(A1710,Base!$A$2:$D$460,2,0),\"\")","v":""},{"$f":"IFERROR(VLOOKUP(A1710,Base!$A$2:$D$460,3,0),\"\")","v":""},{"$f":"IFERROR(VLOOKUP(A1710,Base!$A$2:$D$460,4,0),\"\")","v":""},null,null,null,null,null,null,null,null,null,null,null,null,null,0]
[null,{"$f":"IFERROR(VLOOKUP(A1711,Base!$A$2:$D$460,2,0),\"\")","v":""},{"$f":"IFERROR(VLOOKUP(A1711,Base!$A$2:$D$460,3,0),\"\")","v":""},{"$f":"IFERROR(VLOOKUP(A1711,Base!$A$2:$D$460,4,0),\"\")","v":""},null,null,null,null,null,null,null,null,null,null,null,null,null,0]
[null,{"$f":"IFERROR(VLOOKUP(A1712,Base!$A$2:$D$460,2,0),\"\")","v":""},{"$f":"IFERROR(VLOOKUP(A1712,Base!$A$2:$D$460,3,0),\"\")","v":""},{"$f":"IFERROR(VLOOKUP(A1712,Base!$A$2:$D$460,4,0),\"\")","v":""},null,null,null,null,null,null,null,null,null,null,null,null,null,0]
[null,{"$f":"IFERROR(VLOOKUP(A1713,Base!$A$2:$D$460,2,0),\"\")","v":""},{"$f":"IFERROR(VLOOKUP(A1713,Base!$A$2:$D$460,3,0),\"\")","v":""},{"$f":"IFERROR(VLOOKUP(A1713,Base!$A$2:$D$460,4,0),\"\")","v":""},null,null,null,null,null,null,null,null,null,null,null,null,null,0]
[null,{"$f":"IFERROR(VLOOKUP(A1714,Base!$A$2:$D$460,2,0),\"\")","v":""},{"$f":"IFERROR(VLOOKUP(A1714,Base!$A$2:$D$460,3,0),\"\")","v":""},{"$f":"IFERROR(VLOOKUP(A1714,Base!$A$2:$D$460,4,0),\"\")","v":""},null,null,null,null,null,null,null,null,null,null,null,null,null,0]
[null,{"$f":"IFERROR(VLOOKUP(A1715,Base!$A$2:$D$460,2,0),\"\")","v":""},{"$f":"IFERROR(VLOOKUP(A1715,Base!$A$2:$D$460,3,0),\"\")","v":""},{"$f":"IFERROR(VLOOKUP(A1715,Base!$A$2:$D$460,4,0),\"\")","v":""},null,null,null,null,null,null,null,null,null,null,null,null,null,0]
[null,{"$f":"IFERROR(VLOOKUP(A1716,Base!$A$2:$D$460,2,0),\"\")","v":""},{"$f":"IFERROR(VLOOKUP(A1716,Base!$A$2:$D$460,3,0),\"\")","v":""},{"$f":"IFERROR(VLOOKUP(A1716,Base!$A$2:$D$460,4,0),\"\")","v":""},null,null,null,null,null,null,null,null,null,null,null,null,null,0]
[null,{"$f":"IFERROR(VLOOKUP(A1717,Base!$A$2:$D$460,2,0),\"\")","v":""},{"$f":"IFERROR(VLOOKUP(A1717,Base!$A$2:$D$460,3,0),\"\")","v":""},{"$f":"IFERROR(VLOOKUP(A1717,Base!$A$2:$D$460,4,0),\"\")","v":""},null,null,null,null,null,null,null,null,null,null,null,null,null,0]
[null,{"$f":"IFERROR(VLOOKUP(A1718,Base!$A$2:$D$460,2,0),\"\")","v":""},{"$f":"IFERROR(VLOOKUP(A1718,Base!$A$2:$D$460,3,0),\"\")","v":""},{"$f":"IFERROR(VLOOKUP(A1718,Base!$A$2:$D$460,4,0),\"\")","v":""},null,null,null,null,null,null,null,null,null,null,null,null,null,0]
[null,{"$f":"IFERROR(VLOOKUP(A1719,Base!$A$2:$D$460,2,0),\"\")","v":""},{"$f":"IFERROR(VLOOKUP(A1719,Base!$A$2:$D$460,3,0),\"\")","v":""},{"$f":"IFERROR(VLOOKUP(A1719,Base!$A$2:$D$460,4,0),\"\")","v":""},null,null,null,null,null,null,null,null,null,null,null,null,null,0]
[null,{"$f":"IFERROR(VLOOKUP(A1720,Base!$A$2:$D$460,2,0),\"\")","v":""},{"$f":"IFERROR(VLOOKUP(A1720,Base!$A$2:$D$460,3,0),\"\")","v":""},{"$f":"IFERROR(VLOOKUP(A1720,Base!$A$2:$D$460,4,0),\"\")","v":""},null,null,null,null,null,null,null,null,null,null,null,null,null,0]
[null,{"$f":"IFERROR(VLOOKUP(A1721,Base!$A$2:$D$460,2,0),\"\")","v":""},{"$f":"IFERROR(VLOOKUP(A1721,Base!$A$2:$D$460,3,0),\"\")","v":""},{"$f":"IFERROR(VLOOKUP(A1721,Base!$A$2:$D$460,4,0),\"\")","v":""},null,null,null,null,null,null,null,null,null,null,null,null,null,0]
[null,{"$f":"IFERROR(VLOOKUP(A1722,Base!$A$2:$D$460,2,0),\"\")","v":""},{"$f":"IFERROR(VLOOKUP(A1722,Base!$A$2:$D$460,3,0),\"\")","v":""},{"$f":"IFERROR(VLOOKUP(A1722,Base!$A$2:$D$460,4,0),\"\")","v":""},null,null,null,null,null,null,null,null,null,null,null,null,null,0]
[null,{"$f":"IFERROR(VLOOKUP(A1723,Base!$A$2:$D$460,2,0),\"\")","v":""},{"$f":"IFERROR(VLOOKUP(A1723,Base!$A$2:$D$460,3,0),\"\")","v":""},{"$f":"IFERROR(VLOOKUP(A1723,Base!$A$2:$D$460,4,0),\"\")","v":""},null,null,null,null,null,null,null,null,null,null,null,null,null,0]
[null,{"$f":"IFERROR(VLOOKUP(A1724,Base!$A$2:$D$460,2,0),\"\")","v":""},{"$f":"IFERROR(VLOOKUP(A1724,Base!$A$2:$D$460,3,0),\"\")","v":""},{"$f":"IFERROR(VLOOKUP(A1724,Base!$A$2:$D$460,4,0),\"\")","v":""},null,null,null,null,null,null,null,null,null,null,null,null,null,0]
[null,{"$f":"IFERROR(VLOOKUP(A1725,Base!$A$2:$D$460,2,0),\"\")","v":""},{"$f":"IFERROR(VLOOKUP(A1725,Base!$A$2:$D$460,3,0),\"\")","v":""},{"$f":"IFERROR(VLOOKUP(A1725,Base!$A$2:$D$460,4,0),\"\")","v":""},null,null,null,null,null,null,null,null,null,null,null,null,null,0]
[null,{"$f":"IFERROR(VLOOKUP(A1726,Base!$A$2:$D$460,2,0),\"\")","v":""},{"$f":"IFERROR(VLOOKUP(A1726,Base!$A$2:$D$460,3,0),\"\")","v":""},{"$f":"IFERROR(VLOOKUP(A1726,Base!$A$2:$D$460,4,0),\"\")","v":""},null,null,null,null,null,null,null,null,null,null,null,null,null,0]
[null,{"$f":"IFERROR(VLOOKUP(A1727,Base!$A$2:$D$460,2,0),\"\")","v":""},{"$f":"IFERROR(VLOOKUP(A1727,Base!$A$2:$D$460,3,0),\"\")","v":""},{"$f":"IFERROR(VLOOKUP(A1727,Base!$A$2:$D$460,4,0),\"\")","v":""},null,null,null,null,null,null,null,null,null,null,null,null,null,0]
[null,{"$f":"IFERROR(VLOOKUP(A1728,Base!$A$2:$D$460,2,0),\"\")","v":""},{"$f":"IFERROR(VLOOKUP(A1728,Base!$A$2:$D$460,3,0),\"\")","v":""},{"$f":"IFERROR(VLOOKUP(A1728,Base!$A$2:$D$460,4,0),\"\")","v":""},null,null,null,null,null,null,null,null,null,null,null,null,null,0]
[null,{"$f":"IFERROR(VLOOKUP(A1729,Base!$A$2:$D$460,2,0),\"\")","v":""},{"$f":"IFERROR(VLOOKUP(A1729,Base!$A$2:$D$460,3,0),\"\")","v":""},{"$f":"IFERROR(VLOOKUP(A1729,Base!$A$2:$D$460,4,0),\"\")","v":""},null,null,null,null,null,null,null,null,null,null,null,null,null,0]
[null,{"$f":"IFERROR(VLOOKUP(A1730,Base!$A$2:$D$460,2,0),\"\")","v":""},{"$f":"IFERROR(VLOOKUP(A1730,Base!$A$2:$D$460,3,0),\"\")","v":""},{"$f":"IFERROR(VLOOKUP(A1730,Base!$A$2:$D$460,4,0),\"\")","v":""},null,null,null,null,null,null,null,null,null,null,null,null,null,0]
[null,{"$f":"IFERROR(VLOOKUP(A1731,Base!$A$2:$D$460,2,0),\"\")","v":""},{"$f":"IFERROR(VLOOKUP(A1731,Base!$A$2:$D$460,3,0),\"\")","v":""},{"$f":"IFERROR(VLOOKUP(A1731,Base!$A$2:$D$460,4,0),\"\")","v":""},null,null,null,null,null,null,null,null,null,null,null,null,null,0]
[null,{"$f":"IFERROR(VLOOKUP(A1732,Base!$A$2:$D$460,2,0),\"\")","v":""},{"$f":"IFERROR(VLOOKUP(A1732,Base!$A$2:$D$460,3,0),\"\")","v":""},{"$f":"IFERROR(VLOOKUP(A1732,Base!$A$2:$D$460,4,0),\"\")","v":""},null,null,null,null,null,null,null,null,null,null,null,null,null,0]
[null,{"$f":"IFERROR(VLOOKUP(A1733,Base!$A$2:$D$460,2,0),\"\")","v":""},{"$f":"IFERROR(VLOOKUP(A1733,Base!$A$2:$D$460,3,0),\"\")","v":""},{"$f":"IFERROR(VLOOKUP(A1733,Base!$A$2:$D$460,4,0),\"\")","v":""},null,null,null,null,null,null,null,null,null,null,null,null,null,0]
[null,{"$f":"IFERROR(VLOOKUP(A1734,Base!$A$2:$D$460,2,0),\"\")","v":""},{"$f":"IFERROR(VLOOKUP(A1734,Base!$A$2:$D$460,3,0),\"\")","v":""},{"$f":"IFERROR(VLOOKUP(A1734,Base!$A$2:$D$460,4,0),\"\")","v":""},null,null,null,null,null,null,null,null,null,null,null,null,null,0]
[null,{"$f":"IFERROR(VLOOKUP(A1735,Base!$A$2:$D$460,2,0),\"\")","v":""},{"$f":"IFERROR(VLOOKUP(A1735,Base!$A$2:$D$460,3,0),\"\")","v":""},{"$f":"IFERROR(VLOOKUP(A1735,Base!$A$2:$D$460,4,0),\"\")","v":""},null,null,null,null,null,null,null,null,null,null,null,null,null,0]
[null,{"$f":"IFERROR(VLOOKUP(A1736,Base!$A$2:$D$460,2,0),\"\")","v":""},{"$f":"IFERROR(VLOOKUP(A1736,Base!$A$2:$D$460,3,0),\"\")","v":""},{"$f":"IFERROR(VLOOKUP(A1736,Base!$A$2:$D$460,4,0),\"\")","v":""},null,null,null,null,null,null,null,null,null,null,null,null,null,0]
[null,{"$f":"IFERROR(VLOOKUP(A1737,Base!$A$2:$D$460,2,0),\"\")","v":""},{"$f":"IFERROR(VLOOKUP(A1737,Base!$A$2:$D$460,3,0),\"\")","v":""},{"$f":"IFERROR(VLOOKUP(A1737,Base!$A$2:$D$460,4,0),\"\")","v":""},null,null,null,null,null,null,null,null,null,null,null,null,null,0]
[null,{"$f":"IFERROR(VLOOKUP(A1738,Base!$A$2:$D$460,2,0),\"\")","v":""},{"$f":"IFERROR(VLOOKUP(A1738,Base!$A$2:$D$460,3,0),\"\")","v":""},{"$f":"IFERROR(VLOOKUP(A1738,Base!$A$2:$D$460,4,0),\"\")","v":""},null,null,null,null,null,null,null,null,null,null,null,null,null,0]
[null,{"$f":"IFERROR(VLOOKUP(A1739,Base!$A$2:$D$460,2,0),\"\")","v":""},{"$f":"IFERROR(VLOOKUP(A1739,Base!$A$2:$D$460,3,0),\"\")","v":""},{"$f":"IFERROR(VLOOKUP(A1739,Base!$A$2:$D$460,4,0),\"\")","v":""},null,null,null,null,null,null,null,null,null,null,null,null,null,0]
[null,{"$f":"IFERROR(VLOOKUP(A1740,Base!$A$2:$D$460,2,0),\"\")","v":""},{"$f":"IFERROR(VLOOKUP(A1740,Base!$A$2:$D$460,3,0),\"\")","v":""},{"$f":"IFERROR(VLOOKUP(A1740,Base!$A$2:$D$460,4,0),\"\")","v":""},null,null,null,null,null,null,null,null,null,null,null,null,null,0]
[null,{"$f":"IFERROR(VLOOKUP(A1741,Base!$A$2:$D$460,2,0),\"\")","v":""},{"$f":"IFERROR(VLOOKUP(A1741,Base!$A$2:$D$460,3,0),\"\")","v":""},{"$f":"IFERROR(VLOOKUP(A1741,Base!$A$2:$D$460,4,0),\"\")","v":""},null,null,null,null,null,null,null,null,null,null,null,null,null,0]
[null,{"$f":"IFERROR(VLOOKUP(A1742,Base!$A$2:$D$460,2,0),\"\")","v":""},{"$f":"IFERROR(VLOOKUP(A1742,Base!$A$2:$D$460,3,0),\"\")","v":""},{"$f":"IFERROR(VLOOKUP(A1742,Base!$A$2:$D$460,4,0),\"\")","v":""},null,null,null,null,null,null,null,null,null,null,null,null,null,0]
[null,{"$f":"IFERROR(VLOOKUP(A1743,Base!$A$2:$D$460,2,0),\"\")","v":""},{"$f":"IFERROR(VLOOKUP(A1743,Base!$A$2:$D$460,3,0),\"\")","v":""},{"$f":"IFERROR(VLOOKUP(A1743,Base!$A$2:$D$460,4,0),\"\")","v":""},null,null,null,null,null,null,null,null,null,null,null,null,null,0]
[null,{"$f":"IFERROR(VLOOKUP(A1744,Base!$A$2:$D$460,2,0),\"\")","v":""},{"$f":"IFERROR(VLOOKUP(A1744,Base!$A$2:$D$460,3,0),\"\")","v":""},{"$f":"IFERROR(VLOOKUP(A1744,Base!$A$2:$D$460,4,0),\"\")","v":""},null,null,null,null,null,null,null,null,null,null,null,null,null,0]
[null,{"$f":"IFERROR(VLOOKUP(A1745,Base!$A$2:$D$460,2,0),\"\")","v":""},{"$f":"IFERROR(VLOOKUP(A1745,Base!$A$2:$D$460,3,0),\"\")","v":""},{"$f":"IFERROR(VLOOKUP(A1745,Base!$A$2:$D$460,4,0),\"\")","v":""},null,null,null,null,null,null,null,null,null,null,null,null,null,0]
[null,{"$f":"IFERROR(VLOOKUP(A1746,Base!$A$2:$D$460,2,0),\"\")","v":""},{"$f":"IFERROR(VLOOKUP(A1746,Base!$A$2:$D$460,3,0),\"\")","v":""},{"$f":"IFERROR(VLOOKUP(A1746,Base!$A$2:$D$460,4,0),\"\")","v":""},null,null,null,null,null,null,null,null,null,null,null,null,null,0]
[null,{"$f":"IFERROR(VLOOKUP(A1747,Base!$A$2:$D$460,2,0),\"\")","v":""},{"$f":"IFERROR(VLOOKUP(A1747,Base!$A$2:$D$460,3,0),\"\")","v":""},{"$f":"IFERROR(VLOOKUP(A1747,Base!$A$2:$D$460,4,0),\"\")","v":""},null,null,null,null,null,null,null,null,null,null,null,null,null,0]
[null,{"$f":"IFERROR(VLOOKUP(A1748,Base!$A$2:$D$460,2,0),\"\")","v":""},{"$f":"IFERROR(VLOOKUP(A1748,Base!$A$2:$D$460,3,0),\"\")","v":""},{"$f":"IFERROR(VLOOKUP(A1748,Base!$A$2:$D$460,4,0),\"\")","v":""},null,null,null,null,null,null,null,null,null,null,null,null,null,0]
[null,{"$f":"IFERROR(VLOOKUP(A1749,Base!$A$2:$D$460,2,0),\"\")","v":""},{"$f":"IFERROR(VLOOKUP(A1749,Base!$A$2:$D$460,3,0),\"\")","v":""},{"$f":"IFERROR(VLOOKUP(A1749,Base!$A$2:$D$460,4,0),\"\")","v":""},null,null,null,null,null,null,null,null,null,null,null,null,null,0]
[null,{"$f":"IFERROR(VLOOKUP(A1750,Base!$A$2:$D$460,2,0),\"\")","v":""},{"$f":"IFERROR(VLOOKUP(A1750,Base!$A$2:$D$460,3,0),\"\")","v":""},{"$f":"IFERROR(VLOOKUP(A1750,Base!$A$2:$D$460,4,0),\"\")","v":""},null,null,null,null,null,null,null,null,null,null,null,null,null,0]
[null,{"$f":"IFERROR(VLOOKUP(A1751,Base!$A$2:$D$460,2,0),\"\")","v":""},{"$f":"IFERROR(VLOOKUP(A1751,Base!$A$2:$D$460,3,0),\"\")","v":""},{"$f":"IFERROR(VLOOKUP(A1751,Base!$A$2:$D$460,4,0),\"\")","v":""},null,null,null,null,null,null,null,null,null,null,null,null,null,0]
[null,{"$f":"IFERROR(VLOOKUP(A1752,Base!$A$2:$D$460,2,0),\"\")","v":""},{"$f":"IFERROR(VLOOKUP(A1752,Base!$A$2:$D$460,3,0),\"\")","v":""},{"$f":"IFERROR(VLOOKUP(A1752,Base!$A$2:$D$460,4,0),\"\")","v":""},null,null,null,null,null,null,null,null,null,null,null,null,null,0]
[null,{"$f":"IFERROR(VLOOKUP(A1753,Base!$A$2:$D$460,2,0),\"\")","v":""},{"$f":"IFERROR(VLOOKUP(A1753,Base!$A$2:$D$460,3,0),\"\")","v":""},{"$f":"IFERROR(VLOOKUP(A1753,Base!$A$2:$D$460,4,0),\"\")","v":""},null,null,null,null,null,null,null,null,null,null,null,null,null,0]
[null,{"$f":"IFERROR(VLOOKUP(A1754,Base!$A$2:$D$460,2,0),\"\")","v":""},{"$f":"IFERROR(VLOOKUP(A1754,Base!$A$2:$D$460,3,0),\"\")","v":""},{"$f":"IFERROR(VLOOKUP(A1754,Base!$A$2:$D$460,4,0),\"\")","v":""},null,null,null,null,null,null,null,null,null,null,null,null,null,0]
[null,{"$f":"IFERROR(VLOOKUP(A1755,Base!$A$2:$D$460,2,0),\"\")","v":""},{"$f":"IFERROR(VLOOKUP(A1755,Base!$A$2:$D$460,3,0),\"\")","v":""},{"$f":"IFERROR(VLOOKUP(A1755,Base!$A$2:$D$460,4,0),\"\")","v":""},null,null,null,null,null,null,null,null,null,null,null,null,null,0]
[null,{"$f":"IFERROR(VLOOKUP(A1756,Base!$A$2:$D$460,2,0),\"\")","v":""},{"$f":"IFERROR(VLOOKUP(A1756,Base!$A$2:$D$460,3,0),\"\")","v":""},{"$f":"IFERROR(VLOOKUP(A1756,Base!$A$2:$D$460,4,0),\"\")","v":""},null,null,null,null,null,null,null,null,null,null,null,null,null,0]
[null,{"$f":"IFERROR(VLOOKUP(A1757,Base!$A$2:$D$460,2,0),\"\")","v":""},{"$f":"IFERROR(VLOOKUP(A1757,Base!$A$2:$D$460,3,0),\"\")","v":""},{"$f":"IFERROR(VLOOKUP(A1757,Base!$A$2:$D$460,4,0),\"\")","v":""},null,null,null,null,null,null,null,null,null,null,null,null,null,0]
[null,{"$f":"IFERROR(VLOOKUP(A1758,Base!$A$2:$D$460,2,0),\"\")","v":""},{"$f":"IFERROR(VLOOKUP(A1758,Base!$A$2:$D$460,3,0),\"\")","v":""},{"$f":"IFERROR(VLOOKUP(A1758,Base!$A$2:$D$460,4,0),\"\")","v":""},null,null,null,null,null,null,null,null,null,null,null,null,null,0]
[null,{"$f":"IFERROR(VLOOKUP(A1759,Base!$A$2:$D$460,2,0),\"\")","v":""},{"$f":"IFERROR(VLOOKUP(A1759,Base!$A$2:$D$460,3,0),\"\")","v":""},{"$f":"IFERROR(VLOOKUP(A1759,Base!$A$2:$D$460,4,0),\"\")","v":""},null,null,null,null,null,null,null,null,null,null,null,null,null,0]
[null,{"$f":"IFERROR(VLOOKUP(A1760,Base!$A$2:$D$460,2,0),\"\")","v":""},{"$f":"IFERROR(VLOOKUP(A1760,Base!$A$2:$D$460,3,0),\"\")","v":""},{"$f":"IFERROR(VLOOKUP(A1760,Base!$A$2:$D$460,4,0),\"\")","v":""},null,null,null,null,null,null,null,null,null,null,null,null,null,0]
[null,{"$f":"IFERROR(VLOOKUP(A1761,Base!$A$2:$D$460,2,0),\"\")","v":""},{"$f":"IFERROR(VLOOKUP(A1761,Base!$A$2:$D$460,3,0),\"\")","v":""},{"$f":"IFERROR(VLOOKUP(A1761,Base!$A$2:$D$460,4,0),\"\")","v":""},null,null,null,null,null,null,null,null,null,null,null,null,null,0]
[null,{"$f":"IFERROR(VLOOKUP(A1762,Base!$A$2:$D$460,2,0),\"\")","v":""},{"$f":"IFERROR(VLOOKUP(A1762,Base!$A$2:$D$460,3,0),\"\")","v":""},{"$f":"IFERROR(VLOOKUP(A1762,Base!$A$2:$D$460,4,0),\"\")","v":""},null,null,null,null,null,null,null,null,null,null,null,null,null,0]
[null,{"$f":"IFERROR(VLOOKUP(A1763,Base!$A$2:$D$460,2,0),\"\")","v":""},{"$f":"IFERROR(VLOOKUP(A1763,Base!$A$2:$D$460,3,0),\"\")","v":""},{"$f":"IFERROR(VLOOKUP(A1763,Base!$A$2:$D$460,4,0),\"\")","v":""},null,null,null,null,null,null,null,null,null,null,null,null,null,0]
[null,{"$f":"IFERROR(VLOOKUP(A1764,Base!$A$2:$D$460,2,0),\"\")","v":""},{"$f":"IFERROR(VLOOKUP(A1764,Base!$A$2:$D$460,3,0),\"\")","v":""},{"$f":"IFERROR(VLOOKUP(A1764,Base!$A$2:$D$460,4,0),\"\")","v":""},null,null,null,null,null,null,null,null,null,null,null,null,null,0]
[null,{"$f":"IFERROR(VLOOKUP(A1765,Base!$A$2:$D$460,2,0),\"\")","v":""},{"$f":"IFERROR(VLOOKUP(A1765,Base!$A$2:$D$460,3,0),\"\")","v":""},{"$f":"IFERROR(VLOOKUP(A1765,Base!$A$2:$D$460,4,0),\"\")","v":""},null,null,null,null,null,null,null,null,null,null,null,null,null,0]
[null,{"$f":"IFERROR(VLOOKUP(A1766,Base!$A$2:$D$460,2,0),\"\")","v":""},{"$f":"IFERROR(VLOOKUP(A1766,Base!$A$2:$D$460,3,0),\"\")","v":""},{"$f":"IFERROR(VLOOKUP(A1766,Base!$A$2:$D$460,4,0),\"\")","v":""},null,null,null,null,null,null,null,null,null,null,null,null,null,0]
[null,{"$f":"IFERROR(VLOOKUP(A1767,Base!$A$2:$D$460,2,0),\"\")","v":""},{"$f":"IFERROR(VLOOKUP(A1767,Base!$A$2:$D$460,3,0),\"\")","v":""},{"$f":"IFERROR(VLOOKUP(A1767,Base!$A$2:$D$460,4,0),\"\")","v":""},null,null,null,null,null,null,null,null,null,null,null,null,null,{"$f":"SUM(N1767:Q1767)/4","v":0}]
[null,{"$f":"IFERROR(VLOOKUP(A1768,Base!$A$2:$D$460,2,0),\"\")","v":""},{"$f":"IFERROR(VLOOKUP(A1768,Base!$A$2:$D$460,3,0),\"\")","v":""},{"$f":"IFERROR(VLOOKUP(A1768,Base!$A$2:$D$460,4,0),\"\")","v":""},null,null,null,null,null,null,null,null,null,null,null,null,null,0]
[null,{"$f":"IFERROR(VLOOKUP(A1769,Base!$A$2:$D$460,2,0),\"\")","v":""},{"$f":"IFERROR(VLOOKUP(A1769,Base!$A$2:$D$460,3,0),\"\")","v":""},{"$f":"IFERROR(VLOOKUP(A1769,Base!$A$2:$D$460,4,0),\"\")","v":""},null,null,null,null,null,null,null,null,null,null,null,null,null,0]
[null,{"$f":"IFERROR(VLOOKUP(A1770,Base!$A$2:$D$460,2,0),\"\")","v":""},{"$f":"IFERROR(VLOOKUP(A1770,Base!$A$2:$D$460,3,0),\"\")","v":""},{"$f":"IFERROR(VLOOKUP(A1770,Base!$A$2:$D$460,4,0),\"\")","v":""},null,null,null,null,null,null,null,null,null,null,null,null,null,0]
[null,{"$f":"IFERROR(VLOOKUP(A1771,Base!$A$2:$D$460,2,0),\"\")","v":""},{"$f":"IFERROR(VLOOKUP(A1771,Base!$A$2:$D$460,3,0),\"\")","v":""},{"$f":"IFERROR(VLOOKUP(A1771,Base!$A$2:$D$460,4,0),\"\")","v":""},null,null,null,null,null,null,null,null,null,null,null,null,null,0]
[null,{"$f":"IFERROR(VLOOKUP(A1772,Base!$A$2:$D$460,2,0),\"\")","v":""},{"$f":"IFERROR(VLOOKUP(A1772,Base!$A$2:$D$460,3,0),\"\")","v":""},{"$f":"IFERROR(VLOOKUP(A1772,Base!$A$2:$D$460,4,0),\"\")","v":""},null,null,null,null,null,null,null,null,null,null,null,null,null,0]
[null,{"$f":"IFERROR(VLOOKUP(A1773,Base!$A$2:$D$460,2,0),\"\")","v":""},{"$f":"IFERROR(VLOOKUP(A1773,Base!$A$2:$D$460,3,0),\"\")","v":""},{"$f":"IFERROR(VLOOKUP(A1773,Base!$A$2:$D$460,4,0),\"\")","v":""},null,null,null,null,null,null,null,null,null,null,null,null,null,0]
[null,{"$f":"IFERROR(VLOOKUP(A1774,Base!$A$2:$D$460,2,0),\"\")","v":""},{"$f":"IFERROR(VLOOKUP(A1774,Base!$A$2:$D$460,3,0),\"\")","v":""},{"$f":"IFERROR(VLOOKUP(A1774,Base!$A$2:$D$460,4,0),\"\")","v":""},null,null,null,null,null,null,null,null,null,null,null,null,null,0]
[null,{"$f":"IFERROR(VLOOKUP(A1775,Base!$A$2:$D$460,2,0),\"\")","v":""},{"$f":"IFERROR(VLOOKUP(A1775,Base!$A$2:$D$460,3,0),\"\")","v":""},{"$f":"IFERROR(VLOOKUP(A1775,Base!$A$2:$D$460,4,0),\"\")","v":""},null,null,null,null,null,null,null,null,null,null,null,null,null,0]
[null,{"$f":"IFERROR(VLOOKUP(A1776,Base!$A$2:$D$460,2,0),\"\")","v":""},{"$f":"IFERROR(VLOOKUP(A1776,Base!$A$2:$D$460,3,0),\"\")","v":""},{"$f":"IFERROR(VLOOKUP(A1776,Base!$A$2:$D$460,4,0),\"\")","v":""},null,null,null,null,null,null,null,null,null,null,null,null,null,0]
[null,{"$f":"IFERROR(VLOOKUP(A1777,Base!$A$2:$D$460,2,0),\"\")","v":""},{"$f":"IFERROR(VLOOKUP(A1777,Base!$A$2:$D$460,3,0),\"\")","v":""},{"$f":"IFERROR(VLOOKUP(A1777,Base!$A$2:$D$460,4,0),\"\")","v":""},null,null,null,null,null,null,null,null,null,null,null,null,null,0]
[null,{"$f":"IFERROR(VLOOKUP(A1778,Base!$A$2:$D$460,2,0),\"\")","v":""},{"$f":"IFERROR(VLOOKUP(A1778,Base!$A$2:$D$460,3,0),\"\")","v":""},{"$f":"IFERROR(VLOOKUP(A1778,Base!$A$2:$D$460,4,0),\"\")","v":""},null,null,null,null,null,null,null,null,null,null,null,null,null,0]
[null,{"$f":"IFERROR(VLOOKUP(A1779,Base!$A$2:$D$460,2,0),\"\")","v":""},{"$f":"IFERROR(VLOOKUP(A1779,Base!$A$2:$D$460,3,0),\"\")","v":""},{"$f":"IFERROR(VLOOKUP(A1779,Base!$A$2:$D$460,4,0),\"\")","v":""},null,null,null,null,null,null,null,null,null,null,null,null,null,0]
[null,{"$f":"IFERROR(VLOOKUP(A1780,Base!$A$2:$D$460,2,0),\"\")","v":""},{"$f":"IFERROR(VLOOKUP(A1780,Base!$A$2:$D$460,3,0),\"\")","v":""},{"$f":"IFERROR(VLOOKUP(A1780,Base!$A$2:$D$460,4,0),\"\")","v":""},null,null,null,null,null,null,null,null,null,null,null,null,null,0]
[null,{"$f":"IFERROR(VLOOKUP(A1781,Base!$A$2:$D$460,2,0),\"\")","v":""},{"$f":"IFERROR(VLOOKUP(A1781,Base!$A$2:$D$460,3,0),\"\")","v":""},{"$f":"IFERROR(VLOOKUP(A1781,Base!$A$2:$D$460,4,0),\"\")","v":""},null,null,null,null,null,null,null,null,null,null,null,null,null,0]
[null,{"$f":"IFERROR(VLOOKUP(A1782,Base!$A$2:$D$460,2,0),\"\")","v":""},{"$f":"IFERROR(VLOOKUP(A1782,Base!$A$2:$D$460,3,0),\"\")","v":""},{"$f":"IFERROR(VLOOKUP(A1782,Base!$A$2:$D$460,4,0),\"\")","v":""},null,null,null,null,null,null,null,null,null,null,null,null,null,0]
[null,{"$f":"IFERROR(VLOOKUP(A1783,Base!$A$2:$D$460,2,0),\"\")","v":""},{"$f":"IFERROR(VLOOKUP(A1783,Base!$A$2:$D$460,3,0),\"\")","v":""},{"$f":"IFERROR(VLOOKUP(A1783,Base!$A$2:$D$460,4,0),\"\")","v":""},null,null,null,null,null,null,null,null,null,null,null,null,null,0]
[null,{"$f":"IFERROR(VLOOKUP(A1784,Base!$A$2:$D$460,2,0),\"\")","v":""},{"$f":"IFERROR(VLOOKUP(A1784,Base!$A$2:$D$460,3,0),\"\")","v":""},{"$f":"IFERROR(VLOOKUP(A1784,Base!$A$2:$D$460,4,0),\"\")","v":""},null,null,null,null,null,null,null,null,null,null,null,null,null,0]
[null,{"$f":"IFERROR(VLOOKUP(A1785,Base!$A$2:$D$460,2,0),\"\")","v":""},{"$f":"IFERROR(VLOOKUP(A1785,Base!$A$2:$D$460,3,0),\"\")","v":""},{"$f":"IFERROR(VLOOKUP(A1785,Base!$A$2:$D$460,4,0),\"\")","v":""},null,null,null,null,null,null,null,null,null,null,null,null,null,0]
[null,{"$f":"IFERROR(VLOOKUP(A1786,Base!$A$2:$D$460,2,0),\"\")","v":""},{"$f":"IFERROR(VLOOKUP(A1786,Base!$A$2:$D$460,3,0),\"\")","v":""},{"$f":"IFERROR(VLOOKUP(A1786,Base!$A$2:$D$460,4,0),\"\")","v":""},null,null,null,null,null,null,null,null,null,null,null,null,null,0]
[null,{"$f":"IFERROR(VLOOKUP(A1787,Base!$A$2:$D$460,2,0),\"\")","v":""},{"$f":"IFERROR(VLOOKUP(A1787,Base!$A$2:$D$460,3,0),\"\")","v":""},{"$f":"IFERROR(VLOOKUP(A1787,Base!$A$2:$D$460,4,0),\"\")","v":""},null,null,null,null,null,null,null,null,null,null,null,null,null,0]
[null,{"$f":"IFERROR(VLOOKUP(A1788,Base!$A$2:$D$460,2,0),\"\")","v":""},{"$f":"IFERROR(VLOOKUP(A1788,Base!$A$2:$D$460,3,0),\"\")","v":""},{"$f":"IFERROR(VLOOKUP(A1788,Base!$A$2:$D$460,4,0),\"\")","v":""},null,null,null,null,null,null,null,null,null,null,null,null,null,0]
[null,{"$f":"IFERROR(VLOOKUP(A1789,Base!$A$2:$D$460,2,0),\"\")","v":""},{"$f":"IFERROR(VLOOKUP(A1789,Base!$A$2:$D$460,3,0),\"\")","v":""},{"$f":"IFERROR(VLOOKUP(A1789,Base!$A$2:$D$460,4,0),\"\")","v":""},null,null,null,null,null,null,null,null,null,null,null,null,null,0]
[null,{"$f":"IFERROR(VLOOKUP(A1790,Base!$A$2:$D$460,2,0),\"\")","v":""},{"$f":"IFERROR(VLOOKUP(A1790,Base!$A$2:$D$460,3,0),\"\")","v":""},{"$f":"IFERROR(VLOOKUP(A1790,Base!$A$2:$D$460,4,0),\"\")","v":""},null,null,null,null,null,null,null,null,null,null,null,null,null,0]
[null,{"$f":"IFERROR(VLOOKUP(A1791,Base!$A$2:$D$460,2,0),\"\")","v":""},{"$f":"IFERROR(VLOOKUP(A1791,Base!$A$2:$D$460,3,0),\"\")","v":""},{"$f":"IFERROR(VLOOKUP(A1791,Base!$A$2:$D$460,4,0),\"\")","v":""},null,null,null,null,null,null,null,null,null,null,null,null,null,0]
[null,{"$f":"IFERROR(VLOOKUP(A1792,Base!$A$2:$D$460,2,0),\"\")","v":""},{"$f":"IFERROR(VLOOKUP(A1792,Base!$A$2:$D$460,3,0),\"\")","v":""},{"$f":"IFERROR(VLOOKUP(A1792,Base!$A$2:$D$460,4,0),\"\")","v":""},null,null,null,null,null,null,null,null,null,null,null,null,null,0]
[null,{"$f":"IFERROR(VLOOKUP(A1793,Base!$A$2:$D$460,2,0),\"\")","v":""},{"$f":"IFERROR(VLOOKUP(A1793,Base!$A$2:$D$460,3,0),\"\")","v":""},{"$f":"IFERROR(VLOOKUP(A1793,Base!$A$2:$D$460,4,0),\"\")","v":""},null,null,null,null,null,null,null,null,null,null,null,null,null,0]
[null,{"$f":"IFERROR(VLOOKUP(A1794,Base!$A$2:$D$460,2,0),\"\")","v":""},{"$f":"IFERROR(VLOOKUP(A1794,Base!$A$2:$D$460,3,0),\"\")","v":""},{"$f":"IFERROR(VLOOKUP(A1794,Base!$A$2:$D$460,4,0),\"\")","v":""},null,null,null,null,null,null,null,null,null,null,null,null,null,0]
[null,{"$f":"IFERROR(VLOOKUP(A1795,Base!$A$2:$D$460,2,0),\"\")","v":""},{"$f":"IFERROR(VLOOKUP(A1795,Base!$A$2:$D$460,3,0),\"\")","v":""},{"$f":"IFERROR(VLOOKUP(A1795,Base!$A$2:$D$460,4,0),\"\")","v":""},null,null,null,null,null,null,null,null,null,null,null,null,null,0]
[null,{"$f":"IFERROR(VLOOKUP(A1796,Base!$A$2:$D$460,2,0),\"\")","v":""},{"$f":"IFERROR(VLOOKUP(A1796,Base!$A$2:$D$460,3,0),\"\")","v":""},{"$f":"IFERROR(VLOOKUP(A1796,Base!$A$2:$D$460,4,0),\"\")","v":""},null,null,null,null,null,null,null,null,null,null,null,null,null,0]
[null,{"$f":"IFERROR(VLOOKUP(A1797,Base!$A$2:$D$460,2,0),\"\")","v":""},{"$f":"IFERROR(VLOOKUP(A1797,Base!$A$2:$D$460,3,0),\"\")","v":""},{"$f":"IFERROR(VLOOKUP(A1797,Base!$A$2:$D$460,4,0),\"\")","v":""},null,null,null,null,null,null,null,null,null,null,null,null,null,0]
[null,{"$f":"IFERROR(VLOOKUP(A1798,Base!$A$2:$D$460,2,0),\"\")","v":""},{"$f":"IFERROR(VLOOKUP(A1798,Base!$A$2:$D$460,3,0),\"\")","v":""},{"$f":"IFERROR(VLOOKUP(A1798,Base!$A$2:$D$460,4,0),\"\")","v":""},null,null,null,null,null,null,null,null,null,null,null,null,null,0]
[null,{"$f":"IFERROR(VLOOKUP(A1799,Base!$A$2:$D$460,2,0),\"\")","v":""},{"$f":"IFERROR(VLOOKUP(A1799,Base!$A$2:$D$460,3,0),\"\")","v":""},{"$f":"IFERROR(VLOOKUP(A1799,Base!$A$2:$D$460,4,0),\"\")","v":""},null,null,null,null,null,null,null,null,null,null,null,null,null,0]
[null,{"$f":"IFERROR(VLOOKUP(A1800,Base!$A$2:$D$460,2,0),\"\")","v":""},{"$f":"IFERROR(VLOOKUP(A1800,Base!$A$2:$D$460,3,0),\"\")","v":""},{"$f":"IFERROR(VLOOKUP(A1800,Base!$A$2:$D$460,4,0),\"\")","v":""},null,null,null,null,null,null,null,null,null,null,null,null,null,0]
[null,{"$f":"IFERROR(VLOOKUP(A1801,Base!$A$2:$D$460,2,0),\"\")","v":""},{"$f":"IFERROR(VLOOKUP(A1801,Base!$A$2:$D$460,3,0),\"\")","v":""},{"$f":"IFERROR(VLOOKUP(A1801,Base!$A$2:$D$460,4,0),\"\")","v":""},null,null,null,null,null,null,null,null,null,null,null,null,null,0]
[null,{"$f":"IFERROR(VLOOKUP(A1802,Base!$A$2:$D$460,2,0),\"\")","v":""},{"$f":"IFERROR(VLOOKUP(A1802,Base!$A$2:$D$460,3,0),\"\")","v":""},{"$f":"IFERROR(VLOOKUP(A1802,Base!$A$2:$D$460,4,0),\"\")","v":""},null,null,null,null,null,null,null,null,null,null,null,null,null,0]
[null,{"$f":"IFERROR(VLOOKUP(A1803,Base!$A$2:$D$460,2,0),\"\")","v":""},{"$f":"IFERROR(VLOOKUP(A1803,Base!$A$2:$D$460,3,0),\"\")","v":""},{"$f":"IFERROR(VLOOKUP(A1803,Base!$A$2:$D$460,4,0),\"\")","v":""},null,null,null,null,null,null,null,null,null,null,null,null,null,0]
[null,{"$f":"IFERROR(VLOOKUP(A1804,Base!$A$2:$D$460,2,0),\"\")","v":""},{"$f":"IFERROR(VLOOKUP(A1804,Base!$A$2:$D$460,3,0),\"\")","v":""},{"$f":"IFERROR(VLOOKUP(A1804,Base!$A$2:$D$460,4,0),\"\")","v":""},null,null,null,null,null,null,null,null,null,null,null,null,null,0]
[null,{"$f":"IFERROR(VLOOKUP(A1805,Base!$A$2:$D$460,2,0),\"\")","v":""},{"$f":"IFERROR(VLOOKUP(A1805,Base!$A$2:$D$460,3,0),\"\")","v":""},{"$f":"IFERROR(VLOOKUP(A1805,Base!$A$2:$D$460,4,0),\"\")","v":""},null,null,null,null,null,null,null,null,null,null,null,null,null,0]
[null,{"$f":"IFERROR(VLOOKUP(A1806,Base!$A$2:$D$460,2,0),\"\")","v":""},{"$f":"IFERROR(VLOOKUP(A1806,Base!$A$2:$D$460,3,0),\"\")","v":""},{"$f":"IFERROR(VLOOKUP(A1806,Base!$A$2:$D$460,4,0),\"\")","v":""},null,null,null,null,null,null,null,null,null,null,null,null,null,0]
[null,{"$f":"IFERROR(VLOOKUP(A1807,Base!$A$2:$D$460,2,0),\"\")","v":""},{"$f":"IFERROR(VLOOKUP(A1807,Base!$A$2:$D$460,3,0),\"\")","v":""},{"$f":"IFERROR(VLOOKUP(A1807,Base!$A$2:$D$460,4,0),\"\")","v":""},null,null,null,null,null,null,null,null,null,null,null,null,null,0]
[null,{"$f":"IFERROR(VLOOKUP(A1808,Base!$A$2:$D$460,2,0),\"\")","v":""},{"$f":"IFERROR(VLOOKUP(A1808,Base!$A$2:$D$460,3,0),\"\")","v":""},{"$f":"IFERROR(VLOOKUP(A1808,Base!$A$2:$D$460,4,0),\"\")","v":""},null,null,null,null,null,null,null,null,null,null,null,null,null,0]
[null,{"$f":"IFERROR(VLOOKUP(A1809,Base!$A$2:$D$460,2,0),\"\")","v":""},{"$f":"IFERROR(VLOOKUP(A1809,Base!$A$2:$D$460,3,0),\"\")","v":""},{"$f":"IFERROR(VLOOKUP(A1809,Base!$A$2:$D$460,4,0),\"\")","v":""},null,null,null,null,null,null,null,null,null,null,null,null,null,0]
[null,{"$f":"IFERROR(VLOOKUP(A1810,Base!$A$2:$D$460,2,0),\"\")","v":""},{"$f":"IFERROR(VLOOKUP(A1810,Base!$A$2:$D$460,3,0),\"\")","v":""},{"$f":"IFERROR(VLOOKUP(A1810,Base!$A$2:$D$460,4,0),\"\")","v":""},null,null,null,null,null,null,null,null,null,null,null,null,null,0]
[null,{"$f":"IFERROR(VLOOKUP(A1811,Base!$A$2:$D$460,2,0),\"\")","v":""},{"$f":"IFERROR(VLOOKUP(A1811,Base!$A$2:$D$460,3,0),\"\")","v":""},{"$f":"IFERROR(VLOOKUP(A1811,Base!$A$2:$D$460,4,0),\"\")","v":""},null,null,null,null,null,null,null,null,null,null,null,null,null,0]
[null,{"$f":"IFERROR(VLOOKUP(A1812,Base!$A$2:$D$460,2,0),\"\")","v":""},{"$f":"IFERROR(VLOOKUP(A1812,Base!$A$2:$D$460,3,0),\"\")","v":""},{"$f":"IFERROR(VLOOKUP(A1812,Base!$A$2:$D$460,4,0),\"\")","v":""},null,null,null,null,null,null,null,null,null,null,null,null,null,0]
[null,{"$f":"IFERROR(VLOOKUP(A1813,Base!$A$2:$D$460,2,0),\"\")","v":""},{"$f":"IFERROR(VLOOKUP(A1813,Base!$A$2:$D$460,3,0),\"\")","v":""},{"$f":"IFERROR(VLOOKUP(A1813,Base!$A$2:$D$460,4,0),\"\")","v":""},null,null,null,null,null,null,null,null,null,null,null,null,null,0]
[null,{"$f":"IFERROR(VLOOKUP(A1814,Base!$A$2:$D$460,2,0),\"\")","v":""},{"$f":"IFERROR(VLOOKUP(A1814,Base!$A$2:$D$460,3,0),\"\")","v":""},{"$f":"IFERROR(VLOOKUP(A1814,Base!$A$2:$D$460,4,0),\"\")","v":""},null,null,null,null,null,null,null,null,null,null,null,null,null,0]
[null,{"$f":"IFERROR(VLOOKUP(A1815,Base!$A$2:$D$460,2,0),\"\")","v":""},{"$f":"IFERROR(VLOOKUP(A1815,Base!$A$2:$D$460,3,0),\"\")","v":""},{"$f":"IFERROR(VLOOKUP(A1815,Base!$A$2:$D$460,4,0),\"\")","v":""},null,null,null,null,null,null,null,null,null,null,null,null,null,0]
[null,{"$f":"IFERROR(VLOOKUP(A1816,Base!$A$2:$D$460,2,0),\"\")","v":""},{"$f":"IFERROR(VLOOKUP(A1816,Base!$A$2:$D$460,3,0),\"\")","v":""},{"$f":"IFERROR(VLOOKUP(A1816,Base!$A$2:$D$460,4,0),\"\")","v":""},null,null,null,null,null,null,null,null,null,null,null,null,null,0]
[null,{"$f":"IFERROR(VLOOKUP(A1817,Base!$A$2:$D$460,2,0),\"\")","v":""},{"$f":"IFERROR(VLOOKUP(A1817,Base!$A$2:$D$460,3,0),\"\")","v":""},{"$f":"IFERROR(VLOOKUP(A1817,Base!$A$2:$D$460,4,0),\"\")","v":""},null,null,null,null,null,null,null,null,null,null,null,null,null,0]
[null,{"$f":"IFERROR(VLOOKUP(A1818,Base!$A$2:$D$460,2,0),\"\")","v":""},{"$f":"IFERROR(VLOOKUP(A1818,Base!$A$2:$D$460,3,0),\"\")","v":""},{"$f":"IFERROR(VLOOKUP(A1818,Base!$A$2:$D$460,4,0),\"\")","v":""},null,null,null,null,null,null,null,null,null,null,null,null,null,0]
[null,{"$f":"IFERROR(VLOOKUP(A1819,Base!$A$2:$D$460,2,0),\"\")","v":""},{"$f":"IFERROR(VLOOKUP(A1819,Base!$A$2:$D$460,3,0),\"\")","v":""},{"$f":"IFERROR(VLOOKUP(A1819,Base!$A$2:$D$460,4,0),\"\")","v":""},null,null,null,null,null,null,null,null,null,null,null,null,null,0]
[null,{"$f":"IFERROR(VLOOKUP(A1820,Base!$A$2:$D$460,2,0),\"\")","v":""},{"$f":"IFERROR(VLOOKUP(A1820,Base!$A$2:$D$460,3,0),\"\")","v":""},{"$f":"IFERROR(VLOOKUP(A1820,Base!$A$2:$D$460,4,0),\"\")","v":""},null,null,null,null,null,null,null,null,null,null,null,null,null,0]
[null,{"$f":"IFERROR(VLOOKUP(A1821,Base!$A$2:$D$460,2,0),\"\")","v":""},{"$f":"IFERROR(VLOOKUP(A1821,Base!$A$2:$D$460,3,0),\"\")","v":""},{"$f":"IFERROR(VLOOKUP(A1821,Base!$A$2:$D$460,4,0),\"\")","v":""},null,null,null,null,null,null,null,null,null,null,null,null,null,0]
[null,{"$f":"IFERROR(VLOOKUP(A1822,Base!$A$2:$D$460,2,0),\"\")","v":""},{"$f":"IFERROR(VLOOKUP(A1822,Base!$A$2:$D$460,3,0),\"\")","v":""},{"$f":"IFERROR(VLOOKUP(A1822,Base!$A$2:$D$460,4,0),\"\")","v":""},null,null,null,null,null,null,null,null,null,null,null,null,null,0]
[null,{"$f":"IFERROR(VLOOKUP(A1823,Base!$A$2:$D$460,2,0),\"\")","v":""},{"$f":"IFERROR(VLOOKUP(A1823,Base!$A$2:$D$460,3,0),\"\")","v":""},{"$f":"IFERROR(VLOOKUP(A1823,Base!$A$2:$D$460,4,0),\"\")","v":""},null,null,null,null,null,null,null,null,null,null,null,null,null,0]
[null,{"$f":"IFERROR(VLOOKUP(A1824,Base!$A$2:$D$460,2,0),\"\")","v":""},{"$f":"IFERROR(VLOOKUP(A1824,Base!$A$2:$D$460,3,0),\"\")","v":""},{"$f":"IFERROR(VLOOKUP(A1824,Base!$A$2:$D$460,4,0),\"\")","v":""},null,null,null,null,null,null,null,null,null,null,null,null,null,0]
[null,{"$f":"IFERROR(VLOOKUP(A1825,Base!$A$2:$D$460,2,0),\"\")","v":""},{"$f":"IFERROR(VLOOKUP(A1825,Base!$A$2:$D$460,3,0),\"\")","v":""},{"$f":"IFERROR(VLOOKUP(A1825,Base!$A$2:$D$460,4,0),\"\")","v":""},null,null,null,null,null,null,null,null,null,null,null,null,null,0]
[null,{"$f":"IFERROR(VLOOKUP(A1826,Base!$A$2:$D$460,2,0),\"\")","v":""},{"$f":"IFERROR(VLOOKUP(A1826,Base!$A$2:$D$460,3,0),\"\")","v":""},{"$f":"IFERROR(VLOOKUP(A1826,Base!$A$2:$D$460,4,0),\"\")","v":""},null,null,null,null,null,null,null,null,null,null,null,null,null,0]
[null,{"$f":"IFERROR(VLOOKUP(A1827,Base!$A$2:$D$460,2,0),\"\")","v":""},{"$f":"IFERROR(VLOOKUP(A1827,Base!$A$2:$D$460,3,0),\"\")","v":""},{"$f":"IFERROR(VLOOKUP(A1827,Base!$A$2:$D$460,4,0),\"\")","v":""},null,null,null,null,null,null,null,null,null,null,null,null,null,0]
[null,{"$f":"IFERROR(VLOOKUP(A1828,Base!$A$2:$D$460,2,0),\"\")","v":""},{"$f":"IFERROR(VLOOKUP(A1828,Base!$A$2:$D$460,3,0),\"\")","v":""},{"$f":"IFERROR(VLOOKUP(A1828,Base!$A$2:$D$460,4,0),\"\")","v":""},null,null,null,null,null,null,null,null,null,null,null,null,null,0]
[null,{"$f":"IFERROR(VLOOKUP(A1829,Base!$A$2:$D$460,2,0),\"\")","v":""},{"$f":"IFERROR(VLOOKUP(A1829,Base!$A$2:$D$460,3,0),\"\")","v":""},{"$f":"IFERROR(VLOOKUP(A1829,Base!$A$2:$D$460,4,0),\"\")","v":""},null,null,null,null,null,null,null,null,null,null,null,null,null,0]
[null,{"$f":"IFERROR(VLOOKUP(A1830,Base!$A$2:$D$460,2,0),\"\")","v":""},{"$f":"IFERROR(VLOOKUP(A1830,Base!$A$2:$D$460,3,0),\"\")","v":""},{"$f":"IFERROR(VLOOKUP(A1830,Base!$A$2:$D$460,4,0),\"\")","v":""},null,null,null,null,null,null,null,null,null,null,null,null,null,0]
[null,{"$f":"IFERROR(VLOOKUP(A1831,Base!$A$2:$D$460,2,0),\"\")","v":""},{"$f":"IFERROR(VLOOKUP(A1831,Base!$A$2:$D$460,3,0),\"\")","v":""},{"$f":"IFERROR(VLOOKUP(A1831,Base!$A$2:$D$460,4,0),\"\")","v":""},null,null,null,null,null,null,null,null,null,null,null,null,null,{"$f":"SUM(N1831:Q1831)/4","v":0}]
[null,{"$f":"IFERROR(VLOOKUP(A1832,Base!$A$2:$D$460,2,0),\"\")","v":""},{"$f":"IFERROR(VLOOKUP(A1832,Base!$A$2:$D$460,3,0),\"\")","v":""},{"$f":"IFERROR(VLOOKUP(A1832,Base!$A$2:$D$460,4,0),\"\")","v":""},null,null,null,null,null,null,null,null,null,null,null,null,null,0]
[null,{"$f":"IFERROR(VLOOKUP(A1833,Base!$A$2:$D$460,2,0),\"\")","v":""},{"$f":"IFERROR(VLOOKUP(A1833,Base!$A$2:$D$460,3,0),\"\")","v":""},{"$f":"IFERROR(VLOOKUP(A1833,Base!$A$2:$D$460,4,0),\"\")","v":""},null,null,null,null,null,null,null,null,null,null,null,null,null,0]
[null,{"$f":"IFERROR(VLOOKUP(A1834,Base!$A$2:$D$460,2,0),\"\")","v":""},{"$f":"IFERROR(VLOOKUP(A1834,Base!$A$2:$D$460,3,0),\"\")","v":""},{"$f":"IFERROR(VLOOKUP(A1834,Base!$A$2:$D$460,4,0),\"\")","v":""},null,null,null,null,null,null,null,null,null,null,null,null,null,0]
[null,{"$f":"IFERROR(VLOOKUP(A1835,Base!$A$2:$D$460,2,0),\"\")","v":""},{"$f":"IFERROR(VLOOKUP(A1835,Base!$A$2:$D$460,3,0),\"\")","v":""},{"$f":"IFERROR(VLOOKUP(A1835,Base!$A$2:$D$460,4,0),\"\")","v":""},null,null,null,null,null,null,null,null,null,null,null,null,null,0]
[null,{"$f":"IFERROR(VLOOKUP(A1836,Base!$A$2:$D$460,2,0),\"\")","v":""},{"$f":"IFERROR(VLOOKUP(A1836,Base!$A$2:$D$460,3,0),\"\")","v":""},{"$f":"IFERROR(VLOOKUP(A1836,Base!$A$2:$D$460,4,0),\"\")","v":""},null,null,null,null,null,null,null,null,null,null,null,null,null,0]
[null,{"$f":"IFERROR(VLOOKUP(A1837,Base!$A$2:$D$460,2,0),\"\")","v":""},{"$f":"IFERROR(VLOOKUP(A1837,Base!$A$2:$D$460,3,0),\"\")","v":""},{"$f":"IFERROR(VLOOKUP(A1837,Base!$A$2:$D$460,4,0),\"\")","v":""},null,null,null,null,null,null,null,null,null,null,null,null,null,0]
[null,{"$f":"IFERROR(VLOOKUP(A1838,Base!$A$2:$D$460,2,0),\"\")","v":""},{"$f":"IFERROR(VLOOKUP(A1838,Base!$A$2:$D$460,3,0),\"\")","v":""},{"$f":"IFERROR(VLOOKUP(A1838,Base!$A$2:$D$460,4,0),\"\")","v":""},null,null,null,null,null,null,null,null,null,null,null,null,null,0]
[null,{"$f":"IFERROR(VLOOKUP(A1839,Base!$A$2:$D$460,2,0),\"\")","v":""},{"$f":"IFERROR(VLOOKUP(A1839,Base!$A$2:$D$460,3,0),\"\")","v":""},{"$f":"IFERROR(VLOOKUP(A1839,Base!$A$2:$D$460,4,0),\"\")","v":""},null,null,null,null,null,null,null,null,null,null,null,null,null,0]
[null,{"$f":"IFERROR(VLOOKUP(A1840,Base!$A$2:$D$460,2,0),\"\")","v":""},{"$f":"IFERROR(VLOOKUP(A1840,Base!$A$2:$D$460,3,0),\"\")","v":""},{"$f":"IFERROR(VLOOKUP(A1840,Base!$A$2:$D$460,4,0),\"\")","v":""},null,null,null,null,null,null,null,null,null,null,null,null,null,0]
[null,{"$f":"IFERROR(VLOOKUP(A1841,Base!$A$2:$D$460,2,0),\"\")","v":""},{"$f":"IFERROR(VLOOKUP(A1841,Base!$A$2:$D$460,3,0),\"\")","v":""},{"$f":"IFERROR(VLOOKUP(A1841,Base!$A$2:$D$460,4,0),\"\")","v":""},null,null,null,null,null,null,null,null,null,null,null,null,null,0]
[null,{"$f":"IFERROR(VLOOKUP(A1842,Base!$A$2:$D$460,2,0),\"\")","v":""},{"$f":"IFERROR(VLOOKUP(A1842,Base!$A$2:$D$460,3,0),\"\")","v":""},{"$f":"IFERROR(VLOOKUP(A1842,Base!$A$2:$D$460,4,0),\"\")","v":""},null,null,null,null,null,null,null,null,null,null,null,null,null,0]
[null,{"$f":"IFERROR(VLOOKUP(A1843,Base!$A$2:$D$460,2,0),\"\")","v":""},{"$f":"IFERROR(VLOOKUP(A1843,Base!$A$2:$D$460,3,0),\"\")","v":""},{"$f":"IFERROR(VLOOKUP(A1843,Base!$A$2:$D$460,4,0),\"\")","v":""},null,null,null,null,null,null,null,null,null,null,null,null,null,0]
[null,{"$f":"IFERROR(VLOOKUP(A1844,Base!$A$2:$D$460,2,0),\"\")","v":""},{"$f":"IFERROR(VLOOKUP(A1844,Base!$A$2:$D$460,3,0),\"\")","v":""},{"$f":"IFERROR(VLOOKUP(A1844,Base!$A$2:$D$460,4,0),\"\")","v":""},null,null,null,null,null,null,null,null,null,null,null,null,null,0]
[null,{"$f":"IFERROR(VLOOKUP(A1845,Base!$A$2:$D$460,2,0),\"\")","v":""},{"$f":"IFERROR(VLOOKUP(A1845,Base!$A$2:$D$460,3,0),\"\")","v":""},{"$f":"IFERROR(VLOOKUP(A1845,Base!$A$2:$D$460,4,0),\"\")","v":""},null,null,null,null,null,null,null,null,null,null,null,null,null,0]
[null,{"$f":"IFERROR(VLOOKUP(A1846,Base!$A$2:$D$460,2,0),\"\")","v":""},{"$f":"IFERROR(VLOOKUP(A1846,Base!$A$2:$D$460,3,0),\"\")","v":""},{"$f":"IFERROR(VLOOKUP(A1846,Base!$A$2:$D$460,4,0),\"\")","v":""},null,null,null,null,null,null,null,null,null,null,null,null,null,0]
[null,{"$f":"IFERROR(VLOOKUP(A1847,Base!$A$2:$D$460,2,0),\"\")","v":""},{"$f":"IFERROR(VLOOKUP(A1847,Base!$A$2:$D$460,3,0),\"\")","v":""},{"$f":"IFERROR(VLOOKUP(A1847,Base!$A$2:$D$460,4,0),\"\")","v":""},null,null,null,null,null,null,null,null,null,null,null,null,null,0]
[null,{"$f":"IFERROR(VLOOKUP(A1848,Base!$A$2:$D$460,2,0),\"\")","v":""},{"$f":"IFERROR(VLOOKUP(A1848,Base!$A$2:$D$460,3,0),\"\")","v":""},{"$f":"IFERROR(VLOOKUP(A1848,Base!$A$2:$D$460,4,0),\"\")","v":""},null,null,null,null,null,null,null,null,null,null,null,null,null,0]
[null,{"$f":"IFERROR(VLOOKUP(A1849,Base!$A$2:$D$460,2,0),\"\")","v":""},{"$f":"IFERROR(VLOOKUP(A1849,Base!$A$2:$D$460,3,0),\"\")","v":""},{"$f":"IFERROR(VLOOKUP(A1849,Base!$A$2:$D$460,4,0),\"\")","v":""},null,null,null,null,null,null,null,null,null,null,null,null,null,0]
[null,{"$f":"IFERROR(VLOOKUP(A1850,Base!$A$2:$D$460,2,0),\"\")","v":""},{"$f":"IFERROR(VLOOKUP(A1850,Base!$A$2:$D$460,3,0),\"\")","v":""},{"$f":"IFERROR(VLOOKUP(A1850,Base!$A$2:$D$460,4,0),\"\")","v":""},null,null,null,null,null,null,null,null,null,null,null,null,null,0]
[null,{"$f":"IFERROR(VLOOKUP(A1851,Base!$A$2:$D$460,2,0),\"\")","v":""},{"$f":"IFERROR(VLOOKUP(A1851,Base!$A$2:$D$460,3,0),\"\")","v":""},{"$f":"IFERROR(VLOOKUP(A1851,Base!$A$2:$D$460,4,0),\"\")","v":""},null,null,null,null,null,null,null,null,null,null,null,null,null,0]
[null,{"$f":"IFERROR(VLOOKUP(A1852,Base!$A$2:$D$460,2,0),\"\")","v":""},{"$f":"IFERROR(VLOOKUP(A1852,Base!$A$2:$D$460,3,0),\"\")","v":""},{"$f":"IFERROR(VLOOKUP(A1852,Base!$A$2:$D$460,4,0),\"\")","v":""},null,null,null,null,null,null,null,null,null,null,null,null,null,0]
[null,{"$f":"IFERROR(VLOOKUP(A1853,Base!$A$2:$D$460,2,0),\"\")","v":""},{"$f":"IFERROR(VLOOKUP(A1853,Base!$A$2:$D$460,3,0),\"\")","v":""},{"$f":"IFERROR(VLOOKUP(A1853,Base!$A$2:$D$460,4,0),\"\")","v":""},null,null,null,null,null,null,null,null,null,null,null,null,null,0]
[null,{"$f":"IFERROR(VLOOKUP(A1854,Base!$A$2:$D$460,2,0),\"\")","v":""},{"$f":"IFERROR(VLOOKUP(A1854,Base!$A$2:$D$460,3,0),\"\")","v":""},{"$f":"IFERROR(VLOOKUP(A1854,Base!$A$2:$D$460,4,0),\"\")","v":""},null,null,null,null,null,null,null,null,null,null,null,null,null,0]
[null,{"$f":"IFERROR(VLOOKUP(A1855,Base!$A$2:$D$460,2,0),\"\")","v":""},{"$f":"IFERROR(VLOOKUP(A1855,Base!$A$2:$D$460,3,0),\"\")","v":""},{"$f":"IFERROR(VLOOKUP(A1855,Base!$A$2:$D$460,4,0),\"\")","v":""},null,null,null,null,null,null,null,null,null,null,null,null,null,0]
[null,{"$f":"IFERROR(VLOOKUP(A1856,Base!$A$2:$D$460,2,0),\"\")","v":""},{"$f":"IFERROR(VLOOKUP(A1856,Base!$A$2:$D$460,3,0),\"\")","v":""},{"$f":"IFERROR(VLOOKUP(A1856,Base!$A$2:$D$460,4,0),\"\")","v":""},null,null,null,null,null,null,null,null,null,null,null,null,null,0]
[null,{"$f":"IFERROR(VLOOKUP(A1857,Base!$A$2:$D$460,2,0),\"\")","v":""},{"$f":"IFERROR(VLOOKUP(A1857,Base!$A$2:$D$460,3,0),\"\")","v":""},{"$f":"IFERROR(VLOOKUP(A1857,Base!$A$2:$D$460,4,0),\"\")","v":""},null,null,null,null,null,null,null,null,null,null,null,null,null,0]
[null,{"$f":"IFERROR(VLOOKUP(A1858,Base!$A$2:$D$460,2,0),\"\")","v":""},{"$f":"IFERROR(VLOOKUP(A1858,Base!$A$2:$D$460,3,0),\"\")","v":""},{"$f":"IFERROR(VLOOKUP(A1858,Base!$A$2:$D$460,4,0),\"\")","v":""},null,null,null,null,null,null,null,null,null,null,null,null,null,0]
[null,{"$f":"IFERROR(VLOOKUP(A1859,Base!$A$2:$D$460,2,0),\"\")","v":""},{"$f":"IFERROR(VLOOKUP(A1859,Base!$A$2:$D$460,3,0),\"\")","v":""},{"$f":"IFERROR(VLOOKUP(A1859,Base!$A$2:$D$460,4,0),\"\")","v":""},null,null,null,null,null,null,null,null,null,null,null,null,null,0]
[null,{"$f":"IFERROR(VLOOKUP(A1860,Base!$A$2:$D$460,2,0),\"\")","v":""},{"$f":"IFERROR(VLOOKUP(A1860,Base!$A$2:$D$460,3,0),\"\")","v":""},{"$f":"IFERROR(VLOOKUP(A1860,Base!$A$2:$D$460,4,0),\"\")","v":""},null,null,null,null,null,null,null,null,null,null,null,null,null,0]
[null,{"$f":"IFERROR(VLOOKUP(A1861,Base!$A$2:$D$460,2,0),\"\")","v":""},{"$f":"IFERROR(VLOOKUP(A1861,Base!$A$2:$D$460,3,0),\"\")","v":""},{"$f":"IFERROR(VLOOKUP(A1861,Base!$A$2:$D$460,4,0),\"\")","v":""},null,null,null,null,null,null,null,null,null,null,null,null,null,0]
[null,{"$f":"IFERROR(VLOOKUP(A1862,Base!$A$2:$D$460,2,0),\"\")","v":""},{"$f":"IFERROR(VLOOKUP(A1862,Base!$A$2:$D$460,3,0),\"\")","v":""},{"$f":"IFERROR(VLOOKUP(A1862,Base!$A$2:$D$460,4,0),\"\")","v":""},null,null,null,null,null,null,null,null,null,null,null,null,null,0]
[null,{"$f":"IFERROR(VLOOKUP(A1863,Base!$A$2:$D$460,2,0),\"\")","v":""},{"$f":"IFERROR(VLOOKUP(A1863,Base!$A$2:$D$460,3,0),\"\")","v":""},{"$f":"IFERROR(VLOOKUP(A1863,Base!$A$2:$D$460,4,0),\"\")","v":""},null,null,null,null,null,null,null,null,null,null,null,null,null,0]
[null,{"$f":"IFERROR(VLOOKUP(A1864,Base!$A$2:$D$460,2,0),\"\")","v":""},{"$f":"IFERROR(VLOOKUP(A1864,Base!$A$2:$D$460,3,0),\"\")","v":""},{"$f":"IFERROR(VLOOKUP(A1864,Base!$A$2:$D$460,4,0),\"\")","v":""},null,null,null,null,null,null,null,null,null,null,null,null,null,0]
[null,{"$f":"IFERROR(VLOOKUP(A1865,Base!$A$2:$D$460,2,0),\"\")","v":""},{"$f":"IFERROR(VLOOKUP(A1865,Base!$A$2:$D$460,3,0),\"\")","v":""},{"$f":"IFERROR(VLOOKUP(A1865,Base!$A$2:$D$460,4,0),\"\")","v":""},null,null,null,null,null,null,null,null,null,null,null,null,null,0]
[null,{"$f":"IFERROR(VLOOKUP(A1866,Base!$A$2:$D$460,2,0),\"\")","v":""},{"$f":"IFERROR(VLOOKUP(A1866,Base!$A$2:$D$460,3,0),\"\")","v":""},{"$f":"IFERROR(VLOOKUP(A1866,Base!$A$2:$D$460,4,0),\"\")","v":""},null,null,null,null,null,null,null,null,null,null,null,null,null,0]
[null,{"$f":"IFERROR(VLOOKUP(A1867,Base!$A$2:$D$460,2,0),\"\")","v":""},{"$f":"IFERROR(VLOOKUP(A1867,Base!$A$2:$D$460,3,0),\"\")","v":""},{"$f":"IFERROR(VLOOKUP(A1867,Base!$A$2:$D$460,4,0),\"\")","v":""},null,null,null,null,null,null,null,null,null,null,null,null,null,0]
[null,{"$f":"IFERROR(VLOOKUP(A1868,Base!$A$2:$D$460,2,0),\"\")","v":""},{"$f":"IFERROR(VLOOKUP(A1868,Base!$A$2:$D$460,3,0),\"\")","v":""},{"$f":"IFERROR(VLOOKUP(A1868,Base!$A$2:$D$460,4,0),\"\")","v":""},null,null,null,null,null,null,null,null,null,null,null,null,null,0]
[null,{"$f":"IFERROR(VLOOKUP(A1869,Base!$A$2:$D$460,2,0),\"\")","v":""},{"$f":"IFERROR(VLOOKUP(A1869,Base!$A$2:$D$460,3,0),\"\")","v":""},{"$f":"IFERROR(VLOOKUP(A1869,Base!$A$2:$D$460,4,0),\"\")","v":""},null,null,null,null,null,null,null,null,null,null,null,null,null,0]
[null,{"$f":"IFERROR(VLOOKUP(A1870,Base!$A$2:$D$460,2,0),\"\")","v":""},{"$f":"IFERROR(VLOOKUP(A1870,Base!$A$2:$D$460,3,0),\"\")","v":""},{"$f":"IFERROR(VLOOKUP(A1870,Base!$A$2:$D$460,4,0),\"\")","v":""},null,null,null,null,null,null,null,null,null,null,null,null,null,0]
[null,{"$f":"IFERROR(VLOOKUP(A1871,Base!$A$2:$D$460,2,0),\"\")","v":""},{"$f":"IFERROR(VLOOKUP(A1871,Base!$A$2:$D$460,3,0),\"\")","v":""},{"$f":"IFERROR(VLOOKUP(A1871,Base!$A$2:$D$460,4,0),\"\")","v":""},null,null,null,null,null,null,null,null,null,null,null,null,null,0]
[null,{"$f":"IFERROR(VLOOKUP(A1872,Base!$A$2:$D$460,2,0),\"\")","v":""},{"$f":"IFERROR(VLOOKUP(A1872,Base!$A$2:$D$460,3,0),\"\")","v":""},{"$f":"IFERROR(VLOOKUP(A1872,Base!$A$2:$D$460,4,0),\"\")","v":""},null,null,null,null,null,null,null,null,null,null,null,null,null,0]
[null,{"$f":"IFERROR(VLOOKUP(A1873,Base!$A$2:$D$460,2,0),\"\")","v":""},{"$f":"IFERROR(VLOOKUP(A1873,Base!$A$2:$D$460,3,0),\"\")","v":""},{"$f":"IFERROR(VLOOKUP(A1873,Base!$A$2:$D$460,4,0),\"\")","v":""},null,null,null,null,null,null,null,null,null,null,null,null,null,0]
[null,{"$f":"IFERROR(VLOOKUP(A1874,Base!$A$2:$D$460,2,0),\"\")","v":""},{"$f":"IFERROR(VLOOKUP(A1874,Base!$A$2:$D$460,3,0),\"\")","v":""},{"$f":"IFERROR(VLOOKUP(A1874,Base!$A$2:$D$460,4,0),\"\")","v":""},null,null,null,null,null,null,null,null,null,null,null,null,null,0]
[null,{"$f":"IFERROR(VLOOKUP(A1875,Base!$A$2:$D$460,2,0),\"\")","v":""},{"$f":"IFERROR(VLOOKUP(A1875,Base!$A$2:$D$460,3,0),\"\")","v":""},{"$f":"IFERROR(VLOOKUP(A1875,Base!$A$2:$D$460,4,0),\"\")","v":""},null,null,null,null,null,null,null,null,null,null,null,null,null,0]
[null,{"$f":"IFERROR(VLOOKUP(A1876,Base!$A$2:$D$460,2,0),\"\")","v":""},{"$f":"IFERROR(VLOOKUP(A1876,Base!$A$2:$D$460,3,0),\"\")","v":""},{"$f":"IFERROR(VLOOKUP(A1876,Base!$A$2:$D$460,4,0),\"\")","v":""},null,null,null,null,null,null,null,null,null,null,null,null,null,0]
[null,{"$f":"IFERROR(VLOOKUP(A1877,Base!$A$2:$D$460,2,0),\"\")","v":""},{"$f":"IFERROR(VLOOKUP(A1877,Base!$A$2:$D$460,3,0),\"\")","v":""},{"$f":"IFERROR(VLOOKUP(A1877,Base!$A$2:$D$460,4,0),\"\")","v":""},null,null,null,null,null,null,null,null,null,null,null,null,null,0]
[null,{"$f":"IFERROR(VLOOKUP(A1878,Base!$A$2:$D$460,2,0),\"\")","v":""},{"$f":"IFERROR(VLOOKUP(A1878,Base!$A$2:$D$460,3,0),\"\")","v":""},{"$f":"IFERROR(VLOOKUP(A1878,Base!$A$2:$D$460,4,0),\"\")","v":""},null,null,null,null,null,null,null,null,null,null,null,null,null,0]
[null,{"$f":"IFERROR(VLOOKUP(A1879,Base!$A$2:$D$460,2,0),\"\")","v":""},{"$f":"IFERROR(VLOOKUP(A1879,Base!$A$2:$D$460,3,0),\"\")","v":""},{"$f":"IFERROR(VLOOKUP(A1879,Base!$A$2:$D$460,4,0),\"\")","v":""},null,null,null,null,null,null,null,null,null,null,null,null,null,0]
[null,{"$f":"IFERROR(VLOOKUP(A1880,Base!$A$2:$D$460,2,0),\"\")","v":""},{"$f":"IFERROR(VLOOKUP(A1880,Base!$A$2:$D$460,3,0),\"\")","v":""},{"$f":"IFERROR(VLOOKUP(A1880,Base!$A$2:$D$460,4,0),\"\")","v":""},null,null,null,null,null,null,null,null,null,null,null,null,null,0]
[null,{"$f":"IFERROR(VLOOKUP(A1881,Base!$A$2:$D$460,2,0),\"\")","v":""},{"$f":"IFERROR(VLOOKUP(A1881,Base!$A$2:$D$460,3,0),\"\")","v":""},{"$f":"IFERROR(VLOOKUP(A1881,Base!$A$2:$D$460,4,0),\"\")","v":""},null,null,null,null,null,null,null,null,null,null,null,null,null,0]
[null,{"$f":"IFERROR(VLOOKUP(A1882,Base!$A$2:$D$460,2,0),\"\")","v":""},{"$f":"IFERROR(VLOOKUP(A1882,Base!$A$2:$D$460,3,0),\"\")","v":""},{"$f":"IFERROR(VLOOKUP(A1882,Base!$A$2:$D$460,4,0),\"\")","v":""},null,null,null,null,null,null,null,null,null,null,null,null,null,0]
[null,{"$f":"IFERROR(VLOOKUP(A1883,Base!$A$2:$D$460,2,0),\"\")","v":""},{"$f":"IFERROR(VLOOKUP(A1883,Base!$A$2:$D$460,3,0),\"\")","v":""},{"$f":"IFERROR(VLOOKUP(A1883,Base!$A$2:$D$460,4,0),\"\")","v":""},null,null,null,null,null,null,null,null,null,null,null,null,null,0]
[null,{"$f":"IFERROR(VLOOKUP(A1884,Base!$A$2:$D$460,2,0),\"\")","v":""},{"$f":"IFERROR(VLOOKUP(A1884,Base!$A$2:$D$460,3,0),\"\")","v":""},{"$f":"IFERROR(VLOOKUP(A1884,Base!$A$2:$D$460,4,0),\"\")","v":""},null,null,null,null,null,null,null,null,null,null,null,null,null,0]
[null,{"$f":"IFERROR(VLOOKUP(A1885,Base!$A$2:$D$460,2,0),\"\")","v":""},{"$f":"IFERROR(VLOOKUP(A1885,Base!$A$2:$D$460,3,0),\"\")","v":""},{"$f":"IFERROR(VLOOKUP(A1885,Base!$A$2:$D$460,4,0),\"\")","v":""},null,null,null,null,null,null,null,null,null,null,null,null,null,0]
[null,{"$f":"IFERROR(VLOOKUP(A1886,Base!$A$2:$D$460,2,0),\"\")","v":""},{"$f":"IFERROR(VLOOKUP(A1886,Base!$A$2:$D$460,3,0),\"\")","v":""},{"$f":"IFERROR(VLOOKUP(A1886,Base!$A$2:$D$460,4,0),\"\")","v":""},null,null,null,null,null,null,null,null,null,null,null,null,null,0]
[null,{"$f":"IFERROR(VLOOKUP(A1887,Base!$A$2:$D$460,2,0),\"\")","v":""},{"$f":"IFERROR(VLOOKUP(A1887,Base!$A$2:$D$460,3,0),\"\")","v":""},{"$f":"IFERROR(VLOOKUP(A1887,Base!$A$2:$D$460,4,0),\"\")","v":""},null,null,null,null,null,null,null,null,null,null,null,null,null,0]
[null,{"$f":"IFERROR(VLOOKUP(A1888,Base!$A$2:$D$460,2,0),\"\")","v":""},{"$f":"IFERROR(VLOOKUP(A1888,Base!$A$2:$D$460,3,0),\"\")","v":""},{"$f":"IFERROR(VLOOKUP(A1888,Base!$A$2:$D$460,4,0),\"\")","v":""},null,null,null,null,null,null,null,null,null,null,null,null,null,0]
[null,{"$f":"IFERROR(VLOOKUP(A1889,Base!$A$2:$D$460,2,0),\"\")","v":""},{"$f":"IFERROR(VLOOKUP(A1889,Base!$A$2:$D$460,3,0),\"\")","v":""},{"$f":"IFERROR(VLOOKUP(A1889,Base!$A$2:$D$460,4,0),\"\")","v":""},null,null,null,null,null,null,null,null,null,null,null,null,null,0]
[null,{"$f":"IFERROR(VLOOKUP(A1890,Base!$A$2:$D$460,2,0),\"\")","v":""},{"$f":"IFERROR(VLOOKUP(A1890,Base!$A$2:$D$460,3,0),\"\")","v":""},{"$f":"IFERROR(VLOOKUP(A1890,Base!$A$2:$D$460,4,0),\"\")","v":""},null,null,null,null,null,null,null,null,null,null,null,null,null,0]
[null,{"$f":"IFERROR(VLOOKUP(A1891,Base!$A$2:$D$460,2,0),\"\")","v":""},{"$f":"IFERROR(VLOOKUP(A1891,Base!$A$2:$D$460,3,0),\"\")","v":""},{"$f":"IFERROR(VLOOKUP(A1891,Base!$A$2:$D$460,4,0),\"\")","v":""},null,null,null,null,null,null,null,null,null,null,null,null,null,0]
[null,{"$f":"IFERROR(VLOOKUP(A1892,Base!$A$2:$D$460,2,0),\"\")","v":""},{"$f":"IFERROR(VLOOKUP(A1892,Base!$A$2:$D$460,3,0),\"\")","v":""},{"$f":"IFERROR(VLOOKUP(A1892,Base!$A$2:$D$460,4,0),\"\")","v":""},null,null,null,null,null,null,null,null,null,null,null,null,null,0]
[null,{"$f":"IFERROR(VLOOKUP(A1893,Base!$A$2:$D$460,2,0),\"\")","v":""},{"$f":"IFERROR(VLOOKUP(A1893,Base!$A$2:$D$460,3,0),\"\")","v":""},{"$f":"IFERROR(VLOOKUP(A1893,Base!$A$2:$D$460,4,0),\"\")","v":""},null,null,null,null,null,null,null,null,null,null,null,null,null,0]
[null,{"$f":"IFERROR(VLOOKUP(A1894,Base!$A$2:$D$460,2,0),\"\")","v":""},{"$f":"IFERROR(VLOOKUP(A1894,Base!$A$2:$D$460,3,0),\"\")","v":""},{"$f":"IFERROR(VLOOKUP(A1894,Base!$A$2:$D$460,4,0),\"\")","v":""},null,null,null,null,null,null,null,null,null,null,null,null,null,0]
[null,{"$f":"IFERROR(VLOOKUP(A1895,Base!$A$2:$D$460,2,0),\"\")","v":""},{"$f":"IFERROR(VLOOKUP(A1895,Base!$A$2:$D$460,3,0),\"\")","v":""},{"$f":"IFERROR(VLOOKUP(A1895,Base!$A$2:$D$460,4,0),\"\")","v":""},null,null,null,null,null,null,null,null,null,null,null,null,null,{"$f":"SUM(N1895:Q1895)/4","v":0}]
[null,{"$f":"IFERROR(VLOOKUP(A1896,Base!$A$2:$D$460,2,0),\"\")","v":""},{"$f":"IFERROR(VLOOKUP(A1896,Base!$A$2:$D$460,3,0),\"\")","v":""},{"$f":"IFERROR(VLOOKUP(A1896,Base!$A$2:$D$460,4,0),\"\")","v":""},null,null,null,null,null,null,null,null,null,null,null,null,null,0]
[null,{"$f":"IFERROR(VLOOKUP(A1897,Base!$A$2:$D$460,2,0),\"\")","v":""},{"$f":"IFERROR(VLOOKUP(A1897,Base!$A$2:$D$460,3,0),\"\")","v":""},{"$f":"IFERROR(VLOOKUP(A1897,Base!$A$2:$D$460,4,0),\"\")","v":""},null,null,null,null,null,null,null,null,null,null,null,null,null,0]
[null,{"$f":"IFERROR(VLOOKUP(A1898,Base!$A$2:$D$460,2,0),\"\")","v":""},{"$f":"IFERROR(VLOOKUP(A1898,Base!$A$2:$D$460,3,0),\"\")","v":""},{"$f":"IFERROR(VLOOKUP(A1898,Base!$A$2:$D$460,4,0),\"\")","v":""},null,null,null,null,null,null,null,null,null,null,null,null,null,0]
[null,{"$f":"IFERROR(VLOOKUP(A1899,Base!$A$2:$D$460,2,0),\"\")","v":""},{"$f":"IFERROR(VLOOKUP(A1899,Base!$A$2:$D$460,3,0),\"\")","v":""},{"$f":"IFERROR(VLOOKUP(A1899,Base!$A$2:$D$460,4,0),\"\")","v":""},null,null,null,null,null,null,null,null,null,null,null,null,null,0]
[null,{"$f":"IFERROR(VLOOKUP(A1900,Base!$A$2:$D$460,2,0),\"\")","v":""},{"$f":"IFERROR(VLOOKUP(A1900,Base!$A$2:$D$460,3,0),\"\")","v":""},{"$f":"IFERROR(VLOOKUP(A1900,Base!$A$2:$D$460,4,0),\"\")","v":""},null,null,null,null,null,null,null,null,null,null,null,null,null,0]
[null,{"$f":"IFERROR(VLOOKUP(A1901,Base!$A$2:$D$460,2,0),\"\")","v":""},{"$f":"IFERROR(VLOOKUP(A1901,Base!$A$2:$D$460,3,0),\"\")","v":""},{"$f":"IFERROR(VLOOKUP(A1901,Base!$A$2:$D$460,4,0),\"\")","v":""},null,null,null,null,null,null,null,null,null,null,null,null,null,0]
[null,{"$f":"IFERROR(VLOOKUP(A1902,Base!$A$2:$D$460,2,0),\"\")","v":""},{"$f":"IFERROR(VLOOKUP(A1902,Base!$A$2:$D$460,3,0),\"\")","v":""},{"$f":"IFERROR(VLOOKUP(A1902,Base!$A$2:$D$460,4,0),\"\")","v":""},null,null,null,null,null,null,null,null,null,null,null,null,null,0]
[null,{"$f":"IFERROR(VLOOKUP(A1903,Base!$A$2:$D$460,2,0),\"\")","v":""},{"$f":"IFERROR(VLOOKUP(A1903,Base!$A$2:$D$460,3,0),\"\")","v":""},{"$f":"IFERROR(VLOOKUP(A1903,Base!$A$2:$D$460,4,0),\"\")","v":""},null,null,null,null,null,null,null,null,null,null,null,null,null,0]
[null,{"$f":"IFERROR(VLOOKUP(A1904,Base!$A$2:$D$460,2,0),\"\")","v":""},{"$f":"IFERROR(VLOOKUP(A1904,Base!$A$2:$D$460,3,0),\"\")","v":""},{"$f":"IFERROR(VLOOKUP(A1904,Base!$A$2:$D$460,4,0),\"\")","v":""},null,null,null,null,null,null,null,null,null,null,null,null,null,0]
[null,{"$f":"IFERROR(VLOOKUP(A1905,Base!$A$2:$D$460,2,0),\"\")","v":""},{"$f":"IFERROR(VLOOKUP(A1905,Base!$A$2:$D$460,3,0),\"\")","v":""},{"$f":"IFERROR(VLOOKUP(A1905,Base!$A$2:$D$460,4,0),\"\")","v":""},null,null,null,null,null,null,null,null,null,null,null,null,null,0]
[null,{"$f":"IFERROR(VLOOKUP(A1906,Base!$A$2:$D$460,2,0),\"\")","v":""},{"$f":"IFERROR(VLOOKUP(A1906,Base!$A$2:$D$460,3,0),\"\")","v":""},{"$f":"IFERROR(VLOOKUP(A1906,Base!$A$2:$D$460,4,0),\"\")","v":""},null,null,null,null,null,null,null,null,null,null,null,null,null,0]
[null,{"$f":"IFERROR(VLOOKUP(A1907,Base!$A$2:$D$460,2,0),\"\")","v":""},{"$f":"IFERROR(VLOOKUP(A1907,Base!$A$2:$D$460,3,0),\"\")","v":""},{"$f":"IFERROR(VLOOKUP(A1907,Base!$A$2:$D$460,4,0),\"\")","v":""},null,null,null,null,null,null,null,null,null,null,null,null,null,0]
[null,{"$f":"IFERROR(VLOOKUP(A1908,Base!$A$2:$D$460,2,0),\"\")","v":""},{"$f":"IFERROR(VLOOKUP(A1908,Base!$A$2:$D$460,3,0),\"\")","v":""},{"$f":"IFERROR(VLOOKUP(A1908,Base!$A$2:$D$460,4,0),\"\")","v":""},null,null,null,null,null,null,null,null,null,null,null,null,null,0]
[null,{"$f":"IFERROR(VLOOKUP(A1909,Base!$A$2:$D$460,2,0),\"\")","v":""},{"$f":"IFERROR(VLOOKUP(A1909,Base!$A$2:$D$460,3,0),\"\")","v":""},{"$f":"IFERROR(VLOOKUP(A1909,Base!$A$2:$D$460,4,0),\"\")","v":""},null,null,null,null,null,null,null,null,null,null,null,null,null,0]
[null,{"$f":"IFERROR(VLOOKUP(A1910,Base!$A$2:$D$460,2,0),\"\")","v":""},{"$f":"IFERROR(VLOOKUP(A1910,Base!$A$2:$D$460,3,0),\"\")","v":""},{"$f":"IFERROR(VLOOKUP(A1910,Base!$A$2:$D$460,4,0),\"\")","v":""},null,null,null,null,null,null,null,null,null,null,null,null,null,0]
[null,{"$f":"IFERROR(VLOOKUP(A1911,Base!$A$2:$D$460,2,0),\"\")","v":""},{"$f":"IFERROR(VLOOKUP(A1911,Base!$A$2:$D$460,3,0),\"\")","v":""},{"$f":"IFERROR(VLOOKUP(A1911,Base!$A$2:$D$460,4,0),\"\")","v":""},null,null,null,null,null,null,null,null,null,null,null,null,null,0]
[null,{"$f":"IFERROR(VLOOKUP(A1912,Base!$A$2:$D$460,2,0),\"\")","v":""},{"$f":"IFERROR(VLOOKUP(A1912,Base!$A$2:$D$460,3,0),\"\")","v":""},{"$f":"IFERROR(VLOOKUP(A1912,Base!$A$2:$D$460,4,0),\"\")","v":""},null,null,null,null,null,null,null,null,null,null,null,null,null,0]
[null,{"$f":"IFERROR(VLOOKUP(A1913,Base!$A$2:$D$460,2,0),\"\")","v":""},{"$f":"IFERROR(VLOOKUP(A1913,Base!$A$2:$D$460,3,0),\"\")","v":""},{"$f":"IFERROR(VLOOKUP(A1913,Base!$A$2:$D$460,4,0),\"\")","v":""},null,null,null,null,null,null,null,null,null,null,null,null,null,0]
[null,{"$f":"IFERROR(VLOOKUP(A1914,Base!$A$2:$D$460,2,0),\"\")","v":""},{"$f":"IFERROR(VLOOKUP(A1914,Base!$A$2:$D$460,3,0),\"\")","v":""},{"$f":"IFERROR(VLOOKUP(A1914,Base!$A$2:$D$460,4,0),\"\")","v":""},null,null,null,null,null,null,null,null,null,null,null,null,null,0]
[null,{"$f":"IFERROR(VLOOKUP(A1915,Base!$A$2:$D$460,2,0),\"\")","v":""},{"$f":"IFERROR(VLOOKUP(A1915,Base!$A$2:$D$460,3,0),\"\")","v":""},{"$f":"IFERROR(VLOOKUP(A1915,Base!$A$2:$D$460,4,0),\"\")","v":""},null,null,null,null,null,null,null,null,null,null,null,null,null,0]
[null,{"$f":"IFERROR(VLOOKUP(A1916,Base!$A$2:$D$460,2,0),\"\")","v":""},{"$f":"IFERROR(VLOOKUP(A1916,Base!$A$2:$D$460,3,0),\"\")","v":""},{"$f":"IFERROR(VLOOKUP(A1916,Base!$A$2:$D$460,4,0),\"\")","v":""},null,null,null,null,null,null,null,null,null,null,null,null,null,0]
[null,{"$f":"IFERROR(VLOOKUP(A1917,Base!$A$2:$D$460,2,0),\"\")","v":""},{"$f":"IFERROR(VLOOKUP(A1917,Base!$A$2:$D$460,3,0),\"\")","v":""},{"$f":"IFERROR(VLOOKUP(A1917,Base!$A$2:$D$460,4,0),\"\")","v":""},null,null,null,null,null,null,null,null,null,null,null,null,null,0]
[null,{"$f":"IFERROR(VLOOKUP(A1918,Base!$A$2:$D$460,2,0),\"\")","v":""},{"$f":"IFERROR(VLOOKUP(A1918,Base!$A$2:$D$460,3,0),\"\")","v":""},{"$f":"IFERROR(VLOOKUP(A1918,Base!$A$2:$D$460,4,0),\"\")","v":""},null,null,null,null,null,null,null,null,null,null,null,null,null,0]
[null,{"$f":"IFERROR(VLOOKUP(A1919,Base!$A$2:$D$460,2,0),\"\")","v":""},{"$f":"IFERROR(VLOOKUP(A1919,Base!$A$2:$D$460,3,0),\"\")","v":""},{"$f":"IFERROR(VLOOKUP(A1919,Base!$A$2:$D$460,4,0),\"\")","v":""},null,null,null,null,null,null,null,null,null,null,null,null,null,0]
[null,{"$f":"IFERROR(VLOOKUP(A1920,Base!$A$2:$D$460,2,0),\"\")","v":""},{"$f":"IFERROR(VLOOKUP(A1920,Base!$A$2:$D$460,3,0),\"\")","v":""},{"$f":"IFERROR(VLOOKUP(A1920,Base!$A$2:$D$460,4,0),\"\")","v":""},null,null,null,null,null,null,null,null,null,null,null,null,null,0]
[null,{"$f":"IFERROR(VLOOKUP(A1921,Base!$A$2:$D$460,2,0),\"\")","v":""},{"$f":"IFERROR(VLOOKUP(A1921,Base!$A$2:$D$460,3,0),\"\")","v":""},{"$f":"IFERROR(VLOOKUP(A1921,Base!$A$2:$D$460,4,0),\"\")","v":""},null,null,null,null,null,null,null,null,null,null,null,null,null,0]
[null,{"$f":"IFERROR(VLOOKUP(A1922,Base!$A$2:$D$460,2,0),\"\")","v":""},{"$f":"IFERROR(VLOOKUP(A1922,Base!$A$2:$D$460,3,0),\"\")","v":""},{"$f":"IFERROR(VLOOKUP(A1922,Base!$A$2:$D$460,4,0),\"\")","v":""},null,null,null,null,null,null,null,null,null,null,null,null,null,0]
[null,{"$f":"IFERROR(VLOOKUP(A1923,Base!$A$2:$D$460,2,0),\"\")","v":""},{"$f":"IFERROR(VLOOKUP(A1923,Base!$A$2:$D$460,3,0),\"\")","v":""},{"$f":"IFERROR(VLOOKUP(A1923,Base!$A$2:$D$460,4,0),\"\")","v":""},null,null,null,null,null,null,null,null,null,null,null,null,null,0]
[null,{"$f":"IFERROR(VLOOKUP(A1924,Base!$A$2:$D$460,2,0),\"\")","v":""},{"$f":"IFERROR(VLOOKUP(A1924,Base!$A$2:$D$460,3,0),\"\")","v":""},{"$f":"IFERROR(VLOOKUP(A1924,Base!$A$2:$D$460,4,0),\"\")","v":""},null,null,null,null,null,null,null,null,null,null,null,null,null,0]
[null,{"$f":"IFERROR(VLOOKUP(A1925,Base!$A$2:$D$460,2,0),\"\")","v":""},{"$f":"IFERROR(VLOOKUP(A1925,Base!$A$2:$D$460,3,0),\"\")","v":""},{"$f":"IFERROR(VLOOKUP(A1925,Base!$A$2:$D$460,4,0),\"\")","v":""},null,null,null,null,null,null,null,null,null,null,null,null,null,0]
[null,{"$f":"IFERROR(VLOOKUP(A1926,Base!$A$2:$D$460,2,0),\"\")","v":""},{"$f":"IFERROR(VLOOKUP(A1926,Base!$A$2:$D$460,3,0),\"\")","v":""},{"$f":"IFERROR(VLOOKUP(A1926,Base!$A$2:$D$460,4,0),\"\")","v":""},null,null,null,null,null,null,null,null,null,null,null,null,null,0]
[null,{"$f":"IFERROR(VLOOKUP(A1927,Base!$A$2:$D$460,2,0),\"\")","v":""},{"$f":"IFERROR(VLOOKUP(A1927,Base!$A$2:$D$460,3,0),\"\")","v":""},{"$f":"IFERROR(VLOOKUP(A1927,Base!$A$2:$D$460,4,0),\"\")","v":""},null,null,null,null,null,null,null,null,null,null,null,null,null,0]
[null,{"$f":"IFERROR(VLOOKUP(A1928,Base!$A$2:$D$460,2,0),\"\")","v":""},{"$f":"IFERROR(VLOOKUP(A1928,Base!$A$2:$D$460,3,0),\"\")","v":""},{"$f":"IFERROR(VLOOKUP(A1928,Base!$A$2:$D$460,4,0),\"\")","v":""},null,null,null,null,null,null,null,null,null,null,null,null,null,0]
[null,{"$f":"IFERROR(VLOOKUP(A1929,Base!$A$2:$D$460,2,0),\"\")","v":""},{"$f":"IFERROR(VLOOKUP(A1929,Base!$A$2:$D$460,3,0),\"\")","v":""},{"$f":"IFERROR(VLOOKUP(A1929,Base!$A$2:$D$460,4,0),\"\")","v":""},null,null,null,null,null,null,null,null,null,null,null,null,null,0]
[null,{"$f":"IFERROR(VLOOKUP(A1930,Base!$A$2:$D$460,2,0),\"\")","v":""},{"$f":"IFERROR(VLOOKUP(A1930,Base!$A$2:$D$460,3,0),\"\")","v":""},{"$f":"IFERROR(VLOOKUP(A1930,Base!$A$2:$D$460,4,0),\"\")","v":""},null,null,null,null,null,null,null,null,null,null,null,null,null,0]
[null,{"$f":"IFERROR(VLOOKUP(A1931,Base!$A$2:$D$460,2,0),\"\")","v":""},{"$f":"IFERROR(VLOOKUP(A1931,Base!$A$2:$D$460,3,0),\"\")","v":""},{"$f":"IFERROR(VLOOKUP(A1931,Base!$A$2:$D$460,4,0),\"\")","v":""},null,null,null,null,null,null,null,null,null,null,null,null,null,0]
[null,{"$f":"IFERROR(VLOOKUP(A1932,Base!$A$2:$D$460,2,0),\"\")","v":""},{"$f":"IFERROR(VLOOKUP(A1932,Base!$A$2:$D$460,3,0),\"\")","v":""},{"$f":"IFERROR(VLOOKUP(A1932,Base!$A$2:$D$460,4,0),\"\")","v":""},null,null,null,null,null,null,null,null,null,null,null,null,null,0]
[null,{"$f":"IFERROR(VLOOKUP(A1933,Base!$A$2:$D$460,2,0),\"\")","v":""},{"$f":"IFERROR(VLOOKUP(A1933,Base!$A$2:$D$460,3,0),\"\")","v":""},{"$f":"IFERROR(VLOOKUP(A1933,Base!$A$2:$D$460,4,0),\"\")","v":""},null,null,null,null,null,null,null,null,null,null,null,null,null,0]
[null,{"$f":"IFERROR(VLOOKUP(A1934,Base!$A$2:$D$460,2,0),\"\")","v":""},{"$f":"IFERROR(VLOOKUP(A1934,Base!$A$2:$D$460,3,0),\"\")","v":""},{"$f":"IFERROR(VLOOKUP(A1934,Base!$A$2:$D$460,4,0),\"\")","v":""},null,null,null,null,null,null,null,null,null,null,null,null,null,0]
[null,{"$f":"IFERROR(VLOOKUP(A1935,Base!$A$2:$D$460,2,0),\"\")","v":""},{"$f":"IFERROR(VLOOKUP(A1935,Base!$A$2:$D$460,3,0),\"\")","v":""},{"$f":"IFERROR(VLOOKUP(A1935,Base!$A$2:$D$460,4,0),\"\")","v":""},null,null,null,null,null,null,null,null,null,null,null,null,null,0]
[null,{"$f":"IFERROR(VLOOKUP(A1936,Base!$A$2:$D$460,2,0),\"\")","v":""},{"$f":"IFERROR(VLOOKUP(A1936,Base!$A$2:$D$460,3,0),\"\")","v":""},{"$f":"IFERROR(VLOOKUP(A1936,Base!$A$2:$D$460,4,0),\"\")","v":""},null,null,null,null,null,null,null,null,null,null,null,null,null,0]
[null,{"$f":"IFERROR(VLOOKUP(A1937,Base!$A$2:$D$460,2,0),\"\")","v":""},{"$f":"IFERROR(VLOOKUP(A1937,Base!$A$2:$D$460,3,0),\"\")","v":""},{"$f":"IFERROR(VLOOKUP(A1937,Base!$A$2:$D$460,4,0),\"\")","v":""},null,null,null,null,null,null,null,null,null,null,null,null,null,0]
[null,{"$f":"IFERROR(VLOOKUP(A1938,Base!$A$2:$D$460,2,0),\"\")","v":""},{"$f":"IFERROR(VLOOKUP(A1938,Base!$A$2:$D$460,3,0),\"\")","v":""},{"$f":"IFERROR(VLOOKUP(A1938,Base!$A$2:$D$460,4,0),\"\")","v":""},null,null,null,null,null,null,null,null,null,null,null,null,null,0]
[null,{"$f":"IFERROR(VLOOKUP(A1939,Base!$A$2:$D$460,2,0),\"\")","v":""},{"$f":"IFERROR(VLOOKUP(A1939,Base!$A$2:$D$460,3,0),\"\")","v":""},{"$f":"IFERROR(VLOOKUP(A1939,Base!$A$2:$D$460,4,0),\"\")","v":""},null,null,null,null,null,null,null,null,null,null,null,null,null,0]
[null,{"$f":"IFERROR(VLOOKUP(A1940,Base!$A$2:$D$460,2,0),\"\")","v":""},{"$f":"IFERROR(VLOOKUP(A1940,Base!$A$2:$D$460,3,0),\"\")","v":""},{"$f":"IFERROR(VLOOKUP(A1940,Base!$A$2:$D$460,4,0),\"\")","v":""},null,null,null,null,null,null,null,null,null,null,null,null,null,0]
[null,{"$f":"IFERROR(VLOOKUP(A1941,Base!$A$2:$D$460,2,0),\"\")","v":""},{"$f":"IFERROR(VLOOKUP(A1941,Base!$A$2:$D$460,3,0),\"\")","v":""},{"$f":"IFERROR(VLOOKUP(A1941,Base!$A$2:$D$460,4,0),\"\")","v":""},null,null,null,null,null,null,null,null,null,null,null,null,null,0]
[null,{"$f":"IFERROR(VLOOKUP(A1942,Base!$A$2:$D$460,2,0),\"\")","v":""},{"$f":"IFERROR(VLOOKUP(A1942,Base!$A$2:$D$460,3,0),\"\")","v":""},{"$f":"IFERROR(VLOOKUP(A1942,Base!$A$2:$D$460,4,0),\"\")","v":""},null,null,null,null,null,null,null,null,null,null,null,null,null,0]
[null,{"$f":"IFERROR(VLOOKUP(A1943,Base!$A$2:$D$460,2,0),\"\")","v":""},{"$f":"IFERROR(VLOOKUP(A1943,Base!$A$2:$D$460,3,0),\"\")","v":""},{"$f":"IFERROR(VLOOKUP(A1943,Base!$A$2:$D$460,4,0),\"\")","v":""},null,null,null,null,null,null,null,null,null,null,null,null,null,0]
[null,{"$f":"IFERROR(VLOOKUP(A1944,Base!$A$2:$D$460,2,0),\"\")","v":""},{"$f":"IFERROR(VLOOKUP(A1944,Base!$A$2:$D$460,3,0),\"\")","v":""},{"$f":"IFERROR(VLOOKUP(A1944,Base!$A$2:$D$460,4,0),\"\")","v":""},null,null,null,null,null,null,null,null,null,null,null,null,null,0]
[null,{"$f":"IFERROR(VLOOKUP(A1945,Base!$A$2:$D$460,2,0),\"\")","v":""},{"$f":"IFERROR(VLOOKUP(A1945,Base!$A$2:$D$460,3,0),\"\")","v":""},{"$f":"IFERROR(VLOOKUP(A1945,Base!$A$2:$D$460,4,0),\"\")","v":""},null,null,null,null,null,null,null,null,null,null,null,null,null,0]
[null,{"$f":"IFERROR(VLOOKUP(A1946,Base!$A$2:$D$460,2,0),\"\")","v":""},{"$f":"IFERROR(VLOOKUP(A1946,Base!$A$2:$D$460,3,0),\"\")","v":""},{"$f":"IFERROR(VLOOKUP(A1946,Base!$A$2:$D$460,4,0),\"\")","v":""},null,null,null,null,null,null,null,null,null,null,null,null,null,0]
[null,{"$f":"IFERROR(VLOOKUP(A1947,Base!$A$2:$D$460,2,0),\"\")","v":""},{"$f":"IFERROR(VLOOKUP(A1947,Base!$A$2:$D$460,3,0),\"\")","v":""},{"$f":"IFERROR(VLOOKUP(A1947,Base!$A$2:$D$460,4,0),\"\")","v":""},null,null,null,null,null,null,null,null,null,null,null,null,null,0]
[null,{"$f":"IFERROR(VLOOKUP(A1948,Base!$A$2:$D$460,2,0),\"\")","v":""},{"$f":"IFERROR(VLOOKUP(A1948,Base!$A$2:$D$460,3,0),\"\")","v":""},{"$f":"IFERROR(VLOOKUP(A1948,Base!$A$2:$D$460,4,0),\"\")","v":""},null,null,null,null,null,null,null,null,null,null,null,null,null,0]
[null,{"$f":"IFERROR(VLOOKUP(A1949,Base!$A$2:$D$460,2,0),\"\")","v":""},{"$f":"IFERROR(VLOOKUP(A1949,Base!$A$2:$D$460,3,0),\"\")","v":""},{"$f":"IFERROR(VLOOKUP(A1949,Base!$A$2:$D$460,4,0),\"\")","v":""},null,null,null,null,null,null,null,null,null,null,null,null,null,0]
[null,{"$f":"IFERROR(VLOOKUP(A1950,Base!$A$2:$D$460,2,0),\"\")","v":""},{"$f":"IFERROR(VLOOKUP(A1950,Base!$A$2:$D$460,3,0),\"\")","v":""},{"$f":"IFERROR(VLOOKUP(A1950,Base!$A$2:$D$460,4,0),\"\")","v":""},null,null,null,null,null,null,null,null,null,null,null,null,null,0]
[null,{"$f":"IFERROR(VLOOKUP(A1951,Base!$A$2:$D$460,2,0),\"\")","v":""},{"$f":"IFERROR(VLOOKUP(A1951,Base!$A$2:$D$460,3,0),\"\")","v":""},{"$f":"IFERROR(VLOOKUP(A1951,Base!$A$2:$D$460,4,0),\"\")","v":""},null,null,null,null,null,null,null,null,null,null,null,null,null,0]
[null,{"$f":"IFERROR(VLOOKUP(A1952,Base!$A$2:$D$460,2,0),\"\")","v":""},{"$f":"IFERROR(VLOOKUP(A1952,Base!$A$2:$D$460,3,0),\"\")","v":""},{"$f":"IFERROR(VLOOKUP(A1952,Base!$A$2:$D$460,4,0),\"\")","v":""},null,null,null,null,null,null,null,null,null,null,null,null,null,0]
[null,{"$f":"IFERROR(VLOOKUP(A1953,Base!$A$2:$D$460,2,0),\"\")","v":""},{"$f":"IFERROR(VLOOKUP(A1953,Base!$A$2:$D$460,3,0),\"\")","v":""},{"$f":"IFERROR(VLOOKUP(A1953,Base!$A$2:$D$460,4,0),\"\")","v":""},null,null,null,null,null,null,null,null,null,null,null,null,null,0]
[null,{"$f":"IFERROR(VLOOKUP(A1954,Base!$A$2:$D$460,2,0),\"\")","v":""},{"$f":"IFERROR(VLOOKUP(A1954,Base!$A$2:$D$460,3,0),\"\")","v":""},{"$f":"IFERROR(VLOOKUP(A1954,Base!$A$2:$D$460,4,0),\"\")","v":""},null,null,null,null,null,null,null,null,null,null,null,null,null,0]
[null,{"$f":"IFERROR(VLOOKUP(A1955,Base!$A$2:$D$460,2,0),\"\")","v":""},{"$f":"IFERROR(VLOOKUP(A1955,Base!$A$2:$D$460,3,0),\"\")","v":""},{"$f":"IFERROR(VLOOKUP(A1955,Base!$A$2:$D$460,4,0),\"\")","v":""},null,null,null,null,null,null,null,null,null,null,null,null,null,0]
[null,{"$f":"IFERROR(VLOOKUP(A1956,Base!$A$2:$D$460,2,0),\"\")","v":""},{"$f":"IFERROR(VLOOKUP(A1956,Base!$A$2:$D$460,3,0),\"\")","v":""},{"$f":"IFERROR(VLOOKUP(A1956,Base!$A$2:$D$460,4,0),\"\")","v":""},null,null,null,null,null,null,null,null,null,null,null,null,null,0]
[null,{"$f":"IFERROR(VLOOKUP(A1957,Base!$A$2:$D$460,2,0),\"\")","v":""},{"$f":"IFERROR(VLOOKUP(A1957,Base!$A$2:$D$460,3,0),\"\")","v":""},{"$f":"IFERROR(VLOOKUP(A1957,Base!$A$2:$D$460,4,0),\"\")","v":""},null,null,null,null,null,null,null,null,null,null,null,null,null,0]
[null,{"$f":"IFERROR(VLOOKUP(A1958,Base!$A$2:$D$460,2,0),\"\")","v":""},{"$f":"IFERROR(VLOOKUP(A1958,Base!$A$2:$D$460,3,0),\"\")","v":""},{"$f":"IFERROR(VLOOKUP(A1958,Base!$A$2:$D$460,4,0),\"\")","v":""},null,null,null,null,null,null,null,null,null,null,null,null,null,0]
[null,{"$f":"IFERROR(VLOOKUP(A1959,Base!$A$2:$D$460,2,0),\"\")","v":""},{"$f":"IFERROR(VLOOKUP(A1959,Base!$A$2:$D$460,3,0),\"\")","v":""},{"$f":"IFERROR(VLOOKUP(A1959,Base!$A$2:$D$460,4,0),\"\")","v":""},null,null,null,null,null,null,null,null,null,null,null,null,null,{"$f":"SUM(N1959:Q1959)/4","v":0}]
[null,{"$f":"IFERROR(VLOOKUP(A1960,Base!$A$2:$D$460,2,0),\"\")","v":""},{"$f":"IFERROR(VLOOKUP(A1960,Base!$A$2:$D$460,3,0),\"\")","v":""},{"$f":"IFERROR(VLOOKUP(A1960,Base!$A$2:$D$460,4,0),\"\")","v":""},null,null,null,null,null,null,null,null,null,null,null,null,null,0]
[null,{"$f":"IFERROR(VLOOKUP(A1961,Base!$A$2:$D$460,2,0),\"\")","v":""},{"$f":"IFERROR(VLOOKUP(A1961,Base!$A$2:$D$460,3,0),\"\")","v":""},{"$f":"IFERROR(VLOOKUP(A1961,Base!$A$2:$D$460,4,0),\"\")","v":""},null,null,null,null,null,null,null,null,null,null,null,null,null,0]
[null,{"$f":"IFERROR(VLOOKUP(A1962,Base!$A$2:$D$460,2,0),\"\")","v":""},{"$f":"IFERROR(VLOOKUP(A1962,Base!$A$2:$D$460,3,0),\"\")","v":""},{"$f":"IFERROR(VLOOKUP(A1962,Base!$A$2:$D$460,4,0),\"\")","v":""},null,null,null,null,null,null,null,null,null,null,null,null,null,0]
[null,{"$f":"IFERROR(VLOOKUP(A1963,Base!$A$2:$D$460,2,0),\"\")","v":""},{"$f":"IFERROR(VLOOKUP(A1963,Base!$A$2:$D$460,3,0),\"\")","v":""},{"$f":"IFERROR(VLOOKUP(A1963,Base!$A$2:$D$460,4,0),\"\")","v":""},null,null,null,null,null,null,null,null,null,null,null,null,null,0]
[null,{"$f":"IFERROR(VLOOKUP(A1964,Base!$A$2:$D$460,2,0),\"\")","v":""},{"$f":"IFERROR(VLOOKUP(A1964,Base!$A$2:$D$460,3,0),\"\")","v":""},{"$f":"IFERROR(VLOOKUP(A1964,Base!$A$2:$D$460,4,0),\"\")","v":""},null,null,null,null,null,null,null,null,null,null,null,null,null,0]
[null,{"$f":"IFERROR(VLOOKUP(A1965,Base!$A$2:$D$460,2,0),\"\")","v":""},{"$f":"IFERROR(VLOOKUP(A1965,Base!$A$2:$D$460,3,0),\"\")","v":""},{"$f":"IFERROR(VLOOKUP(A1965,Base!$A$2:$D$460,4,0),\"\")","v":""},null,null,null,null,null,null,null,null,null,null,null,null,null,0]
[null,{"$f":"IFERROR(VLOOKUP(A1966,Base!$A$2:$D$460,2,0),\"\")","v":""},{"$f":"IFERROR(VLOOKUP(A1966,Base!$A$2:$D$460,3,0),\"\")","v":""},{"$f":"IFERROR(VLOOKUP(A1966,Base!$A$2:$D$460,4,0),\"\")","v":""},null,null,null,null,null,null,null,null,null,null,null,null,null,0]
[null,{"$f":"IFERROR(VLOOKUP(A1967,Base!$A$2:$D$460,2,0),\"\")","v":""},{"$f":"IFERROR(VLOOKUP(A1967,Base!$A$2:$D$460,3,0),\"\")","v":""},{"$f":"IFERROR(VLOOKUP(A1967,Base!$A$2:$D$460,4,0),\"\")","v":""},null,null,null,null,null,null,null,null,null,null,null,null,null,0]
[null,{"$f":"IFERROR(VLOOKUP(A1968,Base!$A$2:$D$460,2,0),\"\")","v":""},{"$f":"IFERROR(VLOOKUP(A1968,Base!$A$2:$D$460,3,0),\"\")","v":""},{"$f":"IFERROR(VLOOKUP(A1968,Base!$A$2:$D$460,4,0),\"\")","v":""},null,null,null,null,null,null,null,null,null,null,null,null,null,0]
[null,{"$f":"IFERROR(VLOOKUP(A1969,Base!$A$2:$D$460,2,0),\"\")","v":""},{"$f":"IFERROR(VLOOKUP(A1969,Base!$A$2:$D$460,3,0),\"\")","v":""},{"$f":"IFERROR(VLOOKUP(A1969,Base!$A$2:$D$460,4,0),\"\")","v":""},null,null,null,null,null,null,null,null,null,null,null,null,null,0]
[null,{"$f":"IFERROR(VLOOKUP(A1970,Base!$A$2:$D$460,2,0),\"\")","v":""},{"$f":"IFERROR(VLOOKUP(A1970,Base!$A$2:$D$460,3,0),\"\")","v":""},{"$f":"IFERROR(VLOOKUP(A1970,Base!$A$2:$D$460,4,0),\"\")","v":""},null,null,null,null,null,null,null,null,null,null,null,null,null,0]
[null,{"$f":"IFERROR(VLOOKUP(A1971,Base!$A$2:$D$460,2,0),\"\")","v":""},{"$f":"IFERROR(VLOOKUP(A1971,Base!$A$2:$D$460,3,0),\"\")","v":""},{"$f":"IFERROR(VLOOKUP(A1971,Base!$A$2:$D$460,4,0),\"\")","v":""},null,null,null,null,null,null,null,null,null,null,null,null,null,0]
[null,{"$f":"IFERROR(VLOOKUP(A1972,Base!$A$2:$D$460,2,0),\"\")","v":""},{"$f":"IFERROR(VLOOKUP(A1972,Base!$A$2:$D$460,3,0),\"\")","v":""},{"$f":"IFERROR(VLOOKUP(A1972,Base!$A$2:$D$460,4,0),\"\")","v":""},null,null,null,null,null,null,null,null,null,null,null,null,null,0]
[null,{"$f":"IFERROR(VLOOKUP(A1973,Base!$A$2:$D$460,2,0),\"\")","v":""},{"$f":"IFERROR(VLOOKUP(A1973,Base!$A$2:$D$460,3,0),\"\")","v":""},{"$f":"IFERROR(VLOOKUP(A1973,Base!$A$2:$D$460,4,0),\"\")","v":""},null,null,null,null,null,null,null,null,null,null,null,null,null,0]
[null,{"$f":"IFERROR(VLOOKUP(A1974,Base!$A$2:$D$460,2,0),\"\")","v":""},{"$f":"IFERROR(VLOOKUP(A1974,Base!$A$2:$D$460,3,0),\"\")","v":""},{"$f":"IFERROR(VLOOKUP(A1974,Base!$A$2:$D$460,4,0),\"\")","v":""},null,null,null,null,null,null,null,null,null,null,null,null,null,0]
[null,{"$f":"IFERROR(VLOOKUP(A1975,Base!$A$2:$D$460,2,0),\"\")","v":""},{"$f":"IFERROR(VLOOKUP(A1975,Base!$A$2:$D$460,3,0),\"\")","v":""},{"$f":"IFERROR(VLOOKUP(A1975,Base!$A$2:$D$460,4,0),\"\")","v":""},null,null,null,null,null,null,null,null,null,null,null,null,null,0]
[null,{"$f":"IFERROR(VLOOKUP(A1976,Base!$A$2:$D$460,2,0),\"\")","v":""},{"$f":"IFERROR(VLOOKUP(A1976,Base!$A$2:$D$460,3,0),\"\")","v":""},{"$f":"IFERROR(VLOOKUP(A1976,Base!$A$2:$D$460,4,0),\"\")","v":""},null,null,null,null,null,null,null,null,null,null,null,null,null,0]
[null,{"$f":"IFERROR(VLOOKUP(A1977,Base!$A$2:$D$460,2,0),\"\")","v":""},{"$f":"IFERROR(VLOOKUP(A1977,Base!$A$2:$D$460,3,0),\"\")","v":""},{"$f":"IFERROR(VLOOKUP(A1977,Base!$A$2:$D$460,4,0),\"\")","v":""},null,null,null,null,null,null,null,null,null,null,null,null,null,0]
[null,{"$f":"IFERROR(VLOOKUP(A1978,Base!$A$2:$D$460,2,0),\"\")","v":""},{"$f":"IFERROR(VLOOKUP(A1978,Base!$A$2:$D$460,3,0),\"\")","v":""},{"$f":"IFERROR(VLOOKUP(A1978,Base!$A$2:$D$460,4,0),\"\")","v":""},null,null,null,null,null,null,null,null,null,null,null,null,null,0]
[null,{"$f":"IFERROR(VLOOKUP(A1979,Base!$A$2:$D$460,2,0),\"\")","v":""},{"$f":"IFERROR(VLOOKUP(A1979,Base!$A$2:$D$460,3,0),\"\")","v":""},{"$f":"IFERROR(VLOOKUP(A1979,Base!$A$2:$D$460,4,0),\"\")","v":""},null,null,null,null,null,null,null,null,null,null,null,null,null,0]
[null,{"$f":"IFERROR(VLOOKUP(A1980,Base!$A$2:$D$460,2,0),\"\")","v":""},{"$f":"IFERROR(VLOOKUP(A1980,Base!$A$2:$D$460,3,0),\"\")","v":""},{"$f":"IFERROR(VLOOKUP(A1980,Base!$A$2:$D$460,4,0),\"\")","v":""},null,null,null,null,null,null,null,null,null,null,null,null,null,0]
[null,{"$f":"IFERROR(VLOOKUP(A1981,Base!$A$2:$D$460,2,0),\"\")","v":""},{"$f":"IFERROR(VLOOKUP(A1981,Base!$A$2:$D$460,3,0),\"\")","v":""},{"$f":"IFERROR(VLOOKUP(A1981,Base!$A$2:$D$460,4,0),\"\")","v":""},null,null,null,null,null,null,null,null,null,null,null,null,null,0]
[null,{"$f":"IFERROR(VLOOKUP(A1982,Base!$A$2:$D$460,2,0),\"\")","v":""},{"$f":"IFERROR(VLOOKUP(A1982,Base!$A$2:$D$460,3,0),\"\")","v":""},{"$f":"IFERROR(VLOOKUP(A1982,Base!$A$2:$D$460,4,0),\"\")","v":""},null,null,null,null,null,null,null,null,null,null,null,null,null,0]
[null,{"$f":"IFERROR(VLOOKUP(A1983,Base!$A$2:$D$460,2,0),\"\")","v":""},{"$f":"IFERROR(VLOOKUP(A1983,Base!$A$2:$D$460,3,0),\"\")","v":""},{"$f":"IFERROR(VLOOKUP(A1983,Base!$A$2:$D$460,4,0),\"\")","v":""},null,null,null,null,null,null,null,null,null,null,null,null,null,0]
[null,{"$f":"IFERROR(VLOOKUP(A1984,Base!$A$2:$D$460,2,0),\"\")","v":""},{"$f":"IFERROR(VLOOKUP(A1984,Base!$A$2:$D$460,3,0),\"\")","v":""},{"$f":"IFERROR(VLOOKUP(A1984,Base!$A$2:$D$460,4,0),\"\")","v":""},null,null,null,null,null,null,null,null,null,null,null,null,null,0]
[null,{"$f":"IFERROR(VLOOKUP(A1985,Base!$A$2:$D$460,2,0),\"\")","v":""},{"$f":"IFERROR(VLOOKUP(A1985,Base!$A$2:$D$460,3,0),\"\")","v":""},{"$f":"IFERROR(VLOOKUP(A1985,Base!$A$2:$D$460,4,0),\"\")","v":""},null,null,null,null,null,null,null,null,null,null,null,null,null,0]
[null,{"$f":"IFERROR(VLOOKUP(A1986,Base!$A$2:$D$460,2,0),\"\")","v":""},{"$f":"IFERROR(VLOOKUP(A1986,Base!$A$2:$D$460,3,0),\"\")","v":""},{"$f":"IFERROR(VLOOKUP(A1986,Base!$A$2:$D$460,4,0),\"\")","v":""},null,null,null,null,null,null,null,null,null,null,null,null,null,0]
[null,{"$f":"IFERROR(VLOOKUP(A1987,Base!$A$2:$D$460,2,0),\"\")","v":""},{"$f":"IFERROR(VLOOKUP(A1987,Base!$A$2:$D$460,3,0),\"\")","v":""},{"$f":"IFERROR(VLOOKUP(A1987,Base!$A$2:$D$460,4,0),\"\")","v":""},null,null,null,null,null,null,null,null,null,null,null,null,null,0]
[null,{"$f":"IFERROR(VLOOKUP(A1988,Base!$A$2:$D$460,2,0),\"\")","v":""},{"$f":"IFERROR(VLOOKUP(A1988,Base!$A$2:$D$460,3,0),\"\")","v":""},{"$f":"IFERROR(VLOOKUP(A1988,Base!$A$2:$D$460,4,0),\"\")","v":""},null,null,null,null,null,null,null,null,null,null,null,null,null,0]
[null,{"$f":"IFERROR(VLOOKUP(A1989,Base!$A$2:$D$460,2,0),\"\")","v":""},{"$f":"IFERROR(VLOOKUP(A1989,Base!$A$2:$D$460,3,0),\"\")","v":""},{"$f":"IFERROR(VLOOKUP(A1989,Base!$A$2:$D$460,4,0),\"\")","v":""},null,null,null,null,null,null,null,null,null,null,null,null,null,0]
[null,{"$f":"IFERROR(VLOOKUP(A1990,Base!$A$2:$D$460,2,0),\"\")","v":""},{"$f":"IFERROR(VLOOKUP(A1990,Base!$A$2:$D$460,3,0),\"\")","v":""},{"$f":"IFERROR(VLOOKUP(A1990,Base!$A$2:$D$460,4,0),\"\")","v":""},null,null,null,null,null,null,null,null,null,null,null,null,null,0]
[null,{"$f":"IFERROR(VLOOKUP(A1991,Base!$A$2:$D$460,2,0),\"\")","v":""},{"$f":"IFERROR(VLOOKUP(A1991,Base!$A$2:$D$460,3,0),\"\")","v":""},{"$f":"IFERROR(VLOOKUP(A1991,Base!$A$2:$D$460,4,0),\"\")","v":""},null,null,null,null,null,null,null,null,null,null,null,null,null,0]
[null,{"$f":"IFERROR(VLOOKUP(A1992,Base!$A$2:$D$460,2,0),\"\")","v":""},{"$f":"IFERROR(VLOOKUP(A1992,Base!$A$2:$D$460,3,0),\"\")","v":""},{"$f":"IFERROR(VLOOKUP(A1992,Base!$A$2:$D$460,4,0),\"\")","v":""},null,null,null,null,null,null,null,null,null,null,null,null,null,0]
[null,{"$f":"IFERROR(VLOOKUP(A1993,Base!$A$2:$D$460,2,0),\"\")","v":""},{"$f":"IFERROR(VLOOKUP(A1993,Base!$A$2:$D$460,3,0),\"\")","v":""},{"$f":"IFERROR(VLOOKUP(A1993,Base!$A$2:$D$460,4,0),\"\")","v":""},null,null,null,null,null,null,null,null,null,null,null,null,null,0]
[null,{"$f":"IFERROR(VLOOKUP(A1994,Base!$A$2:$D$460,2,0),\"\")","v":""},{"$f":"IFERROR(VLOOKUP(A1994,Base!$A$2:$D$460,3,0),\"\")","v":""},{"$f":"IFERROR(VLOOKUP(A1994,Base!$A$2:$D$460,4,0),\"\")","v":""},null,null,null,null,null,null,null,null,null,null,null,null,null,0]
[null,{"$f":"IFERROR(VLOOKUP(A1995,Base!$A$2:$D$460,2,0),\"\")","v":""},{"$f":"IFERROR(VLOOKUP(A1995,Base!$A$2:$D$460,3,0),\"\")","v":""},{"$f":"IFERROR(VLOOKUP(A1995,Base!$A$2:$D$460,4,0),\"\")","v":""},null,null,null,null,null,null,null,null,null,null,null,null,null,0]
[null,{"$f":"IFERROR(VLOOKUP(A1996,Base!$A$2:$D$460,2,0),\"\")","v":""},{"$f":"IFERROR(VLOOKUP(A1996,Base!$A$2:$D$460,3,0),\"\")","v":""},{"$f":"IFERROR(VLOOKUP(A1996,Base!$A$2:$D$460,4,0),\"\")","v":""},null,null,null,null,null,null,null,null,null,null,null,null,null,0]
[null,{"$f":"IFERROR(VLOOKUP(A1997,Base!$A$2:$D$460,2,0),\"\")","v":""},{"$f":"IFERROR(VLOOKUP(A1997,Base!$A$2:$D$460,3,0),\"\")","v":""},{"$f":"IFERROR(VLOOKUP(A1997,Base!$A$2:$D$460,4,0),\"\")","v":""},null,null,null,null,null,null,null,null,null,null,null,null,null,0]
[null,{"$f":"IFERROR(VLOOKUP(A1998,Base!$A$2:$D$460,2,0),\"\")","v":""},{"$f":"IFERROR(VLOOKUP(A1998,Base!$A$2:$D$460,3,0),\"\")","v":""},{"$f":"IFERROR(VLOOKUP(A1998,Base!$A$2:$D$460,4,0),\"\")","v":""},null,null,null,null,null,null,null,null,null,null,null,null,null,0]
[null,{"$f":"IFERROR(VLOOKUP(A1999,Base!$A$2:$D$460,2,0),\"\")","v":""},{"$f":"IFERROR(VLOOKUP(A1999,Base!$A$2:$D$460,3,0),\"\")","v":""},{"$f":"IFERROR(VLOOKUP(A1999,Base!$A$2:$D$460,4,0),\"\")","v":""},null,null,null,null,null,null,null,null,null,null,null,null,null,0]
[null,{"$f":"IFERROR(VLOOKUP(A2000,Base!$A$2:$D$460,2,0),\"\")","v":""},{"$f":"IFERROR(VLOOKUP(A2000,Base!$A$2:$D$460,3,0),\"\")","v":""},{"$f":"IFERROR(VLOOKUP(A2000,Base!$A$2:$D$460,4,0),\"\")","v":""},null,null,null,null,null,null,null,null,null,null,null,null,null,0]
[null,{"$f":"IFERROR(VLOOKUP(A2001,Base!$A$2:$D$460,2,0),\"\")","v":""},{"$f":"IFERROR(VLOOKUP(A2001,Base!$A$2:$D$460,3,0),\"\")","v":""},{"$f":"IFERROR(VLOOKUP(A2001,Base!$A$2:$D$460,4,0),\"\")","v":""},null,null,null,null,null,null,null,null,null,null,null,null,null,0]
[null,{"$f":"IFERROR(VLOOKUP(A2002,Base!$A$2:$D$460,2,0),\"\")","v":""},{"$f":"IFERROR(VLOOKUP(A2002,Base!$A$2:$D$460,3,0),\"\")","v":""},{"$f":"IFERROR(VLOOKUP(A2002,Base!$A$2:$D$460,4,0),\"\")","v":""},null,null,null,null,null,null,null,null,null,null,null,null,null,0]
[null,{"$f":"IFERROR(VLOOKUP(A2003,Base!$A$2:$D$460,2,0),\"\")","v":""},{"$f":"IFERROR(VLOOKUP(A2003,Base!$A$2:$D$460,3,0),\"\")","v":""},{"$f":"IFERROR(VLOOKUP(A2003,Base!$A$2:$D$460,4,0),\"\")","v":""},null,null,null,null,null,null,null,null,null,null,null,null,null,0]
[null,{"$f":"IFERROR(VLOOKUP(A2004,Base!$A$2:$D$460,2,0),\"\")","v":""},{"$f":"IFERROR(VLOOKUP(A2004,Base!$A$2:$D$460,3,0),\"\")","v":""},{"$f":"IFERROR(VLOOKUP(A2004,Base!$A$2:$D$460,4,0),\"\")","v":""},null,null,null,null,null,null,null,null,null,null,null,null,null,0]
[null,{"$f":"IFERROR(VLOOKUP(A2005,Base!$A$2:$D$460,2,0),\"\")","v":""},{"$f":"IFERROR(VLOOKUP(A2005,Base!$A$2:$D$460,3,0),\"\")","v":""},{"$f":"IFERROR(VLOOKUP(A2005,Base!$A$2:$D$460,4,0),\"\")","v":""},null,null,null,null,null,null,null,null,null,null,null,null,null,0]
[null,{"$f":"IFERROR(VLOOKUP(A2006,Base!$A$2:$D$460,2,0),\"\")","v":""},{"$f":"IFERROR(VLOOKUP(A2006,Base!$A$2:$D$460,3,0),\"\")","v":""},{"$f":"IFERROR(VLOOKUP(A2006,Base!$A$2:$D$460,4,0),\"\")","v":""},null,null,null,null,null,null,null,null,null,null,null,null,null,0]
[null,{"$f":"IFERROR(VLOOKUP(A2007,Base!$A$2:$D$460,2,0),\"\")","v":""},{"$f":"IFERROR(VLOOKUP(A2007,Base!$A$2:$D$460,3,0),\"\")","v":""},{"$f":"IFERROR(VLOOKUP(A2007,Base!$A$2:$D$460,4,0),\"\")","v":""},null,null,null,null,null,null,null,null,null,null,null,null,null,0]
[null,{"$f":"IFERROR(VLOOKUP(A2008,Base!$A$2:$D$460,2,0),\"\")","v":""},{"$f":"IFERROR(VLOOKUP(A2008,Base!$A$2:$D$460,3,0),\"\")","v":""},{"$f":"IFERROR(VLOOKUP(A2008,Base!$A$2:$D$460,4,0),\"\")","v":""},null,null,null,null,null,null,null,null,null,null,null,null,null,0]
[null,{"$f":"IFERROR(VLOOKUP(A2009,Base!$A$2:$D$460,2,0),\"\")","v":""},{"$f":"IFERROR(VLOOKUP(A2009,Base!$A$2:$D$460,3,0),\"\")","v":""},{"$f":"IFERROR(VLOOKUP(A2009,Base!$A$2:$D$460,4,0),\"\")","v":""},null,null,null,null,null,null,null,null,null,null,null,null,null,0]
[null,{"$f":"IFERROR(VLOOKUP(A2010,Base!$A$2:$D$460,2,0),\"\")","v":""},{"$f":"IFERROR(VLOOKUP(A2010,Base!$A$2:$D$460,3,0),\"\")","v":""},{"$f":"IFERROR(VLOOKUP(A2010,Base!$A$2:$D$460,4,0),\"\")","v":""},null,null,null,null,null,null,null,null,null,null,null,null,null,0]
[null,{"$f":"IFERROR(VLOOKUP(A2011,Base!$A$2:$D$460,2,0),\"\")","v":""},{"$f":"IFERROR(VLOOKUP(A2011,Base!$A$2:$D$460,3,0),\"\")","v":""},{"$f":"IFERROR(VLOOKUP(A2011,Base!$A$2:$D$460,4,0),\"\")","v":""},null,null,null,null,null,null,null,null,null,null,null,null,null,0]
[null,{"$f":"IFERROR(VLOOKUP(A2012,Base!$A$2:$D$460,2,0),\"\")","v":""},{"$f":"IFERROR(VLOOKUP(A2012,Base!$A$2:$D$460,3,0),\"\")","v":""},{"$f":"IFERROR(VLOOKUP(A2012,Base!$A$2:$D$460,4,0),\"\")","v":""},null,null,null,null,null,null,null,null,null,null,null,null,null,0]
[null,{"$f":"IFERROR(VLOOKUP(A2013,Base!$A$2:$D$460,2,0),\"\")","v":""},{"$f":"IFERROR(VLOOKUP(A2013,Base!$A$2:$D$460,3,0),\"\")","v":""},{"$f":"IFERROR(VLOOKUP(A2013,Base!$A$2:$D$460,4,0),\"\")","v":""},null,null,null,null,null,null,null,null,null,null,null,null,null,0]
[null,{"$f":"IFERROR(VLOOKUP(A2014,Base!$A$2:$D$460,2,0),\"\")","v":""},{"$f":"IFERROR(VLOOKUP(A2014,Base!$A$2:$D$460,3,0),\"\")","v":""},{"$f":"IFERROR(VLOOKUP(A2014,Base!$A$2:$D$460,4,0),\"\")","v":""},null,null,null,null,null,null,null,null,null,null,null,null,null,0]
[null,{"$f":"IFERROR(VLOOKUP(A2015,Base!$A$2:$D$460,2,0),\"\")","v":""},{"$f":"IFERROR(VLOOKUP(A2015,Base!$A$2:$D$460,3,0),\"\")","v":""},{"$f":"IFERROR(VLOOKUP(A2015,Base!$A$2:$D$460,4,0),\"\")","v":""},null,null,null,null,null,null,null,null,null,null,null,null,null,0]
[null,{"$f":"IFERROR(VLOOKUP(A2016,Base!$A$2:$D$460,2,0),\"\")","v":""},{"$f":"IFERROR(VLOOKUP(A2016,Base!$A$2:$D$460,3,0),\"\")","v":""},{"$f":"IFERROR(VLOOKUP(A2016,Base!$A$2:$D$460,4,0),\"\")","v":""},null,null,null,null,null,null,null,null,null,null,null,null,null,0]
[null,{"$f":"IFERROR(VLOOKUP(A2017,Base!$A$2:$D$460,2,0),\"\")","v":""},{"$f":"IFERROR(VLOOKUP(A2017,Base!$A$2:$D$460,3,0),\"\")","v":""},{"$f":"IFERROR(VLOOKUP(A2017,Base!$A$2:$D$460,4,0),\"\")","v":""},null,null,null,null,null,null,null,null,null,null,null,null,null,0]
[null,{"$f":"IFERROR(VLOOKUP(A2018,Base!$A$2:$D$460,2,0),\"\")","v":""},{"$f":"IFERROR(VLOOKUP(A2018,Base!$A$2:$D$460,3,0),\"\")","v":""},{"$f":"IFERROR(VLOOKUP(A2018,Base!$A$2:$D$460,4,0),\"\")","v":""},null,null,null,null,null,null,null,null,null,null,null,null,null,0]
[null,{"$f":"IFERROR(VLOOKUP(A2019,Base!$A$2:$D$460,2,0),\"\")","v":""},{"$f":"IFERROR(VLOOKUP(A2019,Base!$A$2:$D$460,3,0),\"\")","v":""},{"$f":"IFERROR(VLOOKUP(A2019,Base!$A$2:$D$460,4,0),\"\")","v":""},null,null,null,null,null,null,null,null,null,null,null,null,null,0]
[null,{"$f":"IFERROR(VLOOKUP(A2020,Base!$A$2:$D$460,2,0),\"\")","v":""},{"$f":"IFERROR(VLOOKUP(A2020,Base!$A$2:$D$460,3,0),\"\")","v":""},{"$f":"IFERROR(VLOOKUP(A2020,Base!$A$2:$D$460,4,0),\"\")","v":""},null,null,null,null,null,null,null,null,null,null,null,null,null,0]
[null,{"$f":"IFERROR(VLOOKUP(A2021,Base!$A$2:$D$460,2,0),\"\")","v":""},{"$f":"IFERROR(VLOOKUP(A2021,Base!$A$2:$D$460,3,0),\"\")","v":""},{"$f":"IFERROR(VLOOKUP(A2021,Base!$A$2:$D$460,4,0),\"\")","v":""},null,null,null,null,null,null,null,null,null,null,null,null,null,0]
[null,{"$f":"IFERROR(VLOOKUP(A2022,Base!$A$2:$D$460,2,0),\"\")","v":""},{"$f":"IFERROR(VLOOKUP(A2022,Base!$A$2:$D$460,3,0),\"\")","v":""},{"$f":"IFERROR(VLOOKUP(A2022,Base!$A$2:$D$460,4,0),\"\")","v":""},null,null,null,null,null,null,null,null,null,null,null,null,null,0]
[null,{"$f":"IFERROR(VLOOKUP(A2023,Base!$A$2:$D$460,2,0),\"\")","v":""},{"$f":"IFERROR(VLOOKUP(A2023,Base!$A$2:$D$460,3,0),\"\")","v":""},{"$f":"IFERROR(VLOOKUP(A2023,Base!$A$2:$D$460,4,0),\"\")","v":""},null,null,null,null,null,null,null,null,null,null,null,null,null,{"$f":"SUM(N2023:Q2023)/4","v":0}]
[null,{"$f":"IFERROR(VLOOKUP(A2024,Base!$A$2:$D$460,2,0),\"\")","v":""},{"$f":"IFERROR(VLOOKUP(A2024,Base!$A$2:$D$460,3,0),\"\")","v":""},{"$f":"IFERROR(VLOOKUP(A2024,Base!$A$2:$D$460,4,0),\"\")","v":""},null,null,null,null,null,null,null,null,null,null,null,null,null,0]
[null,{"$f":"IFERROR(VLOOKUP(A2025,Base!$A$2:$D$460,2,0),\"\")","v":""},{"$f":"IFERROR(VLOOKUP(A2025,Base!$A$2:$D$460,3,0),\"\")","v":""},{"$f":"IFERROR(VLOOKUP(A2025,Base!$A$2:$D$460,4,0),\"\")","v":""},null,null,null,null,null,null,null,null,null,null,null,null,null,0]
[null,{"$f":"IFERROR(VLOOKUP(A2026,Base!$A$2:$D$460,2,0),\"\")","v":""},{"$f":"IFERROR(VLOOKUP(A2026,Base!$A$2:$D$460,3,0),\"\")","v":""},{"$f":"IFERROR(VLOOKUP(A2026,Base!$A$2:$D$460,4,0),\"\")","v":""},null,null,null,null,null,null,null,null,null,null,null,null,null,0]
[null,{"$f":"IFERROR(VLOOKUP(A2027,Base!$A$2:$D$460,2,0),\"\")","v":""},{"$f":"IFERROR(VLOOKUP(A2027,Base!$A$2:$D$460,3,0),\"\")","v":""},{"$f":"IFERROR(VLOOKUP(A2027,Base!$A$2:$D$460,4,0),\"\")","v":""},null,null,null,null,null,null,null,null,null,null,null,null,null,0]
[null,{"$f":"IFERROR(VLOOKUP(A2028,Base!$A$2:$D$460,2,0),\"\")","v":""},{"$f":"IFERROR(VLOOKUP(A2028,Base!$A$2:$D$460,3,0),\"\")","v":""},{"$f":"IFERROR(VLOOKUP(A2028,Base!$A$2:$D$460,4,0),\"\")","v":""},null,null,null,null,null,null,null,null,null,null,null,null,null,0]
[null,{"$f":"IFERROR(VLOOKUP(A2029,Base!$A$2:$D$460,2,0),\"\")","v":""},{"$f":"IFERROR(VLOOKUP(A2029,Base!$A$2:$D$460,3,0),\"\")","v":""},{"$f":"IFERROR(VLOOKUP(A2029,Base!$A$2:$D$460,4,0),\"\")","v":""},null,null,null,null,null,null,null,null,null,null,null,null,null,0]
[null,{"$f":"IFERROR(VLOOKUP(A2030,Base!$A$2:$D$460,2,0),\"\")","v":""},{"$f":"IFERROR(VLOOKUP(A2030,Base!$A$2:$D$460,3,0),\"\")","v":""},{"$f":"IFERROR(VLOOKUP(A2030,Base!$A$2:$D$460,4,0),\"\")","v":""},null,null,null,null,null,null,null,null,null,null,null,null,null,0]
[null,{"$f":"IFERROR(VLOOKUP(A2031,Base!$A$2:$D$460,2,0),\"\")","v":""},{"$f":"IFERROR(VLOOKUP(A2031,Base!$A$2:$D$460,3,0),\"\")","v":""},{"$f":"IFERROR(VLOOKUP(A2031,Base!$A$2:$D$460,4,0),\"\")","v":""},null,null,null,null,null,null,null,null,null,null,null,null,null,0]
[null,{"$f":"IFERROR(VLOOKUP(A2032,Base!$A$2:$D$460,2,0),\"\")","v":""},{"$f":"IFERROR(VLOOKUP(A2032,Base!$A$2:$D$460,3,0),\"\")","v":""},{"$f":"IFERROR(VLOOKUP(A2032,Base!$A$2:$D$460,4,0),\"\")","v":""},null,null,null,null,null,null,null,null,null,null,null,null,null,0]
[null,{"$f":"IFERROR(VLOOKUP(A2033,Base!$A$2:$D$460,2,0),\"\")","v":""},{"$f":"IFERROR(VLOOKUP(A2033,Base!$A$2:$D$460,3,0),\"\")","v":""},{"$f":"IFERROR(VLOOKUP(A2033,Base!$A$2:$D$460,4,0),\"\")","v":""},null,null,null,null,null,null,null,null,null,null,null,null,null,0]
[null,{"$f":"IFERROR(VLOOKUP(A2034,Base!$A$2:$D$460,2,0),\"\")","v":""},{"$f":"IFERROR(VLOOKUP(A2034,Base!$A$2:$D$460,3,0),\"\")","v":""},{"$f":"IFERROR(VLOOKUP(A2034,Base!$A$2:$D$460,4,0),\"\")","v":""},null,null,null,null,null,null,null,null,null,null,null,null,null,0]
[null,{"$f":"IFERROR(VLOOKUP(A2035,Base!$A$2:$D$460,2,0),\"\")","v":""},{"$f":"IFERROR(VLOOKUP(A2035,Base!$A$2:$D$460,3,0),\"\")","v":""},{"$f":"IFERROR(VLOOKUP(A2035,Base!$A$2:$D$460,4,0),\"\")","v":""},null,null,null,null,null,null,null,null,null,null,null,null,null,0]
[null,{"$f":"IFERROR(VLOOKUP(A2036,Base!$A$2:$D$460,2,0),\"\")","v":""},{"$f":"IFERROR(VLOOKUP(A2036,Base!$A$2:$D$460,3,0),\"\")","v":""},{"$f":"IFERROR(VLOOKUP(A2036,Base!$A$2:$D$460,4,0),\"\")","v":""},null,null,null,null,null,null,null,null,null,null,null,null,null,0]
[null,{"$f":"IFERROR(VLOOKUP(A2037,Base!$A$2:$D$460,2,0),\"\")","v":""},{"$f":"IFERROR(VLOOKUP(A2037,Base!$A$2:$D$460,3,0),\"\")","v":""},{"$f":"IFERROR(VLOOKUP(A2037,Base!$A$2:$D$460,4,0),\"\")","v":""},null,null,null,null,null,null,null,null,null,null,null,null,null,0]
[null,{"$f":"IFERROR(VLOOKUP(A2038,Base!$A$2:$D$460,2,0),\"\")","v":""},{"$f":"IFERROR(VLOOKUP(A2038,Base!$A$2:$D$460,3,0),\"\")","v":""},{"$f":"IFERROR(VLOOKUP(A2038,Base!$A$2:$D$460,4,0),\"\")","v":""},null,null,null,null,null,null,null,null,null,null,null,null,null,0]
[null,{"$f":"IFERROR(VLOOKUP(A2039,Base!$A$2:$D$460,2,0),\"\")","v":""},{"$f":"IFERROR(VLOOKUP(A2039,Base!$A$2:$D$460,3,0),\"\")","v":""},{"$f":"IFERROR(VLOOKUP(A2039,Base!$A$2:$D$460,4,0),\"\")","v":""},null,null,null,null,null,null,null,null,null,null,null,null,null,0]
[null,{"$f":"IFERROR(VLOOKUP(A2040,Base!$A$2:$D$460,2,0),\"\")","v":""},{"$f":"IFERROR(VLOOKUP(A2040,Base!$A$2:$D$460,3,0),\"\")","v":""},{"$f":"IFERROR(VLOOKUP(A2040,Base!$A$2:$D$460,4,0),\"\")","v":""},null,null,null,null,null,null,null,null,null,null,null,null,null,0]
[null,{"$f":"IFERROR(VLOOKUP(A2041,Base!$A$2:$D$460,2,0),\"\")","v":""},{"$f":"IFERROR(VLOOKUP(A2041,Base!$A$2:$D$460,3,0),\"\")","v":""},{"$f":"IFERROR(VLOOKUP(A2041,Base!$A$2:$D$460,4,0),\"\")","v":""},null,null,null,null,null,null,null,null,null,null,null,null,null,0]
[null,{"$f":"IFERROR(VLOOKUP(A2042,Base!$A$2:$D$460,2,0),\"\")","v":""},{"$f":"IFERROR(VLOOKUP(A2042,Base!$A$2:$D$460,3,0),\"\")","v":""},{"$f":"IFERROR(VLOOKUP(A2042,Base!$A$2:$D$460,4,0),\"\")","v":""},null,null,null,null,null,null,null,null,null,null,null,null,null,0]
[null,{"$f":"IFERROR(VLOOKUP(A2043,Base!$A$2:$D$460,2,0),\"\")","v":""},{"$f":"IFERROR(VLOOKUP(A2043,Base!$A$2:$D$460,3,0),\"\")","v":""},{"$f":"IFERROR(VLOOKUP(A2043,Base!$A$2:$D$460,4,0),\"\")","v":""},null,null,null,null,null,null,null,null,null,null,null,null,null,0]
[null,{"$f":"IFERROR(VLOOKUP(A2044,Base!$A$2:$D$460,2,0),\"\")","v":""},{"$f":"IFERROR(VLOOKUP(A2044,Base!$A$2:$D$460,3,0),\"\")","v":""},{"$f":"IFERROR(VLOOKUP(A2044,Base!$A$2:$D$460,4,0),\"\")","v":""},null,null,null,null,null,null,null,null,null,null,null,null,null,0]
[null,{"$f":"IFERROR(VLOOKUP(A2045,Base!$A$2:$D$460,2,0),\"\")","v":""},{"$f":"IFERROR(VLOOKUP(A2045,Base!$A$2:$D$460,3,0),\"\")","v":""},{"$f":"IFERROR(VLOOKUP(A2045,Base!$A$2:$D$460,4,0),\"\")","v":""},null,null,null,null,null,null,null,null,null,null,null,null,null,0]
[null,{"$f":"IFERROR(VLOOKUP(A2046,Base!$A$2:$D$460,2,0),\"\")","v":""},{"$f":"IFERROR(VLOOKUP(A2046,Base!$A$2:$D$460,3,0),\"\")","v":""},{"$f":"IFERROR(VLOOKUP(A2046,Base!$A$2:$D$460,4,0),\"\")","v":""},null,null,null,null,null,null,null,null,null,null,null,null,null,0]
[null,{"$f":"IFERROR(VLOOKUP(A2047,Base!$A$2:$D$460,2,0),\"\")","v":""},{"$f":"IFERROR(VLOOKUP(A2047,Base!$A$2:$D$460,3,0),\"\")","v":""},{"$f":"IFERROR(VLOOKUP(A2047,Base!$A$2:$D$460,4,0),\"\")","v":""},null,null,null,null,null,null,null,null,null,null,null,null,null,0]
[null,{"$f":"IFERROR(VLOOKUP(A2048,Base!$A$2:$D$460,2,0),\"\")","v":""},{"$f":"IFERROR(VLOOKUP(A2048,Base!$A$2:$D$460,3,0),\"\")","v":""},{"$f":"IFERROR(VLOOKUP(A2048,Base!$A$2:$D$460,4,0),\"\")","v":""},null,null,null,null,null,null,null,null,null,null,null,null,null,0]
[null,{"$f":"IFERROR(VLOOKUP(A2049,Base!$A$2:$D$460,2,0),\"\")","v":""},{"$f":"IFERROR(VLOOKUP(A2049,Base!$A$2:$D$460,3,0),\"\")","v":""},{"$f":"IFERROR(VLOOKUP(A2049,Base!$A$2:$D$460,4,0),\"\")","v":""},null,null,null,null,null,null,null,null,null,null,null,null,null,0]
[null,{"$f":"IFERROR(VLOOKUP(A2050,Base!$A$2:$D$460,2,0),\"\")","v":""},{"$f":"IFERROR(VLOOKUP(A2050,Base!$A$2:$D$460,3,0),\"\")","v":""},{"$f":"IFERROR(VLOOKUP(A2050,Base!$A$2:$D$460,4,0),\"\")","v":""},null,null,null,null,null,null,null,null,null,null,null,null,null,0]
[null,{"$f":"IFERROR(VLOOKUP(A2051,Base!$A$2:$D$460,2,0),\"\")","v":""},{"$f":"IFERROR(VLOOKUP(A2051,Base!$A$2:$D$460,3,0),\"\")","v":""},{"$f":"IFERROR(VLOOKUP(A2051,Base!$A$2:$D$460,4,0),\"\")","v":""},null,null,null,null,null,null,null,null,null,null,null,null,null,0]
[null,{"$f":"IFERROR(VLOOKUP(A2052,Base!$A$2:$D$460,2,0),\"\")","v":""},{"$f":"IFERROR(VLOOKUP(A2052,Base!$A$2:$D$460,3,0),\"\")","v":""},{"$f":"IFERROR(VLOOKUP(A2052,Base!$A$2:$D$460,4,0),\"\")","v":""},null,null,null,null,null,null,null,null,null,null,null,null,null,0]
[null,{"$f":"IFERROR(VLOOKUP(A2053,Base!$A$2:$D$460,2,0),\"\")","v":""},{"$f":"IFERROR(VLOOKUP(A2053,Base!$A$2:$D$460,3,0),\"\")","v":""},{"$f":"IFERROR(VLOOKUP(A2053,Base!$A$2:$D$460,4,0),\"\")","v":""},null,null,null,null,null,null,null,null,null,null,null,null,null,0]
[null,{"$f":"IFERROR(VLOOKUP(A2054,Base!$A$2:$D$460,2,0),\"\")","v":""},{"$f":"IFERROR(VLOOKUP(A2054,Base!$A$2:$D$460,3,0),\"\")","v":""},{"$f":"IFERROR(VLOOKUP(A2054,Base!$A$2:$D$460,4,0),\"\")","v":""},null,null,null,null,null,null,null,null,null,null,null,null,null,0]
[null,{"$f":"IFERROR(VLOOKUP(A2055,Base!$A$2:$D$460,2,0),\"\")","v":""},{"$f":"IFERROR(VLOOKUP(A2055,Base!$A$2:$D$460,3,0),\"\")","v":""},{"$f":"IFERROR(VLOOKUP(A2055,Base!$A$2:$D$460,4,0),\"\")","v":""},null,null,null,null,null,null,null,null,null,null,null,null,null,0]
[null,{"$f":"IFERROR(VLOOKUP(A2056,Base!$A$2:$D$460,2,0),\"\")","v":""},{"$f":"IFERROR(VLOOKUP(A2056,Base!$A$2:$D$460,3,0),\"\")","v":""},{"$f":"IFERROR(VLOOKUP(A2056,Base!$A$2:$D$460,4,0),\"\")","v":""},null,null,null,null,null,null,null,null,null,null,null,null,null,0]
[null,{"$f":"IFERROR(VLOOKUP(A2057,Base!$A$2:$D$460,2,0),\"\")","v":""},{"$f":"IFERROR(VLOOKUP(A2057,Base!$A$2:$D$460,3,0),\"\")","v":""},{"$f":"IFERROR(VLOOKUP(A2057,Base!$A$2:$D$460,4,0),\"\")","v":""},null,null,null,null,null,null,null,null,null,null,null,null,null,0]
[null,{"$f":"IFERROR(VLOOKUP(A2058,Base!$A$2:$D$460,2,0),\"\")","v":""},{"$f":"IFERROR(VLOOKUP(A2058,Base!$A$2:$D$460,3,0),\"\")","v":""},{"$f":"IFERROR(VLOOKUP(A2058,Base!$A$2:$D$460,4,0),\"\")","v":""},null,null,null,null,null,null,null,null,null,null,null,null,null,0]
[null,{"$f":"IFERROR(VLOOKUP(A2059,Base!$A$2:$D$460,2,0),\"\")","v":""},{"$f":"IFERROR(VLOOKUP(A2059,Base!$A$2:$D$460,3,0),\"\")","v":""},{"$f":"IFERROR(VLOOKUP(A2059,Base!$A$2:$D$460,4,0),\"\")","v":""},null,null,null,null,null,null,null,null,null,null,null,null,null,0]
[null,{"$f":"IFERROR(VLOOKUP(A2060,Base!$A$2:$D$460,2,0),\"\")","v":""},{"$f":"IFERROR(VLOOKUP(A2060,Base!$A$2:$D$460,3,0),\"\")","v":""},{"$f":"IFERROR(VLOOKUP(A2060,Base!$A$2:$D$460,4,0),\"\")","v":""},null,null,null,null,null,null,null,null,null,null,null,null,null,0]
[null,{"$f":"IFERROR(VLOOKUP(A2061,Base!$A$2:$D$460,2,0),\"\")","v":""},{"$f":"IFERROR(VLOOKUP(A2061,Base!$A$2:$D$460,3,0),\"\")","v":""},{"$f":"IFERROR(VLOOKUP(A2061,Base!$A$2:$D$460,4,0),\"\")","v":""},null,null,null,null,null,null,null,null,null,null,null,null,null,0]
[null,{"$f":"IFERROR(VLOOKUP(A2062,Base!$A$2:$D$460,2,0),\"\")","v":""},{"$f":"IFERROR(VLOOKUP(A2062,Base!$A$2:$D$460,3,0),\"\")","v":""},{"$f":"IFERROR(VLOOKUP(A2062,Base!$A$2:$D$460,4,0),\"\")","v":""},null,null,null,null,null,null,null,null,null,null,null,null,null,0]
[null,{"$f":"IFERROR(VLOOKUP(A2063,Base!$A$2:$D$460,2,0),\"\")","v":""},{"$f":"IFERROR(VLOOKUP(A2063,Base!$A$2:$D$460,3,0),\"\")","v":""},{"$f":"IFERROR(VLOOKUP(A2063,Base!$A$2:$D$460,4,0),\"\")","v":""},null,null,null,null,null,null,null,null,null,null,null,null,null,0]
[null,{"$f":"IFERROR(VLOOKUP(A2064,Base!$A$2:$D$460,2,0),\"\")","v":""},{"$f":"IFERROR(VLOOKUP(A2064,Base!$A$2:$D$460,3,0),\"\")","v":""},{"$f":"IFERROR(VLOOKUP(A2064,Base!$A$2:$D$460,4,0),\"\")","v":""},null,null,null,null,null,null,null,null,null,null,null,null,null,0]
[null,{"$f":"IFERROR(VLOOKUP(A2065,Base!$A$2:$D$460,2,0),\"\")","v":""},{"$f":"IFERROR(VLOOKUP(A2065,Base!$A$2:$D$460,3,0),\"\")","v":""},{"$f":"IFERROR(VLOOKUP(A2065,Base!$A$2:$D$460,4,0),\"\")","v":""},null,null,null,null,null,null,null,null,null,null,null,null,null,0]
[null,{"$f":"IFERROR(VLOOKUP(A2066,Base!$A$2:$D$460,2,0),\"\")","v":""},{"$f":"IFERROR(VLOOKUP(A2066,Base!$A$2:$D$460,3,0),\"\")","v":""},{"$f":"IFERROR(VLOOKUP(A2066,Base!$A$2:$D$460,4,0),\"\")","v":""},null,null,null,null,null,null,null,null,null,null,null,null,null,0]
[null,{"$f":"IFERROR(VLOOKUP(A2067,Base!$A$2:$D$460,2,0),\"\")","v":""},{"$f":"IFERROR(VLOOKUP(A2067,Base!$A$2:$D$460,3,0),\"\")","v":""},{"$f":"IFERROR(VLOOKUP(A2067,Base!$A$2:$D$460,4,0),\"\")","v":""},null,null,null,null,null,null,null,null,null,null,null,null,null,0]
[null,{"$f":"IFERROR(VLOOKUP(A2068,Base!$A$2:$D$460,2,0),\"\")","v":""},{"$f":"IFERROR(VLOOKUP(A2068,Base!$A$2:$D$460,3,0),\"\")","v":""},{"$f":"IFERROR(VLOOKUP(A2068,Base!$A$2:$D$460,4,0),\"\")","v":""},null,null,null,null,null,null,null,null,null,null,null,null,null,0]
[null,{"$f":"IFERROR(VLOOKUP(A2069,Base!$A$2:$D$460,2,0),\"\")","v":""},{"$f":"IFERROR(VLOOKUP(A2069,Base!$A$2:$D$460,3,0),\"\")","v":""},{"$f":"IFERROR(VLOOKUP(A2069,Base!$A$2:$D$460,4,0),\"\")","v":""},null,null,null,null,null,null,null,null,null,null,null,null,null,0]
[null,{"$f":"IFERROR(VLOOKUP(A2070,Base!$A$2:$D$460,2,0),\"\")","v":""},{"$f":"IFERROR(VLOOKUP(A2070,Base!$A$2:$D$460,3,0),\"\")","v":""},{"$f":"IFERROR(VLOOKUP(A2070,Base!$A$2:$D$460,4,0),\"\")","v":""},null,null,null,null,null,null,null,null,null,null,null,null,null,0]
[null,{"$f":"IFERROR(VLOOKUP(A2071,Base!$A$2:$D$460,2,0),\"\")","v":""},{"$f":"IFERROR(VLOOKUP(A2071,Base!$A$2:$D$460,3,0),\"\")","v":""},{"$f":"IFERROR(VLOOKUP(A2071,Base!$A$2:$D$460,4,0),\"\")","v":""},null,null,null,null,null,null,null,null,null,null,null,null,null,0]
[null,{"$f":"IFERROR(VLOOKUP(A2072,Base!$A$2:$D$460,2,0),\"\")","v":""},{"$f":"IFERROR(VLOOKUP(A2072,Base!$A$2:$D$460,3,0),\"\")","v":""},{"$f":"IFERROR(VLOOKUP(A2072,Base!$A$2:$D$460,4,0),\"\")","v":""},null,null,null,null,null,null,null,null,null,null,null,null,null,0]
[null,{"$f":"IFERROR(VLOOKUP(A2073,Base!$A$2:$D$460,2,0),\"\")","v":""},{"$f":"IFERROR(VLOOKUP(A2073,Base!$A$2:$D$460,3,0),\"\")","v":""},{"$f":"IFERROR(VLOOKUP(A2073,Base!$A$2:$D$460,4,0),\"\")","v":""},null,null,null,null,null,null,null,null,null,null,null,null,null,0]
[null,{"$f":"IFERROR(VLOOKUP(A2074,Base!$A$2:$D$460,2,0),\"\")","v":""},{"$f":"IFERROR(VLOOKUP(A2074,Base!$A$2:$D$460,3,0),\"\")","v":""},{"$f":"IFERROR(VLOOKUP(A2074,Base!$A$2:$D$460,4,0),\"\")","v":""},null,null,null,null,null,null,null,null,null,null,null,null,null,0]
[null,{"$f":"IFERROR(VLOOKUP(A2075,Base!$A$2:$D$460,2,0),\"\")","v":""},{"$f":"IFERROR(VLOOKUP(A2075,Base!$A$2:$D$460,3,0),\"\")","v":""},{"$f":"IFERROR(VLOOKUP(A2075,Base!$A$2:$D$460,4,0),\"\")","v":""},null,null,null,null,null,null,null,null,null,null,null,null,null,0]
[null,{"$f":"IFERROR(VLOOKUP(A2076,Base!$A$2:$D$460,2,0),\"\")","v":""},{"$f":"IFERROR(VLOOKUP(A2076,Base!$A$2:$D$460,3,0),\"\")","v":""},{"$f":"IFERROR(VLOOKUP(A2076,Base!$A$2:$D$460,4,0),\"\")","v":""},null,null,null,null,null,null,null,null,null,null,null,null,null,0]
[null,{"$f":"IFERROR(VLOOKUP(A2077,Base!$A$2:$D$460,2,0),\"\")","v":""},{"$f":"IFERROR(VLOOKUP(A2077,Base!$A$2:$D$460,3,0),\"\")","v":""},{"$f":"IFERROR(VLOOKUP(A2077,Base!$A$2:$D$460,4,0),\"\")","v":""},null,null,null,null,null,null,null,null,null,null,null,null,null,0]
[null,{"$f":"IFERROR(VLOOKUP(A2078,Base!$A$2:$D$460,2,0),\"\")","v":""},{"$f":"IFERROR(VLOOKUP(A2078,Base!$A$2:$D$460,3,0),\"\")","v":""},{"$f":"IFERROR(VLOOKUP(A2078,Base!$A$2:$D$460,4,0),\"\")","v":""},null,null,null,null,null,null,null,null,null,null,null,null,null,0]
[null,{"$f":"IFERROR(VLOOKUP(A2079,Base!$A$2:$D$460,2,0),\"\")","v":""},{"$f":"IFERROR(VLOOKUP(A2079,Base!$A$2:$D$460,3,0),\"\")","v":""},{"$f":"IFERROR(VLOOKUP(A2079,Base!$A$2:$D$460,4,0),\"\")","v":""},null,null,null,null,null,null,null,null,null,null,null,null,null,0]
[null,{"$f":"IFERROR(VLOOKUP(A2080,Base!$A$2:$D$460,2,0),\"\")","v":""},{"$f":"IFERROR(VLOOKUP(A2080,Base!$A$2:$D$460,3,0),\"\")","v":""},{"$f":"IFERROR(VLOOKUP(A2080,Base!$A$2:$D$460,4,0),\"\")","v":""},null,null,null,null,null,null,null,null,null,null,null,null,null,0]
[null,{"$f":"IFERROR(VLOOKUP(A2081,Base!$A$2:$D$460,2,0),\"\")","v":""},{"$f":"IFERROR(VLOOKUP(A2081,Base!$A$2:$D$460,3,0),\"\")","v":""},{"$f":"IFERROR(VLOOKUP(A2081,Base!$A$2:$D$460,4,0),\"\")","v":""},null,null,null,null,null,null,null,null,null,null,null,null,null,0]
[null,{"$f":"IFERROR(VLOOKUP(A2082,Base!$A$2:$D$460,2,0),\"\")","v":""},{"$f":"IFERROR(VLOOKUP(A2082,Base!$A$2:$D$460,3,0),\"\")","v":""},{"$f":"IFERROR(VLOOKUP(A2082,Base!$A$2:$D$460,4,0),\"\")","v":""},null,null,null,null,null,null,null,null,null,null,null,null,null,0]
[null,{"$f":"IFERROR(VLOOKUP(A2083,Base!$A$2:$D$460,2,0),\"\")","v":""},{"$f":"IFERROR(VLOOKUP(A2083,Base!$A$2:$D$460,3,0),\"\")","v":""},{"$f":"IFERROR(VLOOKUP(A2083,Base!$A$2:$D$460,4,0),\"\")","v":""},null,null,null,null,null,null,null,null,null,null,null,null,null,0]
[null,{"$f":"IFERROR(VLOOKUP(A2084,Base!$A$2:$D$460,2,0),\"\")","v":""},{"$f":"IFERROR(VLOOKUP(A2084,Base!$A$2:$D$460,3,0),\"\")","v":""},{"$f":"IFERROR(VLOOKUP(A2084,Base!$A$2:$D$460,4,0),\"\")","v":""},null,null,null,null,null,null,null,null,null,null,null,null,null,0]
[null,{"$f":"IFERROR(VLOOKUP(A2085,Base!$A$2:$D$460,2,0),\"\")","v":""},{"$f":"IFERROR(VLOOKUP(A2085,Base!$A$2:$D$460,3,0),\"\")","v":""},{"$f":"IFERROR(VLOOKUP(A2085,Base!$A$2:$D$460,4,0),\"\")","v":""},null,null,null,null,null,null,null,null,null,null,null,null,null,0]
[null,{"$f":"IFERROR(VLOOKUP(A2086,Base!$A$2:$D$460,2,0),\"\")","v":""},{"$f":"IFERROR(VLOOKUP(A2086,Base!$A$2:$D$460,3,0),\"\")","v":""},{"$f":"IFERROR(VLOOKUP(A2086,Base!$A$2:$D$460,4,0),\"\")","v":""},null,null,null,null,null,null,null,null,null,null,null,null,null,0]
[null,{"$f":"IFERROR(VLOOKUP(A2087,Base!$A$2:$D$460,2,0),\"\")","v":""},{"$f":"IFERROR(VLOOKUP(A2087,Base!$A$2:$D$460,3,0),\"\")","v":""},{"$f":"IFERROR(VLOOKUP(A2087,Base!$A$2:$D$460,4,0),\"\")","v":""},null,null,null,null,null,null,null,null,null,null,null,null,null,{"$f":"SUM(N2087:Q2087)/4","v":0}]
[null,{"$f":"IFERROR(VLOOKUP(A2088,Base!$A$2:$D$460,2,0),\"\")","v":""},{"$f":"IFERROR(VLOOKUP(A2088,Base!$A$2:$D$460,3,0),\"\")","v":""},{"$f":"IFERROR(VLOOKUP(A2088,Base!$A$2:$D$460,4,0),\"\")","v":""},null,null,null,null,null,null,null,null,null,null,null,null,null,0]
[null,{"$f":"IFERROR(VLOOKUP(A2089,Base!$A$2:$D$460,2,0),\"\")","v":""},{"$f":"IFERROR(VLOOKUP(A2089,Base!$A$2:$D$460,3,0),\"\")","v":""},{"$f":"IFERROR(VLOOKUP(A2089,Base!$A$2:$D$460,4,0),\"\")","v":""},null,null,null,null,null,null,null,null,null,null,null,null,null,0]
[null,{"$f":"IFERROR(VLOOKUP(A2090,Base!$A$2:$D$460,2,0),\"\")","v":""},{"$f":"IFERROR(VLOOKUP(A2090,Base!$A$2:$D$460,3,0),\"\")","v":""},{"$f":"IFERROR(VLOOKUP(A2090,Base!$A$2:$D$460,4,0),\"\")","v":""},null,null,null,null,null,null,null,null,null,null,null,null,null,0]
[null,{"$f":"IFERROR(VLOOKUP(A2091,Base!$A$2:$D$460,2,0),\"\")","v":""},{"$f":"IFERROR(VLOOKUP(A2091,Base!$A$2:$D$460,3,0),\"\")","v":""},{"$f":"IFERROR(VLOOKUP(A2091,Base!$A$2:$D$460,4,0),\"\")","v":""},null,null,null,null,null,null,null,null,null,null,null,null,null,0]
[null,{"$f":"IFERROR(VLOOKUP(A2092,Base!$A$2:$D$460,2,0),\"\")","v":""},{"$f":"IFERROR(VLOOKUP(A2092,Base!$A$2:$D$460,3,0),\"\")","v":""},{"$f":"IFERROR(VLOOKUP(A2092,Base!$A$2:$D$460,4,0),\"\")","v":""},null,null,null,null,null,null,null,null,null,null,null,null,null,0]
[null,{"$f":"IFERROR(VLOOKUP(A2093,Base!$A$2:$D$460,2,0),\"\")","v":""},{"$f":"IFERROR(VLOOKUP(A2093,Base!$A$2:$D$460,3,0),\"\")","v":""},{"$f":"IFERROR(VLOOKUP(A2093,Base!$A$2:$D$460,4,0),\"\")","v":""},null,null,null,null,null,null,null,null,null,null,null,null,null,0]
[null,{"$f":"IFERROR(VLOOKUP(A2094,Base!$A$2:$D$460,2,0),\"\")","v":""},{"$f":"IFERROR(VLOOKUP(A2094,Base!$A$2:$D$460,3,0),\"\")","v":""},{"$f":"IFERROR(VLOOKUP(A2094,Base!$A$2:$D$460,4,0),\"\")","v":""},null,null,null,null,null,null,null,null,null,null,null,null,null,0]
[null,{"$f":"IFERROR(VLOOKUP(A2095,Base!$A$2:$D$460,2,0),\"\")","v":""},{"$f":"IFERROR(VLOOKUP(A2095,Base!$A$2:$D$460,3,0),\"\")","v":""},{"$f":"IFERROR(VLOOKUP(A2095,Base!$A$2:$D$460,4,0),\"\")","v":""},null,null,null,null,null,null,null,null,null,null,null,null,null,0]
[null,{"$f":"IFERROR(VLOOKUP(A2096,Base!$A$2:$D$460,2,0),\"\")","v":""},{"$f":"IFERROR(VLOOKUP(A2096,Base!$A$2:$D$460,3,0),\"\")","v":""},{"$f":"IFERROR(VLOOKUP(A2096,Base!$A$2:$D$460,4,0),\"\")","v":""},null,null,null,null,null,null,null,null,null,null,null,null,null,0]
[null,{"$f":"IFERROR(VLOOKUP(A2097,Base!$A$2:$D$460,2,0),\"\")","v":""},{"$f":"IFERROR(VLOOKUP(A2097,Base!$A$2:$D$460,3,0),\"\")","v":""},{"$f":"IFERROR(VLOOKUP(A2097,Base!$A$2:$D$460,4,0),\"\")","v":""},null,null,null,null,null,null,null,null,null,null,null,null,null,0]
[null,{"$f":"IFERROR(VLOOKUP(A2098,Base!$A$2:$D$460,2,0),\"\")","v":""},{"$f":"IFERROR(VLOOKUP(A2098,Base!$A$2:$D$460,3,0),\"\")","v":""},{"$f":"IFERROR(VLOOKUP(A2098,Base!$A$2:$D$460,4,0),\"\")","v":""},null,null,null,null,null,null,null,null,null,null,null,null,null,0]
[null,{"$f":"IFERROR(VLOOKUP(A2099,Base!$A$2:$D$460,2,0),\"\")","v":""},{"$f":"IFERROR(VLOOKUP(A2099,Base!$A$2:$D$460,3,0),\"\")","v":""},{"$f":"IFERROR(VLOOKUP(A2099,Base!$A$2:$D$460,4,0),\"\")","v":""},null,null,null,null,null,null,null,null,null,null,null,null,null,0]
[null,{"$f":"IFERROR(VLOOKUP(A2100,Base!$A$2:$D$460,2,0),\"\")","v":""},{"$f":"IFERROR(VLOOKUP(A2100,Base!$A$2:$D$460,3,0),\"\")","v":""},{"$f":"IFERROR(VLOOKUP(A2100,Base!$A$2:$D$460,4,0),\"\")","v":""},null,null,null,null,null,null,null,null,null,null,null,null,null,0]
[null,{"$f":"IFERROR(VLOOKUP(A2101,Base!$A$2:$D$460,2,0),\"\")","v":""},{"$f":"IFERROR(VLOOKUP(A2101,Base!$A$2:$D$460,3,0),\"\")","v":""},{"$f":"IFERROR(VLOOKUP(A2101,Base!$A$2:$D$460,4,0),\"\")","v":""},null,null,null,null,null,null,null,null,null,null,null,null,null,0]
[null,{"$f":"IFERROR(VLOOKUP(A2102,Base!$A$2:$D$460,2,0),\"\")","v":""},{"$f":"IFERROR(VLOOKUP(A2102,Base!$A$2:$D$460,3,0),\"\")","v":""},{"$f":"IFERROR(VLOOKUP(A2102,Base!$A$2:$D$460,4,0),\"\")","v":""},null,null,null,null,null,null,null,null,null,null,null,null,null,0]
[null,{"$f":"IFERROR(VLOOKUP(A2103,Base!$A$2:$D$460,2,0),\"\")","v":""},{"$f":"IFERROR(VLOOKUP(A2103,Base!$A$2:$D$460,3,0),\"\")","v":""},{"$f":"IFERROR(VLOOKUP(A2103,Base!$A$2:$D$460,4,0),\"\")","v":""},null,null,null,null,null,null,null,null,null,null,null,null,null,0]
[null,{"$f":"IFERROR(VLOOKUP(A2104,Base!$A$2:$D$460,2,0),\"\")","v":""},{"$f":"IFERROR(VLOOKUP(A2104,Base!$A$2:$D$460,3,0),\"\")","v":""},{"$f":"IFERROR(VLOOKUP(A2104,Base!$A$2:$D$460,4,0),\"\")","v":""},null,null,null,null,null,null,null,null,null,null,null,null,null,0]
[null,{"$f":"IFERROR(VLOOKUP(A2105,Base!$A$2:$D$460,2,0),\"\")","v":""},{"$f":"IFERROR(VLOOKUP(A2105,Base!$A$2:$D$460,3,0),\"\")","v":""},{"$f":"IFERROR(VLOOKUP(A2105,Base!$A$2:$D$460,4,0),\"\")","v":""},null,null,null,null,null,null,null,null,null,null,null,null,null,0]
[null,{"$f":"IFERROR(VLOOKUP(A2106,Base!$A$2:$D$460,2,0),\"\")","v":""},{"$f":"IFERROR(VLOOKUP(A2106,Base!$A$2:$D$460,3,0),\"\")","v":""},{"$f":"IFERROR(VLOOKUP(A2106,Base!$A$2:$D$460,4,0),\"\")","v":""},null,null,null,null,null,null,null,null,null,null,null,null,null,0]
[null,{"$f":"IFERROR(VLOOKUP(A2107,Base!$A$2:$D$460,2,0),\"\")","v":""},{"$f":"IFERROR(VLOOKUP(A2107,Base!$A$2:$D$460,3,0),\"\")","v":""},{"$f":"IFERROR(VLOOKUP(A2107,Base!$A$2:$D$460,4,0),\"\")","v":""},null,null,null,null,null,null,null,null,null,null,null,null,null,0]
[null,{"$f":"IFERROR(VLOOKUP(A2108,Base!$A$2:$D$460,2,0),\"\")","v":""},{"$f":"IFERROR(VLOOKUP(A2108,Base!$A$2:$D$460,3,0),\"\")","v":""},{"$f":"IFERROR(VLOOKUP(A2108,Base!$A$2:$D$460,4,0),\"\")","v":""},null,null,null,null,null,null,null,null,null,null,null,null,null,0]
[null,{"$f":"IFERROR(VLOOKUP(A2109,Base!$A$2:$D$460,2,0),\"\")","v":""},{"$f":"IFERROR(VLOOKUP(A2109,Base!$A$2:$D$460,3,0),\"\")","v":""},{"$f":"IFERROR(VLOOKUP(A2109,Base!$A$2:$D$460,4,0),\"\")","v":""},null,null,null,null,null,null,null,null,null,null,null,null,null,0]
[null,{"$f":"IFERROR(VLOOKUP(A2110,Base!$A$2:$D$460,2,0),\"\")","v":""},{"$f":"IFERROR(VLOOKUP(A2110,Base!$A$2:$D$460,3,0),\"\")","v":""},{"$f":"IFERROR(VLOOKUP(A2110,Base!$A$2:$D$460,4,0),\"\")","v":""},null,null,null,null,null,null,null,null,null,null,null,null,null,0]
[null,{"$f":"IFERROR(VLOOKUP(A2111,Base!$A$2:$D$460,2,0),\"\")","v":""},{"$f":"IFERROR(VLOOKUP(A2111,Base!$A$2:$D$460,3,0),\"\")","v":""},{"$f":"IFERROR(VLOOKUP(A2111,Base!$A$2:$D$460,4,0),\"\")","v":""},null,null,null,null,null,null,null,null,null,null,null,null,null,0]
[null,{"$f":"IFERROR(VLOOKUP(A2112,Base!$A$2:$D$460,2,0),\"\")","v":""},{"$f":"IFERROR(VLOOKUP(A2112,Base!$A$2:$D$460,3,0),\"\")","v":""},{"$f":"IFERROR(VLOOKUP(A2112,Base!$A$2:$D$460,4,0),\"\")","v":""},null,null,null,null,null,null,null,null,null,null,null,null,null,0]
[null,{"$f":"IFERROR(VLOOKUP(A2113,Base!$A$2:$D$460,2,0),\"\")","v":""},{"$f":"IFERROR(VLOOKUP(A2113,Base!$A$2:$D$460,3,0),\"\")","v":""},{"$f":"IFERROR(VLOOKUP(A2113,Base!$A$2:$D$460,4,0),\"\")","v":""},null,null,null,null,null,null,null,null,null,null,null,null,null,0]
[null,{"$f":"IFERROR(VLOOKUP(A2114,Base!$A$2:$D$460,2,0),\"\")","v":""},{"$f":"IFERROR(VLOOKUP(A2114,Base!$A$2:$D$460,3,0),\"\")","v":""},{"$f":"IFERROR(VLOOKUP(A2114,Base!$A$2:$D$460,4,0),\"\")","v":""},null,null,null,null,null,null,null,null,null,null,null,null,null,0]
[null,{"$f":"IFERROR(VLOOKUP(A2115,Base!$A$2:$D$460,2,0),\"\")","v":""},{"$f":"IFERROR(VLOOKUP(A2115,Base!$A$2:$D$460,3,0),\"\")","v":""},{"$f":"IFERROR(VLOOKUP(A2115,Base!$A$2:$D$460,4,0),\"\")","v":""},null,null,null,null,null,null,null,null,null,null,null,null,null,0]
[null,{"$f":"IFERROR(VLOOKUP(A2116,Base!$A$2:$D$460,2,0),\"\")","v":""},{"$f":"IFERROR(VLOOKUP(A2116,Base!$A$2:$D$460,3,0),\"\")","v":""},{"$f":"IFERROR(VLOOKUP(A2116,Base!$A$2:$D$460,4,0),\"\")","v":""},null,null,null,null,null,null,null,null,null,null,null,null,null,0]
[null,{"$f":"IFERROR(VLOOKUP(A2117,Base!$A$2:$D$460,2,0),\"\")","v":""},{"$f":"IFERROR(VLOOKUP(A2117,Base!$A$2:$D$460,3,0),\"\")","v":""},{"$f":"IFERROR(VLOOKUP(A2117,Base!$A$2:$D$460,4,0),\"\")","v":""},null,null,null,null,null,null,null,null,null,null,null,null,null,0]
[null,{"$f":"IFERROR(VLOOKUP(A2118,Base!$A$2:$D$460,2,0),\"\")","v":""},{"$f":"IFERROR(VLOOKUP(A2118,Base!$A$2:$D$460,3,0),\"\")","v":""},{"$f":"IFERROR(VLOOKUP(A2118,Base!$A$2:$D$460,4,0),\"\")","v":""},null,null,null,null,null,null,null,null,null,null,null,null,null,0]
[null,{"$f":"IFERROR(VLOOKUP(A2119,Base!$A$2:$D$460,2,0),\"\")","v":""},{"$f":"IFERROR(VLOOKUP(A2119,Base!$A$2:$D$460,3,0),\"\")","v":""},{"$f":"IFERROR(VLOOKUP(A2119,Base!$A$2:$D$460,4,0),\"\")","v":""},null,null,null,null,null,null,null,null,null,null,null,null,null,0]
[null,{"$f":"IFERROR(VLOOKUP(A2120,Base!$A$2:$D$460,2,0),\"\")","v":""},{"$f":"IFERROR(VLOOKUP(A2120,Base!$A$2:$D$460,3,0),\"\")","v":""},{"$f":"IFERROR(VLOOKUP(A2120,Base!$A$2:$D$460,4,0),\"\")","v":""},null,null,null,null,null,null,null,null,null,null,null,null,null,0]
[null,{"$f":"IFERROR(VLOOKUP(A2121,Base!$A$2:$D$460,2,0),\"\")","v":""},{"$f":"IFERROR(VLOOKUP(A2121,Base!$A$2:$D$460,3,0),\"\")","v":""},{"$f":"IFERROR(VLOOKUP(A2121,Base!$A$2:$D$460,4,0),\"\")","v":""},null,null,null,null,null,null,null,null,null,null,null,null,null,0]
[null,{"$f":"IFERROR(VLOOKUP(A2122,Base!$A$2:$D$460,2,0),\"\")","v":""},{"$f":"IFERROR(VLOOKUP(A2122,Base!$A$2:$D$460,3,0),\"\")","v":""},{"$f":"IFERROR(VLOOKUP(A2122,Base!$A$2:$D$460,4,0),\"\")","v":""},null,null,null,null,null,null,null,null,null,null,null,null,null,0]
[null,{"$f":"IFERROR(VLOOKUP(A2123,Base!$A$2:$D$460,2,0),\"\")","v":""},{"$f":"IFERROR(VLOOKUP(A2123,Base!$A$2:$D$460,3,0),\"\")","v":""},{"$f":"IFERROR(VLOOKUP(A2123,Base!$A$2:$D$460,4,0),\"\")","v":""},null,null,null,null,null,null,null,null,null,null,null,null,null,0]
[null,{"$f":"IFERROR(VLOOKUP(A2124,Base!$A$2:$D$460,2,0),\"\")","v":""},{"$f":"IFERROR(VLOOKUP(A2124,Base!$A$2:$D$460,3,0),\"\")","v":""},{"$f":"IFERROR(VLOOKUP(A2124,Base!$A$2:$D$460,4,0),\"\")","v":""},null,null,null,null,null,null,null,null,null,null,null,null,null,0]
[null,{"$f":"IFERROR(VLOOKUP(A2125,Base!$A$2:$D$460,2,0),\"\")","v":""},{"$f":"IFERROR(VLOOKUP(A2125,Base!$A$2:$D$460,3,0),\"\")","v":""},{"$f":"IFERROR(VLOOKUP(A2125,Base!$A$2:$D$460,4,0),\"\")","v":""},null,null,null,null,null,null,null,null,null,null,null,null,null,0]
[null,{"$f":"IFERROR(VLOOKUP(A2126,Base!$A$2:$D$460,2,0),\"\")","v":""},{"$f":"IFERROR(VLOOKUP(A2126,Base!$A$2:$D$460,3,0),\"\")","v":""},{"$f":"IFERROR(VLOOKUP(A2126,Base!$A$2:$D$460,4,0),\"\")","v":""},null,null,null,null,null,null,null,null,null,null,null,null,null,0]
[null,{"$f":"IFERROR(VLOOKUP(A2127,Base!$A$2:$D$460,2,0),\"\")","v":""},{"$f":"IFERROR(VLOOKUP(A2127,Base!$A$2:$D$460,3,0),\"\")","v":""},{"$f":"IFERROR(VLOOKUP(A2127,Base!$A$2:$D$460,4,0),\"\")","v":""},null,null,null,null,null,null,null,null,null,null,null,null,null,0]
[null,{"$f":"IFERROR(VLOOKUP(A2128,Base!$A$2:$D$460,2,0),\"\")","v":""},{"$f":"IFERROR(VLOOKUP(A2128,Base!$A$2:$D$460,3,0),\"\")","v":""},{"$f":"IFERROR(VLOOKUP(A2128,Base!$A$2:$D$460,4,0),\"\")","v":""},null,null,null,null,null,null,null,null,null,null,null,null,null,0]
[null,{"$f":"IFERROR(VLOOKUP(A2129,Base!$A$2:$D$460,2,0),\"\")","v":""},{"$f":"IFERROR(VLOOKUP(A2129,Base!$A$2:$D$460,3,0),\"\")","v":""},{"$f":"IFERROR(VLOOKUP(A2129,Base!$A$2:$D$460,4,0),\"\")","v":""},null,null,null,null,null,null,null,null,null,null,null,null,null,0]
[null,{"$f":"IFERROR(VLOOKUP(A2130,Base!$A$2:$D$460,2,0),\"\")","v":""},{"$f":"IFERROR(VLOOKUP(A2130,Base!$A$2:$D$460,3,0),\"\")","v":""},{"$f":"IFERROR(VLOOKUP(A2130,Base!$A$2:$D$460,4,0),\"\")","v":""},null,null,null,null,null,null,null,null,null,null,null,null,null,0]
[null,{"$f":"IFERROR(VLOOKUP(A2131,Base!$A$2:$D$460,2,0),\"\")","v":""},{"$f":"IFERROR(VLOOKUP(A2131,Base!$A$2:$D$460,3,0),\"\")","v":""},{"$f":"IFERROR(VLOOKUP(A2131,Base!$A$2:$D$460,4,0),\"\")","v":""},null,null,null,null,null,null,null,null,null,null,null,null,null,0]
[null,{"$f":"IFERROR(VLOOKUP(A2132,Base!$A$2:$D$460,2,0),\"\")","v":""},{"$f":"IFERROR(VLOOKUP(A2132,Base!$A$2:$D$460,3,0),\"\")","v":""},{"$f":"IFERROR(VLOOKUP(A2132,Base!$A$2:$D$460,4,0),\"\")","v":""},null,null,null,null,null,null,null,null,null,null,null,null,null,0]
[null,{"$f":"IFERROR(VLOOKUP(A2133,Base!$A$2:$D$460,2,0),\"\")","v":""},{"$f":"IFERROR(VLOOKUP(A2133,Base!$A$2:$D$460,3,0),\"\")","v":""},{"$f":"IFERROR(VLOOKUP(A2133,Base!$A$2:$D$460,4,0),\"\")","v":""},null,null,null,null,null,null,null,null,null,null,null,null,null,0]
[null,{"$f":"IFERROR(VLOOKUP(A2134,Base!$A$2:$D$460,2,0),\"\")","v":""},{"$f":"IFERROR(VLOOKUP(A2134,Base!$A$2:$D$460,3,0),\"\")","v":""},{"$f":"IFERROR(VLOOKUP(A2134,Base!$A$2:$D$460,4,0),\"\")","v":""},null,null,null,null,null,null,null,null,null,null,null,null,null,0]
[null,{"$f":"IFERROR(VLOOKUP(A2135,Base!$A$2:$D$460,2,0),\"\")","v":""},{"$f":"IFERROR(VLOOKUP(A2135,Base!$A$2:$D$460,3,0),\"\")","v":""},{"$f":"IFERROR(VLOOKUP(A2135,Base!$A$2:$D$460,4,0),\"\")","v":""},null,null,null,null,null,null,null,null,null,null,null,null,null,0]
[null,{"$f":"IFERROR(VLOOKUP(A2136,Base!$A$2:$D$460,2,0),\"\")","v":""},{"$f":"IFERROR(VLOOKUP(A2136,Base!$A$2:$D$460,3,0),\"\")","v":""},{"$f":"IFERROR(VLOOKUP(A2136,Base!$A$2:$D$460,4,0),\"\")","v":""},null,null,null,null,null,null,null,null,null,null,null,null,null,0]
[null,{"$f":"IFERROR(VLOOKUP(A2137,Base!$A$2:$D$460,2,0),\"\")","v":""},{"$f":"IFERROR(VLOOKUP(A2137,Base!$A$2:$D$460,3,0),\"\")","v":""},{"$f":"IFERROR(VLOOKUP(A2137,Base!$A$2:$D$460,4,0),\"\")","v":""},null,null,null,null,null,null,null,null,null,null,null,null,null,0]
[null,{"$f":"IFERROR(VLOOKUP(A2138,Base!$A$2:$D$460,2,0),\"\")","v":""},{"$f":"IFERROR(VLOOKUP(A2138,Base!$A$2:$D$460,3,0),\"\")","v":""},{"$f":"IFERROR(VLOOKUP(A2138,Base!$A$2:$D$460,4,0),\"\")","v":""},null,null,null,null,null,null,null,null,null,null,null,null,null,0]
[null,{"$f":"IFERROR(VLOOKUP(A2139,Base!$A$2:$D$460,2,0),\"\")","v":""},{"$f":"IFERROR(VLOOKUP(A2139,Base!$A$2:$D$460,3,0),\"\")","v":""},{"$f":"IFERROR(VLOOKUP(A2139,Base!$A$2:$D$460,4,0),\"\")","v":""},null,null,null,null,null,null,null,null,null,null,null,null,null,0]
[null,{"$f":"IFERROR(VLOOKUP(A2140,Base!$A$2:$D$460,2,0),\"\")","v":""},{"$f":"IFERROR(VLOOKUP(A2140,Base!$A$2:$D$460,3,0),\"\")","v":""},{"$f":"IFERROR(VLOOKUP(A2140,Base!$A$2:$D$460,4,0),\"\")","v":""},null,null,null,null,null,null,null,null,null,null,null,null,null,0]
[null,{"$f":"IFERROR(VLOOKUP(A2141,Base!$A$2:$D$460,2,0),\"\")","v":""},{"$f":"IFERROR(VLOOKUP(A2141,Base!$A$2:$D$460,3,0),\"\")","v":""},{"$f":"IFERROR(VLOOKUP(A2141,Base!$A$2:$D$460,4,0),\"\")","v":""},null,null,null,null,null,null,null,null,null,null,null,null,null,0]
[null,{"$f":"IFERROR(VLOOKUP(A2142,Base!$A$2:$D$460,2,0),\"\")","v":""},{"$f":"IFERROR(VLOOKUP(A2142,Base!$A$2:$D$460,3,0),\"\")","v":""},{"$f":"IFERROR(VLOOKUP(A2142,Base!$A$2:$D$460,4,0),\"\")","v":""},null,null,null,null,null,null,null,null,null,null,null,null,null,0]
[null,{"$f":"IFERROR(VLOOKUP(A2143,Base!$A$2:$D$460,2,0),\"\")","v":""},{"$f":"IFERROR(VLOOKUP(A2143,Base!$A$2:$D$460,3,0),\"\")","v":""},{"$f":"IFERROR(VLOOKUP(A2143,Base!$A$2:$D$460,4,0),\"\")","v":""},null,null,null,null,null,null,null,null,null,null,null,null,null,0]
[null,{"$f":"IFERROR(VLOOKUP(A2144,Base!$A$2:$D$460,2,0),\"\")","v":""},{"$f":"IFERROR(VLOOKUP(A2144,Base!$A$2:$D$460,3,0),\"\")","v":""},{"$f":"IFERROR(VLOOKUP(A2144,Base!$A$2:$D$460,4,0),\"\")","v":""},null,null,null,null,null,null,null,null,null,null,null,null,null,0]
[null,{"$f":"IFERROR(VLOOKUP(A2145,Base!$A$2:$D$460,2,0),\"\")","v":""},{"$f":"IFERROR(VLOOKUP(A2145,Base!$A$2:$D$460,3,0),\"\")","v":""},{"$f":"IFERROR(VLOOKUP(A2145,Base!$A$2:$D$460,4,0),\"\")","v":""},null,null,null,null,null,null,null,null,null,null,null,null,null,0]
[null,{"$f":"IFERROR(VLOOKUP(A2146,Base!$A$2:$D$460,2,0),\"\")","v":""},{"$f":"IFERROR(VLOOKUP(A2146,Base!$A$2:$D$460,3,0),\"\")","v":""},{"$f":"IFERROR(VLOOKUP(A2146,Base!$A$2:$D$460,4,0),\"\")","v":""},null,null,null,null,null,null,null,null,null,null,null,null,null,0]
[null,{"$f":"IFERROR(VLOOKUP(A2147,Base!$A$2:$D$460,2,0),\"\")","v":""},{"$f":"IFERROR(VLOOKUP(A2147,Base!$A$2:$D$460,3,0),\"\")","v":""},{"$f":"IFERROR(VLOOKUP(A2147,Base!$A$2:$D$460,4,0),\"\")","v":""},null,null,null,null,null,null,null,null,null,null,null,null,null,0]
[null,{"$f":"IFERROR(VLOOKUP(A2148,Base!$A$2:$D$460,2,0),\"\")","v":""},{"$f":"IFERROR(VLOOKUP(A2148,Base!$A$2:$D$460,3,0),\"\")","v":""},{"$f":"IFERROR(VLOOKUP(A2148,Base!$A$2:$D$460,4,0),\"\")","v":""},null,null,null,null,null,null,null,null,null,null,null,null,null,0]
[null,{"$f":"IFERROR(VLOOKUP(A2149,Base!$A$2:$D$460,2,0),\"\")","v":""},{"$f":"IFERROR(VLOOKUP(A2149,Base!$A$2:$D$460,3,0),\"\")","v":""},{"$f":"IFERROR(VLOOKUP(A2149,Base!$A$2:$D$460,4,0),\"\")","v":""},null,null,null,null,null,null,null,null,null,null,null,null,null,0]
[null,{"$f":"IFERROR(VLOOKUP(A2150,Base!$A$2:$D$460,2,0),\"\")","v":""},{"$f":"IFERROR(VLOOKUP(A2150,Base!$A$2:$D$460,3,0),\"\")","v":""},{"$f":"IFERROR(VLOOKUP(A2150,Base!$A$2:$D$460,4,0),\"\")","v":""},null,null,null,null,null,null,null,null,null,null,null,null,null,0]
[null,{"$f":"IFERROR(VLOOKUP(A2151,Base!$A$2:$D$460,2,0),\"\")","v":""},{"$f":"IFERROR(VLOOKUP(A2151,Base!$A$2:$D$460,3,0),\"\")","v":""},{"$f":"IFERROR(VLOOKUP(A2151,Base!$A$2:$D$460,4,0),\"\")","v":""},null,null,null,null,null,null,null,null,null,null,null,null,null,{"$f":"SUM(N2151:Q2151)/4","v":0}]
[null,{"$f":"IFERROR(VLOOKUP(A2152,Base!$A$2:$D$460,2,0),\"\")","v":""},{"$f":"IFERROR(VLOOKUP(A2152,Base!$A$2:$D$460,3,0),\"\")","v":""},{"$f":"IFERROR(VLOOKUP(A2152,Base!$A$2:$D$460,4,0),\"\")","v":""},null,null,null,null,null,null,null,null,null,null,null,null,null,0]
[null,{"$f":"IFERROR(VLOOKUP(A2153,Base!$A$2:$D$460,2,0),\"\")","v":""},{"$f":"IFERROR(VLOOKUP(A2153,Base!$A$2:$D$460,3,0),\"\")","v":""},{"$f":"IFERROR(VLOOKUP(A2153,Base!$A$2:$D$460,4,0),\"\")","v":""},null,null,null,null,null,null,null,null,null,null,null,null,null,0]
[null,{"$f":"IFERROR(VLOOKUP(A2154,Base!$A$2:$D$460,2,0),\"\")","v":""},{"$f":"IFERROR(VLOOKUP(A2154,Base!$A$2:$D$460,3,0),\"\")","v":""},{"$f":"IFERROR(VLOOKUP(A2154,Base!$A$2:$D$460,4,0),\"\")","v":""},null,null,null,null,null,null,null,null,null,null,null,null,null,0]
[null,{"$f":"IFERROR(VLOOKUP(A2155,Base!$A$2:$D$460,2,0),\"\")","v":""},{"$f":"IFERROR(VLOOKUP(A2155,Base!$A$2:$D$460,3,0),\"\")","v":""},{"$f":"IFERROR(VLOOKUP(A2155,Base!$A$2:$D$460,4,0),\"\")","v":""},null,null,null,null,null,null,null,null,null,null,null,null,null,0]
[null,{"$f":"IFERROR(VLOOKUP(A2156,Base!$A$2:$D$460,2,0),\"\")","v":""},{"$f":"IFERROR(VLOOKUP(A2156,Base!$A$2:$D$460,3,0),\"\")","v":""},{"$f":"IFERROR(VLOOKUP(A2156,Base!$A$2:$D$460,4,0),\"\")","v":""},null,null,null,null,null,null,null,null,null,null,null,null,null,0]
[null,{"$f":"IFERROR(VLOOKUP(A2157,Base!$A$2:$D$460,2,0),\"\")","v":""},{"$f":"IFERROR(VLOOKUP(A2157,Base!$A$2:$D$460,3,0),\"\")","v":""},{"$f":"IFERROR(VLOOKUP(A2157,Base!$A$2:$D$460,4,0),\"\")","v":""},null,null,null,null,null,null,null,null,null,null,null,null,null,0]
[null,{"$f":"IFERROR(VLOOKUP(A2158,Base!$A$2:$D$460,2,0),\"\")","v":""},{"$f":"IFERROR(VLOOKUP(A2158,Base!$A$2:$D$460,3,0),\"\")","v":""},{"$f":"IFERROR(VLOOKUP(A2158,Base!$A$2:$D$460,4,0),\"\")","v":""},null,null,null,null,null,null,null,null,null,null,null,null,null,0]
[null,{"$f":"IFERROR(VLOOKUP(A2159,Base!$A$2:$D$460,2,0),\"\")","v":""},{"$f":"IFERROR(VLOOKUP(A2159,Base!$A$2:$D$460,3,0),\"\")","v":""},{"$f":"IFERROR(VLOOKUP(A2159,Base!$A$2:$D$460,4,0),\"\")","v":""},null,null,null,null,null,null,null,null,null,null,null,null,null,0]
[null,{"$f":"IFERROR(VLOOKUP(A2160,Base!$A$2:$D$460,2,0),\"\")","v":""},{"$f":"IFERROR(VLOOKUP(A2160,Base!$A$2:$D$460,3,0),\"\")","v":""},{"$f":"IFERROR(VLOOKUP(A2160,Base!$A$2:$D$460,4,0),\"\")","v":""},null,null,null,null,null,null,null,null,null,null,null,null,null,0]
[null,{"$f":"IFERROR(VLOOKUP(A2161,Base!$A$2:$D$460,2,0),\"\")","v":""},{"$f":"IFERROR(VLOOKUP(A2161,Base!$A$2:$D$460,3,0),\"\")","v":""},{"$f":"IFERROR(VLOOKUP(A2161,Base!$A$2:$D$460,4,0),\"\")","v":""},null,null,null,null,null,null,null,null,null,null,null,null,null,0]
[null,{"$f":"IFERROR(VLOOKUP(A2162,Base!$A$2:$D$460,2,0),\"\")","v":""},{"$f":"IFERROR(VLOOKUP(A2162,Base!$A$2:$D$460,3,0),\"\")","v":""},{"$f":"IFERROR(VLOOKUP(A2162,Base!$A$2:$D$460,4,0),\"\")","v":""},null,null,null,null,null,null,null,null,null,null,null,null,null,0]
[null,{"$f":"IFERROR(VLOOKUP(A2163,Base!$A$2:$D$460,2,0),\"\")","v":""},{"$f":"IFERROR(VLOOKUP(A2163,Base!$A$2:$D$460,3,0),\"\")","v":""},{"$f":"IFERROR(VLOOKUP(A2163,Base!$A$2:$D$460,4,0),\"\")","v":""},null,null,null,null,null,null,null,null,null,null,null,null,null,0]
[null,{"$f":"IFERROR(VLOOKUP(A2164,Base!$A$2:$D$460,2,0),\"\")","v":""},{"$f":"IFERROR(VLOOKUP(A2164,Base!$A$2:$D$460,3,0),\"\")","v":""},{"$f":"IFERROR(VLOOKUP(A2164,Base!$A$2:$D$460,4,0),\"\")","v":""},null,null,null,null,null,null,null,null,null,null,null,null,null,0]
[null,{"$f":"IFERROR(VLOOKUP(A2165,Base!$A$2:$D$460,2,0),\"\")","v":""},{"$f":"IFERROR(VLOOKUP(A2165,Base!$A$2:$D$460,3,0),\"\")","v":""},{"$f":"IFERROR(VLOOKUP(A2165,Base!$A$2:$D$460,4,0),\"\")","v":""},null,null,null,null,null,null,null,null,null,null,null,null,null,0]
[null,{"$f":"IFERROR(VLOOKUP(A2166,Base!$A$2:$D$460,2,0),\"\")","v":""},{"$f":"IFERROR(VLOOKUP(A2166,Base!$A$2:$D$460,3,0),\"\")","v":""},{"$f":"IFERROR(VLOOKUP(A2166,Base!$A$2:$D$460,4,0),\"\")","v":""},null,null,null,null,null,null,null,null,null,null,null,null,null,0]
[null,{"$f":"IFERROR(VLOOKUP(A2167,Base!$A$2:$D$460,2,0),\"\")","v":""},{"$f":"IFERROR(VLOOKUP(A2167,Base!$A$2:$D$460,3,0),\"\")","v":""},{"$f":"IFERROR(VLOOKUP(A2167,Base!$A$2:$D$460,4,0),\"\")","v":""},null,null,null,null,null,null,null,null,null,null,null,null,null,0]
[null,{"$f":"IFERROR(VLOOKUP(A2168,Base!$A$2:$D$460,2,0),\"\")","v":""},{"$f":"IFERROR(VLOOKUP(A2168,Base!$A$2:$D$460,3,0),\"\")","v":""},{"$f":"IFERROR(VLOOKUP(A2168,Base!$A$2:$D$460,4,0),\"\")","v":""},null,null,null,null,null,null,null,null,null,null,null,null,null,0]
[null,{"$f":"IFERROR(VLOOKUP(A2169,Base!$A$2:$D$460,2,0),\"\")","v":""},{"$f":"IFERROR(VLOOKUP(A2169,Base!$A$2:$D$460,3,0),\"\")","v":""},{"$f":"IFERROR(VLOOKUP(A2169,Base!$A$2:$D$460,4,0),\"\")","v":""},null,null,null,null,null,null,null,null,null,null,null,null,null,0]
[null,{"$f":"IFERROR(VLOOKUP(A2170,Base!$A$2:$D$460,2,0),\"\")","v":""},{"$f":"IFERROR(VLOOKUP(A2170,Base!$A$2:$D$460,3,0),\"\")","v":""},{"$f":"IFERROR(VLOOKUP(A2170,Base!$A$2:$D$460,4,0),\"\")","v":""},null,null,null,null,null,null,null,null,null,null,null,null,null,0]
[null,{"$f":"IFERROR(VLOOKUP(A2171,Base!$A$2:$D$460,2,0),\"\")","v":""},{"$f":"IFERROR(VLOOKUP(A2171,Base!$A$2:$D$460,3,0),\"\")","v":""},{"$f":"IFERROR(VLOOKUP(A2171,Base!$A$2:$D$460,4,0),\"\")","v":""},null,null,null,null,null,null,null,null,null,null,null,null,null,0]
[null,{"$f":"IFERROR(VLOOKUP(A2172,Base!$A$2:$D$460,2,0),\"\")","v":""},{"$f":"IFERROR(VLOOKUP(A2172,Base!$A$2:$D$460,3,0),\"\")","v":""},{"$f":"IFERROR(VLOOKUP(A2172,Base!$A$2:$D$460,4,0),\"\")","v":""},null,null,null,null,null,null,null,null,null,null,null,null,null,0]
[null,{"$f":"IFERROR(VLOOKUP(A2173,Base!$A$2:$D$460,2,0),\"\")","v":""},{"$f":"IFERROR(VLOOKUP(A2173,Base!$A$2:$D$460,3,0),\"\")","v":""},{"$f":"IFERROR(VLOOKUP(A2173,Base!$A$2:$D$460,4,0),\"\")","v":""},null,null,null,null,null,null,null,null,null,null,null,null,null,0]
[null,{"$f":"IFERROR(VLOOKUP(A2174,Base!$A$2:$D$460,2,0),\"\")","v":""},{"$f":"IFERROR(VLOOKUP(A2174,Base!$A$2:$D$460,3,0),\"\")","v":""},{"$f":"IFERROR(VLOOKUP(A2174,Base!$A$2:$D$460,4,0),\"\")","v":""},null,null,null,null,null,null,null,null,null,null,null,null,null,0]
[null,{"$f":"IFERROR(VLOOKUP(A2175,Base!$A$2:$D$460,2,0),\"\")","v":""},{"$f":"IFERROR(VLOOKUP(A2175,Base!$A$2:$D$460,3,0),\"\")","v":""},{"$f":"IFERROR(VLOOKUP(A2175,Base!$A$2:$D$460,4,0),\"\")","v":""},null,null,null,null,null,null,null,null,null,null,null,null,null,0]
[null,{"$f":"IFERROR(VLOOKUP(A2176,Base!$A$2:$D$460,2,0),\"\")","v":""},{"$f":"IFERROR(VLOOKUP(A2176,Base!$A$2:$D$460,3,0),\"\")","v":""},{"$f":"IFERROR(VLOOKUP(A2176,Base!$A$2:$D$460,4,0),\"\")","v":""},null,null,null,null,null,null,null,null,null,null,null,null,null,0]
[null,{"$f":"IFERROR(VLOOKUP(A2177,Base!$A$2:$D$460,2,0),\"\")","v":""},{"$f":"IFERROR(VLOOKUP(A2177,Base!$A$2:$D$460,3,0),\"\")","v":""},{"$f":"IFERROR(VLOOKUP(A2177,Base!$A$2:$D$460,4,0),\"\")","v":""},null,null,null,null,null,null,null,null,null,null,null,null,null,0]
[null,{"$f":"IFERROR(VLOOKUP(A2178,Base!$A$2:$D$460,2,0),\"\")","v":""},{"$f":"IFERROR(VLOOKUP(A2178,Base!$A$2:$D$460,3,0),\"\")","v":""},{"$f":"IFERROR(VLOOKUP(A2178,Base!$A$2:$D$460,4,0),\"\")","v":""},null,null,null,null,null,null,null,null,null,null,null,null,null,0]
[null,{"$f":"IFERROR(VLOOKUP(A2179,Base!$A$2:$D$460,2,0),\"\")","v":""},{"$f":"IFERROR(VLOOKUP(A2179,Base!$A$2:$D$460,3,0),\"\")","v":""},{"$f":"IFERROR(VLOOKUP(A2179,Base!$A$2:$D$460,4,0),\"\")","v":""},null,null,null,null,null,null,null,null,null,null,null,null,null,0]
[null,{"$f":"IFERROR(VLOOKUP(A2180,Base!$A$2:$D$460,2,0),\"\")","v":""},{"$f":"IFERROR(VLOOKUP(A2180,Base!$A$2:$D$460,3,0),\"\")","v":""},{"$f":"IFERROR(VLOOKUP(A2180,Base!$A$2:$D$460,4,0),\"\")","v":""},null,null,null,null,null,null,null,null,null,null,null,null,null,0]
[null,{"$f":"IFERROR(VLOOKUP(A2181,Base!$A$2:$D$460,2,0),\"\")","v":""},{"$f":"IFERROR(VLOOKUP(A2181,Base!$A$2:$D$460,3,0),\"\")","v":""},{"$f":"IFERROR(VLOOKUP(A2181,Base!$A$2:$D$460,4,0),\"\")","v":""},null,null,null,null,null,null,null,null,null,null,null,null,null,0]
[null,{"$f":"IFERROR(VLOOKUP(A2182,Base!$A$2:$D$460,2,0),\"\")","v":""},{"$f":"IFERROR(VLOOKUP(A2182,Base!$A$2:$D$460,3,0),\"\")","v":""},{"$f":"IFERROR(VLOOKUP(A2182,Base!$A$2:$D$460,4,0),\"\")","v":""},null,null,null,null,null,null,null,null,null,null,null,null,null,0]
[null,{"$f":"IFERROR(VLOOKUP(A2183,Base!$A$2:$D$460,2,0),\"\")","v":""},{"$f":"IFERROR(VLOOKUP(A2183,Base!$A$2:$D$460,3,0),\"\")","v":""},{"$f":"IFERROR(VLOOKUP(A2183,Base!$A$2:$D$460,4,0),\"\")","v":""},null,null,null,null,null,null,null,null,null,null,null,null,null,0]
[null,{"$f":"IFERROR(VLOOKUP(A2184,Base!$A$2:$D$460,2,0),\"\")","v":""},{"$f":"IFERROR(VLOOKUP(A2184,Base!$A$2:$D$460,3,0),\"\")","v":""},{"$f":"IFERROR(VLOOKUP(A2184,Base!$A$2:$D$460,4,0),\"\")","v":""},null,null,null,null,null,null,null,null,null,null,null,null,null,0]
[null,{"$f":"IFERROR(VLOOKUP(A2185,Base!$A$2:$D$460,2,0),\"\")","v":""},{"$f":"IFERROR(VLOOKUP(A2185,Base!$A$2:$D$460,3,0),\"\")","v":""},{"$f":"IFERROR(VLOOKUP(A2185,Base!$A$2:$D$460,4,0),\"\")","v":""},null,null,null,null,null,null,null,null,null,null,null,null,null,0]
[null,{"$f":"IFERROR(VLOOKUP(A2186,Base!$A$2:$D$460,2,0),\"\")","v":""},{"$f":"IFERROR(VLOOKUP(A2186,Base!$A$2:$D$460,3,0),\"\")","v":""},{"$f":"IFERROR(VLOOKUP(A2186,Base!$A$2:$D$460,4,0),\"\")","v":""},null,null,null,null,null,null,null,null,null,null,null,null,null,0]
[null,{"$f":"IFERROR(VLOOKUP(A2187,Base!$A$2:$D$460,2,0),\"\")","v":""},{"$f":"IFERROR(VLOOKUP(A2187,Base!$A$2:$D$460,3,0),\"\")","v":""},{"$f":"IFERROR(VLOOKUP(A2187,Base!$A$2:$D$460,4,0),\"\")","v":""},null,null,null,null,null,null,null,null,null,null,null,null,null,0]
[null,{"$f":"IFERROR(VLOOKUP(A2188,Base!$A$2:$D$460,2,0),\"\")","v":""},{"$f":"IFERROR(VLOOKUP(A2188,Base!$A$2:$D$460,3,0),\"\")","v":""},{"$f":"IFERROR(VLOOKUP(A2188,Base!$A$2:$D$460,4,0),\"\")","v":""},null,null,null,null,null,null,null,null,null,null,null,null,null,0]
[null,{"$f":"IFERROR(VLOOKUP(A2189,Base!$A$2:$D$460,2,0),\"\")","v":""},{"$f":"IFERROR(VLOOKUP(A2189,Base!$A$2:$D$460,3,0),\"\")","v":""},{"$f":"IFERROR(VLOOKUP(A2189,Base!$A$2:$D$460,4,0),\"\")","v":""},null,null,null,null,null,null,null,null,null,null,null,null,null,0]
[null,{"$f":"IFERROR(VLOOKUP(A2190,Base!$A$2:$D$460,2,0),\"\")","v":""},{"$f":"IFERROR(VLOOKUP(A2190,Base!$A$2:$D$460,3,0),\"\")","v":""},{"$f":"IFERROR(VLOOKUP(A2190,Base!$A$2:$D$460,4,0),\"\")","v":""},null,null,null,null,null,null,null,null,null,null,null,null,null,0]
[null,{"$f":"IFERROR(VLOOKUP(A2191,Base!$A$2:$D$460,2,0),\"\")","v":""},{"$f":"IFERROR(VLOOKUP(A2191,Base!$A$2:$D$460,3,0),\"\")","v":""},{"$f":"IFERROR(VLOOKUP(A2191,Base!$A$2:$D$460,4,0),\"\")","v":""},null,null,null,null,null,null,null,null,null,null,null,null,null,0]
[null,{"$f":"IFERROR(VLOOKUP(A2192,Base!$A$2:$D$460,2,0),\"\")","v":""},{"$f":"IFERROR(VLOOKUP(A2192,Base!$A$2:$D$460,3,0),\"\")","v":""},{"$f":"IFERROR(VLOOKUP(A2192,Base!$A$2:$D$460,4,0),\"\")","v":""},null,null,null,null,null,null,null,null,null,null,null,null,null,0]
[null,{"$f":"IFERROR(VLOOKUP(A2193,Base!$A$2:$D$460,2,0),\"\")","v":""},{"$f":"IFERROR(VLOOKUP(A2193,Base!$A$2:$D$460,3,0),\"\")","v":""},{"$f":"IFERROR(VLOOKUP(A2193,Base!$A$2:$D$460,4,0),\"\")","v":""},null,null,null,null,null,null,null,null,null,null,null,null,null,0]
[null,{"$f":"IFERROR(VLOOKUP(A2194,Base!$A$2:$D$460,2,0),\"\")","v":""},{"$f":"IFERROR(VLOOKUP(A2194,Base!$A$2:$D$460,3,0),\"\")","v":""},{"$f":"IFERROR(VLOOKUP(A2194,Base!$A$2:$D$460,4,0),\"\")","v":""},null,null,null,null,null,null,null,null,null,null,null,null,null,0]
[null,{"$f":"IFERROR(VLOOKUP(A2195,Base!$A$2:$D$460,2,0),\"\")","v":""},{"$f":"IFERROR(VLOOKUP(A2195,Base!$A$2:$D$460,3,0),\"\")","v":""},{"$f":"IFERROR(VLOOKUP(A2195,Base!$A$2:$D$460,4,0),\"\")","v":""},null,null,null,null,null,null,null,null,null,null,null,null,null,0]
[null,{"$f":"IFERROR(VLOOKUP(A2196,Base!$A$2:$D$460,2,0),\"\")","v":""},{"$f":"IFERROR(VLOOKUP(A2196,Base!$A$2:$D$460,3,0),\"\")","v":""},{"$f":"IFERROR(VLOOKUP(A2196,Base!$A$2:$D$460,4,0),\"\")","v":""},null,null,null,null,null,null,null,null,null,null,null,null,null,0]
[null,{"$f":"IFERROR(VLOOKUP(A2197,Base!$A$2:$D$460,2,0),\"\")","v":""},{"$f":"IFERROR(VLOOKUP(A2197,Base!$A$2:$D$460,3,0),\"\")","v":""},{"$f":"IFERROR(VLOOKUP(A2197,Base!$A$2:$D$460,4,0),\"\")","v":""},null,null,null,null,null,null,null,null,null,null,null,null,null,0]
[null,{"$f":"IFERROR(VLOOKUP(A2198,Base!$A$2:$D$460,2,0),\"\")","v":""},{"$f":"IFERROR(VLOOKUP(A2198,Base!$A$2:$D$460,3,0),\"\")","v":""},{"$f":"IFERROR(VLOOKUP(A2198,Base!$A$2:$D$460,4,0),\"\")","v":""},null,null,null,null,null,null,null,null,null,null,null,null,null,0]
[null,{"$f":"IFERROR(VLOOKUP(A2199,Base!$A$2:$D$460,2,0),\"\")","v":""},{"$f":"IFERROR(VLOOKUP(A2199,Base!$A$2:$D$460,3,0),\"\")","v":""},{"$f":"IFERROR(VLOOKUP(A2199,Base!$A$2:$D$460,4,0),\"\")","v":""},null,null,null,null,null,null,null,null,null,null,null,null,null,0]
[null,{"$f":"IFERROR(VLOOKUP(A2200,Base!$A$2:$D$460,2,0),\"\")","v":""},{"$f":"IFERROR(VLOOKUP(A2200,Base!$A$2:$D$460,3,0),\"\")","v":""},{"$f":"IFERROR(VLOOKUP(A2200,Base!$A$2:$D$460,4,0),\"\")","v":""},null,null,null,null,null,null,null,null,null,null,null,null,null,0]
[null,{"$f":"IFERROR(VLOOKUP(A2201,Base!$A$2:$D$460,2,0),\"\")","v":""},{"$f":"IFERROR(VLOOKUP(A2201,Base!$A$2:$D$460,3,0),\"\")","v":""},{"$f":"IFERROR(VLOOKUP(A2201,Base!$A$2:$D$460,4,0),\"\")","v":""},null,null,null,null,null,null,null,null,null,null,null,null,null,0]
[null,{"$f":"IFERROR(VLOOKUP(A2202,Base!$A$2:$D$460,2,0),\"\")","v":""},{"$f":"IFERROR(VLOOKUP(A2202,Base!$A$2:$D$460,3,0),\"\")","v":""},{"$f":"IFERROR(VLOOKUP(A2202,Base!$A$2:$D$460,4,0),\"\")","v":""},null,null,null,null,null,null,null,null,null,null,null,null,null,0]
[null,{"$f":"IFERROR(VLOOKUP(A2203,Base!$A$2:$D$460,2,0),\"\")","v":""},{"$f":"IFERROR(VLOOKUP(A2203,Base!$A$2:$D$460,3,0),\"\")","v":""},{"$f":"IFERROR(VLOOKUP(A2203,Base!$A$2:$D$460,4,0),\"\")","v":""},null,null,null,null,null,null,null,null,null,null,null,null,null,0]
[null,{"$f":"IFERROR(VLOOKUP(A2204,Base!$A$2:$D$460,2,0),\"\")","v":""},{"$f":"IFERROR(VLOOKUP(A2204,Base!$A$2:$D$460,3,0),\"\")","v":""},{"$f":"IFERROR(VLOOKUP(A2204,Base!$A$2:$D$460,4,0),\"\")","v":""},null,null,null,null,null,null,null,null,null,null,null,null,null,0]
[null,{"$f":"IFERROR(VLOOKUP(A2205,Base!$A$2:$D$460,2,0),\"\")","v":""},{"$f":"IFERROR(VLOOKUP(A2205,Base!$A$2:$D$460,3,0),\"\")","v":""},{"$f":"IFERROR(VLOOKUP(A2205,Base!$A$2:$D$460,4,0),\"\")","v":""},null,null,null,null,null,null,null,null,null,null,null,null,null,0]
[null,{"$f":"IFERROR(VLOOKUP(A2206,Base!$A$2:$D$460,2,0),\"\")","v":""},{"$f":"IFERROR(VLOOKUP(A2206,Base!$A$2:$D$460,3,0),\"\")","v":""},{"$f":"IFERROR(VLOOKUP(A2206,Base!$A$2:$D$460,4,0),\"\")","v":""},null,null,null,null,null,null,null,null,null,null,null,null,null,0]
[null,{"$f":"IFERROR(VLOOKUP(A2207,Base!$A$2:$D$460,2,0),\"\")","v":""},{"$f":"IFERROR(VLOOKUP(A2207,Base!$A$2:$D$460,3,0),\"\")","v":""},{"$f":"IFERROR(VLOOKUP(A2207,Base!$A$2:$D$460,4,0),\"\")","v":""},null,null,null,null,null,null,null,null,null,null,null,null,null,0]
[null,{"$f":"IFERROR(VLOOKUP(A2208,Base!$A$2:$D$460,2,0),\"\")","v":""},{"$f":"IFERROR(VLOOKUP(A2208,Base!$A$2:$D$460,3,0),\"\")","v":""},{"$f":"IFERROR(VLOOKUP(A2208,Base!$A$2:$D$460,4,0),\"\")","v":""},null,null,null,null,null,null,null,null,null,null,null,null,null,0]
[null,{"$f":"IFERROR(VLOOKUP(A2209,Base!$A$2:$D$460,2,0),\"\")","v":""},{"$f":"IFERROR(VLOOKUP(A2209,Base!$A$2:$D$460,3,0),\"\")","v":""},{"$f":"IFERROR(VLOOKUP(A2209,Base!$A$2:$D$460,4,0),\"\")","v":""},null,null,null,null,null,null,null,null,null,null,null,null,null,0]
[null,{"$f":"IFERROR(VLOOKUP(A2210,Base!$A$2:$D$460,2,0),\"\")","v":""},{"$f":"IFERROR(VLOOKUP(A2210,Base!$A$2:$D$460,3,0),\"\")","v":""},{"$f":"IFERROR(VLOOKUP(A2210,Base!$A$2:$D$460,4,0),\"\")","v":""},null,null,null,null,null,null,null,null,null,null,null,null,null,0]
[null,{"$f":"IFERROR(VLOOKUP(A2211,Base!$A$2:$D$460,2,0),\"\")","v":""},{"$f":"IFERROR(VLOOKUP(A2211,Base!$A$2:$D$460,3,0),\"\")","v":""},{"$f":"IFERROR(VLOOKUP(A2211,Base!$A$2:$D$460,4,0),\"\")","v":""},null,null,null,null,null,null,null,null,null,null,null,null,null,0]
[null,{"$f":"IFERROR(VLOOKUP(A2212,Base!$A$2:$D$460,2,0),\"\")","v":""},{"$f":"IFERROR(VLOOKUP(A2212,Base!$A$2:$D$460,3,0),\"\")","v":""},{"$f":"IFERROR(VLOOKUP(A2212,Base!$A$2:$D$460,4,0),\"\")","v":""},null,null,null,null,null,null,null,null,null,null,null,null,null,0]
[null,{"$f":"IFERROR(VLOOKUP(A2213,Base!$A$2:$D$460,2,0),\"\")","v":""},{"$f":"IFERROR(VLOOKUP(A2213,Base!$A$2:$D$460,3,0),\"\")","v":""},{"$f":"IFERROR(VLOOKUP(A2213,Base!$A$2:$D$460,4,0),\"\")","v":""},null,null,null,null,null,null,null,null,null,null,null,null,null,0]
[null,{"$f":"IFERROR(VLOOKUP(A2214,Base!$A$2:$D$460,2,0),\"\")","v":""},{"$f":"IFERROR(VLOOKUP(A2214,Base!$A$2:$D$460,3,0),\"\")","v":""},{"$f":"IFERROR(VLOOKUP(A2214,Base!$A$2:$D$460,4,0),\"\")","v":""},null,null,null,null,null,null,null,null,null,null,null,null,null,0]
[null,{"$f":"IFERROR(VLOOKUP(A2215,Base!$A$2:$D$460,2,0),\"\")","v":""},{"$f":"IFERROR(VLOOKUP(A2215,Base!$A$2:$D$460,3,0),\"\")","v":""},{"$f":"IFERROR(VLOOKUP(A2215,Base!$A$2:$D$460,4,0),\"\")","v":""},null,null,null,null,null,null,null,null,null,null,null,null,null,{"$f":"SUM(N2215:Q2215)/4","v":0}]
[null,{"$f":"IFERROR(VLOOKUP(A2216,Base!$A$2:$D$460,2,0),\"\")","v":""},{"$f":"IFERROR(VLOOKUP(A2216,Base!$A$2:$D$460,3,0),\"\")","v":""},{"$f":"IFERROR(VLOOKUP(A2216,Base!$A$2:$D$460,4,0),\"\")","v":""},null,null,null,null,null,null,null,null,null,null,null,null,null,0]
[null,{"$f":"IFERROR(VLOOKUP(A2217,Base!$A$2:$D$460,2,0),\"\")","v":""},{"$f":"IFERROR(VLOOKUP(A2217,Base!$A$2:$D$460,3,0),\"\")","v":""},{"$f":"IFERROR(VLOOKUP(A2217,Base!$A$2:$D$460,4,0),\"\")","v":""},null,null,null,null,null,null,null,null,null,null,null,null,null,0]
[null,{"$f":"IFERROR(VLOOKUP(A2218,Base!$A$2:$D$460,2,0),\"\")","v":""},{"$f":"IFERROR(VLOOKUP(A2218,Base!$A$2:$D$460,3,0),\"\")","v":""},{"$f":"IFERROR(VLOOKUP(A2218,Base!$A$2:$D$460,4,0),\"\")","v":""},null,null,null,null,null,null,null,null,null,null,null,null,null,0]
[null,{"$f":"IFERROR(VLOOKUP(A2219,Base!$A$2:$D$460,2,0),\"\")","v":""},{"$f":"IFERROR(VLOOKUP(A2219,Base!$A$2:$D$460,3,0),\"\")","v":""},{"$f":"IFERROR(VLOOKUP(A2219,Base!$A$2:$D$460,4,0),\"\")","v":""},null,null,null,null,null,null,null,null,null,null,null,null,null,0]
[null,{"$f":"IFERROR(VLOOKUP(A2220,Base!$A$2:$D$460,2,0),\"\")","v":""},{"$f":"IFERROR(VLOOKUP(A2220,Base!$A$2:$D$460,3,0),\"\")","v":""},{"$f":"IFERROR(VLOOKUP(A2220,Base!$A$2:$D$460,4,0),\"\")","v":""},null,null,null,null,null,null,null,null,null,null,null,null,null,0]
[null,{"$f":"IFERROR(VLOOKUP(A2221,Base!$A$2:$D$460,2,0),\"\")","v":""},{"$f":"IFERROR(VLOOKUP(A2221,Base!$A$2:$D$460,3,0),\"\")","v":""},{"$f":"IFERROR(VLOOKUP(A2221,Base!$A$2:$D$460,4,0),\"\")","v":""},null,null,null,null,null,null,null,null,null,null,null,null,null,0]
[null,{"$f":"IFERROR(VLOOKUP(A2222,Base!$A$2:$D$460,2,0),\"\")","v":""},{"$f":"IFERROR(VLOOKUP(A2222,Base!$A$2:$D$460,3,0),\"\")","v":""},{"$f":"IFERROR(VLOOKUP(A2222,Base!$A$2:$D$460,4,0),\"\")","v":""},null,null,null,null,null,null,null,null,null,null,null,null,null,0]
[null,{"$f":"IFERROR(VLOOKUP(A2223,Base!$A$2:$D$460,2,0),\"\")","v":""},{"$f":"IFERROR(VLOOKUP(A2223,Base!$A$2:$D$460,3,0),\"\")","v":""},{"$f":"IFERROR(VLOOKUP(A2223,Base!$A$2:$D$460,4,0),\"\")","v":""},null,null,null,null,null,null,null,null,null,null,null,null,null,0]
[null,{"$f":"IFERROR(VLOOKUP(A2224,Base!$A$2:$D$460,2,0),\"\")","v":""},{"$f":"IFERROR(VLOOKUP(A2224,Base!$A$2:$D$460,3,0),\"\")","v":""},{"$f":"IFERROR(VLOOKUP(A2224,Base!$A$2:$D$460,4,0),\"\")","v":""},null,null,null,null,null,null,null,null,null,null,null,null,null,0]
[null,{"$f":"IFERROR(VLOOKUP(A2225,Base!$A$2:$D$460,2,0),\"\")","v":""},{"$f":"IFERROR(VLOOKUP(A2225,Base!$A$2:$D$460,3,0),\"\")","v":""},{"$f":"IFERROR(VLOOKUP(A2225,Base!$A$2:$D$460,4,0),\"\")","v":""},null,null,null,null,null,null,null,null,null,null,null,null,null,0]
[null,{"$f":"IFERROR(VLOOKUP(A2226,Base!$A$2:$D$460,2,0),\"\")","v":""},{"$f":"IFERROR(VLOOKUP(A2226,Base!$A$2:$D$460,3,0),\"\")","v":""},{"$f":"IFERROR(VLOOKUP(A2226,Base!$A$2:$D$460,4,0),\"\")","v":""},null,null,null,null,null,null,null,null,null,null,null,null,null,0]
[null,{"$f":"IFERROR(VLOOKUP(A2227,Base!$A$2:$D$460,2,0),\"\")","v":""},{"$f":"IFERROR(VLOOKUP(A2227,Base!$A$2:$D$460,3,0),\"\")","v":""},{"$f":"IFERROR(VLOOKUP(A2227,Base!$A$2:$D$460,4,0),\"\")","v":""},null,null,null,null,null,null,null,null,null,null,null,null,null,0]
[null,{"$f":"IFERROR(VLOOKUP(A2228,Base!$A$2:$D$460,2,0),\"\")","v":""},{"$f":"IFERROR(VLOOKUP(A2228,Base!$A$2:$D$460,3,0),\"\")","v":""},{"$f":"IFERROR(VLOOKUP(A2228,Base!$A$2:$D$460,4,0),\"\")","v":""},null,null,null,null,null,null,null,null,null,null,null,null,null,0]
[null,{"$f":"IFERROR(VLOOKUP(A2229,Base!$A$2:$D$460,2,0),\"\")","v":""},{"$f":"IFERROR(VLOOKUP(A2229,Base!$A$2:$D$460,3,0),\"\")","v":""},{"$f":"IFERROR(VLOOKUP(A2229,Base!$A$2:$D$460,4,0),\"\")","v":""},null,null,null,null,null,null,null,null,null,null,null,null,null,0]
[null,{"$f":"IFERROR(VLOOKUP(A2230,Base!$A$2:$D$460,2,0),\"\")","v":""},{"$f":"IFERROR(VLOOKUP(A2230,Base!$A$2:$D$460,3,0),\"\")","v":""},{"$f":"IFERROR(VLOOKUP(A2230,Base!$A$2:$D$460,4,0),\"\")","v":""},null,null,null,null,null,null,null,null,null,null,null,null,null,0]
[null,{"$f":"IFERROR(VLOOKUP(A2231,Base!$A$2:$D$460,2,0),\"\")","v":""},{"$f":"IFERROR(VLOOKUP(A2231,Base!$A$2:$D$460,3,0),\"\")","v":""},{"$f":"IFERROR(VLOOKUP(A2231,Base!$A$2:$D$460,4,0),\"\")","v":""},null,null,null,null,null,null,null,null,null,null,null,null,null,0]
[null,{"$f":"IFERROR(VLOOKUP(A2232,Base!$A$2:$D$460,2,0),\"\")","v":""},{"$f":"IFERROR(VLOOKUP(A2232,Base!$A$2:$D$460,3,0),\"\")","v":""},{"$f":"IFERROR(VLOOKUP(A2232,Base!$A$2:$D$460,4,0),\"\")","v":""},null,null,null,null,null,null,null,null,null,null,null,null,null,0]
[null,{"$f":"IFERROR(VLOOKUP(A2233,Base!$A$2:$D$460,2,0),\"\")","v":""},{"$f":"IFERROR(VLOOKUP(A2233,Base!$A$2:$D$460,3,0),\"\")","v":""},{"$f":"IFERROR(VLOOKUP(A2233,Base!$A$2:$D$460,4,0),\"\")","v":""},null,null,null,null,null,null,null,null,null,null,null,null,null,0]
[null,{"$f":"IFERROR(VLOOKUP(A2234,Base!$A$2:$D$460,2,0),\"\")","v":""},{"$f":"IFERROR(VLOOKUP(A2234,Base!$A$2:$D$460,3,0),\"\")","v":""},{"$f":"IFERROR(VLOOKUP(A2234,Base!$A$2:$D$460,4,0),\"\")","v":""},null,null,null,null,null,null,null,null,null,null,null,null,null,0]
[null,{"$f":"IFERROR(VLOOKUP(A2235,Base!$A$2:$D$460,2,0),\"\")","v":""},{"$f":"IFERROR(VLOOKUP(A2235,Base!$A$2:$D$460,3,0),\"\")","v":""},{"$f":"IFERROR(VLOOKUP(A2235,Base!$A$2:$D$460,4,0),\"\")","v":""},null,null,null,null,null,null,null,null,null,null,null,null,null,0]
[null,{"$f":"IFERROR(VLOOKUP(A2236,Base!$A$2:$D$460,2,0),\"\")","v":""},{"$f":"IFERROR(VLOOKUP(A2236,Base!$A$2:$D$460,3,0),\"\")","v":""},{"$f":"IFERROR(VLOOKUP(A2236,Base!$A$2:$D$460,4,0),\"\")","v":""},null,null,null,null,null,null,null,null,null,null,null,null,null,0]
[null,{"$f":"IFERROR(VLOOKUP(A2237,Base!$A$2:$D$460,2,0),\"\")","v":""},{"$f":"IFERROR(VLOOKUP(A2237,Base!$A$2:$D$460,3,0),\"\")","v":""},{"$f":"IFERROR(VLOOKUP(A2237,Base!$A$2:$D$460,4,0),\"\")","v":""},null,null,null,null,null,null,null,null,null,null,null,null,null,0]
[null,{"$f":"IFERROR(VLOOKUP(A2238,Base!$A$2:$D$460,2,0),\"\")","v":""},{"$f":"IFERROR(VLOOKUP(A2238,Base!$A$2:$D$460,3,0),\"\")","v":""},{"$f":"IFERROR(VLOOKUP(A2238,Base!$A$2:$D$460,4,0),\"\")","v":""},null,null,null,null,null,null,null,null,null,null,null,null,null,0]
[null,{"$f":"IFERROR(VLOOKUP(A2239,Base!$A$2:$D$460,2,0),\"\")","v":""},{"$f":"IFERROR(VLOOKUP(A2239,Base!$A$2:$D$460,3,0),\"\")","v":""},{"$f":"IFERROR(VLOOKUP(A2239,Base!$A$2:$D$460,4,0),\"\")","v":""},null,null,null,null,null,null,null,null,null,null,null,null,null,0]
[null,{"$f":"IFERROR(VLOOKUP(A2240,Base!$A$2:$D$460,2,0),\"\")","v":""},{"$f":"IFERROR(VLOOKUP(A2240,Base!$A$2:$D$460,3,0),\"\")","v":""},{"$f":"IFERROR(VLOOKUP(A2240,Base!$A$2:$D$460,4,0),\"\")","v":""},null,null,null,null,null,null,null,null,null,null,null,null,null,0]
[null,{"$f":"IFERROR(VLOOKUP(A2241,Base!$A$2:$D$460,2,0),\"\")","v":""},{"$f":"IFERROR(VLOOKUP(A2241,Base!$A$2:$D$460,3,0),\"\")","v":""},{"$f":"IFERROR(VLOOKUP(A2241,Base!$A$2:$D$460,4,0),\"\")","v":""},null,null,null,null,null,null,null,null,null,null,null,null,null,0]
[null,{"$f":"IFERROR(VLOOKUP(A2242,Base!$A$2:$D$460,2,0),\"\")","v":""},{"$f":"IFERROR(VLOOKUP(A2242,Base!$A$2:$D$460,3,0),\"\")","v":""},{"$f":"IFERROR(VLOOKUP(A2242,Base!$A$2:$D$460,4,0),\"\")","v":""},null,null,null,null,null,null,null,null,null,null,null,null,null,0]
[null,{"$f":"IFERROR(VLOOKUP(A2243,Base!$A$2:$D$460,2,0),\"\")","v":""},{"$f":"IFERROR(VLOOKUP(A2243,Base!$A$2:$D$460,3,0),\"\")","v":""},{"$f":"IFERROR(VLOOKUP(A2243,Base!$A$2:$D$460,4,0),\"\")","v":""},null,null,null,null,null,null,null,null,null,null,null,null,null,0]
[null,{"$f":"IFERROR(VLOOKUP(A2244,Base!$A$2:$D$460,2,0),\"\")","v":""},{"$f":"IFERROR(VLOOKUP(A2244,Base!$A$2:$D$460,3,0),\"\")","v":""},{"$f":"IFERROR(VLOOKUP(A2244,Base!$A$2:$D$460,4,0),\"\")","v":""},null,null,null,null,null,null,null,null,null,null,null,null,null,0]
[null,{"$f":"IFERROR(VLOOKUP(A2245,Base!$A$2:$D$460,2,0),\"\")","v":""},{"$f":"IFERROR(VLOOKUP(A2245,Base!$A$2:$D$460,3,0),\"\")","v":""},{"$f":"IFERROR(VLOOKUP(A2245,Base!$A$2:$D$460,4,0),\"\")","v":""},null,null,null,null,null,null,null,null,null,null,null,null,null,0]
[null,{"$f":"IFERROR(VLOOKUP(A2246,Base!$A$2:$D$460,2,0),\"\")","v":""},{"$f":"IFERROR(VLOOKUP(A2246,Base!$A$2:$D$460,3,0),\"\")","v":""},{"$f":"IFERROR(VLOOKUP(A2246,Base!$A$2:$D$460,4,0),\"\")","v":""},null,null,null,null,null,null,null,null,null,null,null,null,null,0]
[null,{"$f":"IFERROR(VLOOKUP(A2247,Base!$A$2:$D$460,2,0),\"\")","v":""},{"$f":"IFERROR(VLOOKUP(A2247,Base!$A$2:$D$460,3,0),\"\")","v":""},{"$f":"IFERROR(VLOOKUP(A2247,Base!$A$2:$D$460,4,0),\"\")","v":""},null,null,null,null,null,null,null,null,null,null,null,null,null,0]
[null,{"$f":"IFERROR(VLOOKUP(A2248,Base!$A$2:$D$460,2,0),\"\")","v":""},{"$f":"IFERROR(VLOOKUP(A2248,Base!$A$2:$D$460,3,0),\"\")","v":""},{"$f":"IFERROR(VLOOKUP(A2248,Base!$A$2:$D$460,4,0),\"\")","v":""},null,null,null,null,null,null,null,null,null,null,null,null,null,0]
[null,{"$f":"IFERROR(VLOOKUP(A2249,Base!$A$2:$D$460,2,0),\"\")","v":""},{"$f":"IFERROR(VLOOKUP(A2249,Base!$A$2:$D$460,3,0),\"\")","v":""},{"$f":"IFERROR(VLOOKUP(A2249,Base!$A$2:$D$460,4,0),\"\")","v":""},null,null,null,null,null,null,null,null,null,null,null,null,null,0]
[null,{"$f":"IFERROR(VLOOKUP(A2250,Base!$A$2:$D$460,2,0),\"\")","v":""},{"$f":"IFERROR(VLOOKUP(A2250,Base!$A$2:$D$460,3,0),\"\")","v":""},{"$f":"IFERROR(VLOOKUP(A2250,Base!$A$2:$D$460,4,0),\"\")","v":""},null,null,null,null,null,null,null,null,null,null,null,null,null,0]
[null,{"$f":"IFERROR(VLOOKUP(A2251,Base!$A$2:$D$460,2,0),\"\")","v":""},{"$f":"IFERROR(VLOOKUP(A2251,Base!$A$2:$D$460,3,0),\"\")","v":""},{"$f":"IFERROR(VLOOKUP(A2251,Base!$A$2:$D$460,4,0),\"\")","v":""},null,null,null,null,null,null,null,null,null,null,null,null,null,0]
[null,{"$f":"IFERROR(VLOOKUP(A2252,Base!$A$2:$D$460,2,0),\"\")","v":""},{"$f":"IFERROR(VLOOKUP(A2252,Base!$A$2:$D$460,3,0),\"\")","v":""},{"$f":"IFERROR(VLOOKUP(A2252,Base!$A$2:$D$460,4,0),\"\")","v":""},null,null,null,null,null,null,null,null,null,null,null,null,null,0]
[null,{"$f":"IFERROR(VLOOKUP(A2253,Base!$A$2:$D$460,2,0),\"\")","v":""},{"$f":"IFERROR(VLOOKUP(A2253,Base!$A$2:$D$460,3,0),\"\")","v":""},{"$f":"IFERROR(VLOOKUP(A2253,Base!$A$2:$D$460,4,0),\"\")","v":""},null,null,null,null,null,null,null,null,null,null,null,null,null,0]
[null,{"$f":"IFERROR(VLOOKUP(A2254,Base!$A$2:$D$460,2,0),\"\")","v":""},{"$f":"IFERROR(VLOOKUP(A2254,Base!$A$2:$D$460,3,0),\"\")","v":""},{"$f":"IFERROR(VLOOKUP(A2254,Base!$A$2:$D$460,4,0),\"\")","v":""},null,null,null,null,null,null,null,null,null,null,null,null,null,0]
[null,{"$f":"IFERROR(VLOOKUP(A2255,Base!$A$2:$D$460,2,0),\"\")","v":""},{"$f":"IFERROR(VLOOKUP(A2255,Base!$A$2:$D$460,3,0),\"\")","v":""},{"$f":"IFERROR(VLOOKUP(A2255,Base!$A$2:$D$460,4,0),\"\")","v":""},null,null,null,null,null,null,null,null,null,null,null,null,null,0]
[null,{"$f":"IFERROR(VLOOKUP(A2256,Base!$A$2:$D$460,2,0),\"\")","v":""},{"$f":"IFERROR(VLOOKUP(A2256,Base!$A$2:$D$460,3,0),\"\")","v":""},{"$f":"IFERROR(VLOOKUP(A2256,Base!$A$2:$D$460,4,0),\"\")","v":""},null,null,null,null,null,null,null,null,null,null,null,null,null,0]
[null,{"$f":"IFERROR(VLOOKUP(A2257,Base!$A$2:$D$460,2,0),\"\")","v":""},{"$f":"IFERROR(VLOOKUP(A2257,Base!$A$2:$D$460,3,0),\"\")","v":""},{"$f":"IFERROR(VLOOKUP(A2257,Base!$A$2:$D$460,4,0),\"\")","v":""},null,null,null,null,null,null,null,null,null,null,null,null,null,0]
[null,{"$f":"IFERROR(VLOOKUP(A2258,Base!$A$2:$D$460,2,0),\"\")","v":""},{"$f":"IFERROR(VLOOKUP(A2258,Base!$A$2:$D$460,3,0),\"\")","v":""},{"$f":"IFERROR(VLOOKUP(A2258,Base!$A$2:$D$460,4,0),\"\")","v":""},null,null,null,null,null,null,null,null,null,null,null,null,null,0]
[null,{"$f":"IFERROR(VLOOKUP(A2259,Base!$A$2:$D$460,2,0),\"\")","v":""},{"$f":"IFERROR(VLOOKUP(A2259,Base!$A$2:$D$460,3,0),\"\")","v":""},{"$f":"IFERROR(VLOOKUP(A2259,Base!$A$2:$D$460,4,0),\"\")","v":""},null,null,null,null,null,null,null,null,null,null,null,null,null,0]
[null,{"$f":"IFERROR(VLOOKUP(A2260,Base!$A$2:$D$460,2,0),\"\")","v":""},{"$f":"IFERROR(VLOOKUP(A2260,Base!$A$2:$D$460,3,0),\"\")","v":""},{"$f":"IFERROR(VLOOKUP(A2260,Base!$A$2:$D$460,4,0),\"\")","v":""},null,null,null,null,null,null,null,null,null,null,null,null,null,0]
[null,{"$f":"IFERROR(VLOOKUP(A2261,Base!$A$2:$D$460,2,0),\"\")","v":""},{"$f":"IFERROR(VLOOKUP(A2261,Base!$A$2:$D$460,3,0),\"\")","v":""},{"$f":"IFERROR(VLOOKUP(A2261,Base!$A$2:$D$460,4,0),\"\")","v":""},null,null,null,null,null,null,null,null,null,null,null,null,null,0]
[null,{"$f":"IFERROR(VLOOKUP(A2262,Base!$A$2:$D$460,2,0),\"\")","v":""},{"$f":"IFERROR(VLOOKUP(A2262,Base!$A$2:$D$460,3,0),\"\")","v":""},{"$f":"IFERROR(VLOOKUP(A2262,Base!$A$2:$D$460,4,0),\"\")","v":""},null,null,null,null,null,null,null,null,null,null,null,null,null,0]
[null,{"$f":"IFERROR(VLOOKUP(A2263,Base!$A$2:$D$460,2,0),\"\")","v":""},{"$f":"IFERROR(VLOOKUP(A2263,Base!$A$2:$D$460,3,0),\"\")","v":""},{"$f":"IFERROR(VLOOKUP(A2263,Base!$A$2:$D$460,4,0),\"\")","v":""},null,null,null,null,null,null,null,null,null,null,null,null,null,0]
[null,{"$f":"IFERROR(VLOOKUP(A2264,Base!$A$2:$D$460,2,0),\"\")","v":""},{"$f":"IFERROR(VLOOKUP(A2264,Base!$A$2:$D$460,3,0),\"\")","v":""},{"$f":"IFERROR(VLOOKUP(A2264,Base!$A$2:$D$460,4,0),\"\")","v":""},null,null,null,null,null,null,null,null,null,null,null,null,null,0]
[null,{"$f":"IFERROR(VLOOKUP(A2265,Base!$A$2:$D$460,2,0),\"\")","v":""},{"$f":"IFERROR(VLOOKUP(A2265,Base!$A$2:$D$460,3,0),\"\")","v":""},{"$f":"IFERROR(VLOOKUP(A2265,Base!$A$2:$D$460,4,0),\"\")","v":""},null,null,null,null,null,null,null,null,null,null,null,null,null,0]
[null,{"$f":"IFERROR(VLOOKUP(A2266,Base!$A$2:$D$460,2,0),\"\")","v":""},{"$f":"IFERROR(VLOOKUP(A2266,Base!$A$2:$D$460,3,0),\"\")","v":""},{"$f":"IFERROR(VLOOKUP(A2266,Base!$A$2:$D$460,4,0),\"\")","v":""},null,null,null,null,null,null,null,null,null,null,null,null,null,0]
[null,{"$f":"IFERROR(VLOOKUP(A2267,Base!$A$2:$D$460,2,0),\"\")","v":""},{"$f":"IFERROR(VLOOKUP(A2267,Base!$A$2:$D$460,3,0),\"\")","v":""},{"$f":"IFERROR(VLOOKUP(A2267,Base!$A$2:$D$460,4,0),\"\")","v":""},null,null,null,null,null,null,null,null,null,null,null,null,null,0]
[null,{"$f":"IFERROR(VLOOKUP(A2268,Base!$A$2:$D$460,2,0),\"\")","v":""},{"$f":"IFERROR(VLOOKUP(A2268,Base!$A$2:$D$460,3,0),\"\")","v":""},{"$f":"IFERROR(VLOOKUP(A2268,Base!$A$2:$D$460,4,0),\"\")","v":""},null,null,null,null,null,null,null,null,null,null,null,null,null,0]
[null,{"$f":"IFERROR(VLOOKUP(A2269,Base!$A$2:$D$460,2,0),\"\")","v":""},{"$f":"IFERROR(VLOOKUP(A2269,Base!$A$2:$D$460,3,0),\"\")","v":""},{"$f":"IFERROR(VLOOKUP(A2269,Base!$A$2:$D$460,4,0),\"\")","v":""},null,null,null,null,null,null,null,null,null,null,null,null,null,0]
[null,{"$f":"IFERROR(VLOOKUP(A2270,Base!$A$2:$D$460,2,0),\"\")","v":""},{"$f":"IFERROR(VLOOKUP(A2270,Base!$A$2:$D$460,3,0),\"\")","v":""},{"$f":"IFERROR(VLOOKUP(A2270,Base!$A$2:$D$460,4,0),\"\")","v":""},null,null,null,null,null,null,null,null,null,null,null,null,null,0]
[null,{"$f":"IFERROR(VLOOKUP(A2271,Base!$A$2:$D$460,2,0),\"\")","v":""},{"$f":"IFERROR(VLOOKUP(A2271,Base!$A$2:$D$460,3,0),\"\")","v":""},{"$f":"IFERROR(VLOOKUP(A2271,Base!$A$2:$D$460,4,0),\"\")","v":""},null,null,null,null,null,null,null,null,null,null,null,null,null,0]
[null,{"$f":"IFERROR(VLOOKUP(A2272,Base!$A$2:$D$460,2,0),\"\")","v":""},{"$f":"IFERROR(VLOOKUP(A2272,Base!$A$2:$D$460,3,0),\"\")","v":""},{"$f":"IFERROR(VLOOKUP(A2272,Base!$A$2:$D$460,4,0),\"\")","v":""},null,null,null,null,null,null,null,null,null,null,null,null,null,0]
[null,{"$f":"IFERROR(VLOOKUP(A2273,Base!$A$2:$D$460,2,0),\"\")","v":""},{"$f":"IFERROR(VLOOKUP(A2273,Base!$A$2:$D$460,3,0),\"\")","v":""},{"$f":"IFERROR(VLOOKUP(A2273,Base!$A$2:$D$460,4,0),\"\")","v":""},null,null,null,null,null,null,null,null,null,null,null,null,null,0]
[null,{"$f":"IFERROR(VLOOKUP(A2274,Base!$A$2:$D$460,2,0),\"\")","v":""},{"$f":"IFERROR(VLOOKUP(A2274,Base!$A$2:$D$460,3,0),\"\")","v":""},{"$f":"IFERROR(VLOOKUP(A2274,Base!$A$2:$D$460,4,0),\"\")","v":""},null,null,null,null,null,null,null,null,null,null,null,null,null,0]
[null,{"$f":"IFERROR(VLOOKUP(A2275,Base!$A$2:$D$460,2,0),\"\")","v":""},{"$f":"IFERROR(VLOOKUP(A2275,Base!$A$2:$D$460,3,0),\"\")","v":""},{"$f":"IFERROR(VLOOKUP(A2275,Base!$A$2:$D$460,4,0),\"\")","v":""},null,null,null,null,null,null,null,null,null,null,null,null,null,0]
[null,{"$f":"IFERROR(VLOOKUP(A2276,Base!$A$2:$D$460,2,0),\"\")","v":""},{"$f":"IFERROR(VLOOKUP(A2276,Base!$A$2:$D$460,3,0),\"\")","v":""},{"$f":"IFERROR(VLOOKUP(A2276,Base!$A$2:$D$460,4,0),\"\")","v":""},null,null,null,null,null,null,null,null,null,null,null,null,null,0]
[null,{"$f":"IFERROR(VLOOKUP(A2277,Base!$A$2:$D$460,2,0),\"\")","v":""},{"$f":"IFERROR(VLOOKUP(A2277,Base!$A$2:$D$460,3,0),\"\")","v":""},{"$f":"IFERROR(VLOOKUP(A2277,Base!$A$2:$D$460,4,0),\"\")","v":""},null,null,null,null,null,null,null,null,null,null,null,null,null,0]
[null,{"$f":"IFERROR(VLOOKUP(A2278,Base!$A$2:$D$460,2,0),\"\")","v":""},{"$f":"IFERROR(VLOOKUP(A2278,Base!$A$2:$D$460,3,0),\"\")","v":""},{"$f":"IFERROR(VLOOKUP(A2278,Base!$A$2:$D$460,4,0),\"\")","v":""},null,null,null,null,null,null,null,null,null,null,null,null,null,0]
[null,{"$f":"IFERROR(VLOOKUP(A2279,Base!$A$2:$D$460,2,0),\"\")","v":""},{"$f":"IFERROR(VLOOKUP(A2279,Base!$A$2:$D$460,3,0),\"\")","v":""},{"$f":"IFERROR(VLOOKUP(A2279,Base!$A$2:$D$460,4,0),\"\")","v":""},null,null,null,null,null,null,null,null,null,null,null,null,null,{"$f":"SUM(N2279:Q2279)/4","v":0}]
[null,{"$f":"IFERROR(VLOOKUP(A2280,Base!$A$2:$D$460,2,0),\"\")","v":""},{"$f":"IFERROR(VLOOKUP(A2280,Base!$A$2:$D$460,3,0),\"\")","v":""},{"$f":"IFERROR(VLOOKUP(A2280,Base!$A$2:$D$460,4,0),\"\")","v":""},null,null,null,null,null,null,null,null,null,null,null,null,null,0]
[null,{"$f":"IFERROR(VLOOKUP(A2281,Base!$A$2:$D$460,2,0),\"\")","v":""},{"$f":"IFERROR(VLOOKUP(A2281,Base!$A$2:$D$460,3,0),\"\")","v":""},{"$f":"IFERROR(VLOOKUP(A2281,Base!$A$2:$D$460,4,0),\"\")","v":""},null,null,null,null,null,null,null,null,null,null,null,null,null,0]
[null,{"$f":"IFERROR(VLOOKUP(A2282,Base!$A$2:$D$460,2,0),\"\")","v":""},{"$f":"IFERROR(VLOOKUP(A2282,Base!$A$2:$D$460,3,0),\"\")","v":""},{"$f":"IFERROR(VLOOKUP(A2282,Base!$A$2:$D$460,4,0),\"\")","v":""},null,null,null,null,null,null,null,null,null,null,null,null,null,0]
[null,{"$f":"IFERROR(VLOOKUP(A2283,Base!$A$2:$D$460,2,0),\"\")","v":""},{"$f":"IFERROR(VLOOKUP(A2283,Base!$A$2:$D$460,3,0),\"\")","v":""},{"$f":"IFERROR(VLOOKUP(A2283,Base!$A$2:$D$460,4,0),\"\")","v":""},null,null,null,null,null,null,null,null,null,null,null,null,null,0]
[null,{"$f":"IFERROR(VLOOKUP(A2284,Base!$A$2:$D$460,2,0),\"\")","v":""},{"$f":"IFERROR(VLOOKUP(A2284,Base!$A$2:$D$460,3,0),\"\")","v":""},{"$f":"IFERROR(VLOOKUP(A2284,Base!$A$2:$D$460,4,0),\"\")","v":""},null,null,null,null,null,null,null,null,null,null,null,null,null,0]
[null,{"$f":"IFERROR(VLOOKUP(A2285,Base!$A$2:$D$460,2,0),\"\")","v":""},{"$f":"IFERROR(VLOOKUP(A2285,Base!$A$2:$D$460,3,0),\"\")","v":""},{"$f":"IFERROR(VLOOKUP(A2285,Base!$A$2:$D$460,4,0),\"\")","v":""},null,null,null,null,null,null,null,null,null,null,null,null,null,0]
[null,{"$f":"IFERROR(VLOOKUP(A2286,Base!$A$2:$D$460,2,0),\"\")","v":""},{"$f":"IFERROR(VLOOKUP(A2286,Base!$A$2:$D$460,3,0),\"\")","v":""},{"$f":"IFERROR(VLOOKUP(A2286,Base!$A$2:$D$460,4,0),\"\")","v":""},null,null,null,null,null,null,null,null,null,null,null,null,null,0]
[null,{"$f":"IFERROR(VLOOKUP(A2287,Base!$A$2:$D$460,2,0),\"\")","v":""},{"$f":"IFERROR(VLOOKUP(A2287,Base!$A$2:$D$460,3,0),\"\")","v":""},{"$f":"IFERROR(VLOOKUP(A2287,Base!$A$2:$D$460,4,0),\"\")","v":""},null,null,null,null,null,null,null,null,null,null,null,null,null,0]
[null,{"$f":"IFERROR(VLOOKUP(A2288,Base!$A$2:$D$460,2,0),\"\")","v":""},{"$f":"IFERROR(VLOOKUP(A2288,Base!$A$2:$D$460,3,0),\"\")","v":""},{"$f":"IFERROR(VLOOKUP(A2288,Base!$A$2:$D$460,4,0),\"\")","v":""},null,null,null,null,null,null,null,null,null,null,null,null,null,0]
[null,{"$f":"IFERROR(VLOOKUP(A2289,Base!$A$2:$D$460,2,0),\"\")","v":""},{"$f":"IFERROR(VLOOKUP(A2289,Base!$A$2:$D$460,3,0),\"\")","v":""},{"$f":"IFERROR(VLOOKUP(A2289,Base!$A$2:$D$460,4,0),\"\")","v":""},null,null,null,null,null,null,null,null,null,null,null,null,null,0]
[null,{"$f":"IFERROR(VLOOKUP(A2290,Base!$A$2:$D$460,2,0),\"\")","v":""},{"$f":"IFERROR(VLOOKUP(A2290,Base!$A$2:$D$460,3,0),\"\")","v":""},{"$f":"IFERROR(VLOOKUP(A2290,Base!$A$2:$D$460,4,0),\"\")","v":""},null,null,null,null,null,null,null,null,null,null,null,null,null,0]
[null,{"$f":"IFERROR(VLOOKUP(A2291,Base!$A$2:$D$460,2,0),\"\")","v":""},{"$f":"IFERROR(VLOOKUP(A2291,Base!$A$2:$D$460,3,0),\"\")","v":""},{"$f":"IFERROR(VLOOKUP(A2291,Base!$A$2:$D$460,4,0),\"\")","v":""},null,null,null,null,null,null,null,null,null,null,null,null,null,0]
[null,{"$f":"IFERROR(VLOOKUP(A2292,Base!$A$2:$D$460,2,0),\"\")","v":""},{"$f":"IFERROR(VLOOKUP(A2292,Base!$A$2:$D$460,3,0),\"\")","v":""},{"$f":"IFERROR(VLOOKUP(A2292,Base!$A$2:$D$460,4,0),\"\")","v":""},null,null,null,null,null,null,null,null,null,null,null,null,null,0]
[null,{"$f":"IFERROR(VLOOKUP(A2293,Base!$A$2:$D$460,2,0),\"\")","v":""},{"$f":"IFERROR(VLOOKUP(A2293,Base!$A$2:$D$460,3,0),\"\")","v":""},{"$f":"IFERROR(VLOOKUP(A2293,Base!$A$2:$D$460,4,0),\"\")","v":""},null,null,null,null,null,null,null,null,null,null,null,null,null,0]
[null,{"$f":"IFERROR(VLOOKUP(A2294,Base!$A$2:$D$460,2,0),\"\")","v":""},{"$f":"IFERROR(VLOOKUP(A2294,Base!$A$2:$D$460,3,0),\"\")","v":""},{"$f":"IFERROR(VLOOKUP(A2294,Base!$A$2:$D$460,4,0),\"\")","v":""},null,null,null,null,null,null,null,null,null,null,null,null,null,0]
[null,{"$f":"IFERROR(VLOOKUP(A2295,Base!$A$2:$D$460,2,0),\"\")","v":""},{"$f":"IFERROR(VLOOKUP(A2295,Base!$A$2:$D$460,3,0),\"\")","v":""},{"$f":"IFERROR(VLOOKUP(A2295,Base!$A$2:$D$460,4,0),\"\")","v":""},null,null,null,null,null,null,null,null,null,null,null,null,null,0]
[null,{"$f":"IFERROR(VLOOKUP(A2296,Base!$A$2:$D$460,2,0),\"\")","v":""},{"$f":"IFERROR(VLOOKUP(A2296,Base!$A$2:$D$460,3,0),\"\")","v":""},{"$f":"IFERROR(VLOOKUP(A2296,Base!$A$2:$D$460,4,0),\"\")","v":""},null,null,null,null,null,null,null,null,null,null,null,null,null,0]
[null,{"$f":"IFERROR(VLOOKUP(A2297,Base!$A$2:$D$460,2,0),\"\")","v":""},{"$f":"IFERROR(VLOOKUP(A2297,Base!$A$2:$D$460,3,0),\"\")","v":""},{"$f":"IFERROR(VLOOKUP(A2297,Base!$A$2:$D$460,4,0),\"\")","v":""},null,null,null,null,null,null,null,null,null,null,null,null,null,0]
[null,{"$f":"IFERROR(VLOOKUP(A2298,Base!$A$2:$D$460,2,0),\"\")","v":""},{"$f":"IFERROR(VLOOKUP(A2298,Base!$A$2:$D$460,3,0),\"\")","v":""},{"$f":"IFERROR(VLOOKUP(A2298,Base!$A$2:$D$460,4,0),\"\")","v":""},null,null,null,null,null,null,null,null,null,null,null,null,null,0]
[null,{"$f":"IFERROR(VLOOKUP(A2299,Base!$A$2:$D$460,2,0),\"\")","v":""},{"$f":"IFERROR(VLOOKUP(A2299,Base!$A$2:$D$460,3,0),\"\")","v":""},{"$f":"IFERROR(VLOOKUP(A2299,Base!$A$2:$D$460,4,0),\"\")","v":""},null,null,null,null,null,null,null,null,null,null,null,null,null,0]
[null,{"$f":"IFERROR(VLOOKUP(A2300,Base!$A$2:$D$460,2,0),\"\")","v":""},{"$f":"IFERROR(VLOOKUP(A2300,Base!$A$2:$D$460,3,0),\"\")","v":""},{"$f":"IFERROR(VLOOKUP(A2300,Base!$A$2:$D$460,4,0),\"\")","v":""},null,null,null,null,null,null,null,null,null,null,null,null,null,0]
[null,{"$f":"IFERROR(VLOOKUP(A2301,Base!$A$2:$D$460,2,0),\"\")","v":""},{"$f":"IFERROR(VLOOKUP(A2301,Base!$A$2:$D$460,3,0),\"\")","v":""},{"$f":"IFERROR(VLOOKUP(A2301,Base!$A$2:$D$460,4,0),\"\")","v":""},null,null,null,null,null,null,null,null,null,null,null,null,null,0]
[null,{"$f":"IFERROR(VLOOKUP(A2302,Base!$A$2:$D$460,2,0),\"\")","v":""},{"$f":"IFERROR(VLOOKUP(A2302,Base!$A$2:$D$460,3,0),\"\")","v":""},{"$f":"IFERROR(VLOOKUP(A2302,Base!$A$2:$D$460,4,0),\"\")","v":""},null,null,null,null,null,null,null,null,null,null,null,null,null,0]
[null,{"$f":"IFERROR(VLOOKUP(A2303,Base!$A$2:$D$460,2,0),\"\")","v":""},{"$f":"IFERROR(VLOOKUP(A2303,Base!$A$2:$D$460,3,0),\"\")","v":""},{"$f":"IFERROR(VLOOKUP(A2303,Base!$A$2:$D$460,4,0),\"\")","v":""},null,null,null,null,null,null,null,null,null,null,null,null,null,0]
[null,{"$f":"IFERROR(VLOOKUP(A2304,Base!$A$2:$D$460,2,0),\"\")","v":""},{"$f":"IFERROR(VLOOKUP(A2304,Base!$A$2:$D$460,3,0),\"\")","v":""},{"$f":"IFERROR(VLOOKUP(A2304,Base!$A$2:$D$460,4,0),\"\")","v":""},null,null,null,null,null,null,null,null,null,null,null,null,null,0]
[null,{"$f":"IFERROR(VLOOKUP(A2305,Base!$A$2:$D$460,2,0),\"\")","v":""},{"$f":"IFERROR(VLOOKUP(A2305,Base!$A$2:$D$460,3,0),\"\")","v":""},{"$f":"IFERROR(VLOOKUP(A2305,Base!$A$2:$D$460,4,0),\"\")","v":""},null,null,null,null,null,null,null,null,null,null,null,null,null,0]
[null,{"$f":"IFERROR(VLOOKUP(A2306,Base!$A$2:$D$460,2,0),\"\")","v":""},{"$f":"IFERROR(VLOOKUP(A2306,Base!$A$2:$D$460,3,0),\"\")","v":""},{"$f":"IFERROR(VLOOKUP(A2306,Base!$A$2:$D$460,4,0),\"\")","v":""},null,null,null,null,null,null,null,null,null,null,null,null,null,0]
[null,{"$f":"IFERROR(VLOOKUP(A2307,Base!$A$2:$D$460,2,0),\"\")","v":""},{"$f":"IFERROR(VLOOKUP(A2307,Base!$A$2:$D$460,3,0),\"\")","v":""},{"$f":"IFERROR(VLOOKUP(A2307,Base!$A$2:$D$460,4,0),\"\")","v":""},null,null,null,null,null,null,null,null,null,null,null,null,null,0]
[null,{"$f":"IFERROR(VLOOKUP(A2308,Base!$A$2:$D$460,2,0),\"\")","v":""},{"$f":"IFERROR(VLOOKUP(A2308,Base!$A$2:$D$460,3,0),\"\")","v":""},{"$f":"IFERROR(VLOOKUP(A2308,Base!$A$2:$D$460,4,0),\"\")","v":""},null,null,null,null,null,null,null,null,null,null,null,null,null,0]
[null,{"$f":"IFERROR(VLOOKUP(A2309,Base!$A$2:$D$460,2,0),\"\")","v":""},{"$f":"IFERROR(VLOOKUP(A2309,Base!$A$2:$D$460,3,0),\"\")","v":""},{"$f":"IFERROR(VLOOKUP(A2309,Base!$A$2:$D$460,4,0),\"\")","v":""},null,null,null,null,null,null,null,null,null,null,null,null,null,0]
[null,{"$f":"IFERROR(VLOOKUP(A2310,Base!$A$2:$D$460,2,0),\"\")","v":""},{"$f":"IFERROR(VLOOKUP(A2310,Base!$A$2:$D$460,3,0),\"\")","v":""},{"$f":"IFERROR(VLOOKUP(A2310,Base!$A$2:$D$460,4,0),\"\")","v":""},null,null,null,null,null,null,null,null,null,null,null,null,null,0]
[null,{"$f":"IFERROR(VLOOKUP(A2311,Base!$A$2:$D$460,2,0),\"\")","v":""},{"$f":"IFERROR(VLOOKUP(A2311,Base!$A$2:$D$460,3,0),\"\")","v":""},{"$f":"IFERROR(VLOOKUP(A2311,Base!$A$2:$D$460,4,0),\"\")","v":""},null,null,null,null,null,null,null,null,null,null,null,null,null,0]
[null,{"$f":"IFERROR(VLOOKUP(A2312,Base!$A$2:$D$460,2,0),\"\")","v":""},{"$f":"IFERROR(VLOOKUP(A2312,Base!$A$2:$D$460,3,0),\"\")","v":""},{"$f":"IFERROR(VLOOKUP(A2312,Base!$A$2:$D$460,4,0),\"\")","v":""},null,null,null,null,null,null,null,null,null,null,null,null,null,0]
[null,{"$f":"IFERROR(VLOOKUP(A2313,Base!$A$2:$D$460,2,0),\"\")","v":""},{"$f":"IFERROR(VLOOKUP(A2313,Base!$A$2:$D$460,3,0),\"\")","v":""},{"$f":"IFERROR(VLOOKUP(A2313,Base!$A$2:$D$460,4,0),\"\")","v":""},null,null,null,null,null,null,null,null,null,null,null,null,null,0]
[null,{"$f":"IFERROR(VLOOKUP(A2314,Base!$A$2:$D$460,2,0),\"\")","v":""},{"$f":"IFERROR(VLOOKUP(A2314,Base!$A$2:$D$460,3,0),\"\")","v":""},{"$f":"IFERROR(VLOOKUP(A2314,Base!$A$2:$D$460,4,0),\"\")","v":""},null,null,null,null,null,null,null,null,null,null,null,null,null,0]
[null,{"$f":"IFERROR(VLOOKUP(A2315,Base!$A$2:$D$460,2,0),\"\")","v":""},{"$f":"IFERROR(VLOOKUP(A2315,Base!$A$2:$D$460,3,0),\"\")","v":""},{"$f":"IFERROR(VLOOKUP(A2315,Base!$A$2:$D$460,4,0),\"\")","v":""},null,null,null,null,null,null,null,null,null,null,null,null,null,0]
[null,{"$f":"IFERROR(VLOOKUP(A2316,Base!$A$2:$D$460,2,0),\"\")","v":""},{"$f":"IFERROR(VLOOKUP(A2316,Base!$A$2:$D$460,3,0),\"\")","v":""},{"$f":"IFERROR(VLOOKUP(A2316,Base!$A$2:$D$460,4,0),\"\")","v":""},null,null,null,null,null,null,null,null,null,null,null,null,null,0]
[null,{"$f":"IFERROR(VLOOKUP(A2317,Base!$A$2:$D$460,2,0),\"\")","v":""},{"$f":"IFERROR(VLOOKUP(A2317,Base!$A$2:$D$460,3,0),\"\")","v":""},{"$f":"IFERROR(VLOOKUP(A2317,Base!$A$2:$D$460,4,0),\"\")","v":""},null,null,null,null,null,null,null,null,null,null,null,null,null,0]
[null,{"$f":"IFERROR(VLOOKUP(A2318,Base!$A$2:$D$460,2,0),\"\")","v":""},{"$f":"IFERROR(VLOOKUP(A2318,Base!$A$2:$D$460,3,0),\"\")","v":""},{"$f":"IFERROR(VLOOKUP(A2318,Base!$A$2:$D$460,4,0),\"\")","v":""},null,null,null,null,null,null,null,null,null,null,null,null,null,0]
[null,{"$f":"IFERROR(VLOOKUP(A2319,Base!$A$2:$D$460,2,0),\"\")","v":""},{"$f":"IFERROR(VLOOKUP(A2319,Base!$A$2:$D$460,3,0),\"\")","v":""},{"$f":"IFERROR(VLOOKUP(A2319,Base!$A$2:$D$460,4,0),\"\")","v":""},null,null,null,null,null,null,null,null,null,null,null,null,null,0]
[null,{"$f":"IFERROR(VLOOKUP(A2320,Base!$A$2:$D$460,2,0),\"\")","v":""},{"$f":"IFERROR(VLOOKUP(A2320,Base!$A$2:$D$460,3,0),\"\")","v":""},{"$f":"IFERROR(VLOOKUP(A2320,Base!$A$2:$D$460,4,0),\"\")","v":""},null,null,null,null,null,null,null,null,null,null,null,null,null,0]
[null,{"$f":"IFERROR(VLOOKUP(A2321,Base!$A$2:$D$460,2,0),\"\")","v":""},{"$f":"IFERROR(VLOOKUP(A2321,Base!$A$2:$D$460,3,0),\"\")","v":""},{"$f":"IFERROR(VLOOKUP(A2321,Base!$A$2:$D$460,4,0),\"\")","v":""},null,null,null,null,null,null,null,null,null,null,null,null,null,0]
[null,{"$f":"IFERROR(VLOOKUP(A2322,Base!$A$2:$D$460,2,0),\"\")","v":""},{"$f":"IFERROR(VLOOKUP(A2322,Base!$A$2:$D$460,3,0),\"\")","v":""},{"$f":"IFERROR(VLOOKUP(A2322,Base!$A$2:$D$460,4,0),\"\")","v":""},null,null,null,null,null,null,null,null,null,null,null,null,null,0]
[null,{"$f":"IFERROR(VLOOKUP(A2323,Base!$A$2:$D$460,2,0),\"\")","v":""},{"$f":"IFERROR(VLOOKUP(A2323,Base!$A$2:$D$460,3,0),\"\")","v":""},{"$f":"IFERROR(VLOOKUP(A2323,Base!$A$2:$D$460,4,0),\"\")","v":""},null,null,null,null,null,null,null,null,null,null,null,null,null,0]
[null,{"$f":"IFERROR(VLOOKUP(A2324,Base!$A$2:$D$460,2,0),\"\")","v":""},{"$f":"IFERROR(VLOOKUP(A2324,Base!$A$2:$D$460,3,0),\"\")","v":""},{"$f":"IFERROR(VLOOKUP(A2324,Base!$A$2:$D$460,4,0),\"\")","v":""},null,null,null,null,null,null,null,null,null,null,null,null,null,0]
[null,{"$f":"IFERROR(VLOOKUP(A2325,Base!$A$2:$D$460,2,0),\"\")","v":""},{"$f":"IFERROR(VLOOKUP(A2325,Base!$A$2:$D$460,3,0),\"\")","v":""},{"$f":"IFERROR(VLOOKUP(A2325,Base!$A$2:$D$460,4,0),\"\")","v":""},null,null,null,null,null,null,null,null,null,null,null,null,null,0]
[null,{"$f":"IFERROR(VLOOKUP(A2326,Base!$A$2:$D$460,2,0),\"\")","v":""},{"$f":"IFERROR(VLOOKUP(A2326,Base!$A$2:$D$460,3,0),\"\")","v":""},{"$f":"IFERROR(VLOOKUP(A2326,Base!$A$2:$D$460,4,0),\"\")","v":""},null,null,null,null,null,null,null,null,null,null,null,null,null,0]
[null,{"$f":"IFERROR(VLOOKUP(A2327,Base!$A$2:$D$460,2,0),\"\")","v":""},{"$f":"IFERROR(VLOOKUP(A2327,Base!$A$2:$D$460,3,0),\"\")","v":""},{"$f":"IFERROR(VLOOKUP(A2327,Base!$A$2:$D$460,4,0),\"\")","v":""},null,null,null,null,null,null,null,null,null,null,null,null,null,0]
[null,{"$f":"IFERROR(VLOOKUP(A2328,Base!$A$2:$D$460,2,0),\"\")","v":""},{"$f":"IFERROR(VLOOKUP(A2328,Base!$A$2:$D$460,3,0),\"\")","v":""},{"$f":"IFERROR(VLOOKUP(A2328,Base!$A$2:$D$460,4,0),\"\")","v":""},null,null,null,null,null,null,null,null,null,null,null,null,null,0]
[null,{"$f":"IFERROR(VLOOKUP(A2329,Base!$A$2:$D$460,2,0),\"\")","v":""},{"$f":"IFERROR(VLOOKUP(A2329,Base!$A$2:$D$460,3,0),\"\")","v":""},{"$f":"IFERROR(VLOOKUP(A2329,Base!$A$2:$D$460,4,0),\"\")","v":""},null,null,null,null,null,null,null,null,null,null,null,null,null,0]
[null,{"$f":"IFERROR(VLOOKUP(A2330,Base!$A$2:$D$460,2,0),\"\")","v":""},{"$f":"IFERROR(VLOOKUP(A2330,Base!$A$2:$D$460,3,0),\"\")","v":""},{"$f":"IFERROR(VLOOKUP(A2330,Base!$A$2:$D$460,4,0),\"\")","v":""},null,null,null,null,null,null,null,null,null,null,null,null,null,0]
[null,{"$f":"IFERROR(VLOOKUP(A2331,Base!$A$2:$D$460,2,0),\"\")","v":""},{"$f":"IFERROR(VLOOKUP(A2331,Base!$A$2:$D$460,3,0),\"\")","v":""},{"$f":"IFERROR(VLOOKUP(A2331,Base!$A$2:$D$460,4,0),\"\")","v":""},null,null,null,null,null,null,null,null,null,null,null,null,null,0]
[null,{"$f":"IFERROR(VLOOKUP(A2332,Base!$A$2:$D$460,2,0),\"\")","v":""},{"$f":"IFERROR(VLOOKUP(A2332,Base!$A$2:$D$460,3,0),\"\")","v":""},{"$f":"IFERROR(VLOOKUP(A2332,Base!$A$2:$D$460,4,0),\"\")","v":""},null,null,null,null,null,null,null,null,null,null,null,null,null,0]
[null,{"$f":"IFERROR(VLOOKUP(A2333,Base!$A$2:$D$460,2,0),\"\")","v":""},{"$f":"IFERROR(VLOOKUP(A2333,Base!$A$2:$D$460,3,0),\"\")","v":""},{"$f":"IFERROR(VLOOKUP(A2333,Base!$A$2:$D$460,4,0),\"\")","v":""},null,null,null,null,null,null,null,null,null,null,null,null,null,0]
[null,{"$f":"IFERROR(VLOOKUP(A2334,Base!$A$2:$D$460,2,0),\"\")","v":""},{"$f":"IFERROR(VLOOKUP(A2334,Base!$A$2:$D$460,3,0),\"\")","v":""},{"$f":"IFERROR(VLOOKUP(A2334,Base!$A$2:$D$460,4,0),\"\")","v":""},null,null,null,null,null,null,null,null,null,null,null,null,null,0]
[null,{"$f":"IFERROR(VLOOKUP(A2335,Base!$A$2:$D$460,2,0),\"\")","v":""},{"$f":"IFERROR(VLOOKUP(A2335,Base!$A$2:$D$460,3,0),\"\")","v":""},{"$f":"IFERROR(VLOOKUP(A2335,Base!$A$2:$D$460,4,0),\"\")","v":""},null,null,null,null,null,null,null,null,null,null,null,null,null,0]
[null,{"$f":"IFERROR(VLOOKUP(A2336,Base!$A$2:$D$460,2,0),\"\")","v":""},{"$f":"IFERROR(VLOOKUP(A2336,Base!$A$2:$D$460,3,0),\"\")","v":""},{"$f":"IFERROR(VLOOKUP(A2336,Base!$A$2:$D$460,4,0),\"\")","v":""},null,null,null,null,null,null,null,null,null,null,null,null,null,0]
[null,{"$f":"IFERROR(VLOOKUP(A2337,Base!$A$2:$D$460,2,0),\"\")","v":""},{"$f":"IFERROR(VLOOKUP(A2337,Base!$A$2:$D$460,3,0),\"\")","v":""},{"$f":"IFERROR(VLOOKUP(A2337,Base!$A$2:$D$460,4,0),\"\")","v":""},null,null,null,null,null,null,null,null,null,null,null,null,null,0]
[null,{"$f":"IFERROR(VLOOKUP(A2338,Base!$A$2:$D$460,2,0),\"\")","v":""},{"$f":"IFERROR(VLOOKUP(A2338,Base!$A$2:$D$460,3,0),\"\")","v":""},{"$f":"IFERROR(VLOOKUP(A2338,Base!$A$2:$D$460,4,0),\"\")","v":""},null,null,null,null,null,null,null,null,null,null,null,null,null,0]
[null,{"$f":"IFERROR(VLOOKUP(A2339,Base!$A$2:$D$460,2,0),\"\")","v":""},{"$f":"IFERROR(VLOOKUP(A2339,Base!$A$2:$D$460,3,0),\"\")","v":""},{"$f":"IFERROR(VLOOKUP(A2339,Base!$A$2:$D$460,4,0),\"\")","v":""},null,null,null,null,null,null,null,null,null,null,null,null,null,0]
[null,{"$f":"IFERROR(VLOOKUP(A2340,Base!$A$2:$D$460,2,0),\"\")","v":""},{"$f":"IFERROR(VLOOKUP(A2340,Base!$A$2:$D$460,3,0),\"\")","v":""},{"$f":"IFERROR(VLOOKUP(A2340,Base!$A$2:$D$460,4,0),\"\")","v":""},null,null,null,null,null,null,null,null,null,null,null,null,null,0]
[null,{"$f":"IFERROR(VLOOKUP(A2341,Base!$A$2:$D$460,2,0),\"\")","v":""},{"$f":"IFERROR(VLOOKUP(A2341,Base!$A$2:$D$460,3,0),\"\")","v":""},{"$f":"IFERROR(VLOOKUP(A2341,Base!$A$2:$D$460,4,0),\"\")","v":""},null,null,null,null,null,null,null,null,null,null,null,null,null,0]
[null,{"$f":"IFERROR(VLOOKUP(A2342,Base!$A$2:$D$460,2,0),\"\")","v":""},{"$f":"IFERROR(VLOOKUP(A2342,Base!$A$2:$D$460,3,0),\"\")","v":""},{"$f":"IFERROR(VLOOKUP(A2342,Base!$A$2:$D$460,4,0),\"\")","v":""},null,null,null,null,null,null,null,null,null,null,null,null,null,0]
[null,{"$f":"IFERROR(VLOOKUP(A2343,Base!$A$2:$D$460,2,0),\"\")","v":""},{"$f":"IFERROR(VLOOKUP(A2343,Base!$A$2:$D$460,3,0),\"\")","v":""},{"$f":"IFERROR(VLOOKUP(A2343,Base!$A$2:$D$460,4,0),\"\")","v":""},null,null,null,null,null,null,null,null,null,null,null,null,null,{"$f":"SUM(N2343:Q2343)/4","v":0}]
[null,{"$f":"IFERROR(VLOOKUP(A2344,Base!$A$2:$D$460,2,0),\"\")","v":""},{"$f":"IFERROR(VLOOKUP(A2344,Base!$A$2:$D$460,3,0),\"\")","v":""},{"$f":"IFERROR(VLOOKUP(A2344,Base!$A$2:$D$460,4,0),\"\")","v":""},null,null,null,null,null,null,null,null,null,null,null,null,null,0]
[null,{"$f":"IFERROR(VLOOKUP(A2345,Base!$A$2:$D$460,2,0),\"\")","v":""},{"$f":"IFERROR(VLOOKUP(A2345,Base!$A$2:$D$460,3,0),\"\")","v":""},{"$f":"IFERROR(VLOOKUP(A2345,Base!$A$2:$D$460,4,0),\"\")","v":""},null,null,null,null,null,null,null,null,null,null,null,null,null,0]
[null,{"$f":"IFERROR(VLOOKUP(A2346,Base!$A$2:$D$460,2,0),\"\")","v":""},{"$f":"IFERROR(VLOOKUP(A2346,Base!$A$2:$D$460,3,0),\"\")","v":""},{"$f":"IFERROR(VLOOKUP(A2346,Base!$A$2:$D$460,4,0),\"\")","v":""},null,null,null,null,null,null,null,null,null,null,null,null,null,0]
[null,{"$f":"IFERROR(VLOOKUP(A2347,Base!$A$2:$D$460,2,0),\"\")","v":""},{"$f":"IFERROR(VLOOKUP(A2347,Base!$A$2:$D$460,3,0),\"\")","v":""},{"$f":"IFERROR(VLOOKUP(A2347,Base!$A$2:$D$460,4,0),\"\")","v":""},null,null,null,null,null,null,null,null,null,null,null,null,null,0]
[null,{"$f":"IFERROR(VLOOKUP(A2348,Base!$A$2:$D$460,2,0),\"\")","v":""},{"$f":"IFERROR(VLOOKUP(A2348,Base!$A$2:$D$460,3,0),\"\")","v":""},{"$f":"IFERROR(VLOOKUP(A2348,Base!$A$2:$D$460,4,0),\"\")","v":""},null,null,null,null,null,null,null,null,null,null,null,null,null,0]
[null,{"$f":"IFERROR(VLOOKUP(A2349,Base!$A$2:$D$460,2,0),\"\")","v":""},{"$f":"IFERROR(VLOOKUP(A2349,Base!$A$2:$D$460,3,0),\"\")","v":""},{"$f":"IFERROR(VLOOKUP(A2349,Base!$A$2:$D$460,4,0),\"\")","v":""},null,null,null,null,null,null,null,null,null,null,null,null,null,0]
[null,{"$f":"IFERROR(VLOOKUP(A2350,Base!$A$2:$D$460,2,0),\"\")","v":""},{"$f":"IFERROR(VLOOKUP(A2350,Base!$A$2:$D$460,3,0),\"\")","v":""},{"$f":"IFERROR(VLOOKUP(A2350,Base!$A$2:$D$460,4,0),\"\")","v":""},null,null,null,null,null,null,null,null,null,null,null,null,null,0]
[null,{"$f":"IFERROR(VLOOKUP(A2351,Base!$A$2:$D$460,2,0),\"\")","v":""},{"$f":"IFERROR(VLOOKUP(A2351,Base!$A$2:$D$460,3,0),\"\")","v":""},{"$f":"IFERROR(VLOOKUP(A2351,Base!$A$2:$D$460,4,0),\"\")","v":""},null,null,null,null,null,null,null,null,null,null,null,null,null,0]
[null,{"$f":"IFERROR(VLOOKUP(A2352,Base!$A$2:$D$460,2,0),\"\")","v":""},{"$f":"IFERROR(VLOOKUP(A2352,Base!$A$2:$D$460,3,0),\"\")","v":""},{"$f":"IFERROR(VLOOKUP(A2352,Base!$A$2:$D$460,4,0),\"\")","v":""},null,null,null,null,null,null,null,null,null,null,null,null,null,0]
[null,{"$f":"IFERROR(VLOOKUP(A2353,Base!$A$2:$D$460,2,0),\"\")","v":""},{"$f":"IFERROR(VLOOKUP(A2353,Base!$A$2:$D$460,3,0),\"\")","v":""},{"$f":"IFERROR(VLOOKUP(A2353,Base!$A$2:$D$460,4,0),\"\")","v":""},null,null,null,null,null,null,null,null,null,null,null,null,null,0]
[null,{"$f":"IFERROR(VLOOKUP(A2354,Base!$A$2:$D$460,2,0),\"\")","v":""},{"$f":"IFERROR(VLOOKUP(A2354,Base!$A$2:$D$460,3,0),\"\")","v":""},{"$f":"IFERROR(VLOOKUP(A2354,Base!$A$2:$D$460,4,0),\"\")","v":""},null,null,null,null,null,null,null,null,null,null,null,null,null,0]
[null,{"$f":"IFERROR(VLOOKUP(A2355,Base!$A$2:$D$460,2,0),\"\")","v":""},{"$f":"IFERROR(VLOOKUP(A2355,Base!$A$2:$D$460,3,0),\"\")","v":""},{"$f":"IFERROR(VLOOKUP(A2355,Base!$A$2:$D$460,4,0),\"\")","v":""},null,null,null,null,null,null,null,null,null,null,null,null,null,0]
[null,{"$f":"IFERROR(VLOOKUP(A2356,Base!$A$2:$D$460,2,0),\"\")","v":""},{"$f":"IFERROR(VLOOKUP(A2356,Base!$A$2:$D$460,3,0),\"\")","v":""},{"$f":"IFERROR(VLOOKUP(A2356,Base!$A$2:$D$460,4,0),\"\")","v":""},null,null,null,null,null,null,null,null,null,null,null,null,null,0]
[null,{"$f":"IFERROR(VLOOKUP(A2357,Base!$A$2:$D$460,2,0),\"\")","v":""},{"$f":"IFERROR(VLOOKUP(A2357,Base!$A$2:$D$460,3,0),\"\")","v":""},{"$f":"IFERROR(VLOOKUP(A2357,Base!$A$2:$D$460,4,0),\"\")","v":""},null,null,null,null,null,null,null,null,null,null,null,null,null,0]
[null,{"$f":"IFERROR(VLOOKUP(A2358,Base!$A$2:$D$460,2,0),\"\")","v":""},{"$f":"IFERROR(VLOOKUP(A2358,Base!$A$2:$D$460,3,0),\"\")","v":""},{"$f":"IFERROR(VLOOKUP(A2358,Base!$A$2:$D$460,4,0),\"\")","v":""},null,null,null,null,null,null,null,null,null,null,null,null,null,0]
[null,{"$f":"IFERROR(VLOOKUP(A2359,Base!$A$2:$D$460,2,0),\"\")","v":""},{"$f":"IFERROR(VLOOKUP(A2359,Base!$A$2:$D$460,3,0),\"\")","v":""},{"$f":"IFERROR(VLOOKUP(A2359,Base!$A$2:$D$460,4,0),\"\")","v":""},null,null,null,null,null,null,null,null,null,null,null,null,null,0]
[null,{"$f":"IFERROR(VLOOKUP(A2360,Base!$A$2:$D$460,2,0),\"\")","v":""},{"$f":"IFERROR(VLOOKUP(A2360,Base!$A$2:$D$460,3,0),\"\")","v":""},{"$f":"IFERROR(VLOOKUP(A2360,Base!$A$2:$D$460,4,0),\"\")","v":""},null,null,null,null,null,null,null,null,null,null,null,null,null,0]
[null,{"$f":"IFERROR(VLOOKUP(A2361,Base!$A$2:$D$460,2,0),\"\")","v":""},{"$f":"IFERROR(VLOOKUP(A2361,Base!$A$2:$D$460,3,0),\"\")","v":""},{"$f":"IFERROR(VLOOKUP(A2361,Base!$A$2:$D$460,4,0),\"\")","v":""},null,null,null,null,null,null,null,null,null,null,null,null,null,0]
[null,{"$f":"IFERROR(VLOOKUP(A2362,Base!$A$2:$D$460,2,0),\"\")","v":""},{"$f":"IFERROR(VLOOKUP(A2362,Base!$A$2:$D$460,3,0),\"\")","v":""},{"$f":"IFERROR(VLOOKUP(A2362,Base!$A$2:$D$460,4,0),\"\")","v":""},null,null,null,null,null,null,null,null,null,null,null,null,null,0]
[null,{"$f":"IFERROR(VLOOKUP(A2363,Base!$A$2:$D$460,2,0),\"\")","v":""},{"$f":"IFERROR(VLOOKUP(A2363,Base!$A$2:$D$460,3,0),\"\")","v":""},{"$f":"IFERROR(VLOOKUP(A2363,Base!$A$2:$D$460,4,0),\"\")","v":""},null,null,null,null,null,null,null,null,null,null,null,null,null,0]
[null,{"$f":"IFERROR(VLOOKUP(A2364,Base!$A$2:$D$460,2,0),\"\")","v":""},{"$f":"IFERROR(VLOOKUP(A2364,Base!$A$2:$D$460,3,0),\"\")","v":""},{"$f":"IFERROR(VLOOKUP(A2364,Base!$A$2:$D$460,4,0),\"\")","v":""},null,null,null,null,null,null,null,null,null,null,null,null,null,0]
[null,{"$f":"IFERROR(VLOOKUP(A2365,Base!$A$2:$D$460,2,0),\"\")","v":""},{"$f":"IFERROR(VLOOKUP(A2365,Base!$A$2:$D$460,3,0),\"\")","v":""},{"$f":"IFERROR(VLOOKUP(A2365,Base!$A$2:$D$460,4,0),\"\")","v":""},null,null,null,null,null,null,null,null,null,null,null,null,null,0]
[null,{"$f":"IFERROR(VLOOKUP(A2366,Base!$A$2:$D$460,2,0),\"\")","v":""},{"$f":"IFERROR(VLOOKUP(A2366,Base!$A$2:$D$460,3,0),\"\")","v":""},{"$f":"IFERROR(VLOOKUP(A2366,Base!$A$2:$D$460,4,0),\"\")","v":""},null,null,null,null,null,null,null,null,null,null,null,null,null,0]
[null,{"$f":"IFERROR(VLOOKUP(A2367,Base!$A$2:$D$460,2,0),\"\")","v":""},{"$f":"IFERROR(VLOOKUP(A2367,Base!$A$2:$D$460,3,0),\"\")","v":""},{"$f":"IFERROR(VLOOKUP(A2367,Base!$A$2:$D$460,4,0),\"\")","v":""},null,null,null,null,null,null,null,null,null,null,null,null,null,0]
[null,{"$f":"IFERROR(VLOOKUP(A2368,Base!$A$2:$D$460,2,0),\"\")","v":""},{"$f":"IFERROR(VLOOKUP(A2368,Base!$A$2:$D$460,3,0),\"\")","v":""},{"$f":"IFERROR(VLOOKUP(A2368,Base!$A$2:$D$460,4,0),\"\")","v":""},null,null,null,null,null,null,null,null,null,null,null,null,null,0]
[null,{"$f":"IFERROR(VLOOKUP(A2369,Base!$A$2:$D$460,2,0),\"\")","v":""},{"$f":"IFERROR(VLOOKUP(A2369,Base!$A$2:$D$460,3,0),\"\")","v":""},{"$f":"IFERROR(VLOOKUP(A2369,Base!$A$2:$D$460,4,0),\"\")","v":""},null,null,null,null,null,null,null,null,null,null,null,null,null,0]
[null,{"$f":"IFERROR(VLOOKUP(A2370,Base!$A$2:$D$460,2,0),\"\")","v":""},{"$f":"IFERROR(VLOOKUP(A2370,Base!$A$2:$D$460,3,0),\"\")","v":""},{"$f":"IFERROR(VLOOKUP(A2370,Base!$A$2:$D$460,4,0),\"\")","v":""},null,null,null,null,null,null,null,null,null,null,null,null,null,0]
[null,{"$f":"IFERROR(VLOOKUP(A2371,Base!$A$2:$D$460,2,0),\"\")","v":""},{"$f":"IFERROR(VLOOKUP(A2371,Base!$A$2:$D$460,3,0),\"\")","v":""},{"$f":"IFERROR(VLOOKUP(A2371,Base!$A$2:$D$460,4,0),\"\")","v":""},null,null,null,null,null,null,null,null,null,null,null,null,null,0]
[null,{"$f":"IFERROR(VLOOKUP(A2372,Base!$A$2:$D$460,2,0),\"\")","v":""},{"$f":"IFERROR(VLOOKUP(A2372,Base!$A$2:$D$460,3,0),\"\")","v":""},{"$f":"IFERROR(VLOOKUP(A2372,Base!$A$2:$D$460,4,0),\"\")","v":""},null,null,null,null,null,null,null,null,null,null,null,null,null,0]
[null,{"$f":"IFERROR(VLOOKUP(A2373,Base!$A$2:$D$460,2,0),\"\")","v":""},{"$f":"IFERROR(VLOOKUP(A2373,Base!$A$2:$D$460,3,0),\"\")","v":""},{"$f":"IFERROR(VLOOKUP(A2373,Base!$A$2:$D$460,4,0),\"\")","v":""},null,null,null,null,null,null,null,null,null,null,null,null,null,0]
[null,{"$f":"IFERROR(VLOOKUP(A2374,Base!$A$2:$D$460,2,0),\"\")","v":""},{"$f":"IFERROR(VLOOKUP(A2374,Base!$A$2:$D$460,3,0),\"\")","v":""},{"$f":"IFERROR(VLOOKUP(A2374,Base!$A$2:$D$460,4,0),\"\")","v":""},null,null,null,null,null,null,null,null,null,null,null,null,null,0]
[null,{"$f":"IFERROR(VLOOKUP(A2375,Base!$A$2:$D$460,2,0),\"\")","v":""},{"$f":"IFERROR(VLOOKUP(A2375,Base!$A$2:$D$460,3,0),\"\")","v":""},{"$f":"IFERROR(VLOOKUP(A2375,Base!$A$2:$D$460,4,0),\"\")","v":""},null,null,null,null,null,null,null,null,null,null,null,null,null,0]
[null,{"$f":"IFERROR(VLOOKUP(A2376,Base!$A$2:$D$460,2,0),\"\")","v":""},{"$f":"IFERROR(VLOOKUP(A2376,Base!$A$2:$D$460,3,0),\"\")","v":""},{"$f":"IFERROR(VLOOKUP(A2376,Base!$A$2:$D$460,4,0),\"\")","v":""},null,null,null,null,null,null,null,null,null,null,null,null,null,0]
[null,{"$f":"IFERROR(VLOOKUP(A2377,Base!$A$2:$D$460,2,0),\"\")","v":""},{"$f":"IFERROR(VLOOKUP(A2377,Base!$A$2:$D$460,3,0),\"\")","v":""},{"$f":"IFERROR(VLOOKUP(A2377,Base!$A$2:$D$460,4,0),\"\")","v":""},null,null,null,null,null,null,null,null,null,null,null,null,null,0]
[null,{"$f":"IFERROR(VLOOKUP(A2378,Base!$A$2:$D$460,2,0),\"\")","v":""},{"$f":"IFERROR(VLOOKUP(A2378,Base!$A$2:$D$460,3,0),\"\")","v":""},{"$f":"IFERROR(VLOOKUP(A2378,Base!$A$2:$D$460,4,0),\"\")","v":""},null,null,null,null,null,null,null,null,null,null,null,null,null,0]
[null,{"$f":"IFERROR(VLOOKUP(A2379,Base!$A$2:$D$460,2,0),\"\")","v":""},{"$f":"IFERROR(VLOOKUP(A2379,Base!$A$2:$D$460,3,0),\"\")","v":""},{"$f":"IFERROR(VLOOKUP(A2379,Base!$A$2:$D$460,4,0),\"\")","v":""},null,null,null,null,null,null,null,null,null,null,null,null,null,0]
[null,{"$f":"IFERROR(VLOOKUP(A2380,Base!$A$2:$D$460,2,0),\"\")","v":""},{"$f":"IFERROR(VLOOKUP(A2380,Base!$A$2:$D$460,3,0),\"\")","v":""},{"$f":"IFERROR(VLOOKUP(A2380,Base!$A$2:$D$460,4,0),\"\")","v":""},null,null,null,null,null,null,null,null,null,null,null,null,null,0]
[null,{"$f":"IFERROR(VLOOKUP(A2381,Base!$A$2:$D$460,2,0),\"\")","v":""},{"$f":"IFERROR(VLOOKUP(A2381,Base!$A$2:$D$460,3,0),\"\")","v":""},{"$f":"IFERROR(VLOOKUP(A2381,Base!$A$2:$D$460,4,0),\"\")","v":""},null,null,null,null,null,null,null,null,null,null,null,null,null,0]
[null,{"$f":"IFERROR(VLOOKUP(A2382,Base!$A$2:$D$460,2,0),\"\")","v":""},{"$f":"IFERROR(VLOOKUP(A2382,Base!$A$2:$D$460,3,0),\"\")","v":""},{"$f":"IFERROR(VLOOKUP(A2382,Base!$A$2:$D$460,4,0),\"\")","v":""},null,null,null,null,null,null,null,null,null,null,null,null,null,0]
[null,{"$f":"IFERROR(VLOOKUP(A2383,Base!$A$2:$D$460,2,0),\"\")","v":""},{"$f":"IFERROR(VLOOKUP(A2383,Base!$A$2:$D$460,3,0),\"\")","v":""},{"$f":"IFERROR(VLOOKUP(A2383,Base!$A$2:$D$460,4,0),\"\")","v":""},null,null,null,null,null,null,null,null,null,null,null,null,null,0]
[null,{"$f":"IFERROR(VLOOKUP(A2384,Base!$A$2:$D$460,2,0),\"\")","v":""},{"$f":"IFERROR(VLOOKUP(A2384,Base!$A$2:$D$460,3,0),\"\")","v":""},{"$f":"IFERROR(VLOOKUP(A2384,Base!$A$2:$D$460,4,0),\"\")","v":""},null,null,null,null,null,null,null,null,null,null,null,null,null,0]
[null,{"$f":"IFERROR(VLOOKUP(A2385,Base!$A$2:$D$460,2,0),\"\")","v":""},{"$f":"IFERROR(VLOOKUP(A2385,Base!$A$2:$D$460,3,0),\"\")","v":""},{"$f":"IFERROR(VLOOKUP(A2385,Base!$A$2:$D$460,4,0),\"\")","v":""},null,null,null,null,null,null,null,null,null,null,null,null,null,0]
[null,{"$f":"IFERROR(VLOOKUP(A2386,Base!$A$2:$D$460,2,0),\"\")","v":""},{"$f":"IFERROR(VLOOKUP(A2386,Base!$A$2:$D$460,3,0),\"\")","v":""},{"$f":"IFERROR(VLOOKUP(A2386,Base!$A$2:$D$460,4,0),\"\")","v":""},null,null,null,null,null,null,null,null,null,null,null,null,null,0]
[null,{"$f":"IFERROR(VLOOKUP(A2387,Base!$A$2:$D$460,2,0),\"\")","v":""},{"$f":"IFERROR(VLOOKUP(A2387,Base!$A$2:$D$460,3,0),\"\")","v":""},{"$f":"IFERROR(VLOOKUP(A2387,Base!$A$2:$D$460,4,0),\"\")","v":""},null,null,null,null,null,null,null,null,null,null,null,null,null,0]
[null,{"$f":"IFERROR(VLOOKUP(A2388,Base!$A$2:$D$460,2,0),\"\")","v":""},{"$f":"IFERROR(VLOOKUP(A2388,Base!$A$2:$D$460,3,0),\"\")","v":""},{"$f":"IFERROR(VLOOKUP(A2388,Base!$A$2:$D$460,4,0),\"\")","v":""},null,null,null,null,null,null,null,null,null,null,null,null,null,0]
[null,{"$f":"IFERROR(VLOOKUP(A2389,Base!$A$2:$D$460,2,0),\"\")","v":""},{"$f":"IFERROR(VLOOKUP(A2389,Base!$A$2:$D$460,3,0),\"\")","v":""},{"$f":"IFERROR(VLOOKUP(A2389,Base!$A$2:$D$460,4,0),\"\")","v":""},null,null,null,null,null,null,null,null,null,null,null,null,null,0]
[null,{"$f":"IFERROR(VLOOKUP(A2390,Base!$A$2:$D$460,2,0),\"\")","v":""},{"$f":"IFERROR(VLOOKUP(A2390,Base!$A$2:$D$460,3,0),\"\")","v":""},{"$f":"IFERROR(VLOOKUP(A2390,Base!$A$2:$D$460,4,0),\"\")","v":""},null,null,null,null,null,null,null,null,null,null,null,null,null,0]
[null,{"$f":"IFERROR(VLOOKUP(A2391,Base!$A$2:$D$460,2,0),\"\")","v":""},{"$f":"IFERROR(VLOOKUP(A2391,Base!$A$2:$D$460,3,0),\"\")","v":""},{"$f":"IFERROR(VLOOKUP(A2391,Base!$A$2:$D$460,4,0),\"\")","v":""},null,null,null,null,null,null,null,null,null,null,null,null,null,0]
[null,{"$f":"IFERROR(VLOOKUP(A2392,Base!$A$2:$D$460,2,0),\"\")","v":""},{"$f":"IFERROR(VLOOKUP(A2392,Base!$A$2:$D$460,3,0),\"\")","v":""},{"$f":"IFERROR(VLOOKUP(A2392,Base!$A$2:$D$460,4,0),\"\")","v":""},null,null,null,null,null,null,null,null,null,null,null,null,null,0]
[null,{"$f":"IFERROR(VLOOKUP(A2393,Base!$A$2:$D$460,2,0),\"\")","v":""},{"$f":"IFERROR(VLOOKUP(A2393,Base!$A$2:$D$460,3,0),\"\")","v":""},{"$f":"IFERROR(VLOOKUP(A2393,Base!$A$2:$D$460,4,0),\"\")","v":""},null,null,null,null,null,null,null,null,null,null,null,null,null,0]
[null,{"$f":"IFERROR(VLOOKUP(A2394,Base!$A$2:$D$460,2,0),\"\")","v":""},{"$f":"IFERROR(VLOOKUP(A2394,Base!$A$2:$D$460,3,0),\"\")","v":""},{"$f":"IFERROR(VLOOKUP(A2394,Base!$A$2:$D$460,4,0),\"\")","v":""},null,null,null,null,null,null,null,null,null,null,null,null,null,0]
[null,{"$f":"IFERROR(VLOOKUP(A2395,Base!$A$2:$D$460,2,0),\"\")","v":""},{"$f":"IFERROR(VLOOKUP(A2395,Base!$A$2:$D$460,3,0),\"\")","v":""},{"$f":"IFERROR(VLOOKUP(A2395,Base!$A$2:$D$460,4,0),\"\")","v":""},null,null,null,null,null,null,null,null,null,null,null,null,null,0]
[null,{"$f":"IFERROR(VLOOKUP(A2396,Base!$A$2:$D$460,2,0),\"\")","v":""},{"$f":"IFERROR(VLOOKUP(A2396,Base!$A$2:$D$460,3,0),\"\")","v":""},{"$f":"IFERROR(VLOOKUP(A2396,Base!$A$2:$D$460,4,0),\"\")","v":""},null,null,null,null,null,null,null,null,null,null,null,null,null,0]
[null,{"$f":"IFERROR(VLOOKUP(A2397,Base!$A$2:$D$460,2,0),\"\")","v":""},{"$f":"IFERROR(VLOOKUP(A2397,Base!$A$2:$D$460,3,0),\"\")","v":""},{"$f":"IFERROR(VLOOKUP(A2397,Base!$A$2:$D$460,4,0),\"\")","v":""},null,null,null,null,null,null,null,null,null,null,null,null,null,0]
[null,{"$f":"IFERROR(VLOOKUP(A2398,Base!$A$2:$D$460,2,0),\"\")","v":""},{"$f":"IFERROR(VLOOKUP(A2398,Base!$A$2:$D$460,3,0),\"\")","v":""},{"$f":"IFERROR(VLOOKUP(A2398,Base!$A$2:$D$460,4,0),\"\")","v":""},null,null,null,null,null,null,null,null,null,null,null,null,null,0]
[null,{"$f":"IFERROR(VLOOKUP(A2399,Base!$A$2:$D$460,2,0),\"\")","v":""},{"$f":"IFERROR(VLOOKUP(A2399,Base!$A$2:$D$460,3,0),\"\")","v":""},{"$f":"IFERROR(VLOOKUP(A2399,Base!$A$2:$D$460,4,0),\"\")","v":""},null,null,null,null,null,null,null,null,null,null,null,null,null,0]
[null,{"$f":"IFERROR(VLOOKUP(A2400,Base!$A$2:$D$460,2,0),\"\")","v":""},{"$f":"IFERROR(VLOOKUP(A2400,Base!$A$2:$D$460,3,0),\"\")","v":""},{"$f":"IFERROR(VLOOKUP(A2400,Base!$A$2:$D$460,4,0),\"\")","v":""},null,null,null,null,null,null,null,null,null,null,null,null,null,0]
[null,{"$f":"IFERROR(VLOOKUP(A2401,Base!$A$2:$D$460,2,0),\"\")","v":""},{"$f":"IFERROR(VLOOKUP(A2401,Base!$A$2:$D$460,3,0),\"\")","v":""},{"$f":"IFERROR(VLOOKUP(A2401,Base!$A$2:$D$460,4,0),\"\")","v":""},null,null,null,null,null,null,null,null,null,null,null,null,null,0]
[null,{"$f":"IFERROR(VLOOKUP(A2402,Base!$A$2:$D$460,2,0),\"\")","v":""},{"$f":"IFERROR(VLOOKUP(A2402,Base!$A$2:$D$460,3,0),\"\")","v":""},{"$f":"IFERROR(VLOOKUP(A2402,Base!$A$2:$D$460,4,0),\"\")","v":""},null,null,null,null,null,null,null,null,null,null,null,null,null,0]
[null,{"$f":"IFERROR(VLOOKUP(A2403,Base!$A$2:$D$460,2,0),\"\")","v":""},{"$f":"IFERROR(VLOOKUP(A2403,Base!$A$2:$D$460,3,0),\"\")","v":""},{"$f":"IFERROR(VLOOKUP(A2403,Base!$A$2:$D$460,4,0),\"\")","v":""},null,null,null,null,null,null,null,null,null,null,null,null,null,0]
[null,{"$f":"IFERROR(VLOOKUP(A2404,Base!$A$2:$D$460,2,0),\"\")","v":""},{"$f":"IFERROR(VLOOKUP(A2404,Base!$A$2:$D$460,3,0),\"\")","v":""},{"$f":"IFERROR(VLOOKUP(A2404,Base!$A$2:$D$460,4,0),\"\")","v":""},null,null,null,null,null,null,null,null,null,null,null,null,null,0]
[null,{"$f":"IFERROR(VLOOKUP(A2405,Base!$A$2:$D$460,2,0),\"\")","v":""},{"$f":"IFERROR(VLOOKUP(A2405,Base!$A$2:$D$460,3,0),\"\")","v":""},{"$f":"IFERROR(VLOOKUP(A2405,Base!$A$2:$D$460,4,0),\"\")","v":""},null,null,null,null,null,null,null,null,null,null,null,null,null,0]
[null,{"$f":"IFERROR(VLOOKUP(A2406,Base!$A$2:$D$460,2,0),\"\")","v":""},{"$f":"IFERROR(VLOOKUP(A2406,Base!$A$2:$D$460,3,0),\"\")","v":""},{"$f":"IFERROR(VLOOKUP(A2406,Base!$A$2:$D$460,4,0),\"\")","v":""},null,null,null,null,null,null,null,null,null,null,null,null,null,0]
[null,{"$f":"IFERROR(VLOOKUP(A2407,Base!$A$2:$D$460,2,0),\"\")","v":""},{"$f":"IFERROR(VLOOKUP(A2407,Base!$A$2:$D$460,3,0),\"\")","v":""},{"$f":"IFERROR(VLOOKUP(A2407,Base!$A$2:$D$460,4,0),\"\")","v":""},null,null,null,null,null,null,null,null,null,null,null,null,null,{"$f":"SUM(N2407:Q2407)/4","v":0}]
[null,{"$f":"IFERROR(VLOOKUP(A2408,Base!$A$2:$D$460,2,0),\"\")","v":""},{"$f":"IFERROR(VLOOKUP(A2408,Base!$A$2:$D$460,3,0),\"\")","v":""},{"$f":"IFERROR(VLOOKUP(A2408,Base!$A$2:$D$460,4,0),\"\")","v":""},null,null,null,null,null,null,null,null,null,null,null,null,null,0]
[null,{"$f":"IFERROR(VLOOKUP(A2409,Base!$A$2:$D$460,2,0),\"\")","v":""},{"$f":"IFERROR(VLOOKUP(A2409,Base!$A$2:$D$460,3,0),\"\")","v":""},{"$f":"IFERROR(VLOOKUP(A2409,Base!$A$2:$D$460,4,0),\"\")","v":""},null,null,null,null,null,null,null,null,null,null,null,null,null,0]
[null,{"$f":"IFERROR(VLOOKUP(A2410,Base!$A$2:$D$460,2,0),\"\")","v":""},{"$f":"IFERROR(VLOOKUP(A2410,Base!$A$2:$D$460,3,0),\"\")","v":""},{"$f":"IFERROR(VLOOKUP(A2410,Base!$A$2:$D$460,4,0),\"\")","v":""},null,null,null,null,null,null,null,null,null,null,null,null,null,0]
[null,{"$f":"IFERROR(VLOOKUP(A2411,Base!$A$2:$D$460,2,0),\"\")","v":""},{"$f":"IFERROR(VLOOKUP(A2411,Base!$A$2:$D$460,3,0),\"\")","v":""},{"$f":"IFERROR(VLOOKUP(A2411,Base!$A$2:$D$460,4,0),\"\")","v":""},null,null,null,null,null,null,null,null,null,null,null,null,null,0]
[null,{"$f":"IFERROR(VLOOKUP(A2412,Base!$A$2:$D$460,2,0),\"\")","v":""},{"$f":"IFERROR(VLOOKUP(A2412,Base!$A$2:$D$460,3,0),\"\")","v":""},{"$f":"IFERROR(VLOOKUP(A2412,Base!$A$2:$D$460,4,0),\"\")","v":""},null,null,null,null,null,null,null,null,null,null,null,null,null,0]
[null,{"$f":"IFERROR(VLOOKUP(A2413,Base!$A$2:$D$460,2,0),\"\")","v":""},{"$f":"IFERROR(VLOOKUP(A2413,Base!$A$2:$D$460,3,0),\"\")","v":""},{"$f":"IFERROR(VLOOKUP(A2413,Base!$A$2:$D$460,4,0),\"\")","v":""},null,null,null,null,null,null,null,null,null,null,null,null,null,0]
[null,{"$f":"IFERROR(VLOOKUP(A2414,Base!$A$2:$D$460,2,0),\"\")","v":""},{"$f":"IFERROR(VLOOKUP(A2414,Base!$A$2:$D$460,3,0),\"\")","v":""},{"$f":"IFERROR(VLOOKUP(A2414,Base!$A$2:$D$460,4,0),\"\")","v":""},null,null,null,null,null,null,null,null,null,null,null,null,null,0]
[null,{"$f":"IFERROR(VLOOKUP(A2415,Base!$A$2:$D$460,2,0),\"\")","v":""},{"$f":"IFERROR(VLOOKUP(A2415,Base!$A$2:$D$460,3,0),\"\")","v":""},{"$f":"IFERROR(VLOOKUP(A2415,Base!$A$2:$D$460,4,0),\"\")","v":""},null,null,null,null,null,null,null,null,null,null,null,null,null,0]
[null,{"$f":"IFERROR(VLOOKUP(A2416,Base!$A$2:$D$460,2,0),\"\")","v":""},{"$f":"IFERROR(VLOOKUP(A2416,Base!$A$2:$D$460,3,0),\"\")","v":""},{"$f":"IFERROR(VLOOKUP(A2416,Base!$A$2:$D$460,4,0),\"\")","v":""},null,null,null,null,null,null,null,null,null,null,null,null,null,0]
[null,{"$f":"IFERROR(VLOOKUP(A2417,Base!$A$2:$D$460,2,0),\"\")","v":""},{"$f":"IFERROR(VLOOKUP(A2417,Base!$A$2:$D$460,3,0),\"\")","v":""},{"$f":"IFERROR(VLOOKUP(A2417,Base!$A$2:$D$460,4,0),\"\")","v":""},null,null,null,null,null,null,null,null,null,null,null,null,null,0]
[null,{"$f":"IFERROR(VLOOKUP(A2418,Base!$A$2:$D$460,2,0),\"\")","v":""},{"$f":"IFERROR(VLOOKUP(A2418,Base!$A$2:$D$460,3,0),\"\")","v":""},{"$f":"IFERROR(VLOOKUP(A2418,Base!$A$2:$D$460,4,0),\"\")","v":""},null,null,null,null,null,null,null,null,null,null,null,null,null,0]
[null,{"$f":"IFERROR(VLOOKUP(A2419,Base!$A$2:$D$460,2,0),\"\")","v":""},{"$f":"IFERROR(VLOOKUP(A2419,Base!$A$2:$D$460,3,0),\"\")","v":""},{"$f":"IFERROR(VLOOKUP(A2419,Base!$A$2:$D$460,4,0),\"\")","v":""},null,null,null,null,null,null,null,null,null,null,null,null,null,0]
[null,{"$f":"IFERROR(VLOOKUP(A2420,Base!$A$2:$D$460,2,0),\"\")","v":""},{"$f":"IFERROR(VLOOKUP(A2420,Base!$A$2:$D$460,3,0),\"\")","v":""},{"$f":"IFERROR(VLOOKUP(A2420,Base!$A$2:$D$460,4,0),\"\")","v":""},null,null,null,null,null,null,null,null,null,null,null,null,null,0]
[null,{"$f":"IFERROR(VLOOKUP(A2421,Base!$A$2:$D$460,2,0),\"\")","v":""},{"$f":"IFERROR(VLOOKUP(A2421,Base!$A$2:$D$460,3,0),\"\")","v":""},{"$f":"IFERROR(VLOOKUP(A2421,Base!$A$2:$D$460,4,0),\"\")","v":""},null,null,null,null,null,null,null,null,null,null,null,null,null,0]
[null,{"$f":"IFERROR(VLOOKUP(A2422,Base!$A$2:$D$460,2,0),\"\")","v":""},{"$f":"IFERROR(VLOOKUP(A2422,Base!$A$2:$D$460,3,0),\"\")","v":""},{"$f":"IFERROR(VLOOKUP(A2422,Base!$A$2:$D$460,4,0),\"\")","v":""},null,null,null,null,null,null,null,null,null,null,null,null,null,0]
[null,{"$f":"IFERROR(VLOOKUP(A2423,Base!$A$2:$D$460,2,0),\"\")","v":""},{"$f":"IFERROR(VLOOKUP(A2423,Base!$A$2:$D$460,3,0),\"\")","v":""},{"$f":"IFERROR(VLOOKUP(A2423,Base!$A$2:$D$460,4,0),\"\")","v":""},null,null,null,null,null,null,null,null,null,null,null,null,null,0]
[null,{"$f":"IFERROR(VLOOKUP(A2424,Base!$A$2:$D$460,2,0),\"\")","v":""},{"$f":"IFERROR(VLOOKUP(A2424,Base!$A$2:$D$460,3,0),\"\")","v":""},{"$f":"IFERROR(VLOOKUP(A2424,Base!$A$2:$D$460,4,0),\"\")","v":""},null,null,null,null,null,null,null,null,null,null,null,null,null,0]
[null,{"$f":"IFERROR(VLOOKUP(A2425,Base!$A$2:$D$460,2,0),\"\")","v":""},{"$f":"IFERROR(VLOOKUP(A2425,Base!$A$2:$D$460,3,0),\"\")","v":""},{"$f":"IFERROR(VLOOKUP(A2425,Base!$A$2:$D$460,4,0),\"\")","v":""},null,null,null,null,null,null,null,null,null,null,null,null,null,0]
[null,{"$f":"IFERROR(VLOOKUP(A2426,Base!$A$2:$D$460,2,0),\"\")","v":""},{"$f":"IFERROR(VLOOKUP(A2426,Base!$A$2:$D$460,3,0),\"\")","v":""},{"$f":"IFERROR(VLOOKUP(A2426,Base!$A$2:$D$460,4,0),\"\")","v":""},null,null,null,null,null,null,null,null,null,null,null,null,null,0]
[null,{"$f":"IFERROR(VLOOKUP(A2427,Base!$A$2:$D$460,2,0),\"\")","v":""},{"$f":"IFERROR(VLOOKUP(A2427,Base!$A$2:$D$460,3,0),\"\")","v":""},{"$f":"IFERROR(VLOOKUP(A2427,Base!$A$2:$D$460,4,0),\"\")","v":""},null,null,null,null,null,null,null,null,null,null,null,null,null,0]
[null,{"$f":"IFERROR(VLOOKUP(A2428,Base!$A$2:$D$460,2,0),\"\")","v":""},{"$f":"IFERROR(VLOOKUP(A2428,Base!$A$2:$D$460,3,0),\"\")","v":""},{"$f":"IFERROR(VLOOKUP(A2428,Base!$A$2:$D$460,4,0),\"\")","v":""},null,null,null,null,null,null,null,null,null,null,null,null,null,0]
[null,{"$f":"IFERROR(VLOOKUP(A2429,Base!$A$2:$D$460,2,0),\"\")","v":""},{"$f":"IFERROR(VLOOKUP(A2429,Base!$A$2:$D$460,3,0),\"\")","v":""},{"$f":"IFERROR(VLOOKUP(A2429,Base!$A$2:$D$460,4,0),\"\")","v":""},null,null,null,null,null,null,null,null,null,null,null,null,null,0]
[null,{"$f":"IFERROR(VLOOKUP(A2430,Base!$A$2:$D$460,2,0),\"\")","v":""},{"$f":"IFERROR(VLOOKUP(A2430,Base!$A$2:$D$460,3,0),\"\")","v":""},{"$f":"IFERROR(VLOOKUP(A2430,Base!$A$2:$D$460,4,0),\"\")","v":""},null,null,null,null,null,null,null,null,null,null,null,null,null,0]
[null,{"$f":"IFERROR(VLOOKUP(A2431,Base!$A$2:$D$460,2,0),\"\")","v":""},{"$f":"IFERROR(VLOOKUP(A2431,Base!$A$2:$D$460,3,0),\"\")","v":""},{"$f":"IFERROR(VLOOKUP(A2431,Base!$A$2:$D$460,4,0),\"\")","v":""},null,null,null,null,null,null,null,null,null,null,null,null,null,0]
[null,{"$f":"IFERROR(VLOOKUP(A2432,Base!$A$2:$D$460,2,0),\"\")","v":""},{"$f":"IFERROR(VLOOKUP(A2432,Base!$A$2:$D$460,3,0),\"\")","v":""},{"$f":"IFERROR(VLOOKUP(A2432,Base!$A$2:$D$460,4,0),\"\")","v":""},null,null,null,null,null,null,null,null,null,null,null,null,null,0]
[null,{"$f":"IFERROR(VLOOKUP(A2433,Base!$A$2:$D$460,2,0),\"\")","v":""},{"$f":"IFERROR(VLOOKUP(A2433,Base!$A$2:$D$460,3,0),\"\")","v":""},{"$f":"IFERROR(VLOOKUP(A2433,Base!$A$2:$D$460,4,0),\"\")","v":""},null,null,null,null,null,null,null,null,null,null,null,null,null,0]
[null,{"$f":"IFERROR(VLOOKUP(A2434,Base!$A$2:$D$460,2,0),\"\")","v":""},{"$f":"IFERROR(VLOOKUP(A2434,Base!$A$2:$D$460,3,0),\"\")","v":""},{"$f":"IFERROR(VLOOKUP(A2434,Base!$A$2:$D$460,4,0),\"\")","v":""},null,null,null,null,null,null,null,null,null,null,null,null,null,0]
[null,{"$f":"IFERROR(VLOOKUP(A2435,Base!$A$2:$D$460,2,0),\"\")","v":""},{"$f":"IFERROR(VLOOKUP(A2435,Base!$A$2:$D$460,3,0),\"\")","v":""},{"$f":"IFERROR(VLOOKUP(A2435,Base!$A$2:$D$460,4,0),\"\")","v":""},null,null,null,null,null,null,null,null,null,null,null,null,null,0]
[null,{"$f":"IFERROR(VLOOKUP(A2436,Base!$A$2:$D$460,2,0),\"\")","v":""},{"$f":"IFERROR(VLOOKUP(A2436,Base!$A$2:$D$460,3,0),\"\")","v":""},{"$f":"IFERROR(VLOOKUP(A2436,Base!$A$2:$D$460,4,0),\"\")","v":""},null,null,null,null,null,null,null,null,null,null,null,null,null,0]
[null,{"$f":"IFERROR(VLOOKUP(A2437,Base!$A$2:$D$460,2,0),\"\")","v":""},{"$f":"IFERROR(VLOOKUP(A2437,Base!$A$2:$D$460,3,0),\"\")","v":""},{"$f":"IFERROR(VLOOKUP(A2437,Base!$A$2:$D$460,4,0),\"\")","v":""},null,null,null,null,null,null,null,null,null,null,null,null,null,0]
[null,{"$f":"IFERROR(VLOOKUP(A2438,Base!$A$2:$D$460,2,0),\"\")","v":""},{"$f":"IFERROR(VLOOKUP(A2438,Base!$A$2:$D$460,3,0),\"\")","v":""},{"$f":"IFERROR(VLOOKUP(A2438,Base!$A$2:$D$460,4,0),\"\")","v":""},null,null,null,null,null,null,null,null,null,null,null,null,null,0]
[null,{"$f":"IFERROR(VLOOKUP(A2439,Base!$A$2:$D$460,2,0),\"\")","v":""},{"$f":"IFERROR(VLOOKUP(A2439,Base!$A$2:$D$460,3,0),\"\")","v":""},{"$f":"IFERROR(VLOOKUP(A2439,Base!$A$2:$D$460,4,0),\"\")","v":""},null,null,null,null,null,null,null,null,null,null,null,null,null,0]
[null,{"$f":"IFERROR(VLOOKUP(A2440,Base!$A$2:$D$460,2,0),\"\")","v":""},{"$f":"IFERROR(VLOOKUP(A2440,Base!$A$2:$D$460,3,0),\"\")","v":""},{"$f":"IFERROR(VLOOKUP(A2440,Base!$A$2:$D$460,4,0),\"\")","v":""},null,null,null,null,null,null,null,null,null,null,null,null,null,0]
[null,{"$f":"IFERROR(VLOOKUP(A2441,Base!$A$2:$D$460,2,0),\"\")","v":""},{"$f":"IFERROR(VLOOKUP(A2441,Base!$A$2:$D$460,3,0),\"\")","v":""},{"$f":"IFERROR(VLOOKUP(A2441,Base!$A$2:$D$460,4,0),\"\")","v":""},null,null,null,null,null,null,null,null,null,null,null,null,null,0]
[null,{"$f":"IFERROR(VLOOKUP(A2442,Base!$A$2:$D$460,2,0),\"\")","v":""},{"$f":"IFERROR(VLOOKUP(A2442,Base!$A$2:$D$460,3,0),\"\")","v":""},{"$f":"IFERROR(VLOOKUP(A2442,Base!$A$2:$D$460,4,0),\"\")","v":""},null,null,null,null,null,null,null,null,null,null,null,null,null,0]
[null,{"$f":"IFERROR(VLOOKUP(A2443,Base!$A$2:$D$460,2,0),\"\")","v":""},{"$f":"IFERROR(VLOOKUP(A2443,Base!$A$2:$D$460,3,0),\"\")","v":""},{"$f":"IFERROR(VLOOKUP(A2443,Base!$A$2:$D$460,4,0),\"\")","v":""},null,null,null,null,null,null,null,null,null,null,null,null,null,0]
[null,{"$f":"IFERROR(VLOOKUP(A2444,Base!$A$2:$D$460,2,0),\"\")","v":""},{"$f":"IFERROR(VLOOKUP(A2444,Base!$A$2:$D$460,3,0),\"\")","v":""},{"$f":"IFERROR(VLOOKUP(A2444,Base!$A$2:$D$460,4,0),\"\")","v":""},null,null,null,null,null,null,null,null,null,null,null,null,null,0]
[null,{"$f":"IFERROR(VLOOKUP(A2445,Base!$A$2:$D$460,2,0),\"\")","v":""},{"$f":"IFERROR(VLOOKUP(A2445,Base!$A$2:$D$460,3,0),\"\")","v":""},{"$f":"IFERROR(VLOOKUP(A2445,Base!$A$2:$D$460,4,0),\"\")","v":""},null,null,null,null,null,null,null,null,null,null,null,null,null,0]
[null,{"$f":"IFERROR(VLOOKUP(A2446,Base!$A$2:$D$460,2,0),\"\")","v":""},{"$f":"IFERROR(VLOOKUP(A2446,Base!$A$2:$D$460,3,0),\"\")","v":""},{"$f":"IFERROR(VLOOKUP(A2446,Base!$A$2:$D$460,4,0),\"\")","v":""},null,null,null,null,null,null,null,null,null,null,null,null,null,0]
[null,{"$f":"IFERROR(VLOOKUP(A2447,Base!$A$2:$D$460,2,0),\"\")","v":""},{"$f":"IFERROR(VLOOKUP(A2447,Base!$A$2:$D$460,3,0),\"\")","v":""},{"$f":"IFERROR(VLOOKUP(A2447,Base!$A$2:$D$460,4,0),\"\")","v":""},null,null,null,null,null,null,null,null,null,null,null,null,null,0]
[null,{"$f":"IFERROR(VLOOKUP(A2448,Base!$A$2:$D$460,2,0),\"\")","v":""},{"$f":"IFERROR(VLOOKUP(A2448,Base!$A$2:$D$460,3,0),\"\")","v":""},{"$f":"IFERROR(VLOOKUP(A2448,Base!$A$2:$D$460,4,0),\"\")","v":""},null,null,null,null,null,null,null,null,null,null,null,null,null,0]
[null,{"$f":"IFERROR(VLOOKUP(A2449,Base!$A$2:$D$460,2,0),\"\")","v":""},{"$f":"IFERROR(VLOOKUP(A2449,Base!$A$2:$D$460,3,0),\"\")","v":""},{"$f":"IFERROR(VLOOKUP(A2449,Base!$A$2:$D$460,4,0),\"\")","v":""},null,null,null,null,null,null,null,null,null,null,null,null,null,0]
[null,{"$f":"IFERROR(VLOOKUP(A2450,Base!$A$2:$D$460,2,0),\"\")","v":""},{"$f":"IFERROR(VLOOKUP(A2450,Base!$A$2:$D$460,3,0),\"\")","v":""},{"$f":"IFERROR(VLOOKUP(A2450,Base!$A$2:$D$460,4,0),\"\")","v":""},null,null,null,null,null,null,null,null,null,null,null,null,null,0]
[null,{"$f":"IFERROR(VLOOKUP(A2451,Base!$A$2:$D$460,2,0),\"\")","v":""},{"$f":"IFERROR(VLOOKUP(A2451,Base!$A$2:$D$460,3,0),\"\")","v":""},{"$f":"IFERROR(VLOOKUP(A2451,Base!$A$2:$D$460,4,0),\"\")","v":""},null,null,null,null,null,null,null,null,null,null,null,null,null,0]
[null,{"$f":"IFERROR(VLOOKUP(A2452,Base!$A$2:$D$460,2,0),\"\")","v":""},{"$f":"IFERROR(VLOOKUP(A2452,Base!$A$2:$D$460,3,0),\"\")","v":""},{"$f":"IFERROR(VLOOKUP(A2452,Base!$A$2:$D$460,4,0),\"\")","v":""},null,null,null,null,null,null,null,null,null,null,null,null,null,0]
[null,{"$f":"IFERROR(VLOOKUP(A2453,Base!$A$2:$D$460,2,0),\"\")","v":""},{"$f":"IFERROR(VLOOKUP(A2453,Base!$A$2:$D$460,3,0),\"\")","v":""},{"$f":"IFERROR(VLOOKUP(A2453,Base!$A$2:$D$460,4,0),\"\")","v":""},null,null,null,null,null,null,null,null,null,null,null,null,null,0]
[null,{"$f":"IFERROR(VLOOKUP(A2454,Base!$A$2:$D$460,2,0),\"\")","v":""},{"$f":"IFERROR(VLOOKUP(A2454,Base!$A$2:$D$460,3,0),\"\")","v":""},{"$f":"IFERROR(VLOOKUP(A2454,Base!$A$2:$D$460,4,0),\"\")","v":""},null,null,null,null,null,null,null,null,null,null,null,null,null,0]
[null,{"$f":"IFERROR(VLOOKUP(A2455,Base!$A$2:$D$460,2,0),\"\")","v":""},{"$f":"IFERROR(VLOOKUP(A2455,Base!$A$2:$D$460,3,0),\"\")","v":""},{"$f":"IFERROR(VLOOKUP(A2455,Base!$A$2:$D$460,4,0),\"\")","v":""},null,null,null,null,null,null,null,null,null,null,null,null,null,0]
[null,{"$f":"IFERROR(VLOOKUP(A2456,Base!$A$2:$D$460,2,0),\"\")","v":""},{"$f":"IFERROR(VLOOKUP(A2456,Base!$A$2:$D$460,3,0),\"\")","v":""},{"$f":"IFERROR(VLOOKUP(A2456,Base!$A$2:$D$460,4,0),\"\")","v":""},null,null,null,null,null,null,null,null,null,null,null,null,null,0]
[null,{"$f":"IFERROR(VLOOKUP(A2457,Base!$A$2:$D$460,2,0),\"\")","v":""},{"$f":"IFERROR(VLOOKUP(A2457,Base!$A$2:$D$460,3,0),\"\")","v":""},{"$f":"IFERROR(VLOOKUP(A2457,Base!$A$2:$D$460,4,0),\"\")","v":""},null,null,null,null,null,null,null,null,null,null,null,null,null,0]
[null,{"$f":"IFERROR(VLOOKUP(A2458,Base!$A$2:$D$460,2,0),\"\")","v":""},{"$f":"IFERROR(VLOOKUP(A2458,Base!$A$2:$D$460,3,0),\"\")","v":""},{"$f":"IFERROR(VLOOKUP(A2458,Base!$A$2:$D$460,4,0),\"\")","v":""},null,null,null,null,null,null,null,null,null,null,null,null,null,0]
[null,{"$f":"IFERROR(VLOOKUP(A2459,Base!$A$2:$D$460,2,0),\"\")","v":""},{"$f":"IFERROR(VLOOKUP(A2459,Base!$A$2:$D$460,3,0),\"\")","v":""},{"$f":"IFERROR(VLOOKUP(A2459,Base!$A$2:$D$460,4,0),\"\")","v":""},null,null,null,null,null,null,null,null,null,null,null,null,null,0]
[null,{"$f":"IFERROR(VLOOKUP(A2460,Base!$A$2:$D$460,2,0),\"\")","v":""},{"$f":"IFERROR(VLOOKUP(A2460,Base!$A$2:$D$460,3,0),\"\")","v":""},{"$f":"IFERROR(VLOOKUP(A2460,Base!$A$2:$D$460,4,0),\"\")","v":""},null,null,null,null,null,null,null,null,null,null,null,null,null,0]
[null,{"$f":"IFERROR(VLOOKUP(A2461,Base!$A$2:$D$460,2,0),\"\")","v":""},{"$f":"IFERROR(VLOOKUP(A2461,Base!$A$2:$D$460,3,0),\"\")","v":""},{"$f":"IFERROR(VLOOKUP(A2461,Base!$A$2:$D$460,4,0),\"\")","v":""},null,null,null,null,null,null,null,null,null,null,null,null,null,0]
[null,{"$f":"IFERROR(VLOOKUP(A2462,Base!$A$2:$D$460,2,0),\"\")","v":""},{"$f":"IFERROR(VLOOKUP(A2462,Base!$A$2:$D$460,3,0),\"\")","v":""},{"$f":"IFERROR(VLOOKUP(A2462,Base!$A$2:$D$460,4,0),\"\")","v":""},null,null,null,null,null,null,null,null,null,null,null,null,null,0]
[null,{"$f":"IFERROR(VLOOKUP(A2463,Base!$A$2:$D$460,2,0),\"\")","v":""},{"$f":"IFERROR(VLOOKUP(A2463,Base!$A$2:$D$460,3,0),\"\")","v":""},{"$f":"IFERROR(VLOOKUP(A2463,Base!$A$2:$D$460,4,0),\"\")","v":""},null,null,null,null,null,null,null,null,null,null,null,null,null,0]
[null,{"$f":"IFERROR(VLOOKUP(A2464,Base!$A$2:$D$460,2,0),\"\")","v":""},{"$f":"IFERROR(VLOOKUP(A2464,Base!$A$2:$D$460,3,0),\"\")","v":""},{"$f":"IFERROR(VLOOKUP(A2464,Base!$A$2:$D$460,4,0),\"\")","v":""},null,null,null,null,null,null,null,null,null,null,null,null,null,0]
[null,{"$f":"IFERROR(VLOOKUP(A2465,Base!$A$2:$D$460,2,0),\"\")","v":""},{"$f":"IFERROR(VLOOKUP(A2465,Base!$A$2:$D$460,3,0),\"\")","v":""},{"$f":"IFERROR(VLOOKUP(A2465,Base!$A$2:$D$460,4,0),\"\")","v":""},null,null,null,null,null,null,null,null,null,null,null,null,null,0]
[null,{"$f":"IFERROR(VLOOKUP(A2466,Base!$A$2:$D$460,2,0),\"\")","v":""},{"$f":"IFERROR(VLOOKUP(A2466,Base!$A$2:$D$460,3,0),\"\")","v":""},{"$f":"IFERROR(VLOOKUP(A2466,Base!$A$2:$D$460,4,0),\"\")","v":""},null,null,null,null,null,null,null,null,null,null,null,null,null,0]
[null,{"$f":"IFERROR(VLOOKUP(A2467,Base!$A$2:$D$460,2,0),\"\")","v":""},{"$f":"IFERROR(VLOOKUP(A2467,Base!$A$2:$D$460,3,0),\"\")","v":""},{"$f":"IFERROR(VLOOKUP(A2467,Base!$A$2:$D$460,4,0),\"\")","v":""},null,null,null,null,null,null,null,null,null,null,null,null,null,0]
[null,{"$f":"IFERROR(VLOOKUP(A2468,Base!$A$2:$D$460,2,0),\"\")","v":""},{"$f":"IFERROR(VLOOKUP(A2468,Base!$A$2:$D$460,3,0),\"\")","v":""},{"$f":"IFERROR(VLOOKUP(A2468,Base!$A$2:$D$460,4,0),\"\")","v":""},null,null,null,null,null,null,null,null,null,null,null,null,null,0]
[null,{"$f":"IFERROR(VLOOKUP(A2469,Base!$A$2:$D$460,2,0),\"\")","v":""},{"$f":"IFERROR(VLOOKUP(A2469,Base!$A$2:$D$460,3,0),\"\")","v":""},{"$f":"IFERROR(VLOOKUP(A2469,Base!$A$2:$D$460,4,0),\"\")","v":""},null,null,null,null,null,null,null,null,null,null,null,null,null,0]
[null,{"$f":"IFERROR(VLOOKUP(A2470,Base!$A$2:$D$460,2,0),\"\")","v":""},{"$f":"IFERROR(VLOOKUP(A2470,Base!$A$2:$D$460,3,0),\"\")","v":""},{"$f":"IFERROR(VLOOKUP(A2470,Base!$A$2:$D$460,4,0),\"\")","v":""},null,null,null,null,null,null,null,null,null,null,null,null,null,0]
[null,{"$f":"IFERROR(VLOOKUP(A2471,Base!$A$2:$D$460,2,0),\"\")","v":""},{"$f":"IFERROR(VLOOKUP(A2471,Base!$A$2:$D$460,3,0),\"\")","v":""},{"$f":"IFERROR(VLOOKUP(A2471,Base!$A$2:$D$460,4,0),\"\")","v":""},null,null,null,null,null,null,null,null,null,null,null,null,null,{"$f":"SUM(N2471:Q2471)/4","v":0}]
[null,{"$f":"IFERROR(VLOOKUP(A2472,Base!$A$2:$D$460,2,0),\"\")","v":""},{"$f":"IFERROR(VLOOKUP(A2472,Base!$A$2:$D$460,3,0),\"\")","v":""},{"$f":"IFERROR(VLOOKUP(A2472,Base!$A$2:$D$460,4,0),\"\")","v":""},null,null,null,null,null,null,null,null,null,null,null,null,null,0]
[null,{"$f":"IFERROR(VLOOKUP(A2473,Base!$A$2:$D$460,2,0),\"\")","v":""},{"$f":"IFERROR(VLOOKUP(A2473,Base!$A$2:$D$460,3,0),\"\")","v":""},{"$f":"IFERROR(VLOOKUP(A2473,Base!$A$2:$D$460,4,0),\"\")","v":""},null,null,null,null,null,null,null,null,null,null,null,null,null,0]
[null,{"$f":"IFERROR(VLOOKUP(A2474,Base!$A$2:$D$460,2,0),\"\")","v":""},{"$f":"IFERROR(VLOOKUP(A2474,Base!$A$2:$D$460,3,0),\"\")","v":""},{"$f":"IFERROR(VLOOKUP(A2474,Base!$A$2:$D$460,4,0),\"\")","v":""},null,null,null,null,null,null,null,null,null,null,null,null,null,0]
[null,{"$f":"IFERROR(VLOOKUP(A2475,Base!$A$2:$D$460,2,0),\"\")","v":""},{"$f":"IFERROR(VLOOKUP(A2475,Base!$A$2:$D$460,3,0),\"\")","v":""},{"$f":"IFERROR(VLOOKUP(A2475,Base!$A$2:$D$460,4,0),\"\")","v":""},null,null,null,null,null,null,null,null,null,null,null,null,null,0]
[null,{"$f":"IFERROR(VLOOKUP(A2476,Base!$A$2:$D$460,2,0),\"\")","v":""},{"$f":"IFERROR(VLOOKUP(A2476,Base!$A$2:$D$460,3,0),\"\")","v":""},{"$f":"IFERROR(VLOOKUP(A2476,Base!$A$2:$D$460,4,0),\"\")","v":""},null,null,null,null,null,null,null,null,null,null,null,null,null,0]
[null,{"$f":"IFERROR(VLOOKUP(A2477,Base!$A$2:$D$460,2,0),\"\")","v":""},{"$f":"IFERROR(VLOOKUP(A2477,Base!$A$2:$D$460,3,0),\"\")","v":""},{"$f":"IFERROR(VLOOKUP(A2477,Base!$A$2:$D$460,4,0),\"\")","v":""},null,null,null,null,null,null,null,null,null,null,null,null,null,0]
[null,{"$f":"IFERROR(VLOOKUP(A2478,Base!$A$2:$D$460,2,0),\"\")","v":""},{"$f":"IFERROR(VLOOKUP(A2478,Base!$A$2:$D$460,3,0),\"\")","v":""},{"$f":"IFERROR(VLOOKUP(A2478,Base!$A$2:$D$460,4,0),\"\")","v":""},null,null,null,null,null,null,null,null,null,null,null,null,null,0]
[null,{"$f":"IFERROR(VLOOKUP(A2479,Base!$A$2:$D$460,2,0),\"\")","v":""},{"$f":"IFERROR(VLOOKUP(A2479,Base!$A$2:$D$460,3,0),\"\")","v":""},{"$f":"IFERROR(VLOOKUP(A2479,Base!$A$2:$D$460,4,0),\"\")","v":""},null,null,null,null,null,null,null,null,null,null,null,null,null,0]
[null,{"$f":"IFERROR(VLOOKUP(A2480,Base!$A$2:$D$460,2,0),\"\")","v":""},{"$f":"IFERROR(VLOOKUP(A2480,Base!$A$2:$D$460,3,0),\"\")","v":""},{"$f":"IFERROR(VLOOKUP(A2480,Base!$A$2:$D$460,4,0),\"\")","v":""},null,null,null,null,null,null,null,null,null,null,null,null,null,0]
[null,{"$f":"IFERROR(VLOOKUP(A2481,Base!$A$2:$D$460,2,0),\"\")","v":""},{"$f":"IFERROR(VLOOKUP(A2481,Base!$A$2:$D$460,3,0),\"\")","v":""},{"$f":"IFERROR(VLOOKUP(A2481,Base!$A$2:$D$460,4,0),\"\")","v":""},null,null,null,null,null,null,null,null,null,null,null,null,null,0]
[null,{"$f":"IFERROR(VLOOKUP(A2482,Base!$A$2:$D$460,2,0),\"\")","v":""},{"$f":"IFERROR(VLOOKUP(A2482,Base!$A$2:$D$460,3,0),\"\")","v":""},{"$f":"IFERROR(VLOOKUP(A2482,Base!$A$2:$D$460,4,0),\"\")","v":""},null,null,null,null,null,null,null,null,null,null,null,null,null,0]
[null,{"$f":"IFERROR(VLOOKUP(A2483,Base!$A$2:$D$460,2,0),\"\")","v":""},{"$f":"IFERROR(VLOOKUP(A2483,Base!$A$2:$D$460,3,0),\"\")","v":""},{"$f":"IFERROR(VLOOKUP(A2483,Base!$A$2:$D$460,4,0),\"\")","v":""},null,null,null,null,null,null,null,null,null,null,null,null,null,0]
[null,{"$f":"IFERROR(VLOOKUP(A2484,Base!$A$2:$D$460,2,0),\"\")","v":""},{"$f":"IFERROR(VLOOKUP(A2484,Base!$A$2:$D$460,3,0),\"\")","v":""},{"$f":"IFERROR(VLOOKUP(A2484,Base!$A$2:$D$460,4,0),\"\")","v":""},null,null,null,null,null,null,null,null,null,null,null,null,null,0]
[null,{"$f":"IFERROR(VLOOKUP(A2485,Base!$A$2:$D$460,2,0),\"\")","v":""},{"$f":"IFERROR(VLOOKUP(A2485,Base!$A$2:$D$460,3,0),\"\")","v":""},{"$f":"IFERROR(VLOOKUP(A2485,Base!$A$2:$D$460,4,0),\"\")","v":""},null,null,null,null,null,null,null,null,null,null,null,null,null,0]
[null,{"$f":"IFERROR(VLOOKUP(A2486,Base!$A$2:$D$460,2,0),\"\")","v":""},{"$f":"IFERROR(VLOOKUP(A2486,Base!$A$2:$D$460,3,0),\"\")","v":""},{"$f":"IFERROR(VLOOKUP(A2486,Base!$A$2:$D$460,4,0),\"\")","v":""},null,null,null,null,null,null,null,null,null,null,null,null,null,0]
[null,{"$f":"IFERROR(VLOOKUP(A2487,Base!$A$2:$D$460,2,0),\"\")","v":""},{"$f":"IFERROR(VLOOKUP(A2487,Base!$A$2:$D$460,3,0),\"\")","v":""},{"$f":"IFERROR(VLOOKUP(A2487,Base!$A$2:$D$460,4,0),\"\")","v":""},null,null,null,null,null,null,null,null,null,null,null,null,null,0]
[null,{"$f":"IFERROR(VLOOKUP(A2488,Base!$A$2:$D$460,2,0),\"\")","v":""},{"$f":"IFERROR(VLOOKUP(A2488,Base!$A$2:$D$460,3,0),\"\")","v":""},{"$f":"IFERROR(VLOOKUP(A2488,Base!$A$2:$D$460,4,0),\"\")","v":""},null,null,null,null,null,null,null,null,null,null,null,null,null,0]
[null,{"$f":"IFERROR(VLOOKUP(A2489,Base!$A$2:$D$460,2,0),\"\")","v":""},{"$f":"IFERROR(VLOOKUP(A2489,Base!$A$2:$D$460,3,0),\"\")","v":""},{"$f":"IFERROR(VLOOKUP(A2489,Base!$A$2:$D$460,4,0),\"\")","v":""},null,null,null,null,null,null,null,null,null,null,null,null,null,0]
[null,{"$f":"IFERROR(VLOOKUP(A2490,Base!$A$2:$D$460,2,0),\"\")","v":""},{"$f":"IFERROR(VLOOKUP(A2490,Base!$A$2:$D$460,3,0),\"\")","v":""},{"$f":"IFERROR(VLOOKUP(A2490,Base!$A$2:$D$460,4,0),\"\")","v":""},null,null,null,null,null,null,null,null,null,null,null,null,null,0]
[null,{"$f":"IFERROR(VLOOKUP(A2491,Base!$A$2:$D$460,2,0),\"\")","v":""},{"$f":"IFERROR(VLOOKUP(A2491,Base!$A$2:$D$460,3,0),\"\")","v":""},{"$f":"IFERROR(VLOOKUP(A2491,Base!$A$2:$D$460,4,0),\"\")","v":""},null,null,null,null,null,null,null,null,null,null,null,null,null,0]
[null,{"$f":"IFERROR(VLOOKUP(A2492,Base!$A$2:$D$460,2,0),\"\")","v":""},{"$f":"IFERROR(VLOOKUP(A2492,Base!$A$2:$D$460,3,0),\"\")","v":""},{"$f":"IFERROR(VLOOKUP(A2492,Base!$A$2:$D$460,4,0),\"\")","v":""},null,null,null,null,null,null,null,null,null,null,null,null,null,0]
[null,{"$f":"IFERROR(VLOOKUP(A2493,Base!$A$2:$D$460,2,0),\"\")","v":""},{"$f":"IFERROR(VLOOKUP(A2493,Base!$A$2:$D$460,3,0),\"\")","v":""},{"$f":"IFERROR(VLOOKUP(A2493,Base!$A$2:$D$460,4,0),\"\")","v":""},null,null,null,null,null,null,null,null,null,null,null,null,null,0]
[null,{"$f":"IFERROR(VLOOKUP(A2494,Base!$A$2:$D$460,2,0),\"\")","v":""},{"$f":"IFERROR(VLOOKUP(A2494,Base!$A$2:$D$460,3,0),\"\")","v":""},{"$f":"IFERROR(VLOOKUP(A2494,Base!$A$2:$D$460,4,0),\"\")","v":""},null,null,null,null,null,null,null,null,null,null,null,null,null,0]
[null,{"$f":"IFERROR(VLOOKUP(A2495,Base!$A$2:$D$460,2,0),\"\")","v":""},{"$f":"IFERROR(VLOOKUP(A2495,Base!$A$2:$D$460,3,0),\"\")","v":""},{"$f":"IFERROR(VLOOKUP(A2495,Base!$A$2:$D$460,4,0),\"\")","v":""},null,null,null,null,null,null,null,null,null,null,null,null,null,0]
[null,{"$f":"IFERROR(VLOOKUP(A2496,Base!$A$2:$D$460,2,0),\"\")","v":""},{"$f":"IFERROR(VLOOKUP(A2496,Base!$A$2:$D$460,3,0),\"\")","v":""},{"$f":"IFERROR(VLOOKUP(A2496,Base!$A$2:$D$460,4,0),\"\")","v":""},null,null,null,null,null,null,null,null,null,null,null,null,null,0]
[null,{"$f":"IFERROR(VLOOKUP(A2497,Base!$A$2:$D$460,2,0),\"\")","v":""},{"$f":"IFERROR(VLOOKUP(A2497,Base!$A$2:$D$460,3,0),\"\")","v":""},{"$f":"IFERROR(VLOOKUP(A2497,Base!$A$2:$D$460,4,0),\"\")","v":""},null,null,null,null,null,null,null,null,null,null,null,null,null,0]
[null,{"$f":"IFERROR(VLOOKUP(A2498,Base!$A$2:$D$460,2,0),\"\")","v":""},{"$f":"IFERROR(VLOOKUP(A2498,Base!$A$2:$D$460,3,0),\"\")","v":""},{"$f":"IFERROR(VLOOKUP(A2498,Base!$A$2:$D$460,4,0),\"\")","v":""},null,null,null,null,null,null,null,null,null,null,null,null,null,0]
[null,{"$f":"IFERROR(VLOOKUP(A2499,Base!$A$2:$D$460,2,0),\"\")","v":""},{"$f":"IFERROR(VLOOKUP(A2499,Base!$A$2:$D$460,3,0),\"\")","v":""},{"$f":"IFERROR(VLOOKUP(A2499,Base!$A$2:$D$460,4,0),\"\")","v":""},null,null,null,null,null,null,null,null,null,null,null,null,null,0]
[null,{"$f":"IFERROR(VLOOKUP(A2500,Base!$A$2:$D$460,2,0),\"\")","v":""},{"$f":"IFERROR(VLOOKUP(A2500,Base!$A$2:$D$460,3,0),\"\")","v":""},{"$f":"IFERROR(VLOOKUP(A2500,Base!$A$2:$D$460,4,0),\"\")","v":""},null,null,null,null,null,null,null,null,null,null,null,null,null,0]
[null,{"$f":"IFERROR(VLOOKUP(A2501,Base!$A$2:$D$460,2,0),\"\")","v":""},{"$f":"IFERROR(VLOOKUP(A2501,Base!$A$2:$D$460,3,0),\"\")","v":""},{"$f":"IFERROR(VLOOKUP(A2501,Base!$A$2:$D$460,4,0),\"\")","v":""},null,null,null,null,null,null,null,null,null,null,null,null,null,0]
[null,{"$f":"IFERROR(VLOOKUP(A2502,Base!$A$2:$D$460,2,0),\"\")","v":""},{"$f":"IFERROR(VLOOKUP(A2502,Base!$A$2:$D$460,3,0),\"\")","v":""},{"$f":"IFERROR(VLOOKUP(A2502,Base!$A$2:$D$460,4,0),\"\")","v":""},null,null,null,null,null,null,null,null,null,null,null,null,null,0]
[null,{"$f":"IFERROR(VLOOKUP(A2503,Base!$A$2:$D$460,2,0),\"\")","v":""},{"$f":"IFERROR(VLOOKUP(A2503,Base!$A$2:$D$460,3,0),\"\")","v":""},{"$f":"IFERROR(VLOOKUP(A2503,Base!$A$2:$D$460,4,0),\"\")","v":""},null,null,null,null,null,null,null,null,null,null,null,null,null,0]
[null,{"$f":"IFERROR(VLOOKUP(A2504,Base!$A$2:$D$460,2,0),\"\")","v":""},{"$f":"IFERROR(VLOOKUP(A2504,Base!$A$2:$D$460,3,0),\"\")","v":""},{"$f":"IFERROR(VLOOKUP(A2504,Base!$A$2:$D$460,4,0),\"\")","v":""},null,null,null,null,null,null,null,null,null,null,null,null,null,0]
[null,{"$f":"IFERROR(VLOOKUP(A2505,Base!$A$2:$D$460,2,0),\"\")","v":""},{"$f":"IFERROR(VLOOKUP(A2505,Base!$A$2:$D$460,3,0),\"\")","v":""},{"$f":"IFERROR(VLOOKUP(A2505,Base!$A$2:$D$460,4,0),\"\")","v":""},null,null,null,null,null,null,null,null,null,null,null,null,null,0]
[null,{"$f":"IFERROR(VLOOKUP(A2506,Base!$A$2:$D$460,2,0),\"\")","v":""},{"$f":"IFERROR(VLOOKUP(A2506,Base!$A$2:$D$460,3,0),\"\")","v":""},{"$f":"IFERROR(VLOOKUP(A2506,Base!$A$2:$D$460,4,0),\"\")","v":""},null,null,null,null,null,null,null,null,null,null,null,null,null,0]
[null,{"$f":"IFERROR(VLOOKUP(A2507,Base!$A$2:$D$460,2,0),\"\")","v":""},{"$f":"IFERROR(VLOOKUP(A2507,Base!$A$2:$D$460,3,0),\"\")","v":""},{"$f":"IFERROR(VLOOKUP(A2507,Base!$A$2:$D$460,4,0),\"\")","v":""},null,null,null,null,null,null,null,null,null,null,null,null,null,0]
[null,{"$f":"IFERROR(VLOOKUP(A2508,Base!$A$2:$D$460,2,0),\"\")","v":""},{"$f":"IFERROR(VLOOKUP(A2508,Base!$A$2:$D$460,3,0),\"\")","v":""},{"$f":"IFERROR(VLOOKUP(A2508,Base!$A$2:$D$460,4,0),\"\")","v":""},null,null,null,null,null,null,null,null,null,null,null,null,null,0]
[null,{"$f":"IFERROR(VLOOKUP(A2509,Base!$A$2:$D$460,2,0),\"\")","v":""},{"$f":"IFERROR(VLOOKUP(A2509,Base!$A$2:$D$460,3,0),\"\")","v":""},{"$f":"IFERROR(VLOOKUP(A2509,Base!$A$2:$D$460,4,0),\"\")","v":""},null,null,null,null,null,null,null,null,null,null,null,null,null,0]
[null,{"$f":"IFERROR(VLOOKUP(A2510,Base!$A$2:$D$460,2,0),\"\")","v":""},{"$f":"IFERROR(VLOOKUP(A2510,Base!$A$2:$D$460,3,0),\"\")","v":""},{"$f":"IFERROR(VLOOKUP(A2510,Base!$A$2:$D$460,4,0),\"\")","v":""},null,null,null,null,null,null,null,null,null,null,null,null,null,0]
[null,{"$f":"IFERROR(VLOOKUP(A2511,Base!$A$2:$D$460,2,0),\"\")","v":""},{"$f":"IFERROR(VLOOKUP(A2511,Base!$A$2:$D$460,3,0),\"\")","v":""},{"$f":"IFERROR(VLOOKUP(A2511,Base!$A$2:$D$460,4,0),\"\")","v":""},null,null,null,null,null,null,null,null,null,null,null,null,null,0]
[null,{"$f":"IFERROR(VLOOKUP(A2512,Base!$A$2:$D$460,2,0),\"\")","v":""},{"$f":"IFERROR(VLOOKUP(A2512,Base!$A$2:$D$460,3,0),\"\")","v":""},{"$f":"IFERROR(VLOOKUP(A2512,Base!$A$2:$D$460,4,0),\"\")","v":""},null,null,null,null,null,null,null,null,null,null,null,null,null,0]
[null,{"$f":"IFERROR(VLOOKUP(A2513,Base!$A$2:$D$460,2,0),\"\")","v":""},{"$f":"IFERROR(VLOOKUP(A2513,Base!$A$2:$D$460,3,0),\"\")","v":""},{"$f":"IFERROR(VLOOKUP(A2513,Base!$A$2:$D$460,4,0),\"\")","v":""},null,null,null,null,null,null,null,null,null,null,null,null,null,0]
[null,{"$f":"IFERROR(VLOOKUP(A2514,Base!$A$2:$D$460,2,0),\"\")","v":""},{"$f":"IFERROR(VLOOKUP(A2514,Base!$A$2:$D$460,3,0),\"\")","v":""},{"$f":"IFERROR(VLOOKUP(A2514,Base!$A$2:$D$460,4,0),\"\")","v":""},null,null,null,null,null,null,null,null,null,null,null,null,null,0]
[null,{"$f":"IFERROR(VLOOKUP(A2515,Base!$A$2:$D$460,2,0),\"\")","v":""},{"$f":"IFERROR(VLOOKUP(A2515,Base!$A$2:$D$460,3,0),\"\")","v":""},{"$f":"IFERROR(VLOOKUP(A2515,Base!$A$2:$D$460,4,0),\"\")","v":""},null,null,null,null,null,null,null,null,null,null,null,null,null,0]
[null,{"$f":"IFERROR(VLOOKUP(A2516,Base!$A$2:$D$460,2,0),\"\")","v":""},{"$f":"IFERROR(VLOOKUP(A2516,Base!$A$2:$D$460,3,0),\"\")","v":""},{"$f":"IFERROR(VLOOKUP(A2516,Base!$A$2:$D$460,4,0),\"\")","v":""},null,null,null,null,null,null,null,null,null,null,null,null,null,0]
[null,{"$f":"IFERROR(VLOOKUP(A2517,Base!$A$2:$D$460,2,0),\"\")","v":""},{"$f":"IFERROR(VLOOKUP(A2517,Base!$A$2:$D$460,3,0),\"\")","v":""},{"$f":"IFERROR(VLOOKUP(A2517,Base!$A$2:$D$460,4,0),\"\")","v":""},null,null,null,null,null,null,null,null,null,null,null,null,null,0]
[null,{"$f":"IFERROR(VLOOKUP(A2518,Base!$A$2:$D$460,2,0),\"\")","v":""},{"$f":"IFERROR(VLOOKUP(A2518,Base!$A$2:$D$460,3,0),\"\")","v":""},{"$f":"IFERROR(VLOOKUP(A2518,Base!$A$2:$D$460,4,0),\"\")","v":""},null,null,null,null,null,null,null,null,null,null,null,null,null,0]
[null,{"$f":"IFERROR(VLOOKUP(A2519,Base!$A$2:$D$460,2,0),\"\")","v":""},{"$f":"IFERROR(VLOOKUP(A2519,Base!$A$2:$D$460,3,0),\"\")","v":""},{"$f":"IFERROR(VLOOKUP(A2519,Base!$A$2:$D$460,4,0),\"\")","v":""},null,null,null,null,null,null,null,null,null,null,null,null,null,0]
[null,{"$f":"IFERROR(VLOOKUP(A2520,Base!$A$2:$D$460,2,0),\"\")","v":""},{"$f":"IFERROR(VLOOKUP(A2520,Base!$A$2:$D$460,3,0),\"\")","v":""},{"$f":"IFERROR(VLOOKUP(A2520,Base!$A$2:$D$460,4,0),\"\")","v":""},null,null,null,null,null,null,null,null,null,null,null,null,null,0]
[null,{"$f":"IFERROR(VLOOKUP(A2521,Base!$A$2:$D$460,2,0),\"\")","v":""},{"$f":"IFERROR(VLOOKUP(A2521,Base!$A$2:$D$460,3,0),\"\")","v":""},{"$f":"IFERROR(VLOOKUP(A2521,Base!$A$2:$D$460,4,0),\"\")","v":""},null,null,null,null,null,null,null,null,null,null,null,null,null,0]
[null,{"$f":"IFERROR(VLOOKUP(A2522,Base!$A$2:$D$460,2,0),\"\")","v":""},{"$f":"IFERROR(VLOOKUP(A2522,Base!$A$2:$D$460,3,0),\"\")","v":""},{"$f":"IFERROR(VLOOKUP(A2522,Base!$A$2:$D$460,4,0),\"\")","v":""},null,null,null,null,null,null,null,null,null,null,null,null,null,0]
[null,{"$f":"IFERROR(VLOOKUP(A2523,Base!$A$2:$D$460,2,0),\"\")","v":""},{"$f":"IFERROR(VLOOKUP(A2523,Base!$A$2:$D$460,3,0),\"\")","v":""},{"$f":"IFERROR(VLOOKUP(A2523,Base!$A$2:$D$460,4,0),\"\")","v":""},null,null,null,null,null,null,null,null,null,null,null,null,null,0]
[null,{"$f":"IFERROR(VLOOKUP(A2524,Base!$A$2:$D$460,2,0),\"\")","v":""},{"$f":"IFERROR(VLOOKUP(A2524,Base!$A$2:$D$460,3,0),\"\")","v":""},{"$f":"IFERROR(VLOOKUP(A2524,Base!$A$2:$D$460,4,0),\"\")","v":""},null,null,null,null,null,null,null,null,null,null,null,null,null,0]
[null,{"$f":"IFERROR(VLOOKUP(A2525,Base!$A$2:$D$460,2,0),\"\")","v":""},{"$f":"IFERROR(VLOOKUP(A2525,Base!$A$2:$D$460,3,0),\"\")","v":""},{"$f":"IFERROR(VLOOKUP(A2525,Base!$A$2:$D$460,4,0),\"\")","v":""},null,null,null,null,null,null,null,null,null,null,null,null,null,0]
[null,{"$f":"IFERROR(VLOOKUP(A2526,Base!$A$2:$D$460,2,0),\"\")","v":""},{"$f":"IFERROR(VLOOKUP(A2526,Base!$A$2:$D$460,3,0),\"\")","v":""},{"$f":"IFERROR(VLOOKUP(A2526,Base!$A$2:$D$460,4,0),\"\")","v":""},null,null,null,null,null,null,null,null,null,null,null,null,null,0]
[null,{"$f":"IFERROR(VLOOKUP(A2527,Base!$A$2:$D$460,2,0),\"\")","v":""},{"$f":"IFERROR(VLOOKUP(A2527,Base!$A$2:$D$460,3,0),\"\")","v":""},{"$f":"IFERROR(VLOOKUP(A2527,Base!$A$2:$D$460,4,0),\"\")","v":""},null,null,null,null,null,null,null,null,null,null,null,null,null,0]
[null,{"$f":"IFERROR(VLOOKUP(A2528,Base!$A$2:$D$460,2,0),\"\")","v":""},{"$f":"IFERROR(VLOOKUP(A2528,Base!$A$2:$D$460,3,0),\"\")","v":""},{"$f":"IFERROR(VLOOKUP(A2528,Base!$A$2:$D$460,4,0),\"\")","v":""},null,null,null,null,null,null,null,null,null,null,null,null,null,0]
[null,{"$f":"IFERROR(VLOOKUP(A2529,Base!$A$2:$D$460,2,0),\"\")","v":""},{"$f":"IFERROR(VLOOKUP(A2529,Base!$A$2:$D$460,3,0),\"\")","v":""},{"$f":"IFERROR(VLOOKUP(A2529,Base!$A$2:$D$460,4,0),\"\")","v":""},null,null,null,null,null,null,null,null,null,null,null,null,null,0]
[null,{"$f":"IFERROR(VLOOKUP(A2530,Base!$A$2:$D$460,2,0),\"\")","v":""},{"$f":"IFERROR(VLOOKUP(A2530,Base!$A$2:$D$460,3,0),\"\")","v":""},{"$f":"IFERROR(VLOOKUP(A2530,Base!$A$2:$D$460,4,0),\"\")","v":""},null,null,null,null,null,null,null,null,null,null,null,null,null,0]
[null,{"$f":"IFERROR(VLOOKUP(A2531,Base!$A$2:$D$460,2,0),\"\")","v":""},{"$f":"IFERROR(VLOOKUP(A2531,Base!$A$2:$D$460,3,0),\"\")","v":""},{"$f":"IFERROR(VLOOKUP(A2531,Base!$A$2:$D$460,4,0),\"\")","v":""},null,null,null,null,null,null,null,null,null,null,null,null,null,0]
[null,{"$f":"IFERROR(VLOOKUP(A2532,Base!$A$2:$D$460,2,0),\"\")","v":""},{"$f":"IFERROR(VLOOKUP(A2532,Base!$A$2:$D$460,3,0),\"\")","v":""},{"$f":"IFERROR(VLOOKUP(A2532,Base!$A$2:$D$460,4,0),\"\")","v":""},null,null,null,null,null,null,null,null,null,null,null,null,null,0]
[null,{"$f":"IFERROR(VLOOKUP(A2533,Base!$A$2:$D$460,2,0),\"\")","v":""},{"$f":"IFERROR(VLOOKUP(A2533,Base!$A$2:$D$460,3,0),\"\")","v":""},{"$f":"IFERROR(VLOOKUP(A2533,Base!$A$2:$D$460,4,0),\"\")","v":""},null,null,null,null,null,null,null,null,null,null,null,null,null,0]
[null,{"$f":"IFERROR(VLOOKUP(A2534,Base!$A$2:$D$460,2,0),\"\")","v":""},{"$f":"IFERROR(VLOOKUP(A2534,Base!$A$2:$D$460,3,0),\"\")","v":""},{"$f":"IFERROR(VLOOKUP(A2534,Base!$A$2:$D$460,4,0),\"\")","v":""},null,null,null,null,null,null,null,null,null,null,null,null,null,0]
[null,{"$f":"IFERROR(VLOOKUP(A2535,Base!$A$2:$D$460,2,0),\"\")","v":""},{"$f":"IFERROR(VLOOKUP(A2535,Base!$A$2:$D$460,3,0),\"\")","v":""},{"$f":"IFERROR(VLOOKUP(A2535,Base!$A$2:$D$460,4,0),\"\")","v":""},null,null,null,null,null,null,null,null,null,null,null,null,null,{"$f":"SUM(N2535:Q2535)/4","v":0}]
[null,{"$f":"IFERROR(VLOOKUP(A2536,Base!$A$2:$D$460,2,0),\"\")","v":""},{"$f":"IFERROR(VLOOKUP(A2536,Base!$A$2:$D$460,3,0),\"\")","v":""},{"$f":"IFERROR(VLOOKUP(A2536,Base!$A$2:$D$460,4,0),\"\")","v":""},null,null,null,null,null,null,null,null,null,null,null,null,null,0]
[null,{"$f":"IFERROR(VLOOKUP(A2537,Base!$A$2:$D$460,2,0),\"\")","v":""},{"$f":"IFERROR(VLOOKUP(A2537,Base!$A$2:$D$460,3,0),\"\")","v":""},{"$f":"IFERROR(VLOOKUP(A2537,Base!$A$2:$D$460,4,0),\"\")","v":""},null,null,null,null,null,null,null,null,null,null,null,null,null,0]
[null,{"$f":"IFERROR(VLOOKUP(A2538,Base!$A$2:$D$460,2,0),\"\")","v":""},{"$f":"IFERROR(VLOOKUP(A2538,Base!$A$2:$D$460,3,0),\"\")","v":""},{"$f":"IFERROR(VLOOKUP(A2538,Base!$A$2:$D$460,4,0),\"\")","v":""},null,null,null,null,null,null,null,null,null,null,null,null,null,0]
[null,{"$f":"IFERROR(VLOOKUP(A2539,Base!$A$2:$D$460,2,0),\"\")","v":""},{"$f":"IFERROR(VLOOKUP(A2539,Base!$A$2:$D$460,3,0),\"\")","v":""},{"$f":"IFERROR(VLOOKUP(A2539,Base!$A$2:$D$460,4,0),\"\")","v":""},null,null,null,null,null,null,null,null,null,null,null,null,null,0]
[null,{"$f":"IFERROR(VLOOKUP(A2540,Base!$A$2:$D$460,2,0),\"\")","v":""},{"$f":"IFERROR(VLOOKUP(A2540,Base!$A$2:$D$460,3,0),\"\")","v":""},{"$f":"IFERROR(VLOOKUP(A2540,Base!$A$2:$D$460,4,0),\"\")","v":""},null,null,null,null,null,null,null,null,null,null,null,null,null,0]
[null,{"$f":"IFERROR(VLOOKUP(A2541,Base!$A$2:$D$460,2,0),\"\")","v":""},{"$f":"IFERROR(VLOOKUP(A2541,Base!$A$2:$D$460,3,0),\"\")","v":""},{"$f":"IFERROR(VLOOKUP(A2541,Base!$A$2:$D$460,4,0),\"\")","v":""},null,null,null,null,null,null,null,null,null,null,null,null,null,0]
[null,{"$f":"IFERROR(VLOOKUP(A2542,Base!$A$2:$D$460,2,0),\"\")","v":""},{"$f":"IFERROR(VLOOKUP(A2542,Base!$A$2:$D$460,3,0),\"\")","v":""},{"$f":"IFERROR(VLOOKUP(A2542,Base!$A$2:$D$460,4,0),\"\")","v":""},null,null,null,null,null,null,null,null,null,null,null,null,null,0]
[null,{"$f":"IFERROR(VLOOKUP(A2543,Base!$A$2:$D$460,2,0),\"\")","v":""},{"$f":"IFERROR(VLOOKUP(A2543,Base!$A$2:$D$460,3,0),\"\")","v":""},{"$f":"IFERROR(VLOOKUP(A2543,Base!$A$2:$D$460,4,0),\"\")","v":""},null,null,null,null,null,null,null,null,null,null,null,null,null,0]
[null,{"$f":"IFERROR(VLOOKUP(A2544,Base!$A$2:$D$460,2,0),\"\")","v":""},{"$f":"IFERROR(VLOOKUP(A2544,Base!$A$2:$D$460,3,0),\"\")","v":""},{"$f":"IFERROR(VLOOKUP(A2544,Base!$A$2:$D$460,4,0),\"\")","v":""},null,null,null,null,null,null,null,null,null,null,null,null,null,0]
[null,{"$f":"IFERROR(VLOOKUP(A2545,Base!$A$2:$D$460,2,0),\"\")","v":""},{"$f":"IFERROR(VLOOKUP(A2545,Base!$A$2:$D$460,3,0),\"\")","v":""},{"$f":"IFERROR(VLOOKUP(A2545,Base!$A$2:$D$460,4,0),\"\")","v":""},null,null,null,null,null,null,null,null,null,null,null,null,null,0]
[null,{"$f":"IFERROR(VLOOKUP(A2546,Base!$A$2:$D$460,2,0),\"\")","v":""},{"$f":"IFERROR(VLOOKUP(A2546,Base!$A$2:$D$460,3,0),\"\")","v":""},{"$f":"IFERROR(VLOOKUP(A2546,Base!$A$2:$D$460,4,0),\"\")","v":""},null,null,null,null,null,null,null,null,null,null,null,null,null,0]
[null,{"$f":"IFERROR(VLOOKUP(A2547,Base!$A$2:$D$460,2,0),\"\")","v":""},{"$f":"IFERROR(VLOOKUP(A2547,Base!$A$2:$D$460,3,0),\"\")","v":""},{"$f":"IFERROR(VLOOKUP(A2547,Base!$A$2:$D$460,4,0),\"\")","v":""},null,null,null,null,null,null,null,null,null,null,null,null,null,0]
[null,{"$f":"IFERROR(VLOOKUP(A2548,Base!$A$2:$D$460,2,0),\"\")","v":""},{"$f":"IFERROR(VLOOKUP(A2548,Base!$A$2:$D$460,3,0),\"\")","v":""},{"$f":"IFERROR(VLOOKUP(A2548,Base!$A$2:$D$460,4,0),\"\")","v":""},null,null,null,null,null,null,null,null,null,null,null,null,null,0]
[null,{"$f":"IFERROR(VLOOKUP(A2549,Base!$A$2:$D$460,2,0),\"\")","v":""},{"$f":"IFERROR(VLOOKUP(A2549,Base!$A$2:$D$460,3,0),\"\")","v":""},{"$f":"IFERROR(VLOOKUP(A2549,Base!$A$2:$D$460,4,0),\"\")","v":""},null,null,null,null,null,null,null,null,null,null,null,null,null,0]
[null,{"$f":"IFERROR(VLOOKUP(A2550,Base!$A$2:$D$460,2,0),\"\")","v":""},{"$f":"IFERROR(VLOOKUP(A2550,Base!$A$2:$D$460,3,0),\"\")","v":""},{"$f":"IFERROR(VLOOKUP(A2550,Base!$A$2:$D$460,4,0),\"\")","v":""},null,null,null,null,null,null,null,null,null,null,null,null,null,0]
[null,{"$f":"IFERROR(VLOOKUP(A2551,Base!$A$2:$D$460,2,0),\"\")","v":""},{"$f":"IFERROR(VLOOKUP(A2551,Base!$A$2:$D$460,3,0),\"\")","v":""},{"$f":"IFERROR(VLOOKUP(A2551,Base!$A$2:$D$460,4,0),\"\")","v":""},null,null,null,null,null,null,null,null,null,null,null,null,null,0]
[null,{"$f":"IFERROR(VLOOKUP(A2552,Base!$A$2:$D$460,2,0),\"\")","v":""},{"$f":"IFERROR(VLOOKUP(A2552,Base!$A$2:$D$460,3,0),\"\")","v":""},{"$f":"IFERROR(VLOOKUP(A2552,Base!$A$2:$D$460,4,0),\"\")","v":""},null,null,null,null,null,null,null,null,null,null,null,null,null,0]
[null,{"$f":"IFERROR(VLOOKUP(A2553,Base!$A$2:$D$460,2,0),\"\")","v":""},{"$f":"IFERROR(VLOOKUP(A2553,Base!$A$2:$D$460,3,0),\"\")","v":""},{"$f":"IFERROR(VLOOKUP(A2553,Base!$A$2:$D$460,4,0),\"\")","v":""},null,null,null,null,null,null,null,null,null,null,null,null,null,0]
[null,{"$f":"IFERROR(VLOOKUP(A2554,Base!$A$2:$D$460,2,0),\"\")","v":""},{"$f":"IFERROR(VLOOKUP(A2554,Base!$A$2:$D$460,3,0),\"\")","v":""},{"$f":"IFERROR(VLOOKUP(A2554,Base!$A$2:$D$460,4,0),\"\")","v":""},null,null,null,null,null,null,null,null,null,null,null,null,null,0]
[null,{"$f":"IFERROR(VLOOKUP(A2555,Base!$A$2:$D$460,2,0),\"\")","v":""},{"$f":"IFERROR(VLOOKUP(A2555,Base!$A$2:$D$460,3,0),\"\")","v":""},{"$f":"IFERROR(VLOOKUP(A2555,Base!$A$2:$D$460,4,0),\"\")","v":""},null,null,null,null,null,null,null,null,null,null,null,null,null,0]
[null,{"$f":"IFERROR(VLOOKUP(A2556,Base!$A$2:$D$460,2,0),\"\")","v":""},{"$f":"IFERROR(VLOOKUP(A2556,Base!$A$2:$D$460,3,0),\"\")","v":""},{"$f":"IFERROR(VLOOKUP(A2556,Base!$A$2:$D$460,4,0),\"\")","v":""},null,null,null,null,null,null,null,null,null,null,null,null,null,0]
[null,{"$f":"IFERROR(VLOOKUP(A2557,Base!$A$2:$D$460,2,0),\"\")","v":""},{"$f":"IFERROR(VLOOKUP(A2557,Base!$A$2:$D$460,3,0),\"\")","v":""},{"$f":"IFERROR(VLOOKUP(A2557,Base!$A$2:$D$460,4,0),\"\")","v":""},null,null,null,null,null,null,null,null,null,null,null,null,null,0]
[null,{"$f":"IFERROR(VLOOKUP(A2558,Base!$A$2:$D$460,2,0),\"\")","v":""},{"$f":"IFERROR(VLOOKUP(A2558,Base!$A$2:$D$460,3,0),\"\")","v":""},{"$f":"IFERROR(VLOOKUP(A2558,Base!$A$2:$D$460,4,0),\"\")","v":""},null,null,null,null,null,null,null,null,null,null,null,null,null,0]
[null,{"$f":"IFERROR(VLOOKUP(A2559,Base!$A$2:$D$460,2,0),\"\")","v":""},{"$f":"IFERROR(VLOOKUP(A2559,Base!$A$2:$D$460,3,0),\"\")","v":""},{"$f":"IFERROR(VLOOKUP(A2559,Base!$A$2:$D$460,4,0),\"\")","v":""},null,null,null,null,null,null,null,null,null,null,null,null,null,0]
[null,{"$f":"IFERROR(VLOOKUP(A2560,Base!$A$2:$D$460,2,0),\"\")","v":""},{"$f":"IFERROR(VLOOKUP(A2560,Base!$A$2:$D$460,3,0),\"\")","v":""},{"$f":"IFERROR(VLOOKUP(A2560,Base!$A$2:$D$460,4,0),\"\")","v":""},null,null,null,null,null,null,null,null,null,null,null,null,null,0]
[null,{"$f":"IFERROR(VLOOKUP(A2561,Base!$A$2:$D$460,2,0),\"\")","v":""},{"$f":"IFERROR(VLOOKUP(A2561,Base!$A$2:$D$460,3,0),\"\")","v":""},{"$f":"IFERROR(VLOOKUP(A2561,Base!$A$2:$D$460,4,0),\"\")","v":""},null,null,null,null,null,null,null,null,null,null,null,null,null,0]
[null,{"$f":"IFERROR(VLOOKUP(A2562,Base!$A$2:$D$460,2,0),\"\")","v":""},{"$f":"IFERROR(VLOOKUP(A2562,Base!$A$2:$D$460,3,0),\"\")","v":""},{"$f":"IFERROR(VLOOKUP(A2562,Base!$A$2:$D$460,4,0),\"\")","v":""},null,null,null,null,null,null,null,null,null,null,null,null,null,0]
[null,{"$f":"IFERROR(VLOOKUP(A2563,Base!$A$2:$D$460,2,0),\"\")","v":""},{"$f":"IFERROR(VLOOKUP(A2563,Base!$A$2:$D$460,3,0),\"\")","v":""},{"$f":"IFERROR(VLOOKUP(A2563,Base!$A$2:$D$460,4,0),\"\")","v":""},null,null,null,null,null,null,null,null,null,null,null,null,null,0]
[null,{"$f":"IFERROR(VLOOKUP(A2564,Base!$A$2:$D$460,2,0),\"\")","v":""},{"$f":"IFERROR(VLOOKUP(A2564,Base!$A$2:$D$460,3,0),\"\")","v":""},{"$f":"IFERROR(VLOOKUP(A2564,Base!$A$2:$D$460,4,0),\"\")","v":""},null,null,null,null,null,null,null,null,null,null,null,null,null,0]
[null,{"$f":"IFERROR(VLOOKUP(A2565,Base!$A$2:$D$460,2,0),\"\")","v":""},{"$f":"IFERROR(VLOOKUP(A2565,Base!$A$2:$D$460,3,0),\"\")","v":""},{"$f":"IFERROR(VLOOKUP(A2565,Base!$A$2:$D$460,4,0),\"\")","v":""},null,null,null,null,null,null,null,null,null,null,null,null,null,0]
[null,{"$f":"IFERROR(VLOOKUP(A2566,Base!$A$2:$D$460,2,0),\"\")","v":""},{"$f":"IFERROR(VLOOKUP(A2566,Base!$A$2:$D$460,3,0),\"\")","v":""},{"$f":"IFERROR(VLOOKUP(A2566,Base!$A$2:$D$460,4,0),\"\")","v":""},null,null,null,null,null,null,null,null,null,null,null,null,null,0]
[null,{"$f":"IFERROR(VLOOKUP(A2567,Base!$A$2:$D$460,2,0),\"\")","v":""},{"$f":"IFERROR(VLOOKUP(A2567,Base!$A$2:$D$460,3,0),\"\")","v":""},{"$f":"IFERROR(VLOOKUP(A2567,Base!$A$2:$D$460,4,0),\"\")","v":""},null,null,null,null,null,null,null,null,null,null,null,null,null,0]
[null,{"$f":"IFERROR(VLOOKUP(A2568,Base!$A$2:$D$460,2,0),\"\")","v":""},{"$f":"IFERROR(VLOOKUP(A2568,Base!$A$2:$D$460,3,0),\"\")","v":""},{"$f":"IFERROR(VLOOKUP(A2568,Base!$A$2:$D$460,4,0),\"\")","v":""},null,null,null,null,null,null,null,null,null,null,null,null,null,0]
[null,{"$f":"IFERROR(VLOOKUP(A2569,Base!$A$2:$D$460,2,0),\"\")","v":""},{"$f":"IFERROR(VLOOKUP(A2569,Base!$A$2:$D$460,3,0),\"\")","v":""},{"$f":"IFERROR(VLOOKUP(A2569,Base!$A$2:$D$460,4,0),\"\")","v":""},null,null,null,null,null,null,null,null,null,null,null,null,null,0]
[null,{"$f":"IFERROR(VLOOKUP(A2570,Base!$A$2:$D$460,2,0),\"\")","v":""},{"$f":"IFERROR(VLOOKUP(A2570,Base!$A$2:$D$460,3,0),\"\")","v":""},{"$f":"IFERROR(VLOOKUP(A2570,Base!$A$2:$D$460,4,0),\"\")","v":""},null,null,null,null,null,null,null,null,null,null,null,null,null,0]
[null,{"$f":"IFERROR(VLOOKUP(A2571,Base!$A$2:$D$460,2,0),\"\")","v":""},{"$f":"IFERROR(VLOOKUP(A2571,Base!$A$2:$D$460,3,0),\"\")","v":""},{"$f":"IFERROR(VLOOKUP(A2571,Base!$A$2:$D$460,4,0),\"\")","v":""},null,null,null,null,null,null,null,null,null,null,null,null,null,0]
[null,{"$f":"IFERROR(VLOOKUP(A2572,Base!$A$2:$D$460,2,0),\"\")","v":""},{"$f":"IFERROR(VLOOKUP(A2572,Base!$A$2:$D$460,3,0),\"\")","v":""},{"$f":"IFERROR(VLOOKUP(A2572,Base!$A$2:$D$460,4,0),\"\")","v":""},null,null,null,null,null,null,null,null,null,null,null,null,null,0]
[null,{"$f":"IFERROR(VLOOKUP(A2573,Base!$A$2:$D$460,2,0),\"\")","v":""},{"$f":"IFERROR(VLOOKUP(A2573,Base!$A$2:$D$460,3,0),\"\")","v":""},{"$f":"IFERROR(VLOOKUP(A2573,Base!$A$2:$D$460,4,0),\"\")","v":""},null,null,null,null,null,null,null,null,null,null,null,null,null,0]
[null,{"$f":"IFERROR(VLOOKUP(A2574,Base!$A$2:$D$460,2,0),\"\")","v":""},{"$f":"IFERROR(VLOOKUP(A2574,Base!$A$2:$D$460,3,0),\"\")","v":""},{"$f":"IFERROR(VLOOKUP(A2574,Base!$A$2:$D$460,4,0),\"\")","v":""},null,null,null,null,null,null,null,null,null,null,null,null,null,0]
[null,{"$f":"IFERROR(VLOOKUP(A2575,Base!$A$2:$D$460,2,0),\"\")","v":""},{"$f":"IFERROR(VLOOKUP(A2575,Base!$A$2:$D$460,3,0),\"\")","v":""},{"$f":"IFERROR(VLOOKUP(A2575,Base!$A$2:$D$460,4,0),\"\")","v":""},null,null,null,null,null,null,null,null,null,null,null,null,null,0]
[null,{"$f":"IFERROR(VLOOKUP(A2576,Base!$A$2:$D$460,2,0),\"\")","v":""},{"$f":"IFERROR(VLOOKUP(A2576,Base!$A$2:$D$460,3,0),\"\")","v":""},{"$f":"IFERROR(VLOOKUP(A2576,Base!$A$2:$D$460,4,0),\"\")","v":""},null,null,null,null,null,null,null,null,null,null,null,null,null,0]
[null,{"$f":"IFERROR(VLOOKUP(A2577,Base!$A$2:$D$460,2,0),\"\")","v":""},{"$f":"IFERROR(VLOOKUP(A2577,Base!$A$2:$D$460,3,0),\"\")","v":""},{"$f":"IFERROR(VLOOKUP(A2577,Base!$A$2:$D$460,4,0),\"\")","v":""},null,null,null,null,null,null,null,null,null,null,null,null,null,0]
[null,{"$f":"IFERROR(VLOOKUP(A2578,Base!$A$2:$D$460,2,0),\"\")","v":""},{"$f":"IFERROR(VLOOKUP(A2578,Base!$A$2:$D$460,3,0),\"\")","v":""},{"$f":"IFERROR(VLOOKUP(A2578,Base!$A$2:$D$460,4,0),\"\")","v":""},null,null,null,null,null,null,null,null,null,null,null,null,null,0]
[null,{"$f":"IFERROR(VLOOKUP(A2579,Base!$A$2:$D$460,2,0),\"\")","v":""},{"$f":"IFERROR(VLOOKUP(A2579,Base!$A$2:$D$460,3,0),\"\")","v":""},{"$f":"IFERROR(VLOOKUP(A2579,Base!$A$2:$D$460,4,0),\"\")","v":""},null,null,null,null,null,null,null,null,null,null,null,null,null,0]
[null,{"$f":"IFERROR(VLOOKUP(A2580,Base!$A$2:$D$460,2,0),\"\")","v":""},{"$f":"IFERROR(VLOOKUP(A2580,Base!$A$2:$D$460,3,0),\"\")","v":""},{"$f":"IFERROR(VLOOKUP(A2580,Base!$A$2:$D$460,4,0),\"\")","v":""},null,null,null,null,null,null,null,null,null,null,null,null,null,0]
[null,{"$f":"IFERROR(VLOOKUP(A2581,Base!$A$2:$D$460,2,0),\"\")","v":""},{"$f":"IFERROR(VLOOKUP(A2581,Base!$A$2:$D$460,3,0),\"\")","v":""},{"$f":"IFERROR(VLOOKUP(A2581,Base!$A$2:$D$460,4,0),\"\")","v":""},null,null,null,null,null,null,null,null,null,null,null,null,null,0]
[null,{"$f":"IFERROR(VLOOKUP(A2582,Base!$A$2:$D$460,2,0),\"\")","v":""},{"$f":"IFERROR(VLOOKUP(A2582,Base!$A$2:$D$460,3,0),\"\")","v":""},{"$f":"IFERROR(VLOOKUP(A2582,Base!$A$2:$D$460,4,0),\"\")","v":""},null,null,null,null,null,null,null,null,null,null,null,null,null,0]
[null,{"$f":"IFERROR(VLOOKUP(A2583,Base!$A$2:$D$460,2,0),\"\")","v":""},{"$f":"IFERROR(VLOOKUP(A2583,Base!$A$2:$D$460,3,0),\"\")","v":""},{"$f":"IFERROR(VLOOKUP(A2583,Base!$A$2:$D$460,4,0),\"\")","v":""},null,null,null,null,null,null,null,null,null,null,null,null,null,0]
[null,{"$f":"IFERROR(VLOOKUP(A2584,Base!$A$2:$D$460,2,0),\"\")","v":""},{"$f":"IFERROR(VLOOKUP(A2584,Base!$A$2:$D$460,3,0),\"\")","v":""},{"$f":"IFERROR(VLOOKUP(A2584,Base!$A$2:$D$460,4,0),\"\")","v":""},null,null,null,null,null,null,null,null,null,null,null,null,null,0]
[null,{"$f":"IFERROR(VLOOKUP(A2585,Base!$A$2:$D$460,2,0),\"\")","v":""},{"$f":"IFERROR(VLOOKUP(A2585,Base!$A$2:$D$460,3,0),\"\")","v":""},{"$f":"IFERROR(VLOOKUP(A2585,Base!$A$2:$D$460,4,0),\"\")","v":""},null,null,null,null,null,null,null,null,null,null,null,null,null,0]
[null,{"$f":"IFERROR(VLOOKUP(A2586,Base!$A$2:$D$460,2,0),\"\")","v":""},{"$f":"IFERROR(VLOOKUP(A2586,Base!$A$2:$D$460,3,0),\"\")","v":""},{"$f":"IFERROR(VLOOKUP(A2586,Base!$A$2:$D$460,4,0),\"\")","v":""},null,null,null,null,null,null,null,null,null,null,null,null,null,0]
[null,{"$f":"IFERROR(VLOOKUP(A2587,Base!$A$2:$D$460,2,0),\"\")","v":""},{"$f":"IFERROR(VLOOKUP(A2587,Base!$A$2:$D$460,3,0),\"\")","v":""},{"$f":"IFERROR(VLOOKUP(A2587,Base!$A$2:$D$460,4,0),\"\")","v":""},null,null,null,null,null,null,null,null,null,null,null,null,null,0]
[null,{"$f":"IFERROR(VLOOKUP(A2588,Base!$A$2:$D$460,2,0),\"\")","v":""},{"$f":"IFERROR(VLOOKUP(A2588,Base!$A$2:$D$460,3,0),\"\")","v":""},{"$f":"IFERROR(VLOOKUP(A2588,Base!$A$2:$D$460,4,0),\"\")","v":""},null,null,null,null,null,null,null,null,null,null,null,null,null,0]
[null,{"$f":"IFERROR(VLOOKUP(A2589,Base!$A$2:$D$460,2,0),\"\")","v":""},{"$f":"IFERROR(VLOOKUP(A2589,Base!$A$2:$D$460,3,0),\"\")","v":""},{"$f":"IFERROR(VLOOKUP(A2589,Base!$A$2:$D$460,4,0),\"\")","v":""},null,null,null,null,null,null,null,null,null,null,null,null,null,0]
[null,{"$f":"IFERROR(VLOOKUP(A2590,Base!$A$2:$D$460,2,0),\"\")","v":""},{"$f":"IFERROR(VLOOKUP(A2590,Base!$A$2:$D$460,3,0),\"\")","v":""},{"$f":"IFERROR(VLOOKUP(A2590,Base!$A$2:$D$460,4,0),\"\")","v":""},null,null,null,null,null,null,null,null,null,null,null,null,null,0]
[null,{"$f":"IFERROR(VLOOKUP(A2591,Base!$A$2:$D$460,2,0),\"\")","v":""},{"$f":"IFERROR(VLOOKUP(A2591,Base!$A$2:$D$460,3,0),\"\")","v":""},{"$f":"IFERROR(VLOOKUP(A2591,Base!$A$2:$D$460,4,0),\"\")","v":""},null,null,null,null,null,null,null,null,null,null,null,null,null,0]
[null,{"$f":"IFERROR(VLOOKUP(A2592,Base!$A$2:$D$460,2,0),\"\")","v":""},{"$f":"IFERROR(VLOOKUP(A2592,Base!$A$2:$D$460,3,0),\"\")","v":""},{"$f":"IFERROR(VLOOKUP(A2592,Base!$A$2:$D$460,4,0),\"\")","v":""},null,null,null,null,null,null,null,null,null,null,null,null,null,0]
[null,{"$f":"IFERROR(VLOOKUP(A2593,Base!$A$2:$D$460,2,0),\"\")","v":""},{"$f":"IFERROR(VLOOKUP(A2593,Base!$A$2:$D$460,3,0),\"\")","v":""},{"$f":"IFERROR(VLOOKUP(A2593,Base!$A$2:$D$460,4,0),\"\")","v":""},null,null,null,null,null,null,null,null,null,null,null,null,null,0]
[null,{"$f":"IFERROR(VLOOKUP(A2594,Base!$A$2:$D$460,2,0),\"\")","v":""},{"$f":"IFERROR(VLOOKUP(A2594,Base!$A$2:$D$460,3,0),\"\")","v":""},{"$f":"IFERROR(VLOOKUP(A2594,Base!$A$2:$D$460,4,0),\"\")","v":""},null,null,null,null,null,null,null,null,null,null,null,null,null,0]
[null,{"$f":"IFERROR(VLOOKUP(A2595,Base!$A$2:$D$460,2,0),\"\")","v":""},{"$f":"IFERROR(VLOOKUP(A2595,Base!$A$2:$D$460,3,0),\"\")","v":""},{"$f":"IFERROR(VLOOKUP(A2595,Base!$A$2:$D$460,4,0),\"\")","v":""},null,null,null,null,null,null,null,null,null,null,null,null,null,0]
[null,{"$f":"IFERROR(VLOOKUP(A2596,Base!$A$2:$D$460,2,0),\"\")","v":""},{"$f":"IFERROR(VLOOKUP(A2596,Base!$A$2:$D$460,3,0),\"\")","v":""},{"$f":"IFERROR(VLOOKUP(A2596,Base!$A$2:$D$460,4,0),\"\")","v":""},null,null,null,null,null,null,null,null,null,null,null,null,null,0]
[null,{"$f":"IFERROR(VLOOKUP(A2597,Base!$A$2:$D$460,2,0),\"\")","v":""},{"$f":"IFERROR(VLOOKUP(A2597,Base!$A$2:$D$460,3,0),\"\")","v":""},{"$f":"IFERROR(VLOOKUP(A2597,Base!$A$2:$D$460,4,0),\"\")","v":""},null,null,null,null,null,null,null,null,null,null,null,null,null,0]
[null,{"$f":"IFERROR(VLOOKUP(A2598,Base!$A$2:$D$460,2,0),\"\")","v":""},{"$f":"IFERROR(VLOOKUP(A2598,Base!$A$2:$D$460,3,0),\"\")","v":""},{"$f":"IFERROR(VLOOKUP(A2598,Base!$A$2:$D$460,4,0),\"\")","v":""},null,null,null,null,null,null,null,null,null,null,null,null,null,0]
[null,{"$f":"IFERROR(VLOOKUP(A2599,Base!$A$2:$D$460,2,0),\"\")","v":""},{"$f":"IFERROR(VLOOKUP(A2599,Base!$A$2:$D$460,3,0),\"\")","v":""},{"$f":"IFERROR(VLOOKUP(A2599,Base!$A$2:$D$460,4,0),\"\")","v":""},null,null,null,null,null,null,null,null,null,null,null,null,null,{"$f":"SUM(N2599:Q2599)/4","v":0}]
[null,{"$f":"IFERROR(VLOOKUP(A2600,Base!$A$2:$D$460,2,0),\"\")","v":""},{"$f":"IFERROR(VLOOKUP(A2600,Base!$A$2:$D$460,3,0),\"\")","v":""},{"$f":"IFERROR(VLOOKUP(A2600,Base!$A$2:$D$460,4,0),\"\")","v":""},null,null,null,null,null,null,null,null,null,null,null,null,null,0]
[null,{"$f":"IFERROR(VLOOKUP(A2601,Base!$A$2:$D$460,2,0),\"\")","v":""},{"$f":"IFERROR(VLOOKUP(A2601,Base!$A$2:$D$460,3,0),\"\")","v":""},{"$f":"IFERROR(VLOOKUP(A2601,Base!$A$2:$D$460,4,0),\"\")","v":""},null,null,null,null,null,null,null,null,null,null,null,null,null,0]
[null,{"$f":"IFERROR(VLOOKUP(A2602,Base!$A$2:$D$460,2,0),\"\")","v":""},{"$f":"IFERROR(VLOOKUP(A2602,Base!$A$2:$D$460,3,0),\"\")","v":""},{"$f":"IFERROR(VLOOKUP(A2602,Base!$A$2:$D$460,4,0),\"\")","v":""},null,null,null,null,null,null,null,null,null,null,null,null,null,0]
[null,{"$f":"IFERROR(VLOOKUP(A2603,Base!$A$2:$D$460,2,0),\"\")","v":""},{"$f":"IFERROR(VLOOKUP(A2603,Base!$A$2:$D$460,3,0),\"\")","v":""},{"$f":"IFERROR(VLOOKUP(A2603,Base!$A$2:$D$460,4,0),\"\")","v":""},null,null,null,null,null,null,null,null,null,null,null,null,null,0]
[null,{"$f":"IFERROR(VLOOKUP(A2604,Base!$A$2:$D$460,2,0),\"\")","v":""},{"$f":"IFERROR(VLOOKUP(A2604,Base!$A$2:$D$460,3,0),\"\")","v":""},{"$f":"IFERROR(VLOOKUP(A2604,Base!$A$2:$D$460,4,0),\"\")","v":""},null,null,null,null,null,null,null,null,null,null,null,null,null,0]
[null,{"$f":"IFERROR(VLOOKUP(A2605,Base!$A$2:$D$460,2,0),\"\")","v":""},{"$f":"IFERROR(VLOOKUP(A2605,Base!$A$2:$D$460,3,0),\"\")","v":""},{"$f":"IFERROR(VLOOKUP(A2605,Base!$A$2:$D$460,4,0),\"\")","v":""},null,null,null,null,null,null,null,null,null,null,null,null,null,0]
[null,{"$f":"IFERROR(VLOOKUP(A2606,Base!$A$2:$D$460,2,0),\"\")","v":""},{"$f":"IFERROR(VLOOKUP(A2606,Base!$A$2:$D$460,3,0),\"\")","v":""},{"$f":"IFERROR(VLOOKUP(A2606,Base!$A$2:$D$460,4,0),\"\")","v":""},null,null,null,null,null,null,null,null,null,null,null,null,null,0]
[null,{"$f":"IFERROR(VLOOKUP(A2607,Base!$A$2:$D$460,2,0),\"\")","v":""},{"$f":"IFERROR(VLOOKUP(A2607,Base!$A$2:$D$460,3,0),\"\")","v":""},{"$f":"IFERROR(VLOOKUP(A2607,Base!$A$2:$D$460,4,0),\"\")","v":""},null,null,null,null,null,null,null,null,null,null,null,null,null,0]
[null,{"$f":"IFERROR(VLOOKUP(A2608,Base!$A$2:$D$460,2,0),\"\")","v":""},{"$f":"IFERROR(VLOOKUP(A2608,Base!$A$2:$D$460,3,0),\"\")","v":""},{"$f":"IFERROR(VLOOKUP(A2608,Base!$A$2:$D$460,4,0),\"\")","v":""},null,null,null,null,null,null,null,null,null,null,null,null,null,0]
[null,{"$f":"IFERROR(VLOOKUP(A2609,Base!$A$2:$D$460,2,0),\"\")","v":""},{"$f":"IFERROR(VLOOKUP(A2609,Base!$A$2:$D$460,3,0),\"\")","v":""},{"$f":"IFERROR(VLOOKUP(A2609,Base!$A$2:$D$460,4,0),\"\")","v":""},null,null,null,null,null,null,null,null,null,null,null,null,null,0]
[null,{"$f":"IFERROR(VLOOKUP(A2610,Base!$A$2:$D$460,2,0),\"\")","v":""},{"$f":"IFERROR(VLOOKUP(A2610,Base!$A$2:$D$460,3,0),\"\")","v":""},{"$f":"IFERROR(VLOOKUP(A2610,Base!$A$2:$D$460,4,0),\"\")","v":""},null,null,null,null,null,null,null,null,null,null,null,null,null,0]
[null,{"$f":"IFERROR(VLOOKUP(A2611,Base!$A$2:$D$460,2,0),\"\")","v":""},{"$f":"IFERROR(VLOOKUP(A2611,Base!$A$2:$D$460,3,0),\"\")","v":""},{"$f":"IFERROR(VLOOKUP(A2611,Base!$A$2:$D$460,4,0),\"\")","v":""},null,null,null,null,null,null,null,null,null,null,null,null,null,0]
[null,{"$f":"IFERROR(VLOOKUP(A2612,Base!$A$2:$D$460,2,0),\"\")","v":""},{"$f":"IFERROR(VLOOKUP(A2612,Base!$A$2:$D$460,3,0),\"\")","v":""},{"$f":"IFERROR(VLOOKUP(A2612,Base!$A$2:$D$460,4,0),\"\")","v":""},null,null,null,null,null,null,null,null,null,null,null,null,null,0]
[null,{"$f":"IFERROR(VLOOKUP(A2613,Base!$A$2:$D$460,2,0),\"\")","v":""},{"$f":"IFERROR(VLOOKUP(A2613,Base!$A$2:$D$460,3,0),\"\")","v":""},{"$f":"IFERROR(VLOOKUP(A2613,Base!$A$2:$D$460,4,0),\"\")","v":""},null,null,null,null,null,null,null,null,null,null,null,null,null,0]
[null,{"$f":"IFERROR(VLOOKUP(A2614,Base!$A$2:$D$460,2,0),\"\")","v":""},{"$f":"IFERROR(VLOOKUP(A2614,Base!$A$2:$D$460,3,0),\"\")","v":""},{"$f":"IFERROR(VLOOKUP(A2614,Base!$A$2:$D$460,4,0),\"\")","v":""},null,null,null,null,null,null,null,null,null,null,null,null,null,0]
[null,{"$f":"IFERROR(VLOOKUP(A2615,Base!$A$2:$D$460,2,0),\"\")","v":""},{"$f":"IFERROR(VLOOKUP(A2615,Base!$A$2:$D$460,3,0),\"\")","v":""},{"$f":"IFERROR(VLOOKUP(A2615,Base!$A$2:$D$460,4,0),\"\")","v":""},null,null,null,null,null,null,null,null,null,null,null,null,null,0]
[null,{"$f":"IFERROR(VLOOKUP(A2616,Base!$A$2:$D$460,2,0),\"\")","v":""},{"$f":"IFERROR(VLOOKUP(A2616,Base!$A$2:$D$460,3,0),\"\")","v":""},{"$f":"IFERROR(VLOOKUP(A2616,Base!$A$2:$D$460,4,0),\"\")","v":""},null,null,null,null,null,null,null,null,null,null,null,null,null,0]
[null,{"$f":"IFERROR(VLOOKUP(A2617,Base!$A$2:$D$460,2,0),\"\")","v":""},{"$f":"IFERROR(VLOOKUP(A2617,Base!$A$2:$D$460,3,0),\"\")","v":""},{"$f":"IFERROR(VLOOKUP(A2617,Base!$A$2:$D$460,4,0),\"\")","v":""},null,null,null,null,null,null,null,null,null,null,null,null,null,0]
[null,{"$f":"IFERROR(VLOOKUP(A2618,Base!$A$2:$D$460,2,0),\"\")","v":""},{"$f":"IFERROR(VLOOKUP(A2618,Base!$A$2:$D$460,3,0),\"\")","v":""},{"$f":"IFERROR(VLOOKUP(A2618,Base!$A$2:$D$460,4,0),\"\")","v":""},null,null,null,null,null,null,null,null,null,null,null,null,null,0]
[null,{"$f":"IFERROR(VLOOKUP(A2619,Base!$A$2:$D$460,2,0),\"\")","v":""},{"$f":"IFERROR(VLOOKUP(A2619,Base!$A$2:$D$460,3,0),\"\")","v":""},{"$f":"IFERROR(VLOOKUP(A2619,Base!$A$2:$D$460,4,0),\"\")","v":""},null,null,null,null,null,null,null,null,null,null,null,null,null,0]
[null,{"$f":"IFERROR(VLOOKUP(A2620,Base!$A$2:$D$460,2,0),\"\")","v":""},{"$f":"IFERROR(VLOOKUP(A2620,Base!$A$2:$D$460,3,0),\"\")","v":""},{"$f":"IFERROR(VLOOKUP(A2620,Base!$A$2:$D$460,4,0),\"\")","v":""},null,null,null,null,null,null,null,null,null,null,null,null,null,0]
[null,{"$f":"IFERROR(VLOOKUP(A2621,Base!$A$2:$D$460,2,0),\"\")","v":""},{"$f":"IFERROR(VLOOKUP(A2621,Base!$A$2:$D$460,3,0),\"\")","v":""},{"$f":"IFERROR(VLOOKUP(A2621,Base!$A$2:$D$460,4,0),\"\")","v":""},null,null,null,null,null,null,null,null,null,null,null,null,null,0]
[null,{"$f":"IFERROR(VLOOKUP(A2622,Base!$A$2:$D$460,2,0),\"\")","v":""},{"$f":"IFERROR(VLOOKUP(A2622,Base!$A$2:$D$460,3,0),\"\")","v":""},{"$f":"IFERROR(VLOOKUP(A2622,Base!$A$2:$D$460,4,0),\"\")","v":""},null,null,null,null,null,null,null,null,null,null,null,null,null,0]
[null,{"$f":"IFERROR(VLOOKUP(A2623,Base!$A$2:$D$460,2,0),\"\")","v":""},{"$f":"IFERROR(VLOOKUP(A2623,Base!$A$2:$D$460,3,0),\"\")","v":""},{"$f":"IFERROR(VLOOKUP(A2623,Base!$A$2:$D$460,4,0),\"\")","v":""},null,null,null,null,null,null,null,null,null,null,null,null,null,0]
[null,{"$f":"IFERROR(VLOOKUP(A2624,Base!$A$2:$D$460,2,0),\"\")","v":""},{"$f":"IFERROR(VLOOKUP(A2624,Base!$A$2:$D$460,3,0),\"\")","v":""},{"$f":"IFERROR(VLOOKUP(A2624,Base!$A$2:$D$460,4,0),\"\")","v":""},null,null,null,null,null,null,null,null,null,null,null,null,null,0]
[null,{"$f":"IFERROR(VLOOKUP(A2625,Base!$A$2:$D$460,2,0),\"\")","v":""},{"$f":"IFERROR(VLOOKUP(A2625,Base!$A$2:$D$460,3,0),\"\")","v":""},{"$f":"IFERROR(VLOOKUP(A2625,Base!$A$2:$D$460,4,0),\"\")","v":""},null,null,null,null,null,null,null,null,null,null,null,null,null,0]
[null,{"$f":"IFERROR(VLOOKUP(A2626,Base!$A$2:$D$460,2,0),\"\")","v":""},{"$f":"IFERROR(VLOOKUP(A2626,Base!$A$2:$D$460,3,0),\"\")","v":""},{"$f":"IFERROR(VLOOKUP(A2626,Base!$A$2:$D$460,4,0),\"\")","v":""},null,null,null,null,null,null,null,null,null,null,null,null,null,0]
[null,{"$f":"IFERROR(VLOOKUP(A2627,Base!$A$2:$D$460,2,0),\"\")","v":""},{"$f":"IFERROR(VLOOKUP(A2627,Base!$A$2:$D$460,3,0),\"\")","v":""},{"$f":"IFERROR(VLOOKUP(A2627,Base!$A$2:$D$460,4,0),\"\")","v":""},null,null,null,null,null,null,null,null,null,null,null,null,null,0]
[null,{"$f":"IFERROR(VLOOKUP(A2628,Base!$A$2:$D$460,2,0),\"\")","v":""},{"$f":"IFERROR(VLOOKUP(A2628,Base!$A$2:$D$460,3,0),\"\")","v":""},{"$f":"IFERROR(VLOOKUP(A2628,Base!$A$2:$D$460,4,0),\"\")","v":""},null,null,null,null,null,null,null,null,null,null,null,null,null,0]
[null,{"$f":"IFERROR(VLOOKUP(A2629,Base!$A$2:$D$460,2,0),\"\")","v":""},{"$f":"IFERROR(VLOOKUP(A2629,Base!$A$2:$D$460,3,0),\"\")","v":""},{"$f":"IFERROR(VLOOKUP(A2629,Base!$A$2:$D$460,4,0),\"\")","v":""},null,null,null,null,null,null,null,null,null,null,null,null,null,0]
[null,{"$f":"IFERROR(VLOOKUP(A2630,Base!$A$2:$D$460,2,0),\"\")","v":""},{"$f":"IFERROR(VLOOKUP(A2630,Base!$A$2:$D$460,3,0),\"\")","v":""},{"$f":"IFERROR(VLOOKUP(A2630,Base!$A$2:$D$460,4,0),\"\")","v":""},null,null,null,null,null,null,null,null,null,null,null,null,null,0]
[null,{"$f":"IFERROR(VLOOKUP(A2631,Base!$A$2:$D$460,2,0),\"\")","v":""},{"$f":"IFERROR(VLOOKUP(A2631,Base!$A$2:$D$460,3,0),\"\")","v":""},{"$f":"IFERROR(VLOOKUP(A2631,Base!$A$2:$D$460,4,0),\"\")","v":""},null,null,null,null,null,null,null,null,null,null,null,null,null,0]
[null,{"$f":"IFERROR(VLOOKUP(A2632,Base!$A$2:$D$460,2,0),\"\")","v":""},{"$f":"IFERROR(VLOOKUP(A2632,Base!$A$2:$D$460,3,0),\"\")","v":""},{"$f":"IFERROR(VLOOKUP(A2632,Base!$A$2:$D$460,4,0),\"\")","v":""},null,null,null,null,null,null,null,null,null,null,null,null,null,0]
[null,{"$f":"IFERROR(VLOOKUP(A2633,Base!$A$2:$D$460,2,0),\"\")","v":""},{"$f":"IFERROR(VLOOKUP(A2633,Base!$A$2:$D$460,3,0),\"\")","v":""},{"$f":"IFERROR(VLOOKUP(A2633,Base!$A$2:$D$460,4,0),\"\")","v":""},null,null,null,null,null,null,null,null,null,null,null,null,null,0]
[null,{"$f":"IFERROR(VLOOKUP(A2634,Base!$A$2:$D$460,2,0),\"\")","v":""},{"$f":"IFERROR(VLOOKUP(A2634,Base!$A$2:$D$460,3,0),\"\")","v":""},{"$f":"IFERROR(VLOOKUP(A2634,Base!$A$2:$D$460,4,0),\"\")","v":""},null,null,null,null,null,null,null,null,null,null,null,null,null,0]
[null,{"$f":"IFERROR(VLOOKUP(A2635,Base!$A$2:$D$460,2,0),\"\")","v":""},{"$f":"IFERROR(VLOOKUP(A2635,Base!$A$2:$D$460,3,0),\"\")","v":""},{"$f":"IFERROR(VLOOKUP(A2635,Base!$A$2:$D$460,4,0),\"\")","v":""},null,null,null,null,null,null,null,null,null,null,null,null,null,0]
[null,{"$f":"IFERROR(VLOOKUP(A2636,Base!$A$2:$D$460,2,0),\"\")","v":""},{"$f":"IFERROR(VLOOKUP(A2636,Base!$A$2:$D$460,3,0),\"\")","v":""},{"$f":"IFERROR(VLOOKUP(A2636,Base!$A$2:$D$460,4,0),\"\")","v":""},null,null,null,null,null,null,null,null,null,null,null,null,null,0]
[null,{"$f":"IFERROR(VLOOKUP(A2637,Base!$A$2:$D$460,2,0),\"\")","v":""},{"$f":"IFERROR(VLOOKUP(A2637,Base!$A$2:$D$460,3,0),\"\")","v":""},{"$f":"IFERROR(VLOOKUP(A2637,Base!$A$2:$D$460,4,0),\"\")","v":""},null,null,null,null,null,null,null,null,null,null,null,null,null,0]
[null,{"$f":"IFERROR(VLOOKUP(A2638,Base!$A$2:$D$460,2,0),\"\")","v":""},{"$f":"IFERROR(VLOOKUP(A2638,Base!$A$2:$D$460,3,0),\"\")","v":""},{"$f":"IFERROR(VLOOKUP(A2638,Base!$A$2:$D$460,4,0),\"\")","v":""},null,null,null,null,null,null,null,null,null,null,null,null,null,0]
[null,{"$f":"IFERROR(VLOOKUP(A2639,Base!$A$2:$D$460,2,0),\"\")","v":""},{"$f":"IFERROR(VLOOKUP(A2639,Base!$A$2:$D$460,3,0),\"\")","v":""},{"$f":"IFERROR(VLOOKUP(A2639,Base!$A$2:$D$460,4,0),\"\")","v":""},null,null,null,null,null,null,null,null,null,null,null,null,null,0]
[null,{"$f":"IFERROR(VLOOKUP(A2640,Base!$A$2:$D$460,2,0),\"\")","v":""},{"$f":"IFERROR(VLOOKUP(A2640,Base!$A$2:$D$460,3,0),\"\")","v":""},{"$f":"IFERROR(VLOOKUP(A2640,Base!$A$2:$D$460,4,0),\"\")","v":""},null,null,null,null,null,null,null,null,null,null,null,null,null,0]
[null,{"$f":"IFERROR(VLOOKUP(A2641,Base!$A$2:$D$460,2,0),\"\")","v":""},{"$f":"IFERROR(VLOOKUP(A2641,Base!$A$2:$D$460,3,0),\"\")","v":""},{"$f":"IFERROR(VLOOKUP(A2641,Base!$A$2:$D$460,4,0),\"\")","v":""},null,null,null,null,null,null,null,null,null,null,null,null,null,0]
[null,{"$f":"IFERROR(VLOOKUP(A2642,Base!$A$2:$D$460,2,0),\"\")","v":""},{"$f":"IFERROR(VLOOKUP(A2642,Base!$A$2:$D$460,3,0),\"\")","v":""},{"$f":"IFERROR(VLOOKUP(A2642,Base!$A$2:$D$460,4,0),\"\")","v":""},null,null,null,null,null,null,null,null,null,null,null,null,null,0]
[null,{"$f":"IFERROR(VLOOKUP(A2643,Base!$A$2:$D$460,2,0),\"\")","v":""},{"$f":"IFERROR(VLOOKUP(A2643,Base!$A$2:$D$460,3,0),\"\")","v":""},{"$f":"IFERROR(VLOOKUP(A2643,Base!$A$2:$D$460,4,0),\"\")","v":""},null,null,null,null,null,null,null,null,null,null,null,null,null,0]
[null,{"$f":"IFERROR(VLOOKUP(A2644,Base!$A$2:$D$460,2,0),\"\")","v":""},{"$f":"IFERROR(VLOOKUP(A2644,Base!$A$2:$D$460,3,0),\"\")","v":""},{"$f":"IFERROR(VLOOKUP(A2644,Base!$A$2:$D$460,4,0),\"\")","v":""},null,null,null,null,null,null,null,null,null,null,null,null,null,0]
[null,{"$f":"IFERROR(VLOOKUP(A2645,Base!$A$2:$D$460,2,0),\"\")","v":""},{"$f":"IFERROR(VLOOKUP(A2645,Base!$A$2:$D$460,3,0),\"\")","v":""},{"$f":"IFERROR(VLOOKUP(A2645,Base!$A$2:$D$460,4,0),\"\")","v":""},null,null,null,null,null,null,null,null,null,null,null,null,null,0]
[null,{"$f":"IFERROR(VLOOKUP(A2646,Base!$A$2:$D$460,2,0),\"\")","v":""},{"$f":"IFERROR(VLOOKUP(A2646,Base!$A$2:$D$460,3,0),\"\")","v":""},{"$f":"IFERROR(VLOOKUP(A2646,Base!$A$2:$D$460,4,0),\"\")","v":""},null,null,null,null,null,null,null,null,null,null,null,null,null,0]
[null,{"$f":"IFERROR(VLOOKUP(A2647,Base!$A$2:$D$460,2,0),\"\")","v":""},{"$f":"IFERROR(VLOOKUP(A2647,Base!$A$2:$D$460,3,0),\"\")","v":""},{"$f":"IFERROR(VLOOKUP(A2647,Base!$A$2:$D$460,4,0),\"\")","v":""},null,null,null,null,null,null,null,null,null,null,null,null,null,0]
[null,{"$f":"IFERROR(VLOOKUP(A2648,Base!$A$2:$D$460,2,0),\"\")","v":""},{"$f":"IFERROR(VLOOKUP(A2648,Base!$A$2:$D$460,3,0),\"\")","v":""},{"$f":"IFERROR(VLOOKUP(A2648,Base!$A$2:$D$460,4,0),\"\")","v":""},null,null,null,null,null,null,null,null,null,null,null,null,null,0]
[null,{"$f":"IFERROR(VLOOKUP(A2649,Base!$A$2:$D$460,2,0),\"\")","v":""},{"$f":"IFERROR(VLOOKUP(A2649,Base!$A$2:$D$460,3,0),\"\")","v":""},{"$f":"IFERROR(VLOOKUP(A2649,Base!$A$2:$D$460,4,0),\"\")","v":""},null,null,null,null,null,null,null,null,null,null,null,null,null,0]
[null,{"$f":"IFERROR(VLOOKUP(A2650,Base!$A$2:$D$460,2,0),\"\")","v":""},{"$f":"IFERROR(VLOOKUP(A2650,Base!$A$2:$D$460,3,0),\"\")","v":""},{"$f":"IFERROR(VLOOKUP(A2650,Base!$A$2:$D$460,4,0),\"\")","v":""},null,null,null,null,null,null,null,null,null,null,null,null,null,0]
[null,{"$f":"IFERROR(VLOOKUP(A2651,Base!$A$2:$D$460,2,0),\"\")","v":""},{"$f":"IFERROR(VLOOKUP(A2651,Base!$A$2:$D$460,3,0),\"\")","v":""},{"$f":"IFERROR(VLOOKUP(A2651,Base!$A$2:$D$460,4,0),\"\")","v":""},null,null,null,null,null,null,null,null,null,null,null,null,null,0]
[null,{"$f":"IFERROR(VLOOKUP(A2652,Base!$A$2:$D$460,2,0),\"\")","v":""},{"$f":"IFERROR(VLOOKUP(A2652,Base!$A$2:$D$460,3,0),\"\")","v":""},{"$f":"IFERROR(VLOOKUP(A2652,Base!$A$2:$D$460,4,0),\"\")","v":""},null,null,null,null,null,null,null,null,null,null,null,null,null,0]
[null,{"$f":"IFERROR(VLOOKUP(A2653,Base!$A$2:$D$460,2,0),\"\")","v":""},{"$f":"IFERROR(VLOOKUP(A2653,Base!$A$2:$D$460,3,0),\"\")","v":""},{"$f":"IFERROR(VLOOKUP(A2653,Base!$A$2:$D$460,4,0),\"\")","v":""},null,null,null,null,null,null,null,null,null,null,null,null,null,0]
[null,{"$f":"IFERROR(VLOOKUP(A2654,Base!$A$2:$D$460,2,0),\"\")","v":""},{"$f":"IFERROR(VLOOKUP(A2654,Base!$A$2:$D$460,3,0),\"\")","v":""},{"$f":"IFERROR(VLOOKUP(A2654,Base!$A$2:$D$460,4,0),\"\")","v":""},null,null,null,null,null,null,null,null,null,null,null,null,null,0]
[null,{"$f":"IFERROR(VLOOKUP(A2655,Base!$A$2:$D$460,2,0),\"\")","v":""},{"$f":"IFERROR(VLOOKUP(A2655,Base!$A$2:$D$460,3,0),\"\")","v":""},{"$f":"IFERROR(VLOOKUP(A2655,Base!$A$2:$D$460,4,0),\"\")","v":""},null,null,null,null,null,null,null,null,null,null,null,null,null,0]
[null,{"$f":"IFERROR(VLOOKUP(A2656,Base!$A$2:$D$460,2,0),\"\")","v":""},{"$f":"IFERROR(VLOOKUP(A2656,Base!$A$2:$D$460,3,0),\"\")","v":""},{"$f":"IFERROR(VLOOKUP(A2656,Base!$A$2:$D$460,4,0),\"\")","v":""},null,null,null,null,null,null,null,null,null,null,null,null,null,0]
[null,{"$f":"IFERROR(VLOOKUP(A2657,Base!$A$2:$D$460,2,0),\"\")","v":""},{"$f":"IFERROR(VLOOKUP(A2657,Base!$A$2:$D$460,3,0),\"\")","v":""},{"$f":"IFERROR(VLOOKUP(A2657,Base!$A$2:$D$460,4,0),\"\")","v":""},null,null,null,null,null,null,null,null,null,null,null,null,null,0]
[null,{"$f":"IFERROR(VLOOKUP(A2658,Base!$A$2:$D$460,2,0),\"\")","v":""},{"$f":"IFERROR(VLOOKUP(A2658,Base!$A$2:$D$460,3,0),\"\")","v":""},{"$f":"IFERROR(VLOOKUP(A2658,Base!$A$2:$D$460,4,0),\"\")","v":""},null,null,null,null,null,null,null,null,null,null,null,null,null,0]
[null,{"$f":"IFERROR(VLOOKUP(A2659,Base!$A$2:$D$460,2,0),\"\")","v":""},{"$f":"IFERROR(VLOOKUP(A2659,Base!$A$2:$D$460,3,0),\"\")","v":""},{"$f":"IFERROR(VLOOKUP(A2659,Base!$A$2:$D$460,4,0),\"\")","v":""},null,null,null,null,null,null,null,null,null,null,null,null,null,0]
[null,{"$f":"IFERROR(VLOOKUP(A2660,Base!$A$2:$D$460,2,0),\"\")","v":""},{"$f":"IFERROR(VLOOKUP(A2660,Base!$A$2:$D$460,3,0),\"\")","v":""},{"$f":"IFERROR(VLOOKUP(A2660,Base!$A$2:$D$460,4,0),\"\")","v":""},null,null,null,null,null,null,null,null,null,null,null,null,null,0]
[null,{"$f":"IFERROR(VLOOKUP(A2661,Base!$A$2:$D$460,2,0),\"\")","v":""},{"$f":"IFERROR(VLOOKUP(A2661,Base!$A$2:$D$460,3,0),\"\")","v":""},{"$f":"IFERROR(VLOOKUP(A2661,Base!$A$2:$D$460,4,0),\"\")","v":""},null,null,null,null,null,null,null,null,null,null,null,null,null,0]
[null,{"$f":"IFERROR(VLOOKUP(A2662,Base!$A$2:$D$460,2,0),\"\")","v":""},{"$f":"IFERROR(VLOOKUP(A2662,Base!$A$2:$D$460,3,0),\"\")","v":""},{"$f":"IFERROR(VLOOKUP(A2662,Base!$A$2:$D$460,4,0),\"\")","v":""},null,null,null,null,null,null,null,null,null,null,null,null,null,0]
[null,{"$f":"IFERROR(VLOOKUP(A2663,Base!$A$2:$D$460,2,0),\"\")","v":""},{"$f":"IFERROR(VLOOKUP(A2663,Base!$A$2:$D$460,3,0),\"\")","v":""},{"$f":"IFERROR(VLOOKUP(A2663,Base!$A$2:$D$460,4,0),\"\")","v":""},null,null,null,null,null,null,null,null,null,null,null,null,null,{"$f":"SUM(N2663:Q2663)/4","v":0}]
[null,{"$f":"IFERROR(VLOOKUP(A2664,Base!$A$2:$D$460,2,0),\"\")","v":""},{"$f":"IFERROR(VLOOKUP(A2664,Base!$A$2:$D$460,3,0),\"\")","v":""},{"$f":"IFERROR(VLOOKUP(A2664,Base!$A$2:$D$460,4,0),\"\")","v":""},null,null,null,null,null,null,null,null,null,null,null,null,null,0]
[null,{"$f":"IFERROR(VLOOKUP(A2665,Base!$A$2:$D$460,2,0),\"\")","v":""},{"$f":"IFERROR(VLOOKUP(A2665,Base!$A$2:$D$460,3,0),\"\")","v":""},{"$f":"IFERROR(VLOOKUP(A2665,Base!$A$2:$D$460,4,0),\"\")","v":""},null,null,null,null,null,null,null,null,null,null,null,null,null,0]
[null,{"$f":"IFERROR(VLOOKUP(A2666,Base!$A$2:$D$460,2,0),\"\")","v":""},{"$f":"IFERROR(VLOOKUP(A2666,Base!$A$2:$D$460,3,0),\"\")","v":""},{"$f":"IFERROR(VLOOKUP(A2666,Base!$A$2:$D$460,4,0),\"\")","v":""},null,null,null,null,null,null,null,null,null,null,null,null,null,0]
[null,{"$f":"IFERROR(VLOOKUP(A2667,Base!$A$2:$D$460,2,0),\"\")","v":""},{"$f":"IFERROR(VLOOKUP(A2667,Base!$A$2:$D$460,3,0),\"\")","v":""},{"$f":"IFERROR(VLOOKUP(A2667,Base!$A$2:$D$460,4,0),\"\")","v":""},null,null,null,null,null,null,null,null,null,null,null,null,null,0]
[null,{"$f":"IFERROR(VLOOKUP(A2668,Base!$A$2:$D$460,2,0),\"\")","v":""},{"$f":"IFERROR(VLOOKUP(A2668,Base!$A$2:$D$460,3,0),\"\")","v":""},{"$f":"IFERROR(VLOOKUP(A2668,Base!$A$2:$D$460,4,0),\"\")","v":""},null,null,null,null,null,null,null,null,null,null,null,null,null,0]
[null,{"$f":"IFERROR(VLOOKUP(A2669,Base!$A$2:$D$460,2,0),\"\")","v":""},{"$f":"IFERROR(VLOOKUP(A2669,Base!$A$2:$D$460,3,0),\"\")","v":""},{"$f":"IFERROR(VLOOKUP(A2669,Base!$A$2:$D$460,4,0),\"\")","v":""},null,null,null,null,null,null,null,null,null,null,null,null,null,0]
[null,{"$f":"IFERROR(VLOOKUP(A2670,Base!$A$2:$D$460,2,0),\"\")","v":""},{"$f":"IFERROR(VLOOKUP(A2670,Base!$A$2:$D$460,3,0),\"\")","v":""},{"$f":"IFERROR(VLOOKUP(A2670,Base!$A$2:$D$460,4,0),\"\")","v":""},null,null,null,null,null,null,null,null,null,null,null,null,null,0]
[null,{"$f":"IFERROR(VLOOKUP(A2671,Base!$A$2:$D$460,2,0),\"\")","v":""},{"$f":"IFERROR(VLOOKUP(A2671,Base!$A$2:$D$460,3,0),\"\")","v":""},{"$f":"IFERROR(VLOOKUP(A2671,Base!$A$2:$D$460,4,0),\"\")","v":""},null,null,null,null,null,null,null,null,null,null,null,null,null,0]
[null,{"$f":"IFERROR(VLOOKUP(A2672,Base!$A$2:$D$460,2,0),\"\")","v":""},{"$f":"IFERROR(VLOOKUP(A2672,Base!$A$2:$D$460,3,0),\"\")","v":""},{"$f":"IFERROR(VLOOKUP(A2672,Base!$A$2:$D$460,4,0),\"\")","v":""},null,null,null,null,null,null,null,null,null,null,null,null,null,0]
[null,{"$f":"IFERROR(VLOOKUP(A2673,Base!$A$2:$D$460,2,0),\"\")","v":""},{"$f":"IFERROR(VLOOKUP(A2673,Base!$A$2:$D$460,3,0),\"\")","v":""},{"$f":"IFERROR(VLOOKUP(A2673,Base!$A$2:$D$460,4,0),\"\")","v":""},null,null,null,null,null,null,null,null,null,null,null,null,null,0]
[null,{"$f":"IFERROR(VLOOKUP(A2674,Base!$A$2:$D$460,2,0),\"\")","v":""},{"$f":"IFERROR(VLOOKUP(A2674,Base!$A$2:$D$460,3,0),\"\")","v":""},{"$f":"IFERROR(VLOOKUP(A2674,Base!$A$2:$D$460,4,0),\"\")","v":""},null,null,null,null,null,null,null,null,null,null,null,null,null,0]
[null,{"$f":"IFERROR(VLOOKUP(A2675,Base!$A$2:$D$460,2,0),\"\")","v":""},{"$f":"IFERROR(VLOOKUP(A2675,Base!$A$2:$D$460,3,0),\"\")","v":""},{"$f":"IFERROR(VLOOKUP(A2675,Base!$A$2:$D$460,4,0),\"\")","v":""},null,null,null,null,null,null,null,null,null,null,null,null,null,0]
[null,{"$f":"IFERROR(VLOOKUP(A2676,Base!$A$2:$D$460,2,0),\"\")","v":""},{"$f":"IFERROR(VLOOKUP(A2676,Base!$A$2:$D$460,3,0),\"\")","v":""},{"$f":"IFERROR(VLOOKUP(A2676,Base!$A$2:$D$460,4,0),\"\")","v":""},null,null,null,null,null,null,null,null,null,null,null,null,null,0]
[null,{"$f":"IFERROR(VLOOKUP(A2677,Base!$A$2:$D$460,2,0),\"\")","v":""},{"$f":"IFERROR(VLOOKUP(A2677,Base!$A$2:$D$460,3,0),\"\")","v":""},{"$f":"IFERROR(VLOOKUP(A2677,Base!$A$2:$D$460,4,0),\"\")","v":""},null,null,null,null,null,null,null,null,null,null,null,null,null,0]
[null,{"$f":"IFERROR(VLOOKUP(A2678,Base!$A$2:$D$460,2,0),\"\")","v":""},{"$f":"IFERROR(VLOOKUP(A2678,Base!$A$2:$D$460,3,0),\"\")","v":""},{"$f":"IFERROR(VLOOKUP(A2678,Base!$A$2:$D$460,4,0),\"\")","v":""},null,null,null,null,null,null,null,null,null,null,null,null,null,0]
[null,{"$f":"IFERROR(VLOOKUP(A2679,Base!$A$2:$D$460,2,0),\"\")","v":""},{"$f":"IFERROR(VLOOKUP(A2679,Base!$A$2:$D$460,3,0),\"\")","v":""},{"$f":"IFERROR(VLOOKUP(A2679,Base!$A$2:$D$460,4,0),\"\")","v":""},null,null,null,null,null,null,null,null,null,null,null,null,null,0]
[null,{"$f":"IFERROR(VLOOKUP(A2680,Base!$A$2:$D$460,2,0),\"\")","v":""},{"$f":"IFERROR(VLOOKUP(A2680,Base!$A$2:$D$460,3,0),\"\")","v":""},{"$f":"IFERROR(VLOOKUP(A2680,Base!$A$2:$D$460,4,0),\"\")","v":""},null,null,null,null,null,null,null,null,null,null,null,null,null,0]
[null,{"$f":"IFERROR(VLOOKUP(A2681,Base!$A$2:$D$460,2,0),\"\")","v":""},{"$f":"IFERROR(VLOOKUP(A2681,Base!$A$2:$D$460,3,0),\"\")","v":""},{"$f":"IFERROR(VLOOKUP(A2681,Base!$A$2:$D$460,4,0),\"\")","v":""},null,null,null,null,null,null,null,null,null,null,null,null,null,0]
[null,{"$f":"IFERROR(VLOOKUP(A2682,Base!$A$2:$D$460,2,0),\"\")","v":""},{"$f":"IFERROR(VLOOKUP(A2682,Base!$A$2:$D$460,3,0),\"\")","v":""},{"$f":"IFERROR(VLOOKUP(A2682,Base!$A$2:$D$460,4,0),\"\")","v":""},null,null,null,null,null,null,null,null,null,null,null,null,null,0]
[null,{"$f":"IFERROR(VLOOKUP(A2683,Base!$A$2:$D$460,2,0),\"\")","v":""},{"$f":"IFERROR(VLOOKUP(A2683,Base!$A$2:$D$460,3,0),\"\")","v":""},{"$f":"IFERROR(VLOOKUP(A2683,Base!$A$2:$D$460,4,0),\"\")","v":""},null,null,null,null,null,null,null,null,null,null,null,null,null,0]
[null,{"$f":"IFERROR(VLOOKUP(A2684,Base!$A$2:$D$460,2,0),\"\")","v":""},{"$f":"IFERROR(VLOOKUP(A2684,Base!$A$2:$D$460,3,0),\"\")","v":""},{"$f":"IFERROR(VLOOKUP(A2684,Base!$A$2:$D$460,4,0),\"\")","v":""},null,null,null,null,null,null,null,null,null,null,null,null,null,0]
[null,{"$f":"IFERROR(VLOOKUP(A2685,Base!$A$2:$D$460,2,0),\"\")","v":""},{"$f":"IFERROR(VLOOKUP(A2685,Base!$A$2:$D$460,3,0),\"\")","v":""},{"$f":"IFERROR(VLOOKUP(A2685,Base!$A$2:$D$460,4,0),\"\")","v":""},null,null,null,null,null,null,null,null,null,null,null,null,null,0]
[null,{"$f":"IFERROR(VLOOKUP(A2686,Base!$A$2:$D$460,2,0),\"\")","v":""},{"$f":"IFERROR(VLOOKUP(A2686,Base!$A$2:$D$460,3,0),\"\")","v":""},{"$f":"IFERROR(VLOOKUP(A2686,Base!$A$2:$D$460,4,0),\"\")","v":""},null,null,null,null,null,null,null,null,null,null,null,null,null,0]
[null,{"$f":"IFERROR(VLOOKUP(A2687,Base!$A$2:$D$460,2,0),\"\")","v":""},{"$f":"IFERROR(VLOOKUP(A2687,Base!$A$2:$D$460,3,0),\"\")","v":""},{"$f":"IFERROR(VLOOKUP(A2687,Base!$A$2:$D$460,4,0),\"\")","v":""},null,null,null,null,null,null,null,null,null,null,null,null,null,0]
[null,{"$f":"IFERROR(VLOOKUP(A2688,Base!$A$2:$D$460,2,0),\"\")","v":""},{"$f":"IFERROR(VLOOKUP(A2688,Base!$A$2:$D$460,3,0),\"\")","v":""},{"$f":"IFERROR(VLOOKUP(A2688,Base!$A$2:$D$460,4,0),\"\")","v":""},null,null,null,null,null,null,null,null,null,null,null,null,null,0]
[null,{"$f":"IFERROR(VLOOKUP(A2689,Base!$A$2:$D$460,2,0),\"\")","v":""},{"$f":"IFERROR(VLOOKUP(A2689,Base!$A$2:$D$460,3,0),\"\")","v":""},{"$f":"IFERROR(VLOOKUP(A2689,Base!$A$2:$D$460,4,0),\"\")","v":""},null,null,null,null,null,null,null,null,null,null,null,null,null,0]
[null,{"$f":"IFERROR(VLOOKUP(A2690,Base!$A$2:$D$460,2,0),\"\")","v":""},{"$f":"IFERROR(VLOOKUP(A2690,Base!$A$2:$D$460,3,0),\"\")","v":""},{"$f":"IFERROR(VLOOKUP(A2690,Base!$A$2:$D$460,4,0),\"\")","v":""},null,null,null,null,null,null,null,null,null,null,null,null,null,0]
[null,{"$f":"IFERROR(VLOOKUP(A2691,Base!$A$2:$D$460,2,0),\"\")","v":""},{"$f":"IFERROR(VLOOKUP(A2691,Base!$A$2:$D$460,3,0),\"\")","v":""},{"$f":"IFERROR(VLOOKUP(A2691,Base!$A$2:$D$460,4,0),\"\")","v":""},null,null,null,null,null,null,null,null,null,null,null,null,null,0]
[null,{"$f":"IFERROR(VLOOKUP(A2692,Base!$A$2:$D$460,2,0),\"\")","v":""},{"$f":"IFERROR(VLOOKUP(A2692,Base!$A$2:$D$460,3,0),\"\")","v":""},{"$f":"IFERROR(VLOOKUP(A2692,Base!$A$2:$D$460,4,0),\"\")","v":""},null,null,null,null,null,null,null,null,null,null,null,null,null,0]
[null,{"$f":"IFERROR(VLOOKUP(A2693,Base!$A$2:$D$460,2,0),\"\")","v":""},{"$f":"IFERROR(VLOOKUP(A2693,Base!$A$2:$D$460,3,0),\"\")","v":""},{"$f":"IFERROR(VLOOKUP(A2693,Base!$A$2:$D$460,4,0),\"\")","v":""},null,null,null,null,null,null,null,null,null,null,null,null,null,0]
[null,{"$f":"IFERROR(VLOOKUP(A2694,Base!$A$2:$D$460,2,0),\"\")","v":""},{"$f":"IFERROR(VLOOKUP(A2694,Base!$A$2:$D$460,3,0),\"\")","v":""},{"$f":"IFERROR(VLOOKUP(A2694,Base!$A$2:$D$460,4,0),\"\")","v":""},null,null,null,null,null,null,null,null,null,null,null,null,null,0]
[null,{"$f":"IFERROR(VLOOKUP(A2695,Base!$A$2:$D$460,2,0),\"\")","v":""},{"$f":"IFERROR(VLOOKUP(A2695,Base!$A$2:$D$460,3,0),\"\")","v":""},{"$f":"IFERROR(VLOOKUP(A2695,Base!$A$2:$D$460,4,0),\"\")","v":""},null,null,null,null,null,null,null,null,null,null,null,null,null,0]
[null,{"$f":"IFERROR(VLOOKUP(A2696,Base!$A$2:$D$460,2,0),\"\")","v":""},{"$f":"IFERROR(VLOOKUP(A2696,Base!$A$2:$D$460,3,0),\"\")","v":""},{"$f":"IFERROR(VLOOKUP(A2696,Base!$A$2:$D$460,4,0),\"\")","v":""},null,null,null,null,null,null,null,null,null,null,null,null,null,0]
[null,{"$f":"IFERROR(VLOOKUP(A2697,Base!$A$2:$D$460,2,0),\"\")","v":""},{"$f":"IFERROR(VLOOKUP(A2697,Base!$A$2:$D$460,3,0),\"\")","v":""},{"$f":"IFERROR(VLOOKUP(A2697,Base!$A$2:$D$460,4,0),\"\")","v":""},null,null,null,null,null,null,null,null,null,null,null,null,null,0]
[null,{"$f":"IFERROR(VLOOKUP(A2698,Base!$A$2:$D$460,2,0),\"\")","v":""},{"$f":"IFERROR(VLOOKUP(A2698,Base!$A$2:$D$460,3,0),\"\")","v":""},{"$f":"IFERROR(VLOOKUP(A2698,Base!$A$2:$D$460,4,0),\"\")","v":""},null,null,null,null,null,null,null,null,null,null,null,null,null,0]
[null,{"$f":"IFERROR(VLOOKUP(A2699,Base!$A$2:$D$460,2,0),\"\")","v":""},{"$f":"IFERROR(VLOOKUP(A2699,Base!$A$2:$D$460,3,0),\"\")","v":""},{"$f":"IFERROR(VLOOKUP(A2699,Base!$A$2:$D$460,4,0),\"\")","v":""},null,null,null,null,null,null,null,null,null,null,null,null,null,0]
[null,{"$f":"IFERROR(VLOOKUP(A2700,Base!$A$2:$D$460,2,0),\"\")","v":""},{"$f":"IFERROR(VLOOKUP(A2700,Base!$A$2:$D$460,3,0),\"\")","v":""},{"$f":"IFERROR(VLOOKUP(A2700,Base!$A$2:$D$460,4,0),\"\")","v":""},null,null,null,null,null,null,null,null,null,null,null,null,null,0]
[null,{"$f":"IFERROR(VLOOKUP(A2701,Base!$A$2:$D$460,2,0),\"\")","v":""},{"$f":"IFERROR(VLOOKUP(A2701,Base!$A$2:$D$460,3,0),\"\")","v":""},{"$f":"IFERROR(VLOOKUP(A2701,Base!$A$2:$D$460,4,0),\"\")","v":""},null,null,null,null,null,null,null,null,null,null,null,null,null,0]
[null,{"$f":"IFERROR(VLOOKUP(A2702,Base!$A$2:$D$460,2,0),\"\")","v":""},{"$f":"IFERROR(VLOOKUP(A2702,Base!$A$2:$D$460,3,0),\"\")","v":""},{"$f":"IFERROR(VLOOKUP(A2702,Base!$A$2:$D$460,4,0),\"\")","v":""},null,null,null,null,null,null,null,null,null,null,null,null,null,0]
[null,{"$f":"IFERROR(VLOOKUP(A2703,Base!$A$2:$D$460,2,0),\"\")","v":""},{"$f":"IFERROR(VLOOKUP(A2703,Base!$A$2:$D$460,3,0),\"\")","v":""},{"$f":"IFERROR(VLOOKUP(A2703,Base!$A$2:$D$460,4,0),\"\")","v":""},null,null,null,null,null,null,null,null,null,null,null,null,null,0]
[null,{"$f":"IFERROR(VLOOKUP(A2704,Base!$A$2:$D$460,2,0),\"\")","v":""},{"$f":"IFERROR(VLOOKUP(A2704,Base!$A$2:$D$460,3,0),\"\")","v":""},{"$f":"IFERROR(VLOOKUP(A2704,Base!$A$2:$D$460,4,0),\"\")","v":""},null,null,null,null,null,null,null,null,null,null,null,null,null,0]
[null,{"$f":"IFERROR(VLOOKUP(A2705,Base!$A$2:$D$460,2,0),\"\")","v":""},{"$f":"IFERROR(VLOOKUP(A2705,Base!$A$2:$D$460,3,0),\"\")","v":""},{"$f":"IFERROR(VLOOKUP(A2705,Base!$A$2:$D$460,4,0),\"\")","v":""},null,null,null,null,null,null,null,null,null,null,null,null,null,0]
[null,{"$f":"IFERROR(VLOOKUP(A2706,Base!$A$2:$D$460,2,0),\"\")","v":""},{"$f":"IFERROR(VLOOKUP(A2706,Base!$A$2:$D$460,3,0),\"\")","v":""},{"$f":"IFERROR(VLOOKUP(A2706,Base!$A$2:$D$460,4,0),\"\")","v":""},null,null,null,null,null,null,null,null,null,null,null,null,null,0]
[null,{"$f":"IFERROR(VLOOKUP(A2707,Base!$A$2:$D$460,2,0),\"\")","v":""},{"$f":"IFERROR(VLOOKUP(A2707,Base!$A$2:$D$460,3,0),\"\")","v":""},{"$f":"IFERROR(VLOOKUP(A2707,Base!$A$2:$D$460,4,0),\"\")","v":""},null,null,null,null,null,null,null,null,null,null,null,null,null,0]
[null,{"$f":"IFERROR(VLOOKUP(A2708,Base!$A$2:$D$460,2,0),\"\")","v":""},{"$f":"IFERROR(VLOOKUP(A2708,Base!$A$2:$D$460,3,0),\"\")","v":""},{"$f":"IFERROR(VLOOKUP(A2708,Base!$A$2:$D$460,4,0),\"\")","v":""},null,null,null,null,null,null,null,null,null,null,null,null,null,0]
[null,{"$f":"IFERROR(VLOOKUP(A2709,Base!$A$2:$D$460,2,0),\"\")","v":""},{"$f":"IFERROR(VLOOKUP(A2709,Base!$A$2:$D$460,3,0),\"\")","v":""},{"$f":"IFERROR(VLOOKUP(A2709,Base!$A$2:$D$460,4,0),\"\")","v":""},null,null,null,null,null,null,null,null,null,null,null,null,null,0]
[null,{"$f":"IFERROR(VLOOKUP(A2710,Base!$A$2:$D$460,2,0),\"\")","v":""},{"$f":"IFERROR(VLOOKUP(A2710,Base!$A$2:$D$460,3,0),\"\")","v":""},{"$f":"IFERROR(VLOOKUP(A2710,Base!$A$2:$D$460,4,0),\"\")","v":""},null,null,null,null,null,null,null,null,null,null,null,null,null,0]
[null,{"$f":"IFERROR(VLOOKUP(A2711,Base!$A$2:$D$460,2,0),\"\")","v":""},{"$f":"IFERROR(VLOOKUP(A2711,Base!$A$2:$D$460,3,0),\"\")","v":""},{"$f":"IFERROR(VLOOKUP(A2711,Base!$A$2:$D$460,4,0),\"\")","v":""},null,null,null,null,null,null,null,null,null,null,null,null,null,0]
[null,{"$f":"IFERROR(VLOOKUP(A2712,Base!$A$2:$D$460,2,0),\"\")","v":""},{"$f":"IFERROR(VLOOKUP(A2712,Base!$A$2:$D$460,3,0),\"\")","v":""},{"$f":"IFERROR(VLOOKUP(A2712,Base!$A$2:$D$460,4,0),\"\")","v":""},null,null,null,null,null,null,null,null,null,null,null,null,null,0]
[null,{"$f":"IFERROR(VLOOKUP(A2713,Base!$A$2:$D$460,2,0),\"\")","v":""},{"$f":"IFERROR(VLOOKUP(A2713,Base!$A$2:$D$460,3,0),\"\")","v":""},{"$f":"IFERROR(VLOOKUP(A2713,Base!$A$2:$D$460,4,0),\"\")","v":""},null,null,null,null,null,null,null,null,null,null,null,null,null,0]
[null,{"$f":"IFERROR(VLOOKUP(A2714,Base!$A$2:$D$460,2,0),\"\")","v":""},{"$f":"IFERROR(VLOOKUP(A2714,Base!$A$2:$D$460,3,0),\"\")","v":""},{"$f":"IFERROR(VLOOKUP(A2714,Base!$A$2:$D$460,4,0),\"\")","v":""},null,null,null,null,null,null,null,null,null,null,null,null,null,0]
[null,{"$f":"IFERROR(VLOOKUP(A2715,Base!$A$2:$D$460,2,0),\"\")","v":""},{"$f":"IFERROR(VLOOKUP(A2715,Base!$A$2:$D$460,3,0),\"\")","v":""},{"$f":"IFERROR(VLOOKUP(A2715,Base!$A$2:$D$460,4,0),\"\")","v":""},null,null,null,null,null,null,null,null,null,null,null,null,null,0]
[null,{"$f":"IFERROR(VLOOKUP(A2716,Base!$A$2:$D$460,2,0),\"\")","v":""},{"$f":"IFERROR(VLOOKUP(A2716,Base!$A$2:$D$460,3,0),\"\")","v":""},{"$f":"IFERROR(VLOOKUP(A2716,Base!$A$2:$D$460,4,0),\"\")","v":""},null,null,null,null,null,null,null,null,null,null,null,null,null,0]
[null,{"$f":"IFERROR(VLOOKUP(A2717,Base!$A$2:$D$460,2,0),\"\")","v":""},{"$f":"IFERROR(VLOOKUP(A2717,Base!$A$2:$D$460,3,0),\"\")","v":""},{"$f":"IFERROR(VLOOKUP(A2717,Base!$A$2:$D$460,4,0),\"\")","v":""},null,null,null,null,null,null,null,null,null,null,null,null,null,0]
[null,{"$f":"IFERROR(VLOOKUP(A2718,Base!$A$2:$D$460,2,0),\"\")","v":""},{"$f":"IFERROR(VLOOKUP(A2718,Base!$A$2:$D$460,3,0),\"\")","v":""},{"$f":"IFERROR(VLOOKUP(A2718,Base!$A$2:$D$460,4,0),\"\")","v":""},null,null,null,null,null,null,null,null,null,null,null,null,null,0]
[null,{"$f":"IFERROR(VLOOKUP(A2719,Base!$A$2:$D$460,2,0),\"\")","v":""},{"$f":"IFERROR(VLOOKUP(A2719,Base!$A$2:$D$460,3,0),\"\")","v":""},{"$f":"IFERROR(VLOOKUP(A2719,Base!$A$2:$D$460,4,0),\"\")","v":""},null,null,null,null,null,null,null,null,null,null,null,null,null,0]
[null,{"$f":"IFERROR(VLOOKUP(A2720,Base!$A$2:$D$460,2,0),\"\")","v":""},{"$f":"IFERROR(VLOOKUP(A2720,Base!$A$2:$D$460,3,0),\"\")","v":""},{"$f":"IFERROR(VLOOKUP(A2720,Base!$A$2:$D$460,4,0),\"\")","v":""},null,null,null,null,null,null,null,null,null,null,null,null,null,0]
[null,{"$f":"IFERROR(VLOOKUP(A2721,Base!$A$2:$D$460,2,0),\"\")","v":""},{"$f":"IFERROR(VLOOKUP(A2721,Base!$A$2:$D$460,3,0),\"\")","v":""},{"$f":"IFERROR(VLOOKUP(A2721,Base!$A$2:$D$460,4,0),\"\")","v":""},null,null,null,null,null,null,null,null,null,null,null,null,null,0]
[null,{"$f":"IFERROR(VLOOKUP(A2722,Base!$A$2:$D$460,2,0),\"\")","v":""},{"$f":"IFERROR(VLOOKUP(A2722,Base!$A$2:$D$460,3,0),\"\")","v":""},{"$f":"IFERROR(VLOOKUP(A2722,Base!$A$2:$D$460,4,0),\"\")","v":""},null,null,null,null,null,null,null,null,null,null,null,null,null,0]
[null,{"$f":"IFERROR(VLOOKUP(A2723,Base!$A$2:$D$460,2,0),\"\")","v":""},{"$f":"IFERROR(VLOOKUP(A2723,Base!$A$2:$D$460,3,0),\"\")","v":""},{"$f":"IFERROR(VLOOKUP(A2723,Base!$A$2:$D$460,4,0),\"\")","v":""},null,null,null,null,null,null,null,null,null,null,null,null,null,0]
[null,{"$f":"IFERROR(VLOOKUP(A2724,Base!$A$2:$D$460,2,0),\"\")","v":""},{"$f":"IFERROR(VLOOKUP(A2724,Base!$A$2:$D$460,3,0),\"\")","v":""},{"$f":"IFERROR(VLOOKUP(A2724,Base!$A$2:$D$460,4,0),\"\")","v":""},null,null,null,null,null,null,null,null,null,null,null,null,null,0]
[null,{"$f":"IFERROR(VLOOKUP(A2725,Base!$A$2:$D$460,2,0),\"\")","v":""},{"$f":"IFERROR(VLOOKUP(A2725,Base!$A$2:$D$460,3,0),\"\")","v":""},{"$f":"IFERROR(VLOOKUP(A2725,Base!$A$2:$D$460,4,0),\"\")","v":""},null,null,null,null,null,null,null,null,null,null,null,null,null,0]
[null,{"$f":"IFERROR(VLOOKUP(A2726,Base!$A$2:$D$460,2,0),\"\")","v":""},{"$f":"IFERROR(VLOOKUP(A2726,Base!$A$2:$D$460,3,0),\"\")","v":""},{"$f":"IFERROR(VLOOKUP(A2726,Base!$A$2:$D$460,4,0),\"\")","v":""},null,null,null,null,null,null,null,null,null,null,null,null,null,0]
[null,{"$f":"IFERROR(VLOOKUP(A2727,Base!$A$2:$D$460,2,0),\"\")","v":""},{"$f":"IFERROR(VLOOKUP(A2727,Base!$A$2:$D$460,3,0),\"\")","v":""},{"$f":"IFERROR(VLOOKUP(A2727,Base!$A$2:$D$460,4,0),\"\")","v":""},null,null,null,null,null,null,null,null,null,null,null,null,null,{"$f":"SUM(N2727:Q2727)/4","v":0}]
[null,{"$f":"IFERROR(VLOOKUP(A2728,Base!$A$2:$D$460,2,0),\"\")","v":""},{"$f":"IFERROR(VLOOKUP(A2728,Base!$A$2:$D$460,3,0),\"\")","v":""},{"$f":"IFERROR(VLOOKUP(A2728,Base!$A$2:$D$460,4,0),\"\")","v":""},null,null,null,null,null,null,null,null,null,null,null,null,null,0]
[null,{"$f":"IFERROR(VLOOKUP(A2729,Base!$A$2:$D$460,2,0),\"\")","v":""},{"$f":"IFERROR(VLOOKUP(A2729,Base!$A$2:$D$460,3,0),\"\")","v":""},{"$f":"IFERROR(VLOOKUP(A2729,Base!$A$2:$D$460,4,0),\"\")","v":""},null,null,null,null,null,null,null,null,null,null,null,null,null,0]
[null,{"$f":"IFERROR(VLOOKUP(A2730,Base!$A$2:$D$460,2,0),\"\")","v":""},{"$f":"IFERROR(VLOOKUP(A2730,Base!$A$2:$D$460,3,0),\"\")","v":""},{"$f":"IFERROR(VLOOKUP(A2730,Base!$A$2:$D$460,4,0),\"\")","v":""},null,null,null,null,null,null,null,null,null,null,null,null,null,0]
[null,{"$f":"IFERROR(VLOOKUP(A2731,Base!$A$2:$D$460,2,0),\"\")","v":""},{"$f":"IFERROR(VLOOKUP(A2731,Base!$A$2:$D$460,3,0),\"\")","v":""},{"$f":"IFERROR(VLOOKUP(A2731,Base!$A$2:$D$460,4,0),\"\")","v":""},null,null,null,null,null,null,null,null,null,null,null,null,null,0]
[null,{"$f":"IFERROR(VLOOKUP(A2732,Base!$A$2:$D$460,2,0),\"\")","v":""},{"$f":"IFERROR(VLOOKUP(A2732,Base!$A$2:$D$460,3,0),\"\")","v":""},{"$f":"IFERROR(VLOOKUP(A2732,Base!$A$2:$D$460,4,0),\"\")","v":""},null,null,null,null,null,null,null,null,null,null,null,null,null,0]
[null,{"$f":"IFERROR(VLOOKUP(A2733,Base!$A$2:$D$460,2,0),\"\")","v":""},{"$f":"IFERROR(VLOOKUP(A2733,Base!$A$2:$D$460,3,0),\"\")","v":""},{"$f":"IFERROR(VLOOKUP(A2733,Base!$A$2:$D$460,4,0),\"\")","v":""},null,null,null,null,null,null,null,null,null,null,null,null,null,0]
[null,{"$f":"IFERROR(VLOOKUP(A2734,Base!$A$2:$D$460,2,0),\"\")","v":""},{"$f":"IFERROR(VLOOKUP(A2734,Base!$A$2:$D$460,3,0),\"\")","v":""},{"$f":"IFERROR(VLOOKUP(A2734,Base!$A$2:$D$460,4,0),\"\")","v":""},null,null,null,null,null,null,null,null,null,null,null,null,null,0]
[null,{"$f":"IFERROR(VLOOKUP(A2735,Base!$A$2:$D$460,2,0),\"\")","v":""},{"$f":"IFERROR(VLOOKUP(A2735,Base!$A$2:$D$460,3,0),\"\")","v":""},{"$f":"IFERROR(VLOOKUP(A2735,Base!$A$2:$D$460,4,0),\"\")","v":""},null,null,null,null,null,null,null,null,null,null,null,null,null,0]
[null,{"$f":"IFERROR(VLOOKUP(A2736,Base!$A$2:$D$460,2,0),\"\")","v":""},{"$f":"IFERROR(VLOOKUP(A2736,Base!$A$2:$D$460,3,0),\"\")","v":""},{"$f":"IFERROR(VLOOKUP(A2736,Base!$A$2:$D$460,4,0),\"\")","v":""},null,null,null,null,null,null,null,null,null,null,null,null,null,0]
[null,{"$f":"IFERROR(VLOOKUP(A2737,Base!$A$2:$D$460,2,0),\"\")","v":""},{"$f":"IFERROR(VLOOKUP(A2737,Base!$A$2:$D$460,3,0),\"\")","v":""},{"$f":"IFERROR(VLOOKUP(A2737,Base!$A$2:$D$460,4,0),\"\")","v":""},null,null,null,null,null,null,null,null,null,null,null,null,null,0]
[null,{"$f":"IFERROR(VLOOKUP(A2738,Base!$A$2:$D$460,2,0),\"\")","v":""},{"$f":"IFERROR(VLOOKUP(A2738,Base!$A$2:$D$460,3,0),\"\")","v":""},{"$f":"IFERROR(VLOOKUP(A2738,Base!$A$2:$D$460,4,0),\"\")","v":""},null,null,null,null,null,null,null,null,null,null,null,null,null,0]
[null,{"$f":"IFERROR(VLOOKUP(A2739,Base!$A$2:$D$460,2,0),\"\")","v":""},{"$f":"IFERROR(VLOOKUP(A2739,Base!$A$2:$D$460,3,0),\"\")","v":""},{"$f":"IFERROR(VLOOKUP(A2739,Base!$A$2:$D$460,4,0),\"\")","v":""},null,null,null,null,null,null,null,null,null,null,null,null,null,0]
[null,{"$f":"IFERROR(VLOOKUP(A2740,Base!$A$2:$D$460,2,0),\"\")","v":""},{"$f":"IFERROR(VLOOKUP(A2740,Base!$A$2:$D$460,3,0),\"\")","v":""},{"$f":"IFERROR(VLOOKUP(A2740,Base!$A$2:$D$460,4,0),\"\")","v":""},null,null,null,null,null,null,null,null,null,null,null,null,null,0]
[null,{"$f":"IFERROR(VLOOKUP(A2741,Base!$A$2:$D$460,2,0),\"\")","v":""},{"$f":"IFERROR(VLOOKUP(A2741,Base!$A$2:$D$460,3,0),\"\")","v":""},{"$f":"IFERROR(VLOOKUP(A2741,Base!$A$2:$D$460,4,0),\"\")","v":""},null,null,null,null,null,null,null,null,null,null,null,null,null,0]
[null,{"$f":"IFERROR(VLOOKUP(A2742,Base!$A$2:$D$460,2,0),\"\")","v":""},{"$f":"IFERROR(VLOOKUP(A2742,Base!$A$2:$D$460,3,0),\"\")","v":""},{"$f":"IFERROR(VLOOKUP(A2742,Base!$A$2:$D$460,4,0),\"\")","v":""},null,null,null,null,null,null,null,null,null,null,null,null,null,0]
[null,{"$f":"IFERROR(VLOOKUP(A2743,Base!$A$2:$D$460,2,0),\"\")","v":""},{"$f":"IFERROR(VLOOKUP(A2743,Base!$A$2:$D$460,3,0),\"\")","v":""},{"$f":"IFERROR(VLOOKUP(A2743,Base!$A$2:$D$460,4,0),\"\")","v":""},null,null,null,null,null,null,null,null,null,null,null,null,null,0]
[null,{"$f":"IFERROR(VLOOKUP(A2744,Base!$A$2:$D$460,2,0),\"\")","v":""},{"$f":"IFERROR(VLOOKUP(A2744,Base!$A$2:$D$460,3,0),\"\")","v":""},{"$f":"IFERROR(VLOOKUP(A2744,Base!$A$2:$D$460,4,0),\"\")","v":""},null,null,null,null,null,null,null,null,null,null,null,null,null,0]
[null,{"$f":"IFERROR(VLOOKUP(A2745,Base!$A$2:$D$460,2,0),\"\")","v":""},{"$f":"IFERROR(VLOOKUP(A2745,Base!$A$2:$D$460,3,0),\"\")","v":""},{"$f":"IFERROR(VLOOKUP(A2745,Base!$A$2:$D$460,4,0),\"\")","v":""},null,null,null,null,null,null,null,null,null,null,null,null,null,0]
[null,{"$f":"IFERROR(VLOOKUP(A2746,Base!$A$2:$D$460,2,0),\"\")","v":""},{"$f":"IFERROR(VLOOKUP(A2746,Base!$A$2:$D$460,3,0),\"\")","v":""},{"$f":"IFERROR(VLOOKUP(A2746,Base!$A$2:$D$460,4,0),\"\")","v":""},null,null,null,null,null,null,null,null,null,null,null,null,null,0]
[null,{"$f":"IFERROR(VLOOKUP(A2747,Base!$A$2:$D$460,2,0),\"\")","v":""},{"$f":"IFERROR(VLOOKUP(A2747,Base!$A$2:$D$460,3,0),\"\")","v":""},{"$f":"IFERROR(VLOOKUP(A2747,Base!$A$2:$D$460,4,0),\"\")","v":""},null,null,null,null,null,null,null,null,null,null,null,null,null,0]
[null,{"$f":"IFERROR(VLOOKUP(A2748,Base!$A$2:$D$460,2,0),\"\")","v":""},{"$f":"IFERROR(VLOOKUP(A2748,Base!$A$2:$D$460,3,0),\"\")","v":""},{"$f":"IFERROR(VLOOKUP(A2748,Base!$A$2:$D$460,4,0),\"\")","v":""},null,null,null,null,null,null,null,null,null,null,null,null,null,0]
[null,{"$f":"IFERROR(VLOOKUP(A2749,Base!$A$2:$D$460,2,0),\"\")","v":""},{"$f":"IFERROR(VLOOKUP(A2749,Base!$A$2:$D$460,3,0),\"\")","v":""},{"$f":"IFERROR(VLOOKUP(A2749,Base!$A$2:$D$460,4,0),\"\")","v":""},null,null,null,null,null,null,null,null,null,null,null,null,null,0]
[null,{"$f":"IFERROR(VLOOKUP(A2750,Base!$A$2:$D$460,2,0),\"\")","v":""},{"$f":"IFERROR(VLOOKUP(A2750,Base!$A$2:$D$460,3,0),\"\")","v":""},{"$f":"IFERROR(VLOOKUP(A2750,Base!$A$2:$D$460,4,0),\"\")","v":""},null,null,null,null,null,null,null,null,null,null,null,null,null,0]
[null,{"$f":"IFERROR(VLOOKUP(A2751,Base!$A$2:$D$460,2,0),\"\")","v":""},{"$f":"IFERROR(VLOOKUP(A2751,Base!$A$2:$D$460,3,0),\"\")","v":""},{"$f":"IFERROR(VLOOKUP(A2751,Base!$A$2:$D$460,4,0),\"\")","v":""},null,null,null,null,null,null,null,null,null,null,null,null,null,0]
[null,{"$f":"IFERROR(VLOOKUP(A2752,Base!$A$2:$D$460,2,0),\"\")","v":""},{"$f":"IFERROR(VLOOKUP(A2752,Base!$A$2:$D$460,3,0),\"\")","v":""},{"$f":"IFERROR(VLOOKUP(A2752,Base!$A$2:$D$460,4,0),\"\")","v":""},null,null,null,null,null,null,null,null,null,null,null,null,null,0]
[null,{"$f":"IFERROR(VLOOKUP(A2753,Base!$A$2:$D$460,2,0),\"\")","v":""},{"$f":"IFERROR(VLOOKUP(A2753,Base!$A$2:$D$460,3,0),\"\")","v":""},{"$f":"IFERROR(VLOOKUP(A2753,Base!$A$2:$D$460,4,0),\"\")","v":""},null,null,null,null,null,null,null,null,null,null,null,null,null,0]
[null,{"$f":"IFERROR(VLOOKUP(A2754,Base!$A$2:$D$460,2,0),\"\")","v":""},{"$f":"IFERROR(VLOOKUP(A2754,Base!$A$2:$D$460,3,0),\"\")","v":""},{"$f":"IFERROR(VLOOKUP(A2754,Base!$A$2:$D$460,4,0),\"\")","v":""},null,null,null,null,null,null,null,null,null,null,null,null,null,0]
[null,{"$f":"IFERROR(VLOOKUP(A2755,Base!$A$2:$D$460,2,0),\"\")","v":""},{"$f":"IFERROR(VLOOKUP(A2755,Base!$A$2:$D$460,3,0),\"\")","v":""},{"$f":"IFERROR(VLOOKUP(A2755,Base!$A$2:$D$460,4,0),\"\")","v":""},null,null,null,null,null,null,null,null,null,null,null,null,null,0]
[null,{"$f":"IFERROR(VLOOKUP(A2756,Base!$A$2:$D$460,2,0),\"\")","v":""},{"$f":"IFERROR(VLOOKUP(A2756,Base!$A$2:$D$460,3,0),\"\")","v":""},{"$f":"IFERROR(VLOOKUP(A2756,Base!$A$2:$D$460,4,0),\"\")","v":""},null,null,null,null,null,null,null,null,null,null,null,null,null,0]
[null,{"$f":"IFERROR(VLOOKUP(A2757,Base!$A$2:$D$460,2,0),\"\")","v":""},{"$f":"IFERROR(VLOOKUP(A2757,Base!$A$2:$D$460,3,0),\"\")","v":""},{"$f":"IFERROR(VLOOKUP(A2757,Base!$A$2:$D$460,4,0),\"\")","v":""},null,null,null,null,null,null,null,null,null,null,null,null,null,0]
[null,{"$f":"IFERROR(VLOOKUP(A2758,Base!$A$2:$D$460,2,0),\"\")","v":""},{"$f":"IFERROR(VLOOKUP(A2758,Base!$A$2:$D$460,3,0),\"\")","v":""},{"$f":"IFERROR(VLOOKUP(A2758,Base!$A$2:$D$460,4,0),\"\")","v":""},null,null,null,null,null,null,null,null,null,null,null,null,null,0]
[null,{"$f":"IFERROR(VLOOKUP(A2759,Base!$A$2:$D$460,2,0),\"\")","v":""},{"$f":"IFERROR(VLOOKUP(A2759,Base!$A$2:$D$460,3,0),\"\")","v":""},{"$f":"IFERROR(VLOOKUP(A2759,Base!$A$2:$D$460,4,0),\"\")","v":""},null,null,null,null,null,null,null,null,null,null,null,null,null,0]
[null,{"$f":"IFERROR(VLOOKUP(A2760,Base!$A$2:$D$460,2,0),\"\")","v":""},{"$f":"IFERROR(VLOOKUP(A2760,Base!$A$2:$D$460,3,0),\"\")","v":""},{"$f":"IFERROR(VLOOKUP(A2760,Base!$A$2:$D$460,4,0),\"\")","v":""},null,null,null,null,null,null,null,null,null,null,null,null,null,0]
[null,{"$f":"IFERROR(VLOOKUP(A2761,Base!$A$2:$D$460,2,0),\"\")","v":""},{"$f":"IFERROR(VLOOKUP(A2761,Base!$A$2:$D$460,3,0),\"\")","v":""},{"$f":"IFERROR(VLOOKUP(A2761,Base!$A$2:$D$460,4,0),\"\")","v":""},null,null,null,null,null,null,null,null,null,null,null,null,null,0]
[null,{"$f":"IFERROR(VLOOKUP(A2762,Base!$A$2:$D$460,2,0),\"\")","v":""},{"$f":"IFERROR(VLOOKUP(A2762,Base!$A$2:$D$460,3,0),\"\")","v":""},{"$f":"IFERROR(VLOOKUP(A2762,Base!$A$2:$D$460,4,0),\"\")","v":""},null,null,null,null,null,null,null,null,null,null,null,null,null,0]
[null,{"$f":"IFERROR(VLOOKUP(A2763,Base!$A$2:$D$460,2,0),\"\")","v":""},{"$f":"IFERROR(VLOOKUP(A2763,Base!$A$2:$D$460,3,0),\"\")","v":""},{"$f":"IFERROR(VLOOKUP(A2763,Base!$A$2:$D$460,4,0),\"\")","v":""},null,null,null,null,null,null,null,null,null,null,null,null,null,0]
[null,{"$f":"IFERROR(VLOOKUP(A2764,Base!$A$2:$D$460,2,0),\"\")","v":""},{"$f":"IFERROR(VLOOKUP(A2764,Base!$A$2:$D$460,3,0),\"\")","v":""},{"$f":"IFERROR(VLOOKUP(A2764,Base!$A$2:$D$460,4,0),\"\")","v":""},null,null,null,null,null,null,null,null,null,null,null,null,null,0]
[null,{"$f":"IFERROR(VLOOKUP(A2765,Base!$A$2:$D$460,2,0),\"\")","v":""},{"$f":"IFERROR(VLOOKUP(A2765,Base!$A$2:$D$460,3,0),\"\")","v":""},{"$f":"IFERROR(VLOOKUP(A2765,Base!$A$2:$D$460,4,0),\"\")","v":""},null,null,null,null,null,null,null,null,null,null,null,null,null,0]
[null,{"$f":"IFERROR(VLOOKUP(A2766,Base!$A$2:$D$460,2,0),\"\")","v":""},{"$f":"IFERROR(VLOOKUP(A2766,Base!$A$2:$D$460,3,0),\"\")","v":""},{"$f":"IFERROR(VLOOKUP(A2766,Base!$A$2:$D$460,4,0),\"\")","v":""},null,null,null,null,null,null,null,null,null,null,null,null,null,0]
[null,{"$f":"IFERROR(VLOOKUP(A2767,Base!$A$2:$D$460,2,0),\"\")","v":""},{"$f":"IFERROR(VLOOKUP(A2767,Base!$A$2:$D$460,3,0),\"\")","v":""},{"$f":"IFERROR(VLOOKUP(A2767,Base!$A$2:$D$460,4,0),\"\")","v":""},null,null,null,null,null,null,null,null,null,null,null,null,null,0]
[null,{"$f":"IFERROR(VLOOKUP(A2768,Base!$A$2:$D$460,2,0),\"\")","v":""},{"$f":"IFERROR(VLOOKUP(A2768,Base!$A$2:$D$460,3,0),\"\")","v":""},{"$f":"IFERROR(VLOOKUP(A2768,Base!$A$2:$D$460,4,0),\"\")","v":""},null,null,null,null,null,null,null,null,null,null,null,null,null,0]
[null,{"$f":"IFERROR(VLOOKUP(A2769,Base!$A$2:$D$460,2,0),\"\")","v":""},{"$f":"IFERROR(VLOOKUP(A2769,Base!$A$2:$D$460,3,0),\"\")","v":""},{"$f":"IFERROR(VLOOKUP(A2769,Base!$A$2:$D$460,4,0),\"\")","v":""},null,null,null,null,null,null,null,null,null,null,null,null,null,0]
[null,{"$f":"IFERROR(VLOOKUP(A2770,Base!$A$2:$D$460,2,0),\"\")","v":""},{"$f":"IFERROR(VLOOKUP(A2770,Base!$A$2:$D$460,3,0),\"\")","v":""},{"$f":"IFERROR(VLOOKUP(A2770,Base!$A$2:$D$460,4,0),\"\")","v":""},null,null,null,null,null,null,null,null,null,null,null,null,null,0]
[null,{"$f":"IFERROR(VLOOKUP(A2771,Base!$A$2:$D$460,2,0),\"\")","v":""},{"$f":"IFERROR(VLOOKUP(A2771,Base!$A$2:$D$460,3,0),\"\")","v":""},{"$f":"IFERROR(VLOOKUP(A2771,Base!$A$2:$D$460,4,0),\"\")","v":""},null,null,null,null,null,null,null,null,null,null,null,null,null,0]
[null,{"$f":"IFERROR(VLOOKUP(A2772,Base!$A$2:$D$460,2,0),\"\")","v":""},{"$f":"IFERROR(VLOOKUP(A2772,Base!$A$2:$D$460,3,0),\"\")","v":""},{"$f":"IFERROR(VLOOKUP(A2772,Base!$A$2:$D$460,4,0),\"\")","v":""},null,null,null,null,null,null,null,null,null,null,null,null,null,0]
[null,{"$f":"IFERROR(VLOOKUP(A2773,Base!$A$2:$D$460,2,0),\"\")","v":""},{"$f":"IFERROR(VLOOKUP(A2773,Base!$A$2:$D$460,3,0),\"\")","v":""},{"$f":"IFERROR(VLOOKUP(A2773,Base!$A$2:$D$460,4,0),\"\")","v":""},null,null,null,null,null,null,null,null,null,null,null,null,null,0]
[null,{"$f":"IFERROR(VLOOKUP(A2774,Base!$A$2:$D$460,2,0),\"\")","v":""},{"$f":"IFERROR(VLOOKUP(A2774,Base!$A$2:$D$460,3,0),\"\")","v":""},{"$f":"IFERROR(VLOOKUP(A2774,Base!$A$2:$D$460,4,0),\"\")","v":""},null,null,null,null,null,null,null,null,null,null,null,null,null,0]
[null,{"$f":"IFERROR(VLOOKUP(A2775,Base!$A$2:$D$460,2,0),\"\")","v":""},{"$f":"IFERROR(VLOOKUP(A2775,Base!$A$2:$D$460,3,0),\"\")","v":""},{"$f":"IFERROR(VLOOKUP(A2775,Base!$A$2:$D$460,4,0),\"\")","v":""},null,null,null,null,null,null,null,null,null,null,null,null,null,0]
[null,{"$f":"IFERROR(VLOOKUP(A2776,Base!$A$2:$D$460,2,0),\"\")","v":""},{"$f":"IFERROR(VLOOKUP(A2776,Base!$A$2:$D$460,3,0),\"\")","v":""},{"$f":"IFERROR(VLOOKUP(A2776,Base!$A$2:$D$460,4,0),\"\")","v":""},null,null,null,null,null,null,null,null,null,null,null,null,null,0]
[null,{"$f":"IFERROR(VLOOKUP(A2777,Base!$A$2:$D$460,2,0),\"\")","v":""},{"$f":"IFERROR(VLOOKUP(A2777,Base!$A$2:$D$460,3,0),\"\")","v":""},{"$f":"IFERROR(VLOOKUP(A2777,Base!$A$2:$D$460,4,0),\"\")","v":""},null,null,null,null,null,null,null,null,null,null,null,null,null,0]
[null,{"$f":"IFERROR(VLOOKUP(A2778,Base!$A$2:$D$460,2,0),\"\")","v":""},{"$f":"IFERROR(VLOOKUP(A2778,Base!$A$2:$D$460,3,0),\"\")","v":""},{"$f":"IFERROR(VLOOKUP(A2778,Base!$A$2:$D$460,4,0),\"\")","v":""},null,null,null,null,null,null,null,null,null,null,null,null,null,0]
[null,{"$f":"IFERROR(VLOOKUP(A2779,Base!$A$2:$D$460,2,0),\"\")","v":""},{"$f":"IFERROR(VLOOKUP(A2779,Base!$A$2:$D$460,3,0),\"\")","v":""},{"$f":"IFERROR(VLOOKUP(A2779,Base!$A$2:$D$460,4,0),\"\")","v":""},null,null,null,null,null,null,null,null,null,null,null,null,null,0]
[null,{"$f":"IFERROR(VLOOKUP(A2780,Base!$A$2:$D$460,2,0),\"\")","v":""},{"$f":"IFERROR(VLOOKUP(A2780,Base!$A$2:$D$460,3,0),\"\")","v":""},{"$f":"IFERROR(VLOOKUP(A2780,Base!$A$2:$D$460,4,0),\"\")","v":""},null,null,null,null,null,null,null,null,null,null,null,null,null,0]
[null,{"$f":"IFERROR(VLOOKUP(A2781,Base!$A$2:$D$460,2,0),\"\")","v":""},{"$f":"IFERROR(VLOOKUP(A2781,Base!$A$2:$D$460,3,0),\"\")","v":""},{"$f":"IFERROR(VLOOKUP(A2781,Base!$A$2:$D$460,4,0),\"\")","v":""},null,null,null,null,null,null,null,null,null,null,null,null,null,0]
[null,{"$f":"IFERROR(VLOOKUP(A2782,Base!$A$2:$D$460,2,0),\"\")","v":""},{"$f":"IFERROR(VLOOKUP(A2782,Base!$A$2:$D$460,3,0),\"\")","v":""},{"$f":"IFERROR(VLOOKUP(A2782,Base!$A$2:$D$460,4,0),\"\")","v":""},null,null,null,null,null,null,null,null,null,null,null,null,null,0]
[null,{"$f":"IFERROR(VLOOKUP(A2783,Base!$A$2:$D$460,2,0),\"\")","v":""},{"$f":"IFERROR(VLOOKUP(A2783,Base!$A$2:$D$460,3,0),\"\")","v":""},{"$f":"IFERROR(VLOOKUP(A2783,Base!$A$2:$D$460,4,0),\"\")","v":""},null,null,null,null,null,null,null,null,null,null,null,null,null,0]
[null,{"$f":"IFERROR(VLOOKUP(A2784,Base!$A$2:$D$460,2,0),\"\")","v":""},{"$f":"IFERROR(VLOOKUP(A2784,Base!$A$2:$D$460,3,0),\"\")","v":""},{"$f":"IFERROR(VLOOKUP(A2784,Base!$A$2:$D$460,4,0),\"\")","v":""},null,null,null,null,null,null,null,null,null,null,null,null,null,0]
[null,{"$f":"IFERROR(VLOOKUP(A2785,Base!$A$2:$D$460,2,0),\"\")","v":""},{"$f":"IFERROR(VLOOKUP(A2785,Base!$A$2:$D$460,3,0),\"\")","v":""},{"$f":"IFERROR(VLOOKUP(A2785,Base!$A$2:$D$460,4,0),\"\")","v":""},null,null,null,null,null,null,null,null,null,null,null,null,null,0]
[null,{"$f":"IFERROR(VLOOKUP(A2786,Base!$A$2:$D$460,2,0),\"\")","v":""},{"$f":"IFERROR(VLOOKUP(A2786,Base!$A$2:$D$460,3,0),\"\")","v":""},{"$f":"IFERROR(VLOOKUP(A2786,Base!$A$2:$D$460,4,0),\"\")","v":""},null,null,null,null,null,null,null,null,null,null,null,null,null,0]
[null,{"$f":"IFERROR(VLOOKUP(A2787,Base!$A$2:$D$460,2,0),\"\")","v":""},{"$f":"IFERROR(VLOOKUP(A2787,Base!$A$2:$D$460,3,0),\"\")","v":""},{"$f":"IFERROR(VLOOKUP(A2787,Base!$A$2:$D$460,4,0),\"\")","v":""},null,null,null,null,null,null,null,null,null,null,null,null,null,0]
[null,{"$f":"IFERROR(VLOOKUP(A2788,Base!$A$2:$D$460,2,0),\"\")","v":""},{"$f":"IFERROR(VLOOKUP(A2788,Base!$A$2:$D$460,3,0),\"\")","v":""},{"$f":"IFERROR(VLOOKUP(A2788,Base!$A$2:$D$460,4,0),\"\")","v":""},null,null,null,null,null,null,null,null,null,null,null,null,null,0]
[null,{"$f":"IFERROR(VLOOKUP(A2789,Base!$A$2:$D$460,2,0),\"\")","v":""},{"$f":"IFERROR(VLOOKUP(A2789,Base!$A$2:$D$460,3,0),\"\")","v":""},{"$f":"IFERROR(VLOOKUP(A2789,Base!$A$2:$D$460,4,0),\"\")","v":""},null,null,null,null,null,null,null,null,null,null,null,null,null,0]
[null,{"$f":"IFERROR(VLOOKUP(A2790,Base!$A$2:$D$460,2,0),\"\")","v":""},{"$f":"IFERROR(VLOOKUP(A2790,Base!$A$2:$D$460,3,0),\"\")","v":""},{"$f":"IFERROR(VLOOKUP(A2790,Base!$A$2:$D$460,4,0),\"\")","v":""},null,null,null,null,null,null,null,null,null,null,null,null,null,0]
[null,{"$f":"IFERROR(VLOOKUP(A2791,Base!$A$2:$D$460,2,0),\"\")","v":""},{"$f":"IFERROR(VLOOKUP(A2791,Base!$A$2:$D$460,3,0),\"\")","v":""},{"$f":"IFERROR(VLOOKUP(A2791,Base!$A$2:$D$460,4,0),\"\")","v":""},null,null,null,null,null,null,null,null,null,null,null,null,null,{"$f":"SUM(N2791:Q2791)/4","v":0}]
[null,{"$f":"IFERROR(VLOOKUP(A2792,Base!$A$2:$D$460,2,0),\"\")","v":""},{"$f":"IFERROR(VLOOKUP(A2792,Base!$A$2:$D$460,3,0),\"\")","v":""},{"$f":"IFERROR(VLOOKUP(A2792,Base!$A$2:$D$460,4,0),\"\")","v":""},null,null,null,null,null,null,null,null,null,null,null,null,null,0]
[null,{"$f":"IFERROR(VLOOKUP(A2793,Base!$A$2:$D$460,2,0),\"\")","v":""},{"$f":"IFERROR(VLOOKUP(A2793,Base!$A$2:$D$460,3,0),\"\")","v":""},{"$f":"IFERROR(VLOOKUP(A2793,Base!$A$2:$D$460,4,0),\"\")","v":""},null,null,null,null,null,null,null,null,null,null,null,null,null,0]
[null,{"$f":"IFERROR(VLOOKUP(A2794,Base!$A$2:$D$460,2,0),\"\")","v":""},{"$f":"IFERROR(VLOOKUP(A2794,Base!$A$2:$D$460,3,0),\"\")","v":""},{"$f":"IFERROR(VLOOKUP(A2794,Base!$A$2:$D$460,4,0),\"\")","v":""},null,null,null,null,null,null,null,null,null,null,null,null,null,0]
[null,{"$f":"IFERROR(VLOOKUP(A2795,Base!$A$2:$D$460,2,0),\"\")","v":""},{"$f":"IFERROR(VLOOKUP(A2795,Base!$A$2:$D$460,3,0),\"\")","v":""},{"$f":"IFERROR(VLOOKUP(A2795,Base!$A$2:$D$460,4,0),\"\")","v":""},null,null,null,null,null,null,null,null,null,null,null,null,null,0]
[null,{"$f":"IFERROR(VLOOKUP(A2796,Base!$A$2:$D$460,2,0),\"\")","v":""},{"$f":"IFERROR(VLOOKUP(A2796,Base!$A$2:$D$460,3,0),\"\")","v":""},{"$f":"IFERROR(VLOOKUP(A2796,Base!$A$2:$D$460,4,0),\"\")","v":""},null,null,null,null,null,null,null,null,null,null,null,null,null,0]
[null,{"$f":"IFERROR(VLOOKUP(A2797,Base!$A$2:$D$460,2,0),\"\")","v":""},{"$f":"IFERROR(VLOOKUP(A2797,Base!$A$2:$D$460,3,0),\"\")","v":""},{"$f":"IFERROR(VLOOKUP(A2797,Base!$A$2:$D$460,4,0),\"\")","v":""},null,null,null,null,null,null,null,null,null,null,null,null,null,0]
[null,{"$f":"IFERROR(VLOOKUP(A2798,Base!$A$2:$D$460,2,0),\"\")","v":""},{"$f":"IFERROR(VLOOKUP(A2798,Base!$A$2:$D$460,3,0),\"\")","v":""},{"$f":"IFERROR(VLOOKUP(A2798,Base!$A$2:$D$460,4,0),\"\")","v":""},null,null,null,null,null,null,null,null,null,null,null,null,null,0]
[null,{"$f":"IFERROR(VLOOKUP(A2799,Base!$A$2:$D$460,2,0),\"\")","v":""},{"$f":"IFERROR(VLOOKUP(A2799,Base!$A$2:$D$460,3,0),\"\")","v":""},{"$f":"IFERROR(VLOOKUP(A2799,Base!$A$2:$D$460,4,0),\"\")","v":""},null,null,null,null,null,null,null,null,null,null,null,null,null,0]
[null,{"$f":"IFERROR(VLOOKUP(A2800,Base!$A$2:$D$460,2,0),\"\")","v":""},{"$f":"IFERROR(VLOOKUP(A2800,Base!$A$2:$D$460,3,0),\"\")","v":""},{"$f":"IFERROR(VLOOKUP(A2800,Base!$A$2:$D$460,4,0),\"\")","v":""},null,null,null,null,null,null,null,null,null,null,null,null,null,0]
[null,{"$f":"IFERROR(VLOOKUP(A2801,Base!$A$2:$D$460,2,0),\"\")","v":""},{"$f":"IFERROR(VLOOKUP(A2801,Base!$A$2:$D$460,3,0),\"\")","v":""},{"$f":"IFERROR(VLOOKUP(A2801,Base!$A$2:$D$460,4,0),\"\")","v":""},null,null,null,null,null,null,null,null,null,null,null,null,null,0]
[null,{"$f":"IFERROR(VLOOKUP(A2802,Base!$A$2:$D$460,2,0),\"\")","v":""},{"$f":"IFERROR(VLOOKUP(A2802,Base!$A$2:$D$460,3,0),\"\")","v":""},{"$f":"IFERROR(VLOOKUP(A2802,Base!$A$2:$D$460,4,0),\"\")","v":""},null,null,null,null,null,null,null,null,null,null,null,null,null,0]
[null,{"$f":"IFERROR(VLOOKUP(A2803,Base!$A$2:$D$460,2,0),\"\")","v":""},{"$f":"IFERROR(VLOOKUP(A2803,Base!$A$2:$D$460,3,0),\"\")","v":""},{"$f":"IFERROR(VLOOKUP(A2803,Base!$A$2:$D$460,4,0),\"\")","v":""},null,null,null,null,null,null,null,null,null,null,null,null,null,0]
[null,{"$f":"IFERROR(VLOOKUP(A2804,Base!$A$2:$D$460,2,0),\"\")","v":""},{"$f":"IFERROR(VLOOKUP(A2804,Base!$A$2:$D$460,3,0),\"\")","v":""},{"$f":"IFERROR(VLOOKUP(A2804,Base!$A$2:$D$460,4,0),\"\")","v":""},null,null,null,null,null,null,null,null,null,null,null,null,null,0]
[null,{"$f":"IFERROR(VLOOKUP(A2805,Base!$A$2:$D$460,2,0),\"\")","v":""},{"$f":"IFERROR(VLOOKUP(A2805,Base!$A$2:$D$460,3,0),\"\")","v":""},{"$f":"IFERROR(VLOOKUP(A2805,Base!$A$2:$D$460,4,0),\"\")","v":""},null,null,null,null,null,null,null,null,null,null,null,null,null,0]
[null,{"$f":"IFERROR(VLOOKUP(A2806,Base!$A$2:$D$460,2,0),\"\")","v":""},{"$f":"IFERROR(VLOOKUP(A2806,Base!$A$2:$D$460,3,0),\"\")","v":""},{"$f":"IFERROR(VLOOKUP(A2806,Base!$A$2:$D$460,4,0),\"\")","v":""},null,null,null,null,null,null,null,null,null,null,null,null,null,0]
[null,{"$f":"IFERROR(VLOOKUP(A2807,Base!$A$2:$D$460,2,0),\"\")","v":""},{"$f":"IFERROR(VLOOKUP(A2807,Base!$A$2:$D$460,3,0),\"\")","v":""},{"$f":"IFERROR(VLOOKUP(A2807,Base!$A$2:$D$460,4,0),\"\")","v":""},null,null,null,null,null,null,null,null,null,null,null,null,null,0]
[null,{"$f":"IFERROR(VLOOKUP(A2808,Base!$A$2:$D$460,2,0),\"\")","v":""},{"$f":"IFERROR(VLOOKUP(A2808,Base!$A$2:$D$460,3,0),\"\")","v":""},{"$f":"IFERROR(VLOOKUP(A2808,Base!$A$2:$D$460,4,0),\"\")","v":""},null,null,null,null,null,null,null,null,null,null,null,null,null,0]
[null,{"$f":"IFERROR(VLOOKUP(A2809,Base!$A$2:$D$460,2,0),\"\")","v":""},{"$f":"IFERROR(VLOOKUP(A2809,Base!$A$2:$D$460,3,0),\"\")","v":""},{"$f":"IFERROR(VLOOKUP(A2809,Base!$A$2:$D$460,4,0),\"\")","v":""},null,null,null,null,null,null,null,null,null,null,null,null,null,0]
[null,{"$f":"IFERROR(VLOOKUP(A2810,Base!$A$2:$D$460,2,0),\"\")","v":""},{"$f":"IFERROR(VLOOKUP(A2810,Base!$A$2:$D$460,3,0),\"\")","v":""},{"$f":"IFERROR(VLOOKUP(A2810,Base!$A$2:$D$460,4,0),\"\")","v":""},null,null,null,null,null,null,null,null,null,null,null,null,null,0]
[null,{"$f":"IFERROR(VLOOKUP(A2811,Base!$A$2:$D$460,2,0),\"\")","v":""},{"$f":"IFERROR(VLOOKUP(A2811,Base!$A$2:$D$460,3,0),\"\")","v":""},{"$f":"IFERROR(VLOOKUP(A2811,Base!$A$2:$D$460,4,0),\"\")","v":""},null,null,null,null,null,null,null,null,null,null,null,null,null,0]
[null,{"$f":"IFERROR(VLOOKUP(A2812,Base!$A$2:$D$460,2,0),\"\")","v":""},{"$f":"IFERROR(VLOOKUP(A2812,Base!$A$2:$D$460,3,0),\"\")","v":""},{"$f":"IFERROR(VLOOKUP(A2812,Base!$A$2:$D$460,4,0),\"\")","v":""},null,null,null,null,null,null,null,null,null,null,null,null,null,0]
[null,{"$f":"IFERROR(VLOOKUP(A2813,Base!$A$2:$D$460,2,0),\"\")","v":""},{"$f":"IFERROR(VLOOKUP(A2813,Base!$A$2:$D$460,3,0),\"\")","v":""},{"$f":"IFERROR(VLOOKUP(A2813,Base!$A$2:$D$460,4,0),\"\")","v":""},null,null,null,null,null,null,null,null,null,null,null,null,null,0]
[null,{"$f":"IFERROR(VLOOKUP(A2814,Base!$A$2:$D$460,2,0),\"\")","v":""},{"$f":"IFERROR(VLOOKUP(A2814,Base!$A$2:$D$460,3,0),\"\")","v":""},{"$f":"IFERROR(VLOOKUP(A2814,Base!$A$2:$D$460,4,0),\"\")","v":""},null,null,null,null,null,null,null,null,null,null,null,null,null,0]
[null,{"$f":"IFERROR(VLOOKUP(A2815,Base!$A$2:$D$460,2,0),\"\")","v":""},{"$f":"IFERROR(VLOOKUP(A2815,Base!$A$2:$D$460,3,0),\"\")","v":""},{"$f":"IFERROR(VLOOKUP(A2815,Base!$A$2:$D$460,4,0),\"\")","v":""},null,null,null,null,null,null,null,null,null,null,null,null,null,0]
[null,{"$f":"IFERROR(VLOOKUP(A2816,Base!$A$2:$D$460,2,0),\"\")","v":""},{"$f":"IFERROR(VLOOKUP(A2816,Base!$A$2:$D$460,3,0),\"\")","v":""},{"$f":"IFERROR(VLOOKUP(A2816,Base!$A$2:$D$460,4,0),\"\")","v":""},null,null,null,null,null,null,null,null,null,null,null,null,null,0]
[null,{"$f":"IFERROR(VLOOKUP(A2817,Base!$A$2:$D$460,2,0),\"\")","v":""},{"$f":"IFERROR(VLOOKUP(A2817,Base!$A$2:$D$460,3,0),\"\")","v":""},{"$f":"IFERROR(VLOOKUP(A2817,Base!$A$2:$D$460,4,0),\"\")","v":""},null,null,null,null,null,null,null,null,null,null,null,null,null,0]
[null,{"$f":"IFERROR(VLOOKUP(A2818,Base!$A$2:$D$460,2,0),\"\")","v":""},{"$f":"IFERROR(VLOOKUP(A2818,Base!$A$2:$D$460,3,0),\"\")","v":""},{"$f":"IFERROR(VLOOKUP(A2818,Base!$A$2:$D$460,4,0),\"\")","v":""},null,null,null,null,null,null,null,null,null,null,null,null,null,0]
[null,{"$f":"IFERROR(VLOOKUP(A2819,Base!$A$2:$D$460,2,0),\"\")","v":""},{"$f":"IFERROR(VLOOKUP(A2819,Base!$A$2:$D$460,3,0),\"\")","v":""},{"$f":"IFERROR(VLOOKUP(A2819,Base!$A$2:$D$460,4,0),\"\")","v":""},null,null,null,null,null,null,null,null,null,null,null,null,null,0]
[null,{"$f":"IFERROR(VLOOKUP(A2820,Base!$A$2:$D$460,2,0),\"\")","v":""},{"$f":"IFERROR(VLOOKUP(A2820,Base!$A$2:$D$460,3,0),\"\")","v":""},{"$f":"IFERROR(VLOOKUP(A2820,Base!$A$2:$D$460,4,0),\"\")","v":""},null,null,null,null,null,null,null,null,null,null,null,null,null,0]
[null,{"$f":"IFERROR(VLOOKUP(A2821,Base!$A$2:$D$460,2,0),\"\")","v":""},{"$f":"IFERROR(VLOOKUP(A2821,Base!$A$2:$D$460,3,0),\"\")","v":""},{"$f":"IFERROR(VLOOKUP(A2821,Base!$A$2:$D$460,4,0),\"\")","v":""},null,null,null,null,null,null,null,null,null,null,null,null,null,0]
[null,{"$f":"IFERROR(VLOOKUP(A2822,Base!$A$2:$D$460,2,0),\"\")","v":""},{"$f":"IFERROR(VLOOKUP(A2822,Base!$A$2:$D$460,3,0),\"\")","v":""},{"$f":"IFERROR(VLOOKUP(A2822,Base!$A$2:$D$460,4,0),\"\")","v":""},null,null,null,null,null,null,null,null,null,null,null,null,null,0]
[null,{"$f":"IFERROR(VLOOKUP(A2823,Base!$A$2:$D$460,2,0),\"\")","v":""},{"$f":"IFERROR(VLOOKUP(A2823,Base!$A$2:$D$460,3,0),\"\")","v":""},{"$f":"IFERROR(VLOOKUP(A2823,Base!$A$2:$D$460,4,0),\"\")","v":""},null,null,null,null,null,null,null,null,null,null,null,null,null,0]
[null,{"$f":"IFERROR(VLOOKUP(A2824,Base!$A$2:$D$460,2,0),\"\")","v":""},{"$f":"IFERROR(VLOOKUP(A2824,Base!$A$2:$D$460,3,0),\"\")","v":""},{"$f":"IFERROR(VLOOKUP(A2824,Base!$A$2:$D$460,4,0),\"\")","v":""},null,null,null,null,null,null,null,null,null,null,null,null,null,0]
[null,{"$f":"IFERROR(VLOOKUP(A2825,Base!$A$2:$D$460,2,0),\"\")","v":""},{"$f":"IFERROR(VLOOKUP(A2825,Base!$A$2:$D$460,3,0),\"\")","v":""},{"$f":"IFERROR(VLOOKUP(A2825,Base!$A$2:$D$460,4,0),\"\")","v":""},null,null,null,null,null,null,null,null,null,null,null,null,null,0]
[null,{"$f":"IFERROR(VLOOKUP(A2826,Base!$A$2:$D$460,2,0),\"\")","v":""},{"$f":"IFERROR(VLOOKUP(A2826,Base!$A$2:$D$460,3,0),\"\")","v":""},{"$f":"IFERROR(VLOOKUP(A2826,Base!$A$2:$D$460,4,0),\"\")","v":""},null,null,null,null,null,null,null,null,null,null,null,null,null,0]
[null,{"$f":"IFERROR(VLOOKUP(A2827,Base!$A$2:$D$460,2,0),\"\")","v":""},{"$f":"IFERROR(VLOOKUP(A2827,Base!$A$2:$D$460,3,0),\"\")","v":""},{"$f":"IFERROR(VLOOKUP(A2827,Base!$A$2:$D$460,4,0),\"\")","v":""},null,null,null,null,null,null,null,null,null,null,null,null,null,0]
[null,{"$f":"IFERROR(VLOOKUP(A2828,Base!$A$2:$D$460,2,0),\"\")","v":""},{"$f":"IFERROR(VLOOKUP(A2828,Base!$A$2:$D$460,3,0),\"\")","v":""},{"$f":"IFERROR(VLOOKUP(A2828,Base!$A$2:$D$460,4,0),\"\")","v":""},null,null,null,null,null,null,null,null,null,null,null,null,null,0]
[null,{"$f":"IFERROR(VLOOKUP(A2829,Base!$A$2:$D$460,2,0),\"\")","v":""},{"$f":"IFERROR(VLOOKUP(A2829,Base!$A$2:$D$460,3,0),\"\")","v":""},{"$f":"IFERROR(VLOOKUP(A2829,Base!$A$2:$D$460,4,0),\"\")","v":""},null,null,null,null,null,null,null,null,null,null,null,null,null,0]
[null,{"$f":"IFERROR(VLOOKUP(A2830,Base!$A$2:$D$460,2,0),\"\")","v":""},{"$f":"IFERROR(VLOOKUP(A2830,Base!$A$2:$D$460,3,0),\"\")","v":""},{"$f":"IFERROR(VLOOKUP(A2830,Base!$A$2:$D$460,4,0),\"\")","v":""},null,null,null,null,null,null,null,null,null,null,null,null,null,0]
[null,{"$f":"IFERROR(VLOOKUP(A2831,Base!$A$2:$D$460,2,0),\"\")","v":""},{"$f":"IFERROR(VLOOKUP(A2831,Base!$A$2:$D$460,3,0),\"\")","v":""},{"$f":"IFERROR(VLOOKUP(A2831,Base!$A$2:$D$460,4,0),\"\")","v":""},null,null,null,null,null,null,null,null,null,null,null,null,null,0]
[null,{"$f":"IFERROR(VLOOKUP(A2832,Base!$A$2:$D$460,2,0),\"\")","v":""},{"$f":"IFERROR(VLOOKUP(A2832,Base!$A$2:$D$460,3,0),\"\")","v":""},{"$f":"IFERROR(VLOOKUP(A2832,Base!$A$2:$D$460,4,0),\"\")","v":""},null,null,null,null,null,null,null,null,null,null,null,null,null,0]
[null,{"$f":"IFERROR(VLOOKUP(A2833,Base!$A$2:$D$460,2,0),\"\")","v":""},{"$f":"IFERROR(VLOOKUP(A2833,Base!$A$2:$D$460,3,0),\"\")","v":""},{"$f":"IFERROR(VLOOKUP(A2833,Base!$A$2:$D$460,4,0),\"\")","v":""},null,null,null,null,null,null,null,null,null,null,null,null,null,0]
[null,{"$f":"IFERROR(VLOOKUP(A2834,Base!$A$2:$D$460,2,0),\"\")","v":""},{"$f":"IFERROR(VLOOKUP(A2834,Base!$A$2:$D$460,3,0),\"\")","v":""},{"$f":"IFERROR(VLOOKUP(A2834,Base!$A$2:$D$460,4,0),\"\")","v":""},null,null,null,null,null,null,null,null,null,null,null,null,null,0]
[null,{"$f":"IFERROR(VLOOKUP(A2835,Base!$A$2:$D$460,2,0),\"\")","v":""},{"$f":"IFERROR(VLOOKUP(A2835,Base!$A$2:$D$460,3,0),\"\")","v":""},{"$f":"IFERROR(VLOOKUP(A2835,Base!$A$2:$D$460,4,0),\"\")","v":""},null,null,null,null,null,null,null,null,null,null,null,null,null,0]
[null,{"$f":"IFERROR(VLOOKUP(A2836,Base!$A$2:$D$460,2,0),\"\")","v":""},{"$f":"IFERROR(VLOOKUP(A2836,Base!$A$2:$D$460,3,0),\"\")","v":""},{"$f":"IFERROR(VLOOKUP(A2836,Base!$A$2:$D$460,4,0),\"\")","v":""},null,null,null,null,null,null,null,null,null,null,null,null,null,0]
[null,{"$f":"IFERROR(VLOOKUP(A2837,Base!$A$2:$D$460,2,0),\"\")","v":""},{"$f":"IFERROR(VLOOKUP(A2837,Base!$A$2:$D$460,3,0),\"\")","v":""},{"$f":"IFERROR(VLOOKUP(A2837,Base!$A$2:$D$460,4,0),\"\")","v":""},null,null,null,null,null,null,null,null,null,null,null,null,null,0]
[null,{"$f":"IFERROR(VLOOKUP(A2838,Base!$A$2:$D$460,2,0),\"\")","v":""},{"$f":"IFERROR(VLOOKUP(A2838,Base!$A$2:$D$460,3,0),\"\")","v":""},{"$f":"IFERROR(VLOOKUP(A2838,Base!$A$2:$D$460,4,0),\"\")","v":""},null,null,null,null,null,null,null,null,null,null,null,null,null,0]
[null,{"$f":"IFERROR(VLOOKUP(A2839,Base!$A$2:$D$460,2,0),\"\")","v":""},{"$f":"IFERROR(VLOOKUP(A2839,Base!$A$2:$D$460,3,0),\"\")","v":""},{"$f":"IFERROR(VLOOKUP(A2839,Base!$A$2:$D$460,4,0),\"\")","v":""},null,null,null,null,null,null,null,null,null,null,null,null,null,0]
[null,{"$f":"IFERROR(VLOOKUP(A2840,Base!$A$2:$D$460,2,0),\"\")","v":""},{"$f":"IFERROR(VLOOKUP(A2840,Base!$A$2:$D$460,3,0),\"\")","v":""},{"$f":"IFERROR(VLOOKUP(A2840,Base!$A$2:$D$460,4,0),\"\")","v":""},null,null,null,null,null,null,null,null,null,null,null,null,null,0]
[null,{"$f":"IFERROR(VLOOKUP(A2841,Base!$A$2:$D$460,2,0),\"\")","v":""},{"$f":"IFERROR(VLOOKUP(A2841,Base!$A$2:$D$460,3,0),\"\")","v":""},{"$f":"IFERROR(VLOOKUP(A2841,Base!$A$2:$D$460,4,0),\"\")","v":""},null,null,null,null,null,null,null,null,null,null,null,null,null,0]
[null,{"$f":"IFERROR(VLOOKUP(A2842,Base!$A$2:$D$460,2,0),\"\")","v":""},{"$f":"IFERROR(VLOOKUP(A2842,Base!$A$2:$D$460,3,0),\"\")","v":""},{"$f":"IFERROR(VLOOKUP(A2842,Base!$A$2:$D$460,4,0),\"\")","v":""},null,null,null,null,null,null,null,null,null,null,null,null,null,0]
[null,{"$f":"IFERROR(VLOOKUP(A2843,Base!$A$2:$D$460,2,0),\"\")","v":""},{"$f":"IFERROR(VLOOKUP(A2843,Base!$A$2:$D$460,3,0),\"\")","v":""},{"$f":"IFERROR(VLOOKUP(A2843,Base!$A$2:$D$460,4,0),\"\")","v":""},null,null,null,null,null,null,null,null,null,null,null,null,null,0]
[null,{"$f":"IFERROR(VLOOKUP(A2844,Base!$A$2:$D$460,2,0),\"\")","v":""},{"$f":"IFERROR(VLOOKUP(A2844,Base!$A$2:$D$460,3,0),\"\")","v":""},{"$f":"IFERROR(VLOOKUP(A2844,Base!$A$2:$D$460,4,0),\"\")","v":""},null,null,null,null,null,null,null,null,null,null,null,null,null,0]
[null,{"$f":"IFERROR(VLOOKUP(A2845,Base!$A$2:$D$460,2,0),\"\")","v":""},{"$f":"IFERROR(VLOOKUP(A2845,Base!$A$2:$D$460,3,0),\"\")","v":""},{"$f":"IFERROR(VLOOKUP(A2845,Base!$A$2:$D$460,4,0),\"\")","v":""},null,null,null,null,null,null,null,null,null,null,null,null,null,0]
[null,{"$f":"IFERROR(VLOOKUP(A2846,Base!$A$2:$D$460,2,0),\"\")","v":""},{"$f":"IFERROR(VLOOKUP(A2846,Base!$A$2:$D$460,3,0),\"\")","v":""},{"$f":"IFERROR(VLOOKUP(A2846,Base!$A$2:$D$460,4,0),\"\")","v":""},null,null,null,null,null,null,null,null,null,null,null,null,null,0]
[null,{"$f":"IFERROR(VLOOKUP(A2847,Base!$A$2:$D$460,2,0),\"\")","v":""},{"$f":"IFERROR(VLOOKUP(A2847,Base!$A$2:$D$460,3,0),\"\")","v":""},{"$f":"IFERROR(VLOOKUP(A2847,Base!$A$2:$D$460,4,0),\"\")","v":""},null,null,null,null,null,null,null,null,null,null,null,null,null,0]
[null,{"$f":"IFERROR(VLOOKUP(A2848,Base!$A$2:$D$460,2,0),\"\")","v":""},{"$f":"IFERROR(VLOOKUP(A2848,Base!$A$2:$D$460,3,0),\"\")","v":""},{"$f":"IFERROR(VLOOKUP(A2848,Base!$A$2:$D$460,4,0),\"\")","v":""},null,null,null,null,null,null,null,null,null,null,null,null,null,0]
[null,{"$f":"IFERROR(VLOOKUP(A2849,Base!$A$2:$D$460,2,0),\"\")","v":""},{"$f":"IFERROR(VLOOKUP(A2849,Base!$A$2:$D$460,3,0),\"\")","v":""},{"$f":"IFERROR(VLOOKUP(A2849,Base!$A$2:$D$460,4,0),\"\")","v":""},null,null,null,null,null,null,null,null,null,null,null,null,null,0]
[null,{"$f":"IFERROR(VLOOKUP(A2850,Base!$A$2:$D$460,2,0),\"\")","v":""},{"$f":"IFERROR(VLOOKUP(A2850,Base!$A$2:$D$460,3,0),\"\")","v":""},{"$f":"IFERROR(VLOOKUP(A2850,Base!$A$2:$D$460,4,0),\"\")","v":""},null,null,null,null,null,null,null,null,null,null,null,null,null,0]
[null,{"$f":"IFERROR(VLOOKUP(A2851,Base!$A$2:$D$460,2,0),\"\")","v":""},{"$f":"IFERROR(VLOOKUP(A2851,Base!$A$2:$D$460,3,0),\"\")","v":""},{"$f":"IFERROR(VLOOKUP(A2851,Base!$A$2:$D$460,4,0),\"\")","v":""},null,null,null,null,null,null,null,null,null,null,null,null,null,0]
[null,{"$f":"IFERROR(VLOOKUP(A2852,Base!$A$2:$D$460,2,0),\"\")","v":""},{"$f":"IFERROR(VLOOKUP(A2852,Base!$A$2:$D$460,3,0),\"\")","v":""},{"$f":"IFERROR(VLOOKUP(A2852,Base!$A$2:$D$460,4,0),\"\")","v":""},null,null,null,null,null,null,null,null,null,null,null,null,null,0]
[null,{"$f":"IFERROR(VLOOKUP(A2853,Base!$A$2:$D$460,2,0),\"\")","v":""},{"$f":"IFERROR(VLOOKUP(A2853,Base!$A$2:$D$460,3,0),\"\")","v":""},{"$f":"IFERROR(VLOOKUP(A2853,Base!$A$2:$D$460,4,0),\"\")","v":""},null,null,null,null,null,null,null,null,null,null,null,null,null,0]
[null,{"$f":"IFERROR(VLOOKUP(A2854,Base!$A$2:$D$460,2,0),\"\")","v":""},{"$f":"IFERROR(VLOOKUP(A2854,Base!$A$2:$D$460,3,0),\"\")","v":""},{"$f":"IFERROR(VLOOKUP(A2854,Base!$A$2:$D$460,4,0),\"\")","v":""},null,null,null,null,null,null,null,null,null,null,null,null,null,0]
[null,{"$f":"IFERROR(VLOOKUP(A2855,Base!$A$2:$D$460,2,0),\"\")","v":""},{"$f":"IFERROR(VLOOKUP(A2855,Base!$A$2:$D$460,3,0),\"\")","v":""},{"$f":"IFERROR(VLOOKUP(A2855,Base!$A$2:$D$460,4,0),\"\")","v":""},null,null,null,null,null,null,null,null,null,null,null,null,null,{"$f":"SUM(N2855:Q2855)/4","v":0}]
[null,{"$f":"IFERROR(VLOOKUP(A2856,Base!$A$2:$D$460,2,0),\"\")","v":""},{"$f":"IFERROR(VLOOKUP(A2856,Base!$A$2:$D$460,3,0),\"\")","v":""},{"$f":"IFERROR(VLOOKUP(A2856,Base!$A$2:$D$460,4,0),\"\")","v":""},null,null,null,null,null,null,null,null,null,null,null,null,null,0]
[null,{"$f":"IFERROR(VLOOKUP(A2857,Base!$A$2:$D$460,2,0),\"\")","v":""},{"$f":"IFERROR(VLOOKUP(A2857,Base!$A$2:$D$460,3,0),\"\")","v":""},{"$f":"IFERROR(VLOOKUP(A2857,Base!$A$2:$D$460,4,0),\"\")","v":""},null,null,null,null,null,null,null,null,null,null,null,null,null,0]
[null,{"$f":"IFERROR(VLOOKUP(A2858,Base!$A$2:$D$460,2,0),\"\")","v":""},{"$f":"IFERROR(VLOOKUP(A2858,Base!$A$2:$D$460,3,0),\"\")","v":""},{"$f":"IFERROR(VLOOKUP(A2858,Base!$A$2:$D$460,4,0),\"\")","v":""},null,null,null,null,null,null,null,null,null,null,null,null,null,0]
[null,{"$f":"IFERROR(VLOOKUP(A2859,Base!$A$2:$D$460,2,0),\"\")","v":""},{"$f":"IFERROR(VLOOKUP(A2859,Base!$A$2:$D$460,3,0),\"\")","v":""},{"$f":"IFERROR(VLOOKUP(A2859,Base!$A$2:$D$460,4,0),\"\")","v":""},null,null,null,null,null,null,null,null,null,null,null,null,null,0]
[null,{"$f":"IFERROR(VLOOKUP(A2860,Base!$A$2:$D$460,2,0),\"\")","v":""},{"$f":"IFERROR(VLOOKUP(A2860,Base!$A$2:$D$460,3,0),\"\")","v":""},{"$f":"IFERROR(VLOOKUP(A2860,Base!$A$2:$D$460,4,0),\"\")","v":""},null,null,null,null,null,null,null,null,null,null,null,null,null,0]
[null,{"$f":"IFERROR(VLOOKUP(A2861,Base!$A$2:$D$460,2,0),\"\")","v":""},{"$f":"IFERROR(VLOOKUP(A2861,Base!$A$2:$D$460,3,0),\"\")","v":""},{"$f":"IFERROR(VLOOKUP(A2861,Base!$A$2:$D$460,4,0),\"\")","v":""},null,null,null,null,null,null,null,null,null,null,null,null,null,0]
[null,{"$f":"IFERROR(VLOOKUP(A2862,Base!$A$2:$D$460,2,0),\"\")","v":""},{"$f":"IFERROR(VLOOKUP(A2862,Base!$A$2:$D$460,3,0),\"\")","v":""},{"$f":"IFERROR(VLOOKUP(A2862,Base!$A$2:$D$460,4,0),\"\")","v":""},null,null,null,null,null,null,null,null,null,null,null,null,null,0]
[null,{"$f":"IFERROR(VLOOKUP(A2863,Base!$A$2:$D$460,2,0),\"\")","v":""},{"$f":"IFERROR(VLOOKUP(A2863,Base!$A$2:$D$460,3,0),\"\")","v":""},{"$f":"IFERROR(VLOOKUP(A2863,Base!$A$2:$D$460,4,0),\"\")","v":""},null,null,null,null,null,null,null,null,null,null,null,null,null,0]
[null,{"$f":"IFERROR(VLOOKUP(A2864,Base!$A$2:$D$460,2,0),\"\")","v":""},{"$f":"IFERROR(VLOOKUP(A2864,Base!$A$2:$D$460,3,0),\"\")","v":""},{"$f":"IFERROR(VLOOKUP(A2864,Base!$A$2:$D$460,4,0),\"\")","v":""},null,null,null,null,null,null,null,null,null,null,null,null,null,0]
[null,{"$f":"IFERROR(VLOOKUP(A2865,Base!$A$2:$D$460,2,0),\"\")","v":""},{"$f":"IFERROR(VLOOKUP(A2865,Base!$A$2:$D$460,3,0),\"\")","v":""},{"$f":"IFERROR(VLOOKUP(A2865,Base!$A$2:$D$460,4,0),\"\")","v":""},null,null,null,null,null,null,null,null,null,null,null,null,null,0]
[null,{"$f":"IFERROR(VLOOKUP(A2866,Base!$A$2:$D$460,2,0),\"\")","v":""},{"$f":"IFERROR(VLOOKUP(A2866,Base!$A$2:$D$460,3,0),\"\")","v":""},{"$f":"IFERROR(VLOOKUP(A2866,Base!$A$2:$D$460,4,0),\"\")","v":""},null,null,null,null,null,null,null,null,null,null,null,null,null,0]
[null,{"$f":"IFERROR(VLOOKUP(A2867,Base!$A$2:$D$460,2,0),\"\")","v":""},{"$f":"IFERROR(VLOOKUP(A2867,Base!$A$2:$D$460,3,0),\"\")","v":""},{"$f":"IFERROR(VLOOKUP(A2867,Base!$A$2:$D$460,4,0),\"\")","v":""},null,null,null,null,null,null,null,null,null,null,null,null,null,0]
[null,{"$f":"IFERROR(VLOOKUP(A2868,Base!$A$2:$D$460,2,0),\"\")","v":""},{"$f":"IFERROR(VLOOKUP(A2868,Base!$A$2:$D$460,3,0),\"\")","v":""},{"$f":"IFERROR(VLOOKUP(A2868,Base!$A$2:$D$460,4,0),\"\")","v":""},null,null,null,null,null,null,null,null,null,null,null,null,null,0]
[null,{"$f":"IFERROR(VLOOKUP(A2869,Base!$A$2:$D$460,2,0),\"\")","v":""},{"$f":"IFERROR(VLOOKUP(A2869,Base!$A$2:$D$460,3,0),\"\")","v":""},{"$f":"IFERROR(VLOOKUP(A2869,Base!$A$2:$D$460,4,0),\"\")","v":""},null,null,null,null,null,null,null,null,null,null,null,null,null,0]
[null,{"$f":"IFERROR(VLOOKUP(A2870,Base!$A$2:$D$460,2,0),\"\")","v":""},{"$f":"IFERROR(VLOOKUP(A2870,Base!$A$2:$D$460,3,0),\"\")","v":""},{"$f":"IFERROR(VLOOKUP(A2870,Base!$A$2:$D$460,4,0),\"\")","v":""},null,null,null,null,null,null,null,null,null,null,null,null,null,0]
[null,{"$f":"IFERROR(VLOOKUP(A2871,Base!$A$2:$D$460,2,0),\"\")","v":""},{"$f":"IFERROR(VLOOKUP(A2871,Base!$A$2:$D$460,3,0),\"\")","v":""},{"$f":"IFERROR(VLOOKUP(A2871,Base!$A$2:$D$460,4,0),\"\")","v":""},null,null,null,null,null,null,null,null,null,null,null,null,null,0]
[null,{"$f":"IFERROR(VLOOKUP(A2872,Base!$A$2:$D$460,2,0),\"\")","v":""},{"$f":"IFERROR(VLOOKUP(A2872,Base!$A$2:$D$460,3,0),\"\")","v":""},{"$f":"IFERROR(VLOOKUP(A2872,Base!$A$2:$D$460,4,0),\"\")","v":""},null,null,null,null,null,null,null,null,null,null,null,null,null,0]
[null,{"$f":"IFERROR(VLOOKUP(A2873,Base!$A$2:$D$460,2,0),\"\")","v":""},{"$f":"IFERROR(VLOOKUP(A2873,Base!$A$2:$D$460,3,0),\"\")","v":""},{"$f":"IFERROR(VLOOKUP(A2873,Base!$A$2:$D$460,4,0),\"\")","v":""},null,null,null,null,null,null,null,null,null,null,null,null,null,0]
[null,{"$f":"IFERROR(VLOOKUP(A2874,Base!$A$2:$D$460,2,0),\"\")","v":""},{"$f":"IFERROR(VLOOKUP(A2874,Base!$A$2:$D$460,3,0),\"\")","v":""},{"$f":"IFERROR(VLOOKUP(A2874,Base!$A$2:$D$460,4,0),\"\")","v":""},null,null,null,null,null,null,null,null,null,null,null,null,null,0]
[null,{"$f":"IFERROR(VLOOKUP(A2875,Base!$A$2:$D$460,2,0),\"\")","v":""},{"$f":"IFERROR(VLOOKUP(A2875,Base!$A$2:$D$460,3,0),\"\")","v":""},{"$f":"IFERROR(VLOOKUP(A2875,Base!$A$2:$D$460,4,0),\"\")","v":""},null,null,null,null,null,null,null,null,null,null,null,null,null,0]
[null,{"$f":"IFERROR(VLOOKUP(A2876,Base!$A$2:$D$460,2,0),\"\")","v":""},{"$f":"IFERROR(VLOOKUP(A2876,Base!$A$2:$D$460,3,0),\"\")","v":""},{"$f":"IFERROR(VLOOKUP(A2876,Base!$A$2:$D$460,4,0),\"\")","v":""},null,null,null,null,null,null,null,null,null,null,null,null,null,0]
[null,{"$f":"IFERROR(VLOOKUP(A2877,Base!$A$2:$D$460,2,0),\"\")","v":""},{"$f":"IFERROR(VLOOKUP(A2877,Base!$A$2:$D$460,3,0),\"\")","v":""},{"$f":"IFERROR(VLOOKUP(A2877,Base!$A$2:$D$460,4,0),\"\")","v":""},null,null,null,null,null,null,null,null,null,null,null,null,null,0]
[null,{"$f":"IFERROR(VLOOKUP(A2878,Base!$A$2:$D$460,2,0),\"\")","v":""},{"$f":"IFERROR(VLOOKUP(A2878,Base!$A$2:$D$460,3,0),\"\")","v":""},{"$f":"IFERROR(VLOOKUP(A2878,Base!$A$2:$D$460,4,0),\"\")","v":""},null,null,null,null,null,null,null,null,null,null,null,null,null,0]
[null,{"$f":"IFERROR(VLOOKUP(A2879,Base!$A$2:$D$460,2,0),\"\")","v":""},{"$f":"IFERROR(VLOOKUP(A2879,Base!$A$2:$D$460,3,0),\"\")","v":""},{"$f":"IFERROR(VLOOKUP(A2879,Base!$A$2:$D$460,4,0),\"\")","v":""},null,null,null,null,null,null,null,null,null,null,null,null,null,0]
[null,{"$f":"IFERROR(VLOOKUP(A2880,Base!$A$2:$D$460,2,0),\"\")","v":""},{"$f":"IFERROR(VLOOKUP(A2880,Base!$A$2:$D$460,3,0),\"\")","v":""},{"$f":"IFERROR(VLOOKUP(A2880,Base!$A$2:$D$460,4,0),\"\")","v":""},null,null,null,null,null,null,null,null,null,null,null,null,null,0]
[null,{"$f":"IFERROR(VLOOKUP(A2881,Base!$A$2:$D$460,2,0),\"\")","v":""},{"$f":"IFERROR(VLOOKUP(A2881,Base!$A$2:$D$460,3,0),\"\")","v":""},{"$f":"IFERROR(VLOOKUP(A2881,Base!$A$2:$D$460,4,0),\"\")","v":""},null,null,null,null,null,null,null,null,null,null,null,null,null,0]
[null,{"$f":"IFERROR(VLOOKUP(A2882,Base!$A$2:$D$460,2,0),\"\")","v":""},{"$f":"IFERROR(VLOOKUP(A2882,Base!$A$2:$D$460,3,0),\"\")","v":""},{"$f":"IFERROR(VLOOKUP(A2882,Base!$A$2:$D$460,4,0),\"\")","v":""},null,null,null,null,null,null,null,null,null,null,null,null,null,0]
[null,{"$f":"IFERROR(VLOOKUP(A2883,Base!$A$2:$D$460,2,0),\"\")","v":""},{"$f":"IFERROR(VLOOKUP(A2883,Base!$A$2:$D$460,3,0),\"\")","v":""},{"$f":"IFERROR(VLOOKUP(A2883,Base!$A$2:$D$460,4,0),\"\")","v":""},null,null,null,null,null,null,null,null,null,null,null,null,null,0]
[null,{"$f":"IFERROR(VLOOKUP(A2884,Base!$A$2:$D$460,2,0),\"\")","v":""},{"$f":"IFERROR(VLOOKUP(A2884,Base!$A$2:$D$460,3,0),\"\")","v":""},{"$f":"IFERROR(VLOOKUP(A2884,Base!$A$2:$D$460,4,0),\"\")","v":""},null,null,null,null,null,null,null,null,null,null,null,null,null,0]
[null,{"$f":"IFERROR(VLOOKUP(A2885,Base!$A$2:$D$460,2,0),\"\")","v":""},{"$f":"IFERROR(VLOOKUP(A2885,Base!$A$2:$D$460,3,0),\"\")","v":""},{"$f":"IFERROR(VLOOKUP(A2885,Base!$A$2:$D$460,4,0),\"\")","v":""},null,null,null,null,null,null,null,null,null,null,null,null,null,0]
[null,{"$f":"IFERROR(VLOOKUP(A2886,Base!$A$2:$D$460,2,0),\"\")","v":""},{"$f":"IFERROR(VLOOKUP(A2886,Base!$A$2:$D$460,3,0),\"\")","v":""},{"$f":"IFERROR(VLOOKUP(A2886,Base!$A$2:$D$460,4,0),\"\")","v":""},null,null,null,null,null,null,null,null,null,null,null,null,null,0]
[null,{"$f":"IFERROR(VLOOKUP(A2887,Base!$A$2:$D$460,2,0),\"\")","v":""},{"$f":"IFERROR(VLOOKUP(A2887,Base!$A$2:$D$460,3,0),\"\")","v":""},{"$f":"IFERROR(VLOOKUP(A2887,Base!$A$2:$D$460,4,0),\"\")","v":""},null,null,null,null,null,null,null,null,null,null,null,null,null,0]
[null,{"$f":"IFERROR(VLOOKUP(A2888,Base!$A$2:$D$460,2,0),\"\")","v":""},{"$f":"IFERROR(VLOOKUP(A2888,Base!$A$2:$D$460,3,0),\"\")","v":""},{"$f":"IFERROR(VLOOKUP(A2888,Base!$A$2:$D$460,4,0),\"\")","v":""},null,null,null,null,null,null,null,null,null,null,null,null,null,0]
[null,{"$f":"IFERROR(VLOOKUP(A2889,Base!$A$2:$D$460,2,0),\"\")","v":""},{"$f":"IFERROR(VLOOKUP(A2889,Base!$A$2:$D$460,3,0),\"\")","v":""},{"$f":"IFERROR(VLOOKUP(A2889,Base!$A$2:$D$460,4,0),\"\")","v":""},null,null,null,null,null,null,null,null,null,null,null,null,null,0]
[null,{"$f":"IFERROR(VLOOKUP(A2890,Base!$A$2:$D$460,2,0),\"\")","v":""},{"$f":"IFERROR(VLOOKUP(A2890,Base!$A$2:$D$460,3,0),\"\")","v":""},{"$f":"IFERROR(VLOOKUP(A2890,Base!$A$2:$D$460,4,0),\"\")","v":""},null,null,null,null,null,null,null,null,null,null,null,null,null,0]
[null,{"$f":"IFERROR(VLOOKUP(A2891,Base!$A$2:$D$460,2,0),\"\")","v":""},{"$f":"IFERROR(VLOOKUP(A2891,Base!$A$2:$D$460,3,0),\"\")","v":""},{"$f":"IFERROR(VLOOKUP(A2891,Base!$A$2:$D$460,4,0),\"\")","v":""},null,null,null,null,null,null,null,null,null,null,null,null,null,0]
[null,{"$f":"IFERROR(VLOOKUP(A2892,Base!$A$2:$D$460,2,0),\"\")","v":""},{"$f":"IFERROR(VLOOKUP(A2892,Base!$A$2:$D$460,3,0),\"\")","v":""},{"$f":"IFERROR(VLOOKUP(A2892,Base!$A$2:$D$460,4,0),\"\")","v":""},null,null,null,null,null,null,null,null,null,null,null,null,null,0]
[null,{"$f":"IFERROR(VLOOKUP(A2893,Base!$A$2:$D$460,2,0),\"\")","v":""},{"$f":"IFERROR(VLOOKUP(A2893,Base!$A$2:$D$460,3,0),\"\")","v":""},{"$f":"IFERROR(VLOOKUP(A2893,Base!$A$2:$D$460,4,0),\"\")","v":""},null,null,null,null,null,null,null,null,null,null,null,null,null,0]
[null,{"$f":"IFERROR(VLOOKUP(A2894,Base!$A$2:$D$460,2,0),\"\")","v":""},{"$f":"IFERROR(VLOOKUP(A2894,Base!$A$2:$D$460,3,0),\"\")","v":""},{"$f":"IFERROR(VLOOKUP(A2894,Base!$A$2:$D$460,4,0),\"\")","v":""},null,null,null,null,null,null,null,null,null,null,null,null,null,0]
[null,{"$f":"IFERROR(VLOOKUP(A2895,Base!$A$2:$D$460,2,0),\"\")","v":""},{"$f":"IFERROR(VLOOKUP(A2895,Base!$A$2:$D$460,3,0),\"\")","v":""},{"$f":"IFERROR(VLOOKUP(A2895,Base!$A$2:$D$460,4,0),\"\")","v":""},null,null,null,null,null,null,null,null,null,null,null,null,null,0]
[null,{"$f":"IFERROR(VLOOKUP(A2896,Base!$A$2:$D$460,2,0),\"\")","v":""},{"$f":"IFERROR(VLOOKUP(A2896,Base!$A$2:$D$460,3,0),\"\")","v":""},{"$f":"IFERROR(VLOOKUP(A2896,Base!$A$2:$D$460,4,0),\"\")","v":""},null,null,null,null,null,null,null,null,null,null,null,null,null,0]
[null,{"$f":"IFERROR(VLOOKUP(A2897,Base!$A$2:$D$460,2,0),\"\")","v":""},{"$f":"IFERROR(VLOOKUP(A2897,Base!$A$2:$D$460,3,0),\"\")","v":""},{"$f":"IFERROR(VLOOKUP(A2897,Base!$A$2:$D$460,4,0),\"\")","v":""},null,null,null,null,null,null,null,null,null,null,null,null,null,0]
[null,{"$f":"IFERROR(VLOOKUP(A2898,Base!$A$2:$D$460,2,0),\"\")","v":""},{"$f":"IFERROR(VLOOKUP(A2898,Base!$A$2:$D$460,3,0),\"\")","v":""},{"$f":"IFERROR(VLOOKUP(A2898,Base!$A$2:$D$460,4,0),\"\")","v":""},null,null,null,null,null,null,null,null,null,null,null,null,null,0]
[null,{"$f":"IFERROR(VLOOKUP(A2899,Base!$A$2:$D$460,2,0),\"\")","v":""},{"$f":"IFERROR(VLOOKUP(A2899,Base!$A$2:$D$460,3,0),\"\")","v":""},{"$f":"IFERROR(VLOOKUP(A2899,Base!$A$2:$D$460,4,0),\"\")","v":""},null,null,null,null,null,null,null,null,null,null,null,null,null,0]
[null,{"$f":"IFERROR(VLOOKUP(A2900,Base!$A$2:$D$460,2,0),\"\")","v":""},{"$f":"IFERROR(VLOOKUP(A2900,Base!$A$2:$D$460,3,0),\"\")","v":""},{"$f":"IFERROR(VLOOKUP(A2900,Base!$A$2:$D$460,4,0),\"\")","v":""},null,null,null,null,null,null,null,null,null,null,null,null,null,0]
[null,{"$f":"IFERROR(VLOOKUP(A2901,Base!$A$2:$D$460,2,0),\"\")","v":""},{"$f":"IFERROR(VLOOKUP(A2901,Base!$A$2:$D$460,3,0),\"\")","v":""},{"$f":"IFERROR(VLOOKUP(A2901,Base!$A$2:$D$460,4,0),\"\")","v":""},null,null,null,null,null,null,null,null,null,null,null,null,null,0]
[null,{"$f":"IFERROR(VLOOKUP(A2902,Base!$A$2:$D$460,2,0),\"\")","v":""},{"$f":"IFERROR(VLOOKUP(A2902,Base!$A$2:$D$460,3,0),\"\")","v":""},{"$f":"IFERROR(VLOOKUP(A2902,Base!$A$2:$D$460,4,0),\"\")","v":""},null,null,null,null,null,null,null,null,null,null,null,null,null,0]
[null,{"$f":"IFERROR(VLOOKUP(A2903,Base!$A$2:$D$460,2,0),\"\")","v":""},{"$f":"IFERROR(VLOOKUP(A2903,Base!$A$2:$D$460,3,0),\"\")","v":""},{"$f":"IFERROR(VLOOKUP(A2903,Base!$A$2:$D$460,4,0),\"\")","v":""},null,null,null,null,null,null,null,null,null,null,null,null,null,0]
[null,{"$f":"IFERROR(VLOOKUP(A2904,Base!$A$2:$D$460,2,0),\"\")","v":""},{"$f":"IFERROR(VLOOKUP(A2904,Base!$A$2:$D$460,3,0),\"\")","v":""},{"$f":"IFERROR(VLOOKUP(A2904,Base!$A$2:$D$460,4,0),\"\")","v":""},null,null,null,null,null,null,null,null,null,null,null,null,null,0]
[null,{"$f":"IFERROR(VLOOKUP(A2905,Base!$A$2:$D$460,2,0),\"\")","v":""},{"$f":"IFERROR(VLOOKUP(A2905,Base!$A$2:$D$460,3,0),\"\")","v":""},{"$f":"IFERROR(VLOOKUP(A2905,Base!$A$2:$D$460,4,0),\"\")","v":""},null,null,null,null,null,null,null,null,null,null,null,null,null,0]
[null,{"$f":"IFERROR(VLOOKUP(A2906,Base!$A$2:$D$460,2,0),\"\")","v":""},{"$f":"IFERROR(VLOOKUP(A2906,Base!$A$2:$D$460,3,0),\"\")","v":""},{"$f":"IFERROR(VLOOKUP(A2906,Base!$A$2:$D$460,4,0),\"\")","v":""},null,null,null,null,null,null,null,null,null,null,null,null,null,0]
[null,{"$f":"IFERROR(VLOOKUP(A2907,Base!$A$2:$D$460,2,0),\"\")","v":""},{"$f":"IFERROR(VLOOKUP(A2907,Base!$A$2:$D$460,3,0),\"\")","v":""},{"$f":"IFERROR(VLOOKUP(A2907,Base!$A$2:$D$460,4,0),\"\")","v":""},null,null,null,null,null,null,null,null,null,null,null,null,null,0]
[null,{"$f":"IFERROR(VLOOKUP(A2908,Base!$A$2:$D$460,2,0),\"\")","v":""},{"$f":"IFERROR(VLOOKUP(A2908,Base!$A$2:$D$460,3,0),\"\")","v":""},{"$f":"IFERROR(VLOOKUP(A2908,Base!$A$2:$D$460,4,0),\"\")","v":""},null,null,null,null,null,null,null,null,null,null,null,null,null,0]
[null,{"$f":"IFERROR(VLOOKUP(A2909,Base!$A$2:$D$460,2,0),\"\")","v":""},{"$f":"IFERROR(VLOOKUP(A2909,Base!$A$2:$D$460,3,0),\"\")","v":""},{"$f":"IFERROR(VLOOKUP(A2909,Base!$A$2:$D$460,4,0),\"\")","v":""},null,null,null,null,null,null,null,null,null,null,null,null,null,0]
[null,{"$f":"IFERROR(VLOOKUP(A2910,Base!$A$2:$D$460,2,0),\"\")","v":""},{"$f":"IFERROR(VLOOKUP(A2910,Base!$A$2:$D$460,3,0),\"\")","v":""},{"$f":"IFERROR(VLOOKUP(A2910,Base!$A$2:$D$460,4,0),\"\")","v":""},null,null,null,null,null,null,null,null,null,null,null,null,null,0]
[null,{"$f":"IFERROR(VLOOKUP(A2911,Base!$A$2:$D$460,2,0),\"\")","v":""},{"$f":"IFERROR(VLOOKUP(A2911,Base!$A$2:$D$460,3,0),\"\")","v":""},{"$f":"IFERROR(VLOOKUP(A2911,Base!$A$2:$D$460,4,0),\"\")","v":""},null,null,null,null,null,null,null,null,null,null,null,null,null,0]
[null,{"$f":"IFERROR(VLOOKUP(A2912,Base!$A$2:$D$460,2,0),\"\")","v":""},{"$f":"IFERROR(VLOOKUP(A2912,Base!$A$2:$D$460,3,0),\"\")","v":""},{"$f":"IFERROR(VLOOKUP(A2912,Base!$A$2:$D$460,4,0),\"\")","v":""},null,null,null,null,null,null,null,null,null,null,null,null,null,0]
[null,{"$f":"IFERROR(VLOOKUP(A2913,Base!$A$2:$D$460,2,0),\"\")","v":""},{"$f":"IFERROR(VLOOKUP(A2913,Base!$A$2:$D$460,3,0),\"\")","v":""},{"$f":"IFERROR(VLOOKUP(A2913,Base!$A$2:$D$460,4,0),\"\")","v":""},null,null,null,null,null,null,null,null,null,null,null,null,null,0]
[null,{"$f":"IFERROR(VLOOKUP(A2914,Base!$A$2:$D$460,2,0),\"\")","v":""},{"$f":"IFERROR(VLOOKUP(A2914,Base!$A$2:$D$460,3,0),\"\")","v":""},{"$f":"IFERROR(VLOOKUP(A2914,Base!$A$2:$D$460,4,0),\"\")","v":""},null,null,null,null,null,null,null,null,null,null,null,null,null,0]
[null,{"$f":"IFERROR(VLOOKUP(A2915,Base!$A$2:$D$460,2,0),\"\")","v":""},{"$f":"IFERROR(VLOOKUP(A2915,Base!$A$2:$D$460,3,0),\"\")","v":""},{"$f":"IFERROR(VLOOKUP(A2915,Base!$A$2:$D$460,4,0),\"\")","v":""},null,null,null,null,null,null,null,null,null,null,null,null,null,0]
[null,{"$f":"IFERROR(VLOOKUP(A2916,Base!$A$2:$D$460,2,0),\"\")","v":""},{"$f":"IFERROR(VLOOKUP(A2916,Base!$A$2:$D$460,3,0),\"\")","v":""},{"$f":"IFERROR(VLOOKUP(A2916,Base!$A$2:$D$460,4,0),\"\")","v":""},null,null,null,null,null,null,null,null,null,null,null,null,null,0]
[null,{"$f":"IFERROR(VLOOKUP(A2917,Base!$A$2:$D$460,2,0),\"\")","v":""},{"$f":"IFERROR(VLOOKUP(A2917,Base!$A$2:$D$460,3,0),\"\")","v":""},{"$f":"IFERROR(VLOOKUP(A2917,Base!$A$2:$D$460,4,0),\"\")","v":""},null,null,null,null,null,null,null,null,null,null,null,null,null,0]
[null,{"$f":"IFERROR(VLOOKUP(A2918,Base!$A$2:$D$460,2,0),\"\")","v":""},{"$f":"IFERROR(VLOOKUP(A2918,Base!$A$2:$D$460,3,0),\"\")","v":""},{"$f":"IFERROR(VLOOKUP(A2918,Base!$A$2:$D$460,4,0),\"\")","v":""},null,null,null,null,null,null,null,null,null,null,null,null,null,0]
[null,{"$f":"IFERROR(VLOOKUP(A2919,Base!$A$2:$D$460,2,0),\"\")","v":""},{"$f":"IFERROR(VLOOKUP(A2919,Base!$A$2:$D$460,3,0),\"\")","v":""},{"$f":"IFERROR(VLOOKUP(A2919,Base!$A$2:$D$460,4,0),\"\")","v":""},null,null,null,null,null,null,null,null,null,null,null,null,null,{"$f":"SUM(N2919:Q2919)/4","v":0}]
[null,{"$f":"IFERROR(VLOOKUP(A2920,Base!$A$2:$D$460,2,0),\"\")","v":""},{"$f":"IFERROR(VLOOKUP(A2920,Base!$A$2:$D$460,3,0),\"\")","v":""},{"$f":"IFERROR(VLOOKUP(A2920,Base!$A$2:$D$460,4,0),\"\")","v":""},null,null,null,null,null,null,null,null,null,null,null,null,null,0]
[null,{"$f":"IFERROR(VLOOKUP(A2921,Base!$A$2:$D$460,2,0),\"\")","v":""},{"$f":"IFERROR(VLOOKUP(A2921,Base!$A$2:$D$460,3,0),\"\")","v":""},{"$f":"IFERROR(VLOOKUP(A2921,Base!$A$2:$D$460,4,0),\"\")","v":""},null,null,null,null,null,null,null,null,null,null,null,null,null,0]
[null,{"$f":"IFERROR(VLOOKUP(A2922,Base!$A$2:$D$460,2,0),\"\")","v":""},{"$f":"IFERROR(VLOOKUP(A2922,Base!$A$2:$D$460,3,0),\"\")","v":""},{"$f":"IFERROR(VLOOKUP(A2922,Base!$A$2:$D$460,4,0),\"\")","v":""},null,null,null,null,null,null,null,null,null,null,null,null,null,0]
[null,{"$f":"IFERROR(VLOOKUP(A2923,Base!$A$2:$D$460,2,0),\"\")","v":""},{"$f":"IFERROR(VLOOKUP(A2923,Base!$A$2:$D$460,3,0),\"\")","v":""},{"$f":"IFERROR(VLOOKUP(A2923,Base!$A$2:$D$460,4,0),\"\")","v":""},null,null,null,null,null,null,null,null,null,null,null,null,null,0]
[null,{"$f":"IFERROR(VLOOKUP(A2924,Base!$A$2:$D$460,2,0),\"\")","v":""},{"$f":"IFERROR(VLOOKUP(A2924,Base!$A$2:$D$460,3,0),\"\")","v":""},{"$f":"IFERROR(VLOOKUP(A2924,Base!$A$2:$D$460,4,0),\"\")","v":""},null,null,null,null,null,null,null,null,null,null,null,null,null,0]
[null,{"$f":"IFERROR(VLOOKUP(A2925,Base!$A$2:$D$460,2,0),\"\")","v":""},{"$f":"IFERROR(VLOOKUP(A2925,Base!$A$2:$D$460,3,0),\"\")","v":""},{"$f":"IFERROR(VLOOKUP(A2925,Base!$A$2:$D$460,4,0),\"\")","v":""},null,null,null,null,null,null,null,null,null,null,null,null,null,0]
[null,{"$f":"IFERROR(VLOOKUP(A2926,Base!$A$2:$D$460,2,0),\"\")","v":""},{"$f":"IFERROR(VLOOKUP(A2926,Base!$A$2:$D$460,3,0),\"\")","v":""},{"$f":"IFERROR(VLOOKUP(A2926,Base!$A$2:$D$460,4,0),\"\")","v":""},null,null,null,null,null,null,null,null,null,null,null,null,null,0]
[null,{"$f":"IFERROR(VLOOKUP(A2927,Base!$A$2:$D$460,2,0),\"\")","v":""},{"$f":"IFERROR(VLOOKUP(A2927,Base!$A$2:$D$460,3,0),\"\")","v":""},{"$f":"IFERROR(VLOOKUP(A2927,Base!$A$2:$D$460,4,0),\"\")","v":""},null,null,null,null,null,null,null,null,null,null,null,null,null,0]
[null,{"$f":"IFERROR(VLOOKUP(A2928,Base!$A$2:$D$460,2,0),\"\")","v":""},{"$f":"IFERROR(VLOOKUP(A2928,Base!$A$2:$D$460,3,0),\"\")","v":""},{"$f":"IFERROR(VLOOKUP(A2928,Base!$A$2:$D$460,4,0),\"\")","v":""},null,null,null,null,null,null,null,null,null,null,null,null,null,0]
[null,{"$f":"IFERROR(VLOOKUP(A2929,Base!$A$2:$D$460,2,0),\"\")","v":""},{"$f":"IFERROR(VLOOKUP(A2929,Base!$A$2:$D$460,3,0),\"\")","v":""},{"$f":"IFERROR(VLOOKUP(A2929,Base!$A$2:$D$460,4,0),\"\")","v":""},null,null,null,null,null,null,null,null,null,null,null,null,null,0]
[null,{"$f":"IFERROR(VLOOKUP(A2930,Base!$A$2:$D$460,2,0),\"\")","v":""},{"$f":"IFERROR(VLOOKUP(A2930,Base!$A$2:$D$460,3,0),\"\")","v":""},{"$f":"IFERROR(VLOOKUP(A2930,Base!$A$2:$D$460,4,0),\"\")","v":""},null,null,null,null,null,null,null,null,null,null,null,null,null,0]
[null,{"$f":"IFERROR(VLOOKUP(A2931,Base!$A$2:$D$460,2,0),\"\")","v":""},{"$f":"IFERROR(VLOOKUP(A2931,Base!$A$2:$D$460,3,0),\"\")","v":""},{"$f":"IFERROR(VLOOKUP(A2931,Base!$A$2:$D$460,4,0),\"\")","v":""},null,null,null,null,null,null,null,null,null,null,null,null,null,0]
[null,{"$f":"IFERROR(VLOOKUP(A2932,Base!$A$2:$D$460,2,0),\"\")","v":""},{"$f":"IFERROR(VLOOKUP(A2932,Base!$A$2:$D$460,3,0),\"\")","v":""},{"$f":"IFERROR(VLOOKUP(A2932,Base!$A$2:$D$460,4,0),\"\")","v":""},null,null,null,null,null,null,null,null,null,null,null,null,null,0]
[null,{"$f":"IFERROR(VLOOKUP(A2933,Base!$A$2:$D$460,2,0),\"\")","v":""},{"$f":"IFERROR(VLOOKUP(A2933,Base!$A$2:$D$460,3,0),\"\")","v":""},{"$f":"IFERROR(VLOOKUP(A2933,Base!$A$2:$D$460,4,0),\"\")","v":""},null,null,null,null,null,null,null,null,null,null,null,null,null,0]
[null,{"$f":"IFERROR(VLOOKUP(A2934,Base!$A$2:$D$460,2,0),\"\")","v":""},{"$f":"IFERROR(VLOOKUP(A2934,Base!$A$2:$D$460,3,0),\"\")","v":""},{"$f":"IFERROR(VLOOKUP(A2934,Base!$A$2:$D$460,4,0),\"\")","v":""},null,null,null,null,null,null,null,null,null,null,null,null,null,0]
[null,{"$f":"IFERROR(VLOOKUP(A2935,Base!$A$2:$D$460,2,0),\"\")","v":""},{"$f":"IFERROR(VLOOKUP(A2935,Base!$A$2:$D$460,3,0),\"\")","v":""},{"$f":"IFERROR(VLOOKUP(A2935,Base!$A$2:$D$460,4,0),\"\")","v":""},null,null,null,null,null,null,null,null,null,null,null,null,null,0]
[null,{"$f":"IFERROR(VLOOKUP(A2936,Base!$A$2:$D$460,2,0),\"\")","v":""},{"$f":"IFERROR(VLOOKUP(A2936,Base!$A$2:$D$460,3,0),\"\")","v":""},{"$f":"IFERROR(VLOOKUP(A2936,Base!$A$2:$D$460,4,0),\"\")","v":""},null,null,null,null,null,null,null,null,null,null,null,null,null,0]
[null,{"$f":"IFERROR(VLOOKUP(A2937,Base!$A$2:$D$460,2,0),\"\")","v":""},{"$f":"IFERROR(VLOOKUP(A2937,Base!$A$2:$D$460,3,0),\"\")","v":""},{"$f":"IFERROR(VLOOKUP(A2937,Base!$A$2:$D$460,4,0),\"\")","v":""},null,null,null,null,null,null,null,null,null,null,null,null,null,0]
[null,{"$f":"IFERROR(VLOOKUP(A2938,Base!$A$2:$D$460,2,0),\"\")","v":""},{"$f":"IFERROR(VLOOKUP(A2938,Base!$A$2:$D$460,3,0),\"\")","v":""},{"$f":"IFERROR(VLOOKUP(A2938,Base!$A$2:$D$460,4,0),\"\")","v":""},null,null,null,null,null,null,null,null,null,null,null,null,null,0]
[null,{"$f":"IFERROR(VLOOKUP(A2939,Base!$A$2:$D$460,2,0),\"\")","v":""},{"$f":"IFERROR(VLOOKUP(A2939,Base!$A$2:$D$460,3,0),\"\")","v":""},{"$f":"IFERROR(VLOOKUP(A2939,Base!$A$2:$D$460,4,0),\"\")","v":""},null,null,null,null,null,null,null,null,null,null,null,null,null,0]
[null,{"$f":"IFERROR(VLOOKUP(A2940,Base!$A$2:$D$460,2,0),\"\")","v":""},{"$f":"IFERROR(VLOOKUP(A2940,Base!$A$2:$D$460,3,0),\"\")","v":""},{"$f":"IFERROR(VLOOKUP(A2940,Base!$A$2:$D$460,4,0),\"\")","v":""},null,null,null,null,null,null,null,null,null,null,null,null,null,0]
[null,{"$f":"IFERROR(VLOOKUP(A2941,Base!$A$2:$D$460,2,0),\"\")","v":""},{"$f":"IFERROR(VLOOKUP(A2941,Base!$A$2:$D$460,3,0),\"\")","v":""},{"$f":"IFERROR(VLOOKUP(A2941,Base!$A$2:$D$460,4,0),\"\")","v":""},null,null,null,null,null,null,null,null,null,null,null,null,null,0]
[null,{"$f":"IFERROR(VLOOKUP(A2942,Base!$A$2:$D$460,2,0),\"\")","v":""},{"$f":"IFERROR(VLOOKUP(A2942,Base!$A$2:$D$460,3,0),\"\")","v":""},{"$f":"IFERROR(VLOOKUP(A2942,Base!$A$2:$D$460,4,0),\"\")","v":""},null,null,null,null,null,null,null,null,null,null,null,null,null,0]
[null,{"$f":"IFERROR(VLOOKUP(A2943,Base!$A$2:$D$460,2,0),\"\")","v":""},{"$f":"IFERROR(VLOOKUP(A2943,Base!$A$2:$D$460,3,0),\"\")","v":""},{"$f":"IFERROR(VLOOKUP(A2943,Base!$A$2:$D$460,4,0),\"\")","v":""},null,null,null,null,null,null,null,null,null,null,null,null,null,0]
[null,{"$f":"IFERROR(VLOOKUP(A2944,Base!$A$2:$D$460,2,0),\"\")","v":""},{"$f":"IFERROR(VLOOKUP(A2944,Base!$A$2:$D$460,3,0),\"\")","v":""},{"$f":"IFERROR(VLOOKUP(A2944,Base!$A$2:$D$460,4,0),\"\")","v":""},null,null,null,null,null,null,null,null,null,null,null,null,null,0]
[null,{"$f":"IFERROR(VLOOKUP(A2945,Base!$A$2:$D$460,2,0),\"\")","v":""},{"$f":"IFERROR(VLOOKUP(A2945,Base!$A$2:$D$460,3,0),\"\")","v":""},{"$f":"IFERROR(VLOOKUP(A2945,Base!$A$2:$D$460,4,0),\"\")","v":""},null,null,null,null,null,null,null,null,null,null,null,null,null,0]
[null,{"$f":"IFERROR(VLOOKUP(A2946,Base!$A$2:$D$460,2,0),\"\")","v":""},{"$f":"IFERROR(VLOOKUP(A2946,Base!$A$2:$D$460,3,0),\"\")","v":""},{"$f":"IFERROR(VLOOKUP(A2946,Base!$A$2:$D$460,4,0),\"\")","v":""},null,null,null,null,null,null,null,null,null,null,null,null,null,0]
[null,{"$f":"IFERROR(VLOOKUP(A2947,Base!$A$2:$D$460,2,0),\"\")","v":""},{"$f":"IFERROR(VLOOKUP(A2947,Base!$A$2:$D$460,3,0),\"\")","v":""},{"$f":"IFERROR(VLOOKUP(A2947,Base!$A$2:$D$460,4,0),\"\")","v":""},null,null,null,null,null,null,null,null,null,null,null,null,null,0]
[null,{"$f":"IFERROR(VLOOKUP(A2948,Base!$A$2:$D$460,2,0),\"\")","v":""},{"$f":"IFERROR(VLOOKUP(A2948,Base!$A$2:$D$460,3,0),\"\")","v":""},{"$f":"IFERROR(VLOOKUP(A2948,Base!$A$2:$D$460,4,0),\"\")","v":""},null,null,null,null,null,null,null,null,null,null,null,null,null,0]
[null,{"$f":"IFERROR(VLOOKUP(A2949,Base!$A$2:$D$460,2,0),\"\")","v":""},{"$f":"IFERROR(VLOOKUP(A2949,Base!$A$2:$D$460,3,0),\"\")","v":""},{"$f":"IFERROR(VLOOKUP(A2949,Base!$A$2:$D$460,4,0),\"\")","v":""},null,null,null,null,null,null,null,null,null,null,null,null,null,0]
[null,{"$f":"IFERROR(VLOOKUP(A2950,Base!$A$2:$D$460,2,0),\"\")","v":""},{"$f":"IFERROR(VLOOKUP(A2950,Base!$A$2:$D$460,3,0),\"\")","v":""},{"$f":"IFERROR(VLOOKUP(A2950,Base!$A$2:$D$460,4,0),\"\")","v":""},null,null,null,null,null,null,null,null,null,null,null,null,null,0]
[null,{"$f":"IFERROR(VLOOKUP(A2951,Base!$A$2:$D$460,2,0),\"\")","v":""},{"$f":"IFERROR(VLOOKUP(A2951,Base!$A$2:$D$460,3,0),\"\")","v":""},{"$f":"IFERROR(VLOOKUP(A2951,Base!$A$2:$D$460,4,0),\"\")","v":""},null,null,null,null,null,null,null,null,null,null,null,null,null,0]
[null,{"$f":"IFERROR(VLOOKUP(A2952,Base!$A$2:$D$460,2,0),\"\")","v":""},{"$f":"IFERROR(VLOOKUP(A2952,Base!$A$2:$D$460,3,0),\"\")","v":""},{"$f":"IFERROR(VLOOKUP(A2952,Base!$A$2:$D$460,4,0),\"\")","v":""},null,null,null,null,null,null,null,null,null,null,null,null,null,0]
[null,{"$f":"IFERROR(VLOOKUP(A2953,Base!$A$2:$D$460,2,0),\"\")","v":""},{"$f":"IFERROR(VLOOKUP(A2953,Base!$A$2:$D$460,3,0),\"\")","v":""},{"$f":"IFERROR(VLOOKUP(A2953,Base!$A$2:$D$460,4,0),\"\")","v":""},null,null,null,null,null,null,null,null,null,null,null,null,null,0]
[null,{"$f":"IFERROR(VLOOKUP(A2954,Base!$A$2:$D$460,2,0),\"\")","v":""},{"$f":"IFERROR(VLOOKUP(A2954,Base!$A$2:$D$460,3,0),\"\")","v":""},{"$f":"IFERROR(VLOOKUP(A2954,Base!$A$2:$D$460,4,0),\"\")","v":""},null,null,null,null,null,null,null,null,null,null,null,null,null,0]
[null,{"$f":"IFERROR(VLOOKUP(A2955,Base!$A$2:$D$460,2,0),\"\")","v":""},{"$f":"IFERROR(VLOOKUP(A2955,Base!$A$2:$D$460,3,0),\"\")","v":""},{"$f":"IFERROR(VLOOKUP(A2955,Base!$A$2:$D$460,4,0),\"\")","v":""},null,null,null,null,null,null,null,null,null,null,null,null,null,0]
[null,{"$f":"IFERROR(VLOOKUP(A2956,Base!$A$2:$D$460,2,0),\"\")","v":""},{"$f":"IFERROR(VLOOKUP(A2956,Base!$A$2:$D$460,3,0),\"\")","v":""},{"$f":"IFERROR(VLOOKUP(A2956,Base!$A$2:$D$460,4,0),\"\")","v":""},null,null,null,null,null,null,null,null,null,null,null,null,null,0]
[null,{"$f":"IFERROR(VLOOKUP(A2957,Base!$A$2:$D$460,2,0),\"\")","v":""},{"$f":"IFERROR(VLOOKUP(A2957,Base!$A$2:$D$460,3,0),\"\")","v":""},{"$f":"IFERROR(VLOOKUP(A2957,Base!$A$2:$D$460,4,0),\"\")","v":""},null,null,null,null,null,null,null,null,null,null,null,null,null,0]
[null,{"$f":"IFERROR(VLOOKUP(A2958,Base!$A$2:$D$460,2,0),\"\")","v":""},{"$f":"IFERROR(VLOOKUP(A2958,Base!$A$2:$D$460,3,0),\"\")","v":""},{"$f":"IFERROR(VLOOKUP(A2958,Base!$A$2:$D$460,4,0),\"\")","v":""},null,null,null,null,null,null,null,null,null,null,null,null,null,0]
[null,{"$f":"IFERROR(VLOOKUP(A2959,Base!$A$2:$D$460,2,0),\"\")","v":""},{"$f":"IFERROR(VLOOKUP(A2959,Base!$A$2:$D$460,3,0),\"\")","v":""},{"$f":"IFERROR(VLOOKUP(A2959,Base!$A$2:$D$460,4,0),\"\")","v":""},null,null,null,null,null,null,null,null,null,null,null,null,null,0]
[null,{"$f":"IFERROR(VLOOKUP(A2960,Base!$A$2:$D$460,2,0),\"\")","v":""},{"$f":"IFERROR(VLOOKUP(A2960,Base!$A$2:$D$460,3,0),\"\")","v":""},{"$f":"IFERROR(VLOOKUP(A2960,Base!$A$2:$D$460,4,0),\"\")","v":""},null,null,null,null,null,null,null,null,null,null,null,null,null,0]
[null,{"$f":"IFERROR(VLOOKUP(A2961,Base!$A$2:$D$460,2,0),\"\")","v":""},{"$f":"IFERROR(VLOOKUP(A2961,Base!$A$2:$D$460,3,0),\"\")","v":""},{"$f":"IFERROR(VLOOKUP(A2961,Base!$A$2:$D$460,4,0),\"\")","v":""},null,null,null,null,null,null,null,null,null,null,null,null,null,0]
[null,{"$f":"IFERROR(VLOOKUP(A2962,Base!$A$2:$D$460,2,0),\"\")","v":""},{"$f":"IFERROR(VLOOKUP(A2962,Base!$A$2:$D$460,3,0),\"\")","v":""},{"$f":"IFERROR(VLOOKUP(A2962,Base!$A$2:$D$460,4,0),\"\")","v":""},null,null,null,null,null,null,null,null,null,null,null,null,null,0]
[null,{"$f":"IFERROR(VLOOKUP(A2963,Base!$A$2:$D$460,2,0),\"\")","v":""},{"$f":"IFERROR(VLOOKUP(A2963,Base!$A$2:$D$460,3,0),\"\")","v":""},{"$f":"IFERROR(VLOOKUP(A2963,Base!$A$2:$D$460,4,0),\"\")","v":""},null,null,null,null,null,null,null,null,null,null,null,null,null,0]
[null,{"$f":"IFERROR(VLOOKUP(A2964,Base!$A$2:$D$460,2,0),\"\")","v":""},{"$f":"IFERROR(VLOOKUP(A2964,Base!$A$2:$D$460,3,0),\"\")","v":""},{"$f":"IFERROR(VLOOKUP(A2964,Base!$A$2:$D$460,4,0),\"\")","v":""},null,null,null,null,null,null,null,null,null,null,null,null,null,0]
[null,{"$f":"IFERROR(VLOOKUP(A2965,Base!$A$2:$D$460,2,0),\"\")","v":""},{"$f":"IFERROR(VLOOKUP(A2965,Base!$A$2:$D$460,3,0),\"\")","v":""},{"$f":"IFERROR(VLOOKUP(A2965,Base!$A$2:$D$460,4,0),\"\")","v":""},null,null,null,null,null,null,null,null,null,null,null,null,null,0]
[null,{"$f":"IFERROR(VLOOKUP(A2966,Base!$A$2:$D$460,2,0),\"\")","v":""},{"$f":"IFERROR(VLOOKUP(A2966,Base!$A$2:$D$460,3,0),\"\")","v":""},{"$f":"IFERROR(VLOOKUP(A2966,Base!$A$2:$D$460,4,0),\"\")","v":""},null,null,null,null,null,null,null,null,null,null,null,null,null,0]
[null,{"$f":"IFERROR(VLOOKUP(A2967,Base!$A$2:$D$460,2,0),\"\")","v":""},{"$f":"IFERROR(VLOOKUP(A2967,Base!$A$2:$D$460,3,0),\"\")","v":""},{"$f":"IFERROR(VLOOKUP(A2967,Base!$A$2:$D$460,4,0),\"\")","v":""},null,null,null,null,null,null,null,null,null,null,null,null,null,0]
[null,{"$f":"IFERROR(VLOOKUP(A2968,Base!$A$2:$D$460,2,0),\"\")","v":""},{"$f":"IFERROR(VLOOKUP(A2968,Base!$A$2:$D$460,3,0),\"\")","v":""},{"$f":"IFERROR(VLOOKUP(A2968,Base!$A$2:$D$460,4,0),\"\")","v":""},null,null,null,null,null,null,null,null,null,null,null,null,null,0]
[null,{"$f":"IFERROR(VLOOKUP(A2969,Base!$A$2:$D$460,2,0),\"\")","v":""},{"$f":"IFERROR(VLOOKUP(A2969,Base!$A$2:$D$460,3,0),\"\")","v":""},{"$f":"IFERROR(VLOOKUP(A2969,Base!$A$2:$D$460,4,0),\"\")","v":""},null,null,null,null,null,null,null,null,null,null,null,null,null,0]
[null,{"$f":"IFERROR(VLOOKUP(A2970,Base!$A$2:$D$460,2,0),\"\")","v":""},{"$f":"IFERROR(VLOOKUP(A2970,Base!$A$2:$D$460,3,0),\"\")","v":""},{"$f":"IFERROR(VLOOKUP(A2970,Base!$A$2:$D$460,4,0),\"\")","v":""},null,null,null,null,null,null,null,null,null,null,null,null,null,0]
[null,{"$f":"IFERROR(VLOOKUP(A2971,Base!$A$2:$D$460,2,0),\"\")","v":""},{"$f":"IFERROR(VLOOKUP(A2971,Base!$A$2:$D$460,3,0),\"\")","v":""},{"$f":"IFERROR(VLOOKUP(A2971,Base!$A$2:$D$460,4,0),\"\")","v":""},null,null,null,null,null,null,null,null,null,null,null,null,null,0]
[null,{"$f":"IFERROR(VLOOKUP(A2972,Base!$A$2:$D$460,2,0),\"\")","v":""},{"$f":"IFERROR(VLOOKUP(A2972,Base!$A$2:$D$460,3,0),\"\")","v":""},{"$f":"IFERROR(VLOOKUP(A2972,Base!$A$2:$D$460,4,0),\"\")","v":""},null,null,null,null,null,null,null,null,null,null,null,null,null,0]
[null,{"$f":"IFERROR(VLOOKUP(A2973,Base!$A$2:$D$460,2,0),\"\")","v":""},{"$f":"IFERROR(VLOOKUP(A2973,Base!$A$2:$D$460,3,0),\"\")","v":""},{"$f":"IFERROR(VLOOKUP(A2973,Base!$A$2:$D$460,4,0),\"\")","v":""},null,null,null,null,null,null,null,null,null,null,null,null,null,0]
[null,{"$f":"IFERROR(VLOOKUP(A2974,Base!$A$2:$D$460,2,0),\"\")","v":""},{"$f":"IFERROR(VLOOKUP(A2974,Base!$A$2:$D$460,3,0),\"\")","v":""},{"$f":"IFERROR(VLOOKUP(A2974,Base!$A$2:$D$460,4,0),\"\")","v":""},null,null,null,null,null,null,null,null,null,null,null,null,null,0]
[null,{"$f":"IFERROR(VLOOKUP(A2975,Base!$A$2:$D$460,2,0),\"\")","v":""},{"$f":"IFERROR(VLOOKUP(A2975,Base!$A$2:$D$460,3,0),\"\")","v":""},{"$f":"IFERROR(VLOOKUP(A2975,Base!$A$2:$D$460,4,0),\"\")","v":""},null,null,null,null,null,null,null,null,null,null,null,null,null,0]
[null,{"$f":"IFERROR(VLOOKUP(A2976,Base!$A$2:$D$460,2,0),\"\")","v":""},{"$f":"IFERROR(VLOOKUP(A2976,Base!$A$2:$D$460,3,0),\"\")","v":""},{"$f":"IFERROR(VLOOKUP(A2976,Base!$A$2:$D$460,4,0),\"\")","v":""},null,null,null,null,null,null,null,null,null,null,null,null,null,0]
[null,{"$f":"IFERROR(VLOOKUP(A2977,Base!$A$2:$D$460,2,0),\"\")","v":""},{"$f":"IFERROR(VLOOKUP(A2977,Base!$A$2:$D$460,3,0),\"\")","v":""},{"$f":"IFERROR(VLOOKUP(A2977,Base!$A$2:$D$460,4,0),\"\")","v":""},null,null,null,null,null,null,null,null,null,null,null,null,null,0]
[null,{"$f":"IFERROR(VLOOKUP(A2978,Base!$A$2:$D$460,2,0),\"\")","v":""},{"$f":"IFERROR(VLOOKUP(A2978,Base!$A$2:$D$460,3,0),\"\")","v":""},{"$f":"IFERROR(VLOOKUP(A2978,Base!$A$2:$D$460,4,0),\"\")","v":""},null,null,null,null,null,null,null,null,null,null,null,null,null,0]
[null,{"$f":"IFERROR(VLOOKUP(A2979,Base!$A$2:$D$460,2,0),\"\")","v":""},{"$f":"IFERROR(VLOOKUP(A2979,Base!$A$2:$D$460,3,0),\"\")","v":""},{"$f":"IFERROR(VLOOKUP(A2979,Base!$A$2:$D$460,4,0),\"\")","v":""},null,null,null,null,null,null,null,null,null,null,null,null,null,0]
[null,{"$f":"IFERROR(VLOOKUP(A2980,Base!$A$2:$D$460,2,0),\"\")","v":""},{"$f":"IFERROR(VLOOKUP(A2980,Base!$A$2:$D$460,3,0),\"\")","v":""},{"$f":"IFERROR(VLOOKUP(A2980,Base!$A$2:$D$460,4,0),\"\")","v":""},null,null,null,null,null,null,null,null,null,null,null,null,null,0]
[null,{"$f":"IFERROR(VLOOKUP(A2981,Base!$A$2:$D$460,2,0),\"\")","v":""},{"$f":"IFERROR(VLOOKUP(A2981,Base!$A$2:$D$460,3,0),\"\")","v":""},{"$f":"IFERROR(VLOOKUP(A2981,Base!$A$2:$D$460,4,0),\"\")","v":""},null,null,null,null,null,null,null,null,null,null,null,null,null,0]
[null,{"$f":"IFERROR(VLOOKUP(A2982,Base!$A$2:$D$460,2,0),\"\")","v":""},{"$f":"IFERROR(VLOOKUP(A2982,Base!$A$2:$D$460,3,0),\"\")","v":""},{"$f":"IFERROR(VLOOKUP(A2982,Base!$A$2:$D$460,4,0),\"\")","v":""},null,null,null,null,null,null,null,null,null,null,null,null,null,0]
[null,{"$f":"IFERROR(VLOOKUP(A2983,Base!$A$2:$D$460,2,0),\"\")","v":""},{"$f":"IFERROR(VLOOKUP(A2983,Base!$A$2:$D$460,3,0),\"\")","v":""},{"$f":"IFERROR(VLOOKUP(A2983,Base!$A$2:$D$460,4,0),\"\")","v":""},null,null,null,null,null,null,null,null,null,null,null,null,null,{"$f":"SUM(N2983:Q2983)/4","v":0}]
[null,{"$f":"IFERROR(VLOOKUP(A2984,Base!$A$2:$D$460,2,0),\"\")","v":""},{"$f":"IFERROR(VLOOKUP(A2984,Base!$A$2:$D$460,3,0),\"\")","v":""},{"$f":"IFERROR(VLOOKUP(A2984,Base!$A$2:$D$460,4,0),\"\")","v":""},null,null,null,null,null,null,null,null,null,null,null,null,null,0]
[null,{"$f":"IFERROR(VLOOKUP(A2985,Base!$A$2:$D$460,2,0),\"\")","v":""},{"$f":"IFERROR(VLOOKUP(A2985,Base!$A$2:$D$460,3,0),\"\")","v":""},{"$f":"IFERROR(VLOOKUP(A2985,Base!$A$2:$D$460,4,0),\"\")","v":""},null,null,null,null,null,null,null,null,null,null,null,null,null,0]
[null,{"$f":"IFERROR(VLOOKUP(A2986,Base!$A$2:$D$460,2,0),\"\")","v":""},{"$f":"IFERROR(VLOOKUP(A2986,Base!$A$2:$D$460,3,0),\"\")","v":""},{"$f":"IFERROR(VLOOKUP(A2986,Base!$A$2:$D$460,4,0),\"\")","v":""},null,null,null,null,null,null,null,null,null,null,null,null,null,0]
[null,{"$f":"IFERROR(VLOOKUP(A2987,Base!$A$2:$D$460,2,0),\"\")","v":""},{"$f":"IFERROR(VLOOKUP(A2987,Base!$A$2:$D$460,3,0),\"\")","v":""},{"$f":"IFERROR(VLOOKUP(A2987,Base!$A$2:$D$460,4,0),\"\")","v":""},null,null,null,null,null,null,null,null,null,null,null,null,null,0]
[null,{"$f":"IFERROR(VLOOKUP(A2988,Base!$A$2:$D$460,2,0),\"\")","v":""},{"$f":"IFERROR(VLOOKUP(A2988,Base!$A$2:$D$460,3,0),\"\")","v":""},{"$f":"IFERROR(VLOOKUP(A2988,Base!$A$2:$D$460,4,0),\"\")","v":""},null,null,null,null,null,null,null,null,null,null,null,null,null,0]
[null,{"$f":"IFERROR(VLOOKUP(A2989,Base!$A$2:$D$460,2,0),\"\")","v":""},{"$f":"IFERROR(VLOOKUP(A2989,Base!$A$2:$D$460,3,0),\"\")","v":""},{"$f":"IFERROR(VLOOKUP(A2989,Base!$A$2:$D$460,4,0),\"\")","v":""},null,null,null,null,null,null,null,null,null,null,null,null,null,0]
[null,{"$f":"IFERROR(VLOOKUP(A2990,Base!$A$2:$D$460,2,0),\"\")","v":""},{"$f":"IFERROR(VLOOKUP(A2990,Base!$A$2:$D$460,3,0),\"\")","v":""},{"$f":"IFERROR(VLOOKUP(A2990,Base!$A$2:$D$460,4,0),\"\")","v":""},null,null,null,null,null,null,null,null,null,null,null,null,null,0]
[null,{"$f":"IFERROR(VLOOKUP(A2991,Base!$A$2:$D$460,2,0),\"\")","v":""},{"$f":"IFERROR(VLOOKUP(A2991,Base!$A$2:$D$460,3,0),\"\")","v":""},{"$f":"IFERROR(VLOOKUP(A2991,Base!$A$2:$D$460,4,0),\"\")","v":""},null,null,null,null,null,null,null,null,null,null,null,null,null,0]
[null,{"$f":"IFERROR(VLOOKUP(A2992,Base!$A$2:$D$460,2,0),\"\")","v":""},{"$f":"IFERROR(VLOOKUP(A2992,Base!$A$2:$D$460,3,0),\"\")","v":""},{"$f":"IFERROR(VLOOKUP(A2992,Base!$A$2:$D$460,4,0),\"\")","v":""},null,null,null,null,null,null,null,null,null,null,null,null,null,0]
[null,{"$f":"IFERROR(VLOOKUP(A2993,Base!$A$2:$D$460,2,0),\"\")","v":""},{"$f":"IFERROR(VLOOKUP(A2993,Base!$A$2:$D$460,3,0),\"\")","v":""},{"$f":"IFERROR(VLOOKUP(A2993,Base!$A$2:$D$460,4,0),\"\")","v":""},null,null,null,null,null,null,null,null,null,null,null,null,null,0]
[null,{"$f":"IFERROR(VLOOKUP(A2994,Base!$A$2:$D$460,2,0),\"\")","v":""},{"$f":"IFERROR(VLOOKUP(A2994,Base!$A$2:$D$460,3,0),\"\")","v":""},{"$f":"IFERROR(VLOOKUP(A2994,Base!$A$2:$D$460,4,0),\"\")","v":""},null,null,null,null,null,null,null,null,null,null,null,null,null,0]
[null,{"$f":"IFERROR(VLOOKUP(A2995,Base!$A$2:$D$460,2,0),\"\")","v":""},{"$f":"IFERROR(VLOOKUP(A2995,Base!$A$2:$D$460,3,0),\"\")","v":""},{"$f":"IFERROR(VLOOKUP(A2995,Base!$A$2:$D$460,4,0),\"\")","v":""},null,null,null,null,null,null,null,null,null,null,null,null,null,0]
[null,{"$f":"IFERROR(VLOOKUP(A2996,Base!$A$2:$D$460,2,0),\"\")","v":""},{"$f":"IFERROR(VLOOKUP(A2996,Base!$A$2:$D$460,3,0),\"\")","v":""},{"$f":"IFERROR(VLOOKUP(A2996,Base!$A$2:$D$460,4,0),\"\")","v":""},null,null,null,null,null,null,null,null,null,null,null,null,null,0]
[null,{"$f":"IFERROR(VLOOKUP(A2997,Base!$A$2:$D$460,2,0),\"\")","v":""},{"$f":"IFERROR(VLOOKUP(A2997,Base!$A$2:$D$460,3,0),\"\")","v":""},{"$f":"IFERROR(VLOOKUP(A2997,Base!$A$2:$D$460,4,0),\"\")","v":""},null,null,null,null,null,null,null,null,null,null,null,null,null,0]
[null,{"$f":"IFERROR(VLOOKUP(A2998,Base!$A$2:$D$460,2,0),\"\")","v":""},{"$f":"IFERROR(VLOOKUP(A2998,Base!$A$2:$D$460,3,0),\"\")","v":""},{"$f":"IFERROR(VLOOKUP(A2998,Base!$A$2:$D$460,4,0),\"\")","v":""},null,null,null,null,null,null,null,null,null,null,null,null,null,0]
[null,{"$f":"IFERROR(VLOOKUP(A2999,Base!$A$2:$D$460,2,0),\"\")","v":""},{"$f":"IFERROR(VLOOKUP(A2999,Base!$A$2:$D$460,3,0),\"\")","v":""},{"$f":"IFERROR(VLOOKUP(A2999,Base!$A$2:$D$460,4,0),\"\")","v":""},null,null,null,null,null,null,null,null,null,null,null,null,null,0]
[null,{"$f":"IFERROR(VLOOKUP(A3000,Base!$A$2:$D$460,2,0),\"\")","v":""},{"$f":"IFERROR(VLOOKUP(A3000,Base!$A$2:$D$460,3,0),\"\")","v":""},{"$f":"IFERROR(VLOOKUP(A3000,Base!$A$2:$D$460,4,0),\"\")","v":""},null,null,null,null,null,null,null,null,null,null,null,null,null,0]
[null,{"$f":"IFERROR(VLOOKUP(A3001,Base!$A$2:$D$460,2,0),\"\")","v":""},{"$f":"IFERROR(VLOOKUP(A3001,Base!$A$2:$D$460,3,0),\"\")","v":""},{"$f":"IFERROR(VLOOKUP(A3001,Base!$A$2:$D$460,4,0),\"\")","v":""},null,null,null,null,null,null,null,null,null,null,null,null,null,0]
[null,{"$f":"IFERROR(VLOOKUP(A3002,Base!$A$2:$D$460,2,0),\"\")","v":""},{"$f":"IFERROR(VLOOKUP(A3002,Base!$A$2:$D$460,3,0),\"\")","v":""},{"$f":"IFERROR(VLOOKUP(A3002,Base!$A$2:$D$460,4,0),\"\")","v":""},null,null,null,null,null,null,null,null,null,null,null,null,null,0]
[null,{"$f":"IFERROR(VLOOKUP(A3003,Base!$A$2:$D$460,2,0),\"\")","v":""},{"$f":"IFERROR(VLOOKUP(A3003,Base!$A$2:$D$460,3,0),\"\")","v":""},{"$f":"IFERROR(VLOOKUP(A3003,Base!$A$2:$D$460,4,0),\"\")","v":""},null,null,null,null,null,null,null,null,null,null,null,null,null,0]
[null,{"$f":"IFERROR(VLOOKUP(A3004,Base!$A$2:$D$460,2,0),\"\")","v":""},{"$f":"IFERROR(VLOOKUP(A3004,Base!$A$2:$D$460,3,0),\"\")","v":""},{"$f":"IFERROR(VLOOKUP(A3004,Base!$A$2:$D$460,4,0),\"\")","v":""},null,null,null,null,null,null,null,null,null,null,null,null,null,0]
[null,{"$f":"IFERROR(VLOOKUP(A3005,Base!$A$2:$D$460,2,0),\"\")","v":""},{"$f":"IFERROR(VLOOKUP(A3005,Base!$A$2:$D$460,3,0),\"\")","v":""},{"$f":"IFERROR(VLOOKUP(A3005,Base!$A$2:$D$460,4,0),\"\")","v":""},null,null,null,null,null,null,null,null,null,null,null,null,null,0]
[null,{"$f":"IFERROR(VLOOKUP(A3006,Base!$A$2:$D$460,2,0),\"\")","v":""},{"$f":"IFERROR(VLOOKUP(A3006,Base!$A$2:$D$460,3,0),\"\")","v":""},{"$f":"IFERROR(VLOOKUP(A3006,Base!$A$2:$D$460,4,0),\"\")","v":""},null,null,null,null,null,null,null,null,null,null,null,null,null,0]
[null,{"$f":"IFERROR(VLOOKUP(A3007,Base!$A$2:$D$460,2,0),\"\")","v":""},{"$f":"IFERROR(VLOOKUP(A3007,Base!$A$2:$D$460,3,0),\"\")","v":""},{"$f":"IFERROR(VLOOKUP(A3007,Base!$A$2:$D$460,4,0),\"\")","v":""},null,null,null,null,null,null,null,null,null,null,null,null,null,0]
[null,{"$f":"IFERROR(VLOOKUP(A3008,Base!$A$2:$D$460,2,0),\"\")","v":""},{"$f":"IFERROR(VLOOKUP(A3008,Base!$A$2:$D$460,3,0),\"\")","v":""},{"$f":"IFERROR(VLOOKUP(A3008,Base!$A$2:$D$460,4,0),\"\")","v":""},null,null,null,null,null,null,null,null,null,null,null,null,null,0]
[null,{"$f":"IFERROR(VLOOKUP(A3009,Base!$A$2:$D$460,2,0),\"\")","v":""},{"$f":"IFERROR(VLOOKUP(A3009,Base!$A$2:$D$460,3,0),\"\")","v":""},{"$f":"IFERROR(VLOOKUP(A3009,Base!$A$2:$D$460,4,0),\"\")","v":""},null,null,null,null,null,null,null,null,null,null,null,null,null,0]
[null,{"$f":"IFERROR(VLOOKUP(A3010,Base!$A$2:$D$460,2,0),\"\")","v":""},{"$f":"IFERROR(VLOOKUP(A3010,Base!$A$2:$D$460,3,0),\"\")","v":""},{"$f":"IFERROR(VLOOKUP(A3010,Base!$A$2:$D$460,4,0),\"\")","v":""},null,null,null,null,null,null,null,null,null,null,null,null,null,0]
[null,{"$f":"IFERROR(VLOOKUP(A3011,Base!$A$2:$D$460,2,0),\"\")","v":""},{"$f":"IFERROR(VLOOKUP(A3011,Base!$A$2:$D$460,3,0),\"\")","v":""},{"$f":"IFERROR(VLOOKUP(A3011,Base!$A$2:$D$460,4,0),\"\")","v":""},null,null,null,null,null,null,null,null,null,null,null,null,null,0]
[null,{"$f":"IFERROR(VLOOKUP(A3012,Base!$A$2:$D$460,2,0),\"\")","v":""},{"$f":"IFERROR(VLOOKUP(A3012,Base!$A$2:$D$460,3,0),\"\")","v":""},{"$f":"IFERROR(VLOOKUP(A3012,Base!$A$2:$D$460,4,0),\"\")","v":""},null,null,null,null,null,null,null,null,null,null,null,null,null,0]
[null,{"$f":"IFERROR(VLOOKUP(A3013,Base!$A$2:$D$460,2,0),\"\")","v":""},{"$f":"IFERROR(VLOOKUP(A3013,Base!$A$2:$D$460,3,0),\"\")","v":""},{"$f":"IFERROR(VLOOKUP(A3013,Base!$A$2:$D$460,4,0),\"\")","v":""},null,null,null,null,null,null,null,null,null,null,null,null,null,0]
[null,{"$f":"IFERROR(VLOOKUP(A3014,Base!$A$2:$D$460,2,0),\"\")","v":""},{"$f":"IFERROR(VLOOKUP(A3014,Base!$A$2:$D$460,3,0),\"\")","v":""},{"$f":"IFERROR(VLOOKUP(A3014,Base!$A$2:$D$460,4,0),\"\")","v":""},null,null,null,null,null,null,null,null,null,null,null,null,null,0]
[null,{"$f":"IFERROR(VLOOKUP(A3015,Base!$A$2:$D$460,2,0),\"\")","v":""},{"$f":"IFERROR(VLOOKUP(A3015,Base!$A$2:$D$460,3,0),\"\")","v":""},{"$f":"IFERROR(VLOOKUP(A3015,Base!$A$2:$D$460,4,0),\"\")","v":""},null,null,null,null,null,null,null,null,null,null,null,null,null,0]
[null,{"$f":"IFERROR(VLOOKUP(A3016,Base!$A$2:$D$460,2,0),\"\")","v":""},{"$f":"IFERROR(VLOOKUP(A3016,Base!$A$2:$D$460,3,0),\"\")","v":""},{"$f":"IFERROR(VLOOKUP(A3016,Base!$A$2:$D$460,4,0),\"\")","v":""},null,null,null,null,null,null,null,null,null,null,null,null,null,0]
[null,{"$f":"IFERROR(VLOOKUP(A3017,Base!$A$2:$D$460,2,0),\"\")","v":""},{"$f":"IFERROR(VLOOKUP(A3017,Base!$A$2:$D$460,3,0),\"\")","v":""},{"$f":"IFERROR(VLOOKUP(A3017,Base!$A$2:$D$460,4,0),\"\")","v":""},null,null,null,null,null,null,null,null,null,null,null,null,null,0]
[null,{"$f":"IFERROR(VLOOKUP(A3018,Base!$A$2:$D$460,2,0),\"\")","v":""},{"$f":"IFERROR(VLOOKUP(A3018,Base!$A$2:$D$460,3,0),\"\")","v":""},{"$f":"IFERROR(VLOOKUP(A3018,Base!$A$2:$D$460,4,0),\"\")","v":""},null,null,null,null,null,null,null,null,null,null,null,null,null,0]
[null,{"$f":"IFERROR(VLOOKUP(A3019,Base!$A$2:$D$460,2,0),\"\")","v":""},{"$f":"IFERROR(VLOOKUP(A3019,Base!$A$2:$D$460,3,0),\"\")","v":""},{"$f":"IFERROR(VLOOKUP(A3019,Base!$A$2:$D$460,4,0),\"\")","v":""},null,null,null,null,null,null,null,null,null,null,null,null,null,0]
[null,{"$f":"IFERROR(VLOOKUP(A3020,Base!$A$2:$D$460,2,0),\"\")","v":""},{"$f":"IFERROR(VLOOKUP(A3020,Base!$A$2:$D$460,3,0),\"\")","v":""},{"$f":"IFERROR(VLOOKUP(A3020,Base!$A$2:$D$460,4,0),\"\")","v":""},null,null,null,null,null,null,null,null,null,null,null,null,null,0]
[null,{"$f":"IFERROR(VLOOKUP(A3021,Base!$A$2:$D$460,2,0),\"\")","v":""},{"$f":"IFERROR(VLOOKUP(A3021,Base!$A$2:$D$460,3,0),\"\")","v":""},{"$f":"IFERROR(VLOOKUP(A3021,Base!$A$2:$D$460,4,0),\"\")","v":""},null,null,null,null,null,null,null,null,null,null,null,null,null,0]
[null,{"$f":"IFERROR(VLOOKUP(A3022,Base!$A$2:$D$460,2,0),\"\")","v":""},{"$f":"IFERROR(VLOOKUP(A3022,Base!$A$2:$D$460,3,0),\"\")","v":""},{"$f":"IFERROR(VLOOKUP(A3022,Base!$A$2:$D$460,4,0),\"\")","v":""},null,null,null,null,null,null,null,null,null,null,null,null,null,0]
[null,{"$f":"IFERROR(VLOOKUP(A3023,Base!$A$2:$D$460,2,0),\"\")","v":""},{"$f":"IFERROR(VLOOKUP(A3023,Base!$A$2:$D$460,3,0),\"\")","v":""},{"$f":"IFERROR(VLOOKUP(A3023,Base!$A$2:$D$460,4,0),\"\")","v":""},null,null,null,null,null,null,null,null,null,null,null,null,null,0]
[null,{"$f":"IFERROR(VLOOKUP(A3024,Base!$A$2:$D$460,2,0),\"\")","v":""},{"$f":"IFERROR(VLOOKUP(A3024,Base!$A$2:$D$460,3,0),\"\")","v":""},{"$f":"IFERROR(VLOOKUP(A3024,Base!$A$2:$D$460,4,0),\"\")","v":""},null,null,null,null,null,null,null,null,null,null,null,null,null,0]
[null,{"$f":"IFERROR(VLOOKUP(A3025,Base!$A$2:$D$460,2,0),\"\")","v":""},{"$f":"IFERROR(VLOOKUP(A3025,Base!$A$2:$D$460,3,0),\"\")","v":""},{"$f":"IFERROR(VLOOKUP(A3025,Base!$A$2:$D$460,4,0),\"\")","v":""},null,null,null,null,null,null,null,null,null,null,null,null,null,0]
[null,{"$f":"IFERROR(VLOOKUP(A3026,Base!$A$2:$D$460,2,0),\"\")","v":""},{"$f":"IFERROR(VLOOKUP(A3026,Base!$A$2:$D$460,3,0),\"\")","v":""},{"$f":"IFERROR(VLOOKUP(A3026,Base!$A$2:$D$460,4,0),\"\")","v":""},null,null,null,null,null,null,null,null,null,null,null,null,null,0]
[null,{"$f":"IFERROR(VLOOKUP(A3027,Base!$A$2:$D$460,2,0),\"\")","v":""},{"$f":"IFERROR(VLOOKUP(A3027,Base!$A$2:$D$460,3,0),\"\")","v":""},{"$f":"IFERROR(VLOOKUP(A3027,Base!$A$2:$D$460,4,0),\"\")","v":""},null,null,null,null,null,null,null,null,null,null,null,null,null,0]
[null,{"$f":"IFERROR(VLOOKUP(A3028,Base!$A$2:$D$460,2,0),\"\")","v":""},{"$f":"IFERROR(VLOOKUP(A3028,Base!$A$2:$D$460,3,0),\"\")","v":""},{"$f":"IFERROR(VLOOKUP(A3028,Base!$A$2:$D$460,4,0),\"\")","v":""},null,null,null,null,null,null,null,null,null,null,null,null,null,0]
[null,{"$f":"IFERROR(VLOOKUP(A3029,Base!$A$2:$D$460,2,0),\"\")","v":""},{"$f":"IFERROR(VLOOKUP(A3029,Base!$A$2:$D$460,3,0),\"\")","v":""},{"$f":"IFERROR(VLOOKUP(A3029,Base!$A$2:$D$460,4,0),\"\")","v":""},null,null,null,null,null,null,null,null,null,null,null,null,null,0]
[null,{"$f":"IFERROR(VLOOKUP(A3030,Base!$A$2:$D$460,2,0),\"\")","v":""},{"$f":"IFERROR(VLOOKUP(A3030,Base!$A$2:$D$460,3,0),\"\")","v":""},{"$f":"IFERROR(VLOOKUP(A3030,Base!$A$2:$D$460,4,0),\"\")","v":""},null,null,null,null,null,null,null,null,null,null,null,null,null,0]
[null,{"$f":"IFERROR(VLOOKUP(A3031,Base!$A$2:$D$460,2,0),\"\")","v":""},{"$f":"IFERROR(VLOOKUP(A3031,Base!$A$2:$D$460,3,0),\"\")","v":""},{"$f":"IFERROR(VLOOKUP(A3031,Base!$A$2:$D$460,4,0),\"\")","v":""},null,null,null,null,null,null,null,null,null,null,null,null,null,0]
[null,{"$f":"IFERROR(VLOOKUP(A3032,Base!$A$2:$D$460,2,0),\"\")","v":""},{"$f":"IFERROR(VLOOKUP(A3032,Base!$A$2:$D$460,3,0),\"\")","v":""},{"$f":"IFERROR(VLOOKUP(A3032,Base!$A$2:$D$460,4,0),\"\")","v":""},null,null,null,null,null,null,null,null,null,null,null,null,null,0]
[null,{"$f":"IFERROR(VLOOKUP(A3033,Base!$A$2:$D$460,2,0),\"\")","v":""},{"$f":"IFERROR(VLOOKUP(A3033,Base!$A$2:$D$460,3,0),\"\")","v":""},{"$f":"IFERROR(VLOOKUP(A3033,Base!$A$2:$D$460,4,0),\"\")","v":""},null,null,null,null,null,null,null,null,null,null,null,null,null,0]
[null,{"$f":"IFERROR(VLOOKUP(A3034,Base!$A$2:$D$460,2,0),\"\")","v":""},{"$f":"IFERROR(VLOOKUP(A3034,Base!$A$2:$D$460,3,0),\"\")","v":""},{"$f":"IFERROR(VLOOKUP(A3034,Base!$A$2:$D$460,4,0),\"\")","v":""},null,null,null,null,null,null,null,null,null,null,null,null,null,0]
[null,{"$f":"IFERROR(VLOOKUP(A3035,Base!$A$2:$D$460,2,0),\"\")","v":""},{"$f":"IFERROR(VLOOKUP(A3035,Base!$A$2:$D$460,3,0),\"\")","v":""},{"$f":"IFERROR(VLOOKUP(A3035,Base!$A$2:$D$460,4,0),\"\")","v":""},null,null,null,null,null,null,null,null,null,null,null,null,null,0]
[null,{"$f":"IFERROR(VLOOKUP(A3036,Base!$A$2:$D$460,2,0),\"\")","v":""},{"$f":"IFERROR(VLOOKUP(A3036,Base!$A$2:$D$460,3,0),\"\")","v":""},{"$f":"IFERROR(VLOOKUP(A3036,Base!$A$2:$D$460,4,0),\"\")","v":""},null,null,null,null,null,null,null,null,null,null,null,null,null,0]
[null,{"$f":"IFERROR(VLOOKUP(A3037,Base!$A$2:$D$460,2,0),\"\")","v":""},{"$f":"IFERROR(VLOOKUP(A3037,Base!$A$2:$D$460,3,0),\"\")","v":""},{"$f":"IFERROR(VLOOKUP(A3037,Base!$A$2:$D$460,4,0),\"\")","v":""},null,null,null,null,null,null,null,null,null,null,null,null,null,0]
[null,{"$f":"IFERROR(VLOOKUP(A3038,Base!$A$2:$D$460,2,0),\"\")","v":""},{"$f":"IFERROR(VLOOKUP(A3038,Base!$A$2:$D$460,3,0),\"\")","v":""},{"$f":"IFERROR(VLOOKUP(A3038,Base!$A$2:$D$460,4,0),\"\")","v":""},null,null,null,null,null,null,null,null,null,null,null,null,null,0]
[null,{"$f":"IFERROR(VLOOKUP(A3039,Base!$A$2:$D$460,2,0),\"\")","v":""},{"$f":"IFERROR(VLOOKUP(A3039,Base!$A$2:$D$460,3,0),\"\")","v":""},{"$f":"IFERROR(VLOOKUP(A3039,Base!$A$2:$D$460,4,0),\"\")","v":""},null,null,null,null,null,null,null,null,null,null,null,null,null,0]
[null,{"$f":"IFERROR(VLOOKUP(A3040,Base!$A$2:$D$460,2,0),\"\")","v":""},{"$f":"IFERROR(VLOOKUP(A3040,Base!$A$2:$D$460,3,0),\"\")","v":""},{"$f":"IFERROR(VLOOKUP(A3040,Base!$A$2:$D$460,4,0),\"\")","v":""},null,null,null,null,null,null,null,null,null,null,null,null,null,0]
[null,{"$f":"IFERROR(VLOOKUP(A3041,Base!$A$2:$D$460,2,0),\"\")","v":""},{"$f":"IFERROR(VLOOKUP(A3041,Base!$A$2:$D$460,3,0),\"\")","v":""},{"$f":"IFERROR(VLOOKUP(A3041,Base!$A$2:$D$460,4,0),\"\")","v":""},null,null,null,null,null,null,null,null,null,null,null,null,null,0]
[null,{"$f":"IFERROR(VLOOKUP(A3042,Base!$A$2:$D$460,2,0),\"\")","v":""},{"$f":"IFERROR(VLOOKUP(A3042,Base!$A$2:$D$460,3,0),\"\")","v":""},{"$f":"IFERROR(VLOOKUP(A3042,Base!$A$2:$D$460,4,0),\"\")","v":""},null,null,null,null,null,null,null,null,null,null,null,null,null,0]
[null,{"$f":"IFERROR(VLOOKUP(A3043,Base!$A$2:$D$460,2,0),\"\")","v":""},{"$f":"IFERROR(VLOOKUP(A3043,Base!$A$2:$D$460,3,0),\"\")","v":""},{"$f":"IFERROR(VLOOKUP(A3043,Base!$A$2:$D$460,4,0),\"\")","v":""},null,null,null,null,null,null,null,null,null,null,null,null,null,0]
[null,{"$f":"IFERROR(VLOOKUP(A3044,Base!$A$2:$D$460,2,0),\"\")","v":""},{"$f":"IFERROR(VLOOKUP(A3044,Base!$A$2:$D$460,3,0),\"\")","v":""},{"$f":"IFERROR(VLOOKUP(A3044,Base!$A$2:$D$460,4,0),\"\")","v":""},null,null,null,null,null,null,null,null,null,null,null,null,null,0]
[null,{"$f":"IFERROR(VLOOKUP(A3045,Base!$A$2:$D$460,2,0),\"\")","v":""},{"$f":"IFERROR(VLOOKUP(A3045,Base!$A$2:$D$460,3,0),\"\")","v":""},{"$f":"IFERROR(VLOOKUP(A3045,Base!$A$2:$D$460,4,0),\"\")","v":""},null,null,null,null,null,null,null,null,null,null,null,null,null,0]
[null,{"$f":"IFERROR(VLOOKUP(A3046,Base!$A$2:$D$460,2,0),\"\")","v":""},{"$f":"IFERROR(VLOOKUP(A3046,Base!$A$2:$D$460,3,0),\"\")","v":""},{"$f":"IFERROR(VLOOKUP(A3046,Base!$A$2:$D$460,4,0),\"\")","v":""},null,null,null,null,null,null,null,null,null,null,null,null,null,0]
[null,{"$f":"IFERROR(VLOOKUP(A3047,Base!$A$2:$D$460,2,0),\"\")","v":""},{"$f":"IFERROR(VLOOKUP(A3047,Base!$A$2:$D$460,3,0),\"\")","v":""},{"$f":"IFERROR(VLOOKUP(A3047,Base!$A$2:$D$460,4,0),\"\")","v":""},null,null,null,null,null,null,null,null,null,null,null,null,null,{"$f":"SUM(N3047:Q3047)/4","v":0}]
[null,{"$f":"IFERROR(VLOOKUP(A3048,Base!$A$2:$D$460,2,0),\"\")","v":""},{"$f":"IFERROR(VLOOKUP(A3048,Base!$A$2:$D$460,3,0),\"\")","v":""},{"$f":"IFERROR(VLOOKUP(A3048,Base!$A$2:$D$460,4,0),\"\")","v":""},null,null,null,null,null,null,null,null,null,null,null,null,null,0]
[null,{"$f":"IFERROR(VLOOKUP(A3049,Base!$A$2:$D$460,2,0),\"\")","v":""},{"$f":"IFERROR(VLOOKUP(A3049,Base!$A$2:$D$460,3,0),\"\")","v":""},{"$f":"IFERROR(VLOOKUP(A3049,Base!$A$2:$D$460,4,0),\"\")","v":""},null,null,null,null,null,null,null,null,null,null,null,null,null,0]
[null,{"$f":"IFERROR(VLOOKUP(A3050,Base!$A$2:$D$460,2,0),\"\")","v":""},{"$f":"IFERROR(VLOOKUP(A3050,Base!$A$2:$D$460,3,0),\"\")","v":""},{"$f":"IFERROR(VLOOKUP(A3050,Base!$A$2:$D$460,4,0),\"\")","v":""},null,null,null,null,null,null,null,null,null,null,null,null,null,0]
[null,{"$f":"IFERROR(VLOOKUP(A3051,Base!$A$2:$D$460,2,0),\"\")","v":""},{"$f":"IFERROR(VLOOKUP(A3051,Base!$A$2:$D$460,3,0),\"\")","v":""},{"$f":"IFERROR(VLOOKUP(A3051,Base!$A$2:$D$460,4,0),\"\")","v":""},null,null,null,null,null,null,null,null,null,null,null,null,null,0]
[null,{"$f":"IFERROR(VLOOKUP(A3052,Base!$A$2:$D$460,2,0),\"\")","v":""},{"$f":"IFERROR(VLOOKUP(A3052,Base!$A$2:$D$460,3,0),\"\")","v":""},{"$f":"IFERROR(VLOOKUP(A3052,Base!$A$2:$D$460,4,0),\"\")","v":""},null,null,null,null,null,null,null,null,null,null,null,null,null,0]
[null,{"$f":"IFERROR(VLOOKUP(A3053,Base!$A$2:$D$460,2,0),\"\")","v":""},{"$f":"IFERROR(VLOOKUP(A3053,Base!$A$2:$D$460,3,0),\"\")","v":""},{"$f":"IFERROR(VLOOKUP(A3053,Base!$A$2:$D$460,4,0),\"\")","v":""},null,null,null,null,null,null,null,null,null,null,null,null,null,0]
[null,{"$f":"IFERROR(VLOOKUP(A3054,Base!$A$2:$D$460,2,0),\"\")","v":""},{"$f":"IFERROR(VLOOKUP(A3054,Base!$A$2:$D$460,3,0),\"\")","v":""},{"$f":"IFERROR(VLOOKUP(A3054,Base!$A$2:$D$460,4,0),\"\")","v":""},null,null,null,null,null,null,null,null,null,null,null,null,null,0]
[null,{"$f":"IFERROR(VLOOKUP(A3055,Base!$A$2:$D$460,2,0),\"\")","v":""},{"$f":"IFERROR(VLOOKUP(A3055,Base!$A$2:$D$460,3,0),\"\")","v":""},{"$f":"IFERROR(VLOOKUP(A3055,Base!$A$2:$D$460,4,0),\"\")","v":""},null,null,null,null,null,null,null,null,null,null,null,null,null,0]
[null,{"$f":"IFERROR(VLOOKUP(A3056,Base!$A$2:$D$460,2,0),\"\")","v":""},{"$f":"IFERROR(VLOOKUP(A3056,Base!$A$2:$D$460,3,0),\"\")","v":""},{"$f":"IFERROR(VLOOKUP(A3056,Base!$A$2:$D$460,4,0),\"\")","v":""},null,null,null,null,null,null,null,null,null,null,null,null,null,0]
[null,{"$f":"IFERROR(VLOOKUP(A3057,Base!$A$2:$D$460,2,0),\"\")","v":""},{"$f":"IFERROR(VLOOKUP(A3057,Base!$A$2:$D$460,3,0),\"\")","v":""},{"$f":"IFERROR(VLOOKUP(A3057,Base!$A$2:$D$460,4,0),\"\")","v":""},null,null,null,null,null,null,null,null,null,null,null,null,null,0]
[null,{"$f":"IFERROR(VLOOKUP(A3058,Base!$A$2:$D$460,2,0),\"\")","v":""},{"$f":"IFERROR(VLOOKUP(A3058,Base!$A$2:$D$460,3,0),\"\")","v":""},{"$f":"IFERROR(VLOOKUP(A3058,Base!$A$2:$D$460,4,0),\"\")","v":""},null,null,null,null,null,null,null,null,null,null,null,null,null,0]
[null,{"$f":"IFERROR(VLOOKUP(A3059,Base!$A$2:$D$460,2,0),\"\")","v":""},{"$f":"IFERROR(VLOOKUP(A3059,Base!$A$2:$D$460,3,0),\"\")","v":""},{"$f":"IFERROR(VLOOKUP(A3059,Base!$A$2:$D$460,4,0),\"\")","v":""},null,null,null,null,null,null,null,null,null,null,null,null,null,0]
[null,{"$f":"IFERROR(VLOOKUP(A3060,Base!$A$2:$D$460,2,0),\"\")","v":""},{"$f":"IFERROR(VLOOKUP(A3060,Base!$A$2:$D$460,3,0),\"\")","v":""},{"$f":"IFERROR(VLOOKUP(A3060,Base!$A$2:$D$460,4,0),\"\")","v":""},null,null,null,null,null,null,null,null,null,null,null,null,null,0]
[null,{"$f":"IFERROR(VLOOKUP(A3061,Base!$A$2:$D$460,2,0),\"\")","v":""},{"$f":"IFERROR(VLOOKUP(A3061,Base!$A$2:$D$460,3,0),\"\")","v":""},{"$f":"IFERROR(VLOOKUP(A3061,Base!$A$2:$D$460,4,0),\"\")","v":""},null,null,null,null,null,null,null,null,null,null,null,null,null,0]
[null,{"$f":"IFERROR(VLOOKUP(A3062,Base!$A$2:$D$460,2,0),\"\")","v":""},{"$f":"IFERROR(VLOOKUP(A3062,Base!$A$2:$D$460,3,0),\"\")","v":""},{"$f":"IFERROR(VLOOKUP(A3062,Base!$A$2:$D$460,4,0),\"\")","v":""},null,null,null,null,null,null,null,null,null,null,null,null,null,0]
[null,{"$f":"IFERROR(VLOOKUP(A3063,Base!$A$2:$D$460,2,0),\"\")","v":""},{"$f":"IFERROR(VLOOKUP(A3063,Base!$A$2:$D$460,3,0),\"\")","v":""},{"$f":"IFERROR(VLOOKUP(A3063,Base!$A$2:$D$460,4,0),\"\")","v":""},null,null,null,null,null,null,null,null,null,null,null,null,null,0]
[null,{"$f":"IFERROR(VLOOKUP(A3064,Base!$A$2:$D$460,2,0),\"\")","v":""},{"$f":"IFERROR(VLOOKUP(A3064,Base!$A$2:$D$460,3,0),\"\")","v":""},{"$f":"IFERROR(VLOOKUP(A3064,Base!$A$2:$D$460,4,0),\"\")","v":""},null,null,null,null,null,null,null,null,null,null,null,null,null,0]
[null,{"$f":"IFERROR(VLOOKUP(A3065,Base!$A$2:$D$460,2,0),\"\")","v":""},{"$f":"IFERROR(VLOOKUP(A3065,Base!$A$2:$D$460,3,0),\"\")","v":""},{"$f":"IFERROR(VLOOKUP(A3065,Base!$A$2:$D$460,4,0),\"\")","v":""},null,null,null,null,null,null,null,null,null,null,null,null,null,0]
[null,{"$f":"IFERROR(VLOOKUP(A3066,Base!$A$2:$D$460,2,0),\"\")","v":""},{"$f":"IFERROR(VLOOKUP(A3066,Base!$A$2:$D$460,3,0),\"\")","v":""},{"$f":"IFERROR(VLOOKUP(A3066,Base!$A$2:$D$460,4,0),\"\")","v":""},null,null,null,null,null,null,null,null,null,null,null,null,null,0]
[null,{"$f":"IFERROR(VLOOKUP(A3067,Base!$A$2:$D$460,2,0),\"\")","v":""},{"$f":"IFERROR(VLOOKUP(A3067,Base!$A$2:$D$460,3,0),\"\")","v":""},{"$f":"IFERROR(VLOOKUP(A3067,Base!$A$2:$D$460,4,0),\"\")","v":""},null,null,null,null,null,null,null,null,null,null,null,null,null,0]
[null,{"$f":"IFERROR(VLOOKUP(A3068,Base!$A$2:$D$460,2,0),\"\")","v":""},{"$f":"IFERROR(VLOOKUP(A3068,Base!$A$2:$D$460,3,0),\"\")","v":""},{"$f":"IFERROR(VLOOKUP(A3068,Base!$A$2:$D$460,4,0),\"\")","v":""},null,null,null,null,null,null,null,null,null,null,null,null,null,0]
[null,{"$f":"IFERROR(VLOOKUP(A3069,Base!$A$2:$D$460,2,0),\"\")","v":""},{"$f":"IFERROR(VLOOKUP(A3069,Base!$A$2:$D$460,3,0),\"\")","v":""},{"$f":"IFERROR(VLOOKUP(A3069,Base!$A$2:$D$460,4,0),\"\")","v":""},null,null,null,null,null,null,null,null,null,null,null,null,null,0]
[null,{"$f":"IFERROR(VLOOKUP(A3070,Base!$A$2:$D$460,2,0),\"\")","v":""},{"$f":"IFERROR(VLOOKUP(A3070,Base!$A$2:$D$460,3,0),\"\")","v":""},{"$f":"IFERROR(VLOOKUP(A3070,Base!$A$2:$D$460,4,0),\"\")","v":""},null,null,null,null,null,null,null,null,null,null,null,null,null,0]
[null,{"$f":"IFERROR(VLOOKUP(A3071,Base!$A$2:$D$460,2,0),\"\")","v":""},{"$f":"IFERROR(VLOOKUP(A3071,Base!$A$2:$D$460,3,0),\"\")","v":""},{"$f":"IFERROR(VLOOKUP(A3071,Base!$A$2:$D$460,4,0),\"\")","v":""},null,null,null,null,null,null,null,null,null,null,null,null,null,0]
[null,{"$f":"IFERROR(VLOOKUP(A3072,Base!$A$2:$D$460,2,0),\"\")","v":""},{"$f":"IFERROR(VLOOKUP(A3072,Base!$A$2:$D$460,3,0),\"\")","v":""},{"$f":"IFERROR(VLOOKUP(A3072,Base!$A$2:$D$460,4,0),\"\")","v":""},null,null,null,null,null,null,null,null,null,null,null,null,null,0]
[null,{"$f":"IFERROR(VLOOKUP(A3073,Base!$A$2:$D$460,2,0),\"\")","v":""},{"$f":"IFERROR(VLOOKUP(A3073,Base!$A$2:$D$460,3,0),\"\")","v":""},{"$f":"IFERROR(VLOOKUP(A3073,Base!$A$2:$D$460,4,0),\"\")","v":""},null,null,null,null,null,null,null,null,null,null,null,null,null,0]
[null,{"$f":"IFERROR(VLOOKUP(A3074,Base!$A$2:$D$460,2,0),\"\")","v":""},{"$f":"IFERROR(VLOOKUP(A3074,Base!$A$2:$D$460,3,0),\"\")","v":""},{"$f":"IFERROR(VLOOKUP(A3074,Base!$A$2:$D$460,4,0),\"\")","v":""},null,null,null,null,null,null,null,null,null,null,null,null,null,0]
[null,{"$f":"IFERROR(VLOOKUP(A3075,Base!$A$2:$D$460,2,0),\"\")","v":""},{"$f":"IFERROR(VLOOKUP(A3075,Base!$A$2:$D$460,3,0),\"\")","v":""},{"$f":"IFERROR(VLOOKUP(A3075,Base!$A$2:$D$460,4,0),\"\")","v":""},null,null,null,null,null,null,null,null,null,null,null,null,null,0]
[null,{"$f":"IFERROR(VLOOKUP(A3076,Base!$A$2:$D$460,2,0),\"\")","v":""},{"$f":"IFERROR(VLOOKUP(A3076,Base!$A$2:$D$460,3,0),\"\")","v":""},{"$f":"IFERROR(VLOOKUP(A3076,Base!$A$2:$D$460,4,0),\"\")","v":""},null,null,null,null,null,null,null,null,null,null,null,null,null,0]
[null,{"$f":"IFERROR(VLOOKUP(A3077,Base!$A$2:$D$460,2,0),\"\")","v":""},{"$f":"IFERROR(VLOOKUP(A3077,Base!$A$2:$D$460,3,0),\"\")","v":""},{"$f":"IFERROR(VLOOKUP(A3077,Base!$A$2:$D$460,4,0),\"\")","v":""},null,null,null,null,null,null,null,null,null,null,null,null,null,0]
[null,{"$f":"IFERROR(VLOOKUP(A3078,Base!$A$2:$D$460,2,0),\"\")","v":""},{"$f":"IFERROR(VLOOKUP(A3078,Base!$A$2:$D$460,3,0),\"\")","v":""},{"$f":"IFERROR(VLOOKUP(A3078,Base!$A$2:$D$460,4,0),\"\")","v":""},null,null,null,null,null,null,null,null,null,null,null,null,null,0]
[null,{"$f":"IFERROR(VLOOKUP(A3079,Base!$A$2:$D$460,2,0),\"\")","v":""},{"$f":"IFERROR(VLOOKUP(A3079,Base!$A$2:$D$460,3,0),\"\")","v":""},{"$f":"IFERROR(VLOOKUP(A3079,Base!$A$2:$D$460,4,0),\"\")","v":""},null,null,null,null,null,null,null,null,null,null,null,null,null,0]
[null,{"$f":"IFERROR(VLOOKUP(A3080,Base!$A$2:$D$460,2,0),\"\")","v":""},{"$f":"IFERROR(VLOOKUP(A3080,Base!$A$2:$D$460,3,0),\"\")","v":""},{"$f":"IFERROR(VLOOKUP(A3080,Base!$A$2:$D$460,4,0),\"\")","v":""},null,null,null,null,null,null,null,null,null,null,null,null,null,0]
[null,{"$f":"IFERROR(VLOOKUP(A3081,Base!$A$2:$D$460,2,0),\"\")","v":""},{"$f":"IFERROR(VLOOKUP(A3081,Base!$A$2:$D$460,3,0),\"\")","v":""},{"$f":"IFERROR(VLOOKUP(A3081,Base!$A$2:$D$460,4,0),\"\")","v":""},null,null,null,null,null,null,null,null,null,null,null,null,null,0]
[null,{"$f":"IFERROR(VLOOKUP(A3082,Base!$A$2:$D$460,2,0),\"\")","v":""},{"$f":"IFERROR(VLOOKUP(A3082,Base!$A$2:$D$460,3,0),\"\")","v":""},{"$f":"IFERROR(VLOOKUP(A3082,Base!$A$2:$D$460,4,0),\"\")","v":""},null,null,null,null,null,null,null,null,null,null,null,null,null,0]
[null,{"$f":"IFERROR(VLOOKUP(A3083,Base!$A$2:$D$460,2,0),\"\")","v":""},{"$f":"IFERROR(VLOOKUP(A3083,Base!$A$2:$D$460,3,0),\"\")","v":""},{"$f":"IFERROR(VLOOKUP(A3083,Base!$A$2:$D$460,4,0),\"\")","v":""},null,null,null,null,null,null,null,null,null,null,null,null,null,0]
[null,{"$f":"IFERROR(VLOOKUP(A3084,Base!$A$2:$D$460,2,0),\"\")","v":""},{"$f":"IFERROR(VLOOKUP(A3084,Base!$A$2:$D$460,3,0),\"\")","v":""},{"$f":"IFERROR(VLOOKUP(A3084,Base!$A$2:$D$460,4,0),\"\")","v":""},null,null,null,null,null,null,null,null,null,null,null,null,null,0]
[null,{"$f":"IFERROR(VLOOKUP(A3085,Base!$A$2:$D$460,2,0),\"\")","v":""},{"$f":"IFERROR(VLOOKUP(A3085,Base!$A$2:$D$460,3,0),\"\")","v":""},{"$f":"IFERROR(VLOOKUP(A3085,Base!$A$2:$D$460,4,0),\"\")","v":""},null,null,null,null,null,null,null,null,null,null,null,null,null,0]
[null,{"$f":"IFERROR(VLOOKUP(A3086,Base!$A$2:$D$460,2,0),\"\")","v":""},{"$f":"IFERROR(VLOOKUP(A3086,Base!$A$2:$D$460,3,0),\"\")","v":""},{"$f":"IFERROR(VLOOKUP(A3086,Base!$A$2:$D$460,4,0),\"\")","v":""},null,null,null,null,null,null,null,null,null,null,null,null,null,0]
[null,{"$f":"IFERROR(VLOOKUP(A3087,Base!$A$2:$D$460,2,0),\"\")","v":""},{"$f":"IFERROR(VLOOKUP(A3087,Base!$A$2:$D$460,3,0),\"\")","v":""},{"$f":"IFERROR(VLOOKUP(A3087,Base!$A$2:$D$460,4,0),\"\")","v":""},null,null,null,null,null,null,null,null,null,null,null,null,null,0]
[null,{"$f":"IFERROR(VLOOKUP(A3088,Base!$A$2:$D$460,2,0),\"\")","v":""},{"$f":"IFERROR(VLOOKUP(A3088,Base!$A$2:$D$460,3,0),\"\")","v":""},{"$f":"IFERROR(VLOOKUP(A3088,Base!$A$2:$D$460,4,0),\"\")","v":""},null,null,null,null,null,null,null,null,null,null,null,null,null,0]
[null,{"$f":"IFERROR(VLOOKUP(A3089,Base!$A$2:$D$460,2,0),\"\")","v":""},{"$f":"IFERROR(VLOOKUP(A3089,Base!$A$2:$D$460,3,0),\"\")","v":""},{"$f":"IFERROR(VLOOKUP(A3089,Base!$A$2:$D$460,4,0),\"\")","v":""},null,null,null,null,null,null,null,null,null,null,null,null,null,0]
[null,{"$f":"IFERROR(VLOOKUP(A3090,Base!$A$2:$D$460,2,0),\"\")","v":""},{"$f":"IFERROR(VLOOKUP(A3090,Base!$A$2:$D$460,3,0),\"\")","v":""},{"$f":"IFERROR(VLOOKUP(A3090,Base!$A$2:$D$460,4,0),\"\")","v":""},null,null,null,null,null,null,null,null,null,null,null,null,null,0]
[null,{"$f":"IFERROR(VLOOKUP(A3091,Base!$A$2:$D$460,2,0),\"\")","v":""},{"$f":"IFERROR(VLOOKUP(A3091,Base!$A$2:$D$460,3,0),\"\")","v":""},{"$f":"IFERROR(VLOOKUP(A3091,Base!$A$2:$D$460,4,0),\"\")","v":""},null,null,null,null,null,null,null,null,null,null,null,null,null,0]
[null,{"$f":"IFERROR(VLOOKUP(A3092,Base!$A$2:$D$460,2,0),\"\")","v":""},{"$f":"IFERROR(VLOOKUP(A3092,Base!$A$2:$D$460,3,0),\"\")","v":""},{"$f":"IFERROR(VLOOKUP(A3092,Base!$A$2:$D$460,4,0),\"\")","v":""},null,null,null,null,null,null,null,null,null,null,null,null,null,0]
[null,{"$f":"IFERROR(VLOOKUP(A3093,Base!$A$2:$D$460,2,0),\"\")","v":""},{"$f":"IFERROR(VLOOKUP(A3093,Base!$A$2:$D$460,3,0),\"\")","v":""},{"$f":"IFERROR(VLOOKUP(A3093,Base!$A$2:$D$460,4,0),\"\")","v":""},null,null,null,null,null,null,null,null,null,null,null,null,null,0]
[null,{"$f":"IFERROR(VLOOKUP(A3094,Base!$A$2:$D$460,2,0),\"\")","v":""},{"$f":"IFERROR(VLOOKUP(A3094,Base!$A$2:$D$460,3,0),\"\")","v":""},{"$f":"IFERROR(VLOOKUP(A3094,Base!$A$2:$D$460,4,0),\"\")","v":""},null,null,null,null,null,null,null,null,null,null,null,null,null,0]
[null,{"$f":"IFERROR(VLOOKUP(A3095,Base!$A$2:$D$460,2,0),\"\")","v":""},{"$f":"IFERROR(VLOOKUP(A3095,Base!$A$2:$D$460,3,0),\"\")","v":""},{"$f":"IFERROR(VLOOKUP(A3095,Base!$A$2:$D$460,4,0),\"\")","v":""},null,null,null,null,null,null,null,null,null,null,null,null,null,0]
[null,{"$f":"IFERROR(VLOOKUP(A3096,Base!$A$2:$D$460,2,0),\"\")","v":""},{"$f":"IFERROR(VLOOKUP(A3096,Base!$A$2:$D$460,3,0),\"\")","v":""},{"$f":"IFERROR(VLOOKUP(A3096,Base!$A$2:$D$460,4,0),\"\")","v":""},null,null,null,null,null,null,null,null,null,null,null,null,null,0]
[null,{"$f":"IFERROR(VLOOKUP(A3097,Base!$A$2:$D$460,2,0),\"\")","v":""},{"$f":"IFERROR(VLOOKUP(A3097,Base!$A$2:$D$460,3,0),\"\")","v":""},{"$f":"IFERROR(VLOOKUP(A3097,Base!$A$2:$D$460,4,0),\"\")","v":""},null,null,null,null,null,null,null,null,null,null,null,null,null,0]
[null,{"$f":"IFERROR(VLOOKUP(A3098,Base!$A$2:$D$460,2,0),\"\")","v":""},{"$f":"IFERROR(VLOOKUP(A3098,Base!$A$2:$D$460,3,0),\"\")","v":""},{"$f":"IFERROR(VLOOKUP(A3098,Base!$A$2:$D$460,4,0),\"\")","v":""},null,null,null,null,null,null,null,null,null,null,null,null,null,0]
[null,{"$f":"IFERROR(VLOOKUP(A3099,Base!$A$2:$D$460,2,0),\"\")","v":""},{"$f":"IFERROR(VLOOKUP(A3099,Base!$A$2:$D$460,3,0),\"\")","v":""},{"$f":"IFERROR(VLOOKUP(A3099,Base!$A$2:$D$460,4,0),\"\")","v":""},null,null,null,null,null,null,null,null,null,null,null,null,null,0]
[null,{"$f":"IFERROR(VLOOKUP(A3100,Base!$A$2:$D$460,2,0),\"\")","v":""},{"$f":"IFERROR(VLOOKUP(A3100,Base!$A$2:$D$460,3,0),\"\")","v":""},{"$f":"IFERROR(VLOOKUP(A3100,Base!$A$2:$D$460,4,0),\"\")","v":""},null,null,null,null,null,null,null,null,null,null,null,null,null,0]
[null,{"$f":"IFERROR(VLOOKUP(A3101,Base!$A$2:$D$460,2,0),\"\")","v":""},{"$f":"IFERROR(VLOOKUP(A3101,Base!$A$2:$D$460,3,0),\"\")","v":""},{"$f":"IFERROR(VLOOKUP(A3101,Base!$A$2:$D$460,4,0),\"\")","v":""},null,null,null,null,null,null,null,null,null,null,null,null,null,0]
[null,{"$f":"IFERROR(VLOOKUP(A3102,Base!$A$2:$D$460,2,0),\"\")","v":""},{"$f":"IFERROR(VLOOKUP(A3102,Base!$A$2:$D$460,3,0),\"\")","v":""},{"$f":"IFERROR(VLOOKUP(A3102,Base!$A$2:$D$460,4,0),\"\")","v":""},null,null,null,null,null,null,null,null,null,null,null,null,null,0]
[null,{"$f":"IFERROR(VLOOKUP(A3103,Base!$A$2:$D$460,2,0),\"\")","v":""},{"$f":"IFERROR(VLOOKUP(A3103,Base!$A$2:$D$460,3,0),\"\")","v":""},{"$f":"IFERROR(VLOOKUP(A3103,Base!$A$2:$D$460,4,0),\"\")","v":""},null,null,null,null,null,null,null,null,null,null,null,null,null,0]
[null,{"$f":"IFERROR(VLOOKUP(A3104,Base!$A$2:$D$460,2,0),\"\")","v":""},{"$f":"IFERROR(VLOOKUP(A3104,Base!$A$2:$D$460,3,0),\"\")","v":""},{"$f":"IFERROR(VLOOKUP(A3104,Base!$A$2:$D$460,4,0),\"\")","v":""},null,null,null,null,null,null,null,null,null,null,null,null,null,0]
[null,{"$f":"IFERROR(VLOOKUP(A3105,Base!$A$2:$D$460,2,0),\"\")","v":""},{"$f":"IFERROR(VLOOKUP(A3105,Base!$A$2:$D$460,3,0),\"\")","v":""},{"$f":"IFERROR(VLOOKUP(A3105,Base!$A$2:$D$460,4,0),\"\")","v":""},null,null,null,null,null,null,null,null,null,null,null,null,null,0]
[null,{"$f":"IFERROR(VLOOKUP(A3106,Base!$A$2:$D$460,2,0),\"\")","v":""},{"$f":"IFERROR(VLOOKUP(A3106,Base!$A$2:$D$460,3,0),\"\")","v":""},{"$f":"IFERROR(VLOOKUP(A3106,Base!$A$2:$D$460,4,0),\"\")","v":""},null,null,null,null,null,null,null,null,null,null,null,null,null,0]
[null,{"$f":"IFERROR(VLOOKUP(A3107,Base!$A$2:$D$460,2,0),\"\")","v":""},{"$f":"IFERROR(VLOOKUP(A3107,Base!$A$2:$D$460,3,0),\"\")","v":""},{"$f":"IFERROR(VLOOKUP(A3107,Base!$A$2:$D$460,4,0),\"\")","v":""},null,null,null,null,null,null,null,null,null,null,null,null,null,0]
[null,{"$f":"IFERROR(VLOOKUP(A3108,Base!$A$2:$D$460,2,0),\"\")","v":""},{"$f":"IFERROR(VLOOKUP(A3108,Base!$A$2:$D$460,3,0),\"\")","v":""},{"$f":"IFERROR(VLOOKUP(A3108,Base!$A$2:$D$460,4,0),\"\")","v":""},null,null,null,null,null,null,null,null,null,null,null,null,null,0]
[null,{"$f":"IFERROR(VLOOKUP(A3109,Base!$A$2:$D$460,2,0),\"\")","v":""},{"$f":"IFERROR(VLOOKUP(A3109,Base!$A$2:$D$460,3,0),\"\")","v":""},{"$f":"IFERROR(VLOOKUP(A3109,Base!$A$2:$D$460,4,0),\"\")","v":""},null,null,null,null,null,null,null,null,null,null,null,null,null,0]
[null,{"$f":"IFERROR(VLOOKUP(A3110,Base!$A$2:$D$460,2,0),\"\")","v":""},{"$f":"IFERROR(VLOOKUP(A3110,Base!$A$2:$D$460,3,0),\"\")","v":""},{"$f":"IFERROR(VLOOKUP(A3110,Base!$A$2:$D$460,4,0),\"\")","v":""},null,null,null,null,null,null,null,null,null,null,null,null,null,0]
[null,{"$f":"IFERROR(VLOOKUP(A3111,Base!$A$2:$D$460,2,0),\"\")","v":""},{"$f":"IFERROR(VLOOKUP(A3111,Base!$A$2:$D$460,3,0),\"\")","v":""},{"$f":"IFERROR(VLOOKUP(A3111,Base!$A$2:$D$460,4,0),\"\")","v":""},null,null,null,null,null,null,null,null,null,null,null,null,null,{"$f":"SUM(N3111:Q3111)/4","v":0}]
[null,{"$f":"IFERROR(VLOOKUP(A3112,Base!$A$2:$D$460,2,0),\"\")","v":""},{"$f":"IFERROR(VLOOKUP(A3112,Base!$A$2:$D$460,3,0),\"\")","v":""},{"$f":"IFERROR(VLOOKUP(A3112,Base!$A$2:$D$460,4,0),\"\")","v":""},null,null,null,null,null,null,null,null,null,null,null,null,null,0]
[null,{"$f":"IFERROR(VLOOKUP(A3113,Base!$A$2:$D$460,2,0),\"\")","v":""},{"$f":"IFERROR(VLOOKUP(A3113,Base!$A$2:$D$460,3,0),\"\")","v":""},{"$f":"IFERROR(VLOOKUP(A3113,Base!$A$2:$D$460,4,0),\"\")","v":""},null,null,null,null,null,null,null,null,null,null,null,null,null,0]
[null,{"$f":"IFERROR(VLOOKUP(A3114,Base!$A$2:$D$460,2,0),\"\")","v":""},{"$f":"IFERROR(VLOOKUP(A3114,Base!$A$2:$D$460,3,0),\"\")","v":""},{"$f":"IFERROR(VLOOKUP(A3114,Base!$A$2:$D$460,4,0),\"\")","v":""},null,null,null,null,null,null,null,null,null,null,null,null,null,0]
[null,{"$f":"IFERROR(VLOOKUP(A3115,Base!$A$2:$D$460,2,0),\"\")","v":""},{"$f":"IFERROR(VLOOKUP(A3115,Base!$A$2:$D$460,3,0),\"\")","v":""},{"$f":"IFERROR(VLOOKUP(A3115,Base!$A$2:$D$460,4,0),\"\")","v":""},null,null,null,null,null,null,null,null,null,null,null,null,null,0]
[null,{"$f":"IFERROR(VLOOKUP(A3116,Base!$A$2:$D$460,2,0),\"\")","v":""},{"$f":"IFERROR(VLOOKUP(A3116,Base!$A$2:$D$460,3,0),\"\")","v":""},{"$f":"IFERROR(VLOOKUP(A3116,Base!$A$2:$D$460,4,0),\"\")","v":""},null,null,null,null,null,null,null,null,null,null,null,null,null,0]
[null,{"$f":"IFERROR(VLOOKUP(A3117,Base!$A$2:$D$460,2,0),\"\")","v":""},{"$f":"IFERROR(VLOOKUP(A3117,Base!$A$2:$D$460,3,0),\"\")","v":""},{"$f":"IFERROR(VLOOKUP(A3117,Base!$A$2:$D$460,4,0),\"\")","v":""},null,null,null,null,null,null,null,null,null,null,null,null,null,0]
[null,{"$f":"IFERROR(VLOOKUP(A3118,Base!$A$2:$D$460,2,0),\"\")","v":""},{"$f":"IFERROR(VLOOKUP(A3118,Base!$A$2:$D$460,3,0),\"\")","v":""},{"$f":"IFERROR(VLOOKUP(A3118,Base!$A$2:$D$460,4,0),\"\")","v":""},null,null,null,null,null,null,null,null,null,null,null,null,null,0]
[null,{"$f":"IFERROR(VLOOKUP(A3119,Base!$A$2:$D$460,2,0),\"\")","v":""},{"$f":"IFERROR(VLOOKUP(A3119,Base!$A$2:$D$460,3,0),\"\")","v":""},{"$f":"IFERROR(VLOOKUP(A3119,Base!$A$2:$D$460,4,0),\"\")","v":""},null,null,null,null,null,null,null,null,null,null,null,null,null,0]
[null,{"$f":"IFERROR(VLOOKUP(A3120,Base!$A$2:$D$460,2,0),\"\")","v":""},{"$f":"IFERROR(VLOOKUP(A3120,Base!$A$2:$D$460,3,0),\"\")","v":""},{"$f":"IFERROR(VLOOKUP(A3120,Base!$A$2:$D$460,4,0),\"\")","v":""},null,null,null,null,null,null,null,null,null,null,null,null,null,0]
[null,{"$f":"IFERROR(VLOOKUP(A3121,Base!$A$2:$D$460,2,0),\"\")","v":""},{"$f":"IFERROR(VLOOKUP(A3121,Base!$A$2:$D$460,3,0),\"\")","v":""},{"$f":"IFERROR(VLOOKUP(A3121,Base!$A$2:$D$460,4,0),\"\")","v":""},null,null,null,null,null,null,null,null,null,null,null,null,null,0]
[null,{"$f":"IFERROR(VLOOKUP(A3122,Base!$A$2:$D$460,2,0),\"\")","v":""},{"$f":"IFERROR(VLOOKUP(A3122,Base!$A$2:$D$460,3,0),\"\")","v":""},{"$f":"IFERROR(VLOOKUP(A3122,Base!$A$2:$D$460,4,0),\"\")","v":""},null,null,null,null,null,null,null,null,null,null,null,null,null,0]
[null,{"$f":"IFERROR(VLOOKUP(A3123,Base!$A$2:$D$460,2,0),\"\")","v":""},{"$f":"IFERROR(VLOOKUP(A3123,Base!$A$2:$D$460,3,0),\"\")","v":""},{"$f":"IFERROR(VLOOKUP(A3123,Base!$A$2:$D$460,4,0),\"\")","v":""},null,null,null,null,null,null,null,null,null,null,null,null,null,0]
[null,{"$f":"IFERROR(VLOOKUP(A3124,Base!$A$2:$D$460,2,0),\"\")","v":""},{"$f":"IFERROR(VLOOKUP(A3124,Base!$A$2:$D$460,3,0),\"\")","v":""},{"$f":"IFERROR(VLOOKUP(A3124,Base!$A$2:$D$460,4,0),\"\")","v":""},null,null,null,null,null,null,null,null,null,null,null,null,null,0]
[null,{"$f":"IFERROR(VLOOKUP(A3125,Base!$A$2:$D$460,2,0),\"\")","v":""},{"$f":"IFERROR(VLOOKUP(A3125,Base!$A$2:$D$460,3,0),\"\")","v":""},{"$f":"IFERROR(VLOOKUP(A3125,Base!$A$2:$D$460,4,0),\"\")","v":""},null,null,null,null,null,null,null,null,null,null,null,null,null,0]
[null,{"$f":"IFERROR(VLOOKUP(A3126,Base!$A$2:$D$460,2,0),\"\")","v":""},{"$f":"IFERROR(VLOOKUP(A3126,Base!$A$2:$D$460,3,0),\"\")","v":""},{"$f":"IFERROR(VLOOKUP(A3126,Base!$A$2:$D$460,4,0),\"\")","v":""},null,null,null,null,null,null,null,null,null,null,null,null,null,0]
[null,{"$f":"IFERROR(VLOOKUP(A3127,Base!$A$2:$D$460,2,0),\"\")","v":""},{"$f":"IFERROR(VLOOKUP(A3127,Base!$A$2:$D$460,3,0),\"\")","v":""},{"$f":"IFERROR(VLOOKUP(A3127,Base!$A$2:$D$460,4,0),\"\")","v":""},null,null,null,null,null,null,null,null,null,null,null,null,null,0]
[null,{"$f":"IFERROR(VLOOKUP(A3128,Base!$A$2:$D$460,2,0),\"\")","v":""},{"$f":"IFERROR(VLOOKUP(A3128,Base!$A$2:$D$460,3,0),\"\")","v":""},{"$f":"IFERROR(VLOOKUP(A3128,Base!$A$2:$D$460,4,0),\"\")","v":""},null,null,null,null,null,null,null,null,null,null,null,null,null,0]
[null,{"$f":"IFERROR(VLOOKUP(A3129,Base!$A$2:$D$460,2,0),\"\")","v":""},{"$f":"IFERROR(VLOOKUP(A3129,Base!$A$2:$D$460,3,0),\"\")","v":""},{"$f":"IFERROR(VLOOKUP(A3129,Base!$A$2:$D$460,4,0),\"\")","v":""},null,null,null,null,null,null,null,null,null,null,null,null,null,0]
[null,{"$f":"IFERROR(VLOOKUP(A3130,Base!$A$2:$D$460,2,0),\"\")","v":""},{"$f":"IFERROR(VLOOKUP(A3130,Base!$A$2:$D$460,3,0),\"\")","v":""},{"$f":"IFERROR(VLOOKUP(A3130,Base!$A$2:$D$460,4,0),\"\")","v":""},null,null,null,null,null,null,null,null,null,null,null,null,null,0]
[null,{"$f":"IFERROR(VLOOKUP(A3131,Base!$A$2:$D$460,2,0),\"\")","v":""},{"$f":"IFERROR(VLOOKUP(A3131,Base!$A$2:$D$460,3,0),\"\")","v":""},{"$f":"IFERROR(VLOOKUP(A3131,Base!$A$2:$D$460,4,0),\"\")","v":""},null,null,null,null,null,null,null,null,null,null,null,null,null,0]
[null,{"$f":"IFERROR(VLOOKUP(A3132,Base!$A$2:$D$460,2,0),\"\")","v":""},{"$f":"IFERROR(VLOOKUP(A3132,Base!$A$2:$D$460,3,0),\"\")","v":""},{"$f":"IFERROR(VLOOKUP(A3132,Base!$A$2:$D$460,4,0),\"\")","v":""},null,null,null,null,null,null,null,null,null,null,null,null,null,0]
[null,{"$f":"IFERROR(VLOOKUP(A3133,Base!$A$2:$D$460,2,0),\"\")","v":""},{"$f":"IFERROR(VLOOKUP(A3133,Base!$A$2:$D$460,3,0),\"\")","v":""},{"$f":"IFERROR(VLOOKUP(A3133,Base!$A$2:$D$460,4,0),\"\")","v":""},null,null,null,null,null,null,null,null,null,null,null,null,null,0]
[null,{"$f":"IFERROR(VLOOKUP(A3134,Base!$A$2:$D$460,2,0),\"\")","v":""},{"$f":"IFERROR(VLOOKUP(A3134,Base!$A$2:$D$460,3,0),\"\")","v":""},{"$f":"IFERROR(VLOOKUP(A3134,Base!$A$2:$D$460,4,0),\"\")","v":""},null,null,null,null,null,null,null,null,null,null,null,null,null,0]
[null,{"$f":"IFERROR(VLOOKUP(A3135,Base!$A$2:$D$460,2,0),\"\")","v":""},{"$f":"IFERROR(VLOOKUP(A3135,Base!$A$2:$D$460,3,0),\"\")","v":""},{"$f":"IFERROR(VLOOKUP(A3135,Base!$A$2:$D$460,4,0),\"\")","v":""},null,null,null,null,null,null,null,null,null,null,null,null,null,0]
[null,{"$f":"IFERROR(VLOOKUP(A3136,Base!$A$2:$D$460,2,0),\"\")","v":""},{"$f":"IFERROR(VLOOKUP(A3136,Base!$A$2:$D$460,3,0),\"\")","v":""},{"$f":"IFERROR(VLOOKUP(A3136,Base!$A$2:$D$460,4,0),\"\")","v":""},null,null,null,null,null,null,null,null,null,null,null,null,null,0]
[null,{"$f":"IFERROR(VLOOKUP(A3137,Base!$A$2:$D$460,2,0),\"\")","v":""},{"$f":"IFERROR(VLOOKUP(A3137,Base!$A$2:$D$460,3,0),\"\")","v":""},{"$f":"IFERROR(VLOOKUP(A3137,Base!$A$2:$D$460,4,0),\"\")","v":""},null,null,null,null,null,null,null,null,null,null,null,null,null,0]
[null,{"$f":"IFERROR(VLOOKUP(A3138,Base!$A$2:$D$460,2,0),\"\")","v":""},{"$f":"IFERROR(VLOOKUP(A3138,Base!$A$2:$D$460,3,0),\"\")","v":""},{"$f":"IFERROR(VLOOKUP(A3138,Base!$A$2:$D$460,4,0),\"\")","v":""},null,null,null,null,null,null,null,null,null,null,null,null,null,0]
[null,{"$f":"IFERROR(VLOOKUP(A3139,Base!$A$2:$D$460,2,0),\"\")","v":""},{"$f":"IFERROR(VLOOKUP(A3139,Base!$A$2:$D$460,3,0),\"\")","v":""},{"$f":"IFERROR(VLOOKUP(A3139,Base!$A$2:$D$460,4,0),\"\")","v":""},null,null,null,null,null,null,null,null,null,null,null,null,null,0]
[null,{"$f":"IFERROR(VLOOKUP(A3140,Base!$A$2:$D$460,2,0),\"\")","v":""},{"$f":"IFERROR(VLOOKUP(A3140,Base!$A$2:$D$460,3,0),\"\")","v":""},{"$f":"IFERROR(VLOOKUP(A3140,Base!$A$2:$D$460,4,0),\"\")","v":""},null,null,null,null,null,null,null,null,null,null,null,null,null,0]
[null,{"$f":"IFERROR(VLOOKUP(A3141,Base!$A$2:$D$460,2,0),\"\")","v":""},{"$f":"IFERROR(VLOOKUP(A3141,Base!$A$2:$D$460,3,0),\"\")","v":""},{"$f":"IFERROR(VLOOKUP(A3141,Base!$A$2:$D$460,4,0),\"\")","v":""},null,null,null,null,null,null,null,null,null,null,null,null,null,0]
[null,{"$f":"IFERROR(VLOOKUP(A3142,Base!$A$2:$D$460,2,0),\"\")","v":""},{"$f":"IFERROR(VLOOKUP(A3142,Base!$A$2:$D$460,3,0),\"\")","v":""},{"$f":"IFERROR(VLOOKUP(A3142,Base!$A$2:$D$460,4,0),\"\")","v":""},null,null,null,null,null,null,null,null,null,null,null,null,null,0]
[null,{"$f":"IFERROR(VLOOKUP(A3143,Base!$A$2:$D$460,2,0),\"\")","v":""},{"$f":"IFERROR(VLOOKUP(A3143,Base!$A$2:$D$460,3,0),\"\")","v":""},{"$f":"IFERROR(VLOOKUP(A3143,Base!$A$2:$D$460,4,0),\"\")","v":""},null,null,null,null,null,null,null,null,null,null,null,null,null,0]
[null,{"$f":"IFERROR(VLOOKUP(A3144,Base!$A$2:$D$460,2,0),\"\")","v":""},{"$f":"IFERROR(VLOOKUP(A3144,Base!$A$2:$D$460,3,0),\"\")","v":""},{"$f":"IFERROR(VLOOKUP(A3144,Base!$A$2:$D$460,4,0),\"\")","v":""},null,null,null,null,null,null,null,null,null,null,null,null,null,0]
[null,{"$f":"IFERROR(VLOOKUP(A3145,Base!$A$2:$D$460,2,0),\"\")","v":""},{"$f":"IFERROR(VLOOKUP(A3145,Base!$A$2:$D$460,3,0),\"\")","v":""},{"$f":"IFERROR(VLOOKUP(A3145,Base!$A$2:$D$460,4,0),\"\")","v":""},null,null,null,null,null,null,null,null,null,null,null,null,null,0]
[null,{"$f":"IFERROR(VLOOKUP(A3146,Base!$A$2:$D$460,2,0),\"\")","v":""},{"$f":"IFERROR(VLOOKUP(A3146,Base!$A$2:$D$460,3,0),\"\")","v":""},{"$f":"IFERROR(VLOOKUP(A3146,Base!$A$2:$D$460,4,0),\"\")","v":""},null,null,null,null,null,null,null,null,null,null,null,null,null,0]
[null,{"$f":"IFERROR(VLOOKUP(A3147,Base!$A$2:$D$460,2,0),\"\")","v":""},{"$f":"IFERROR(VLOOKUP(A3147,Base!$A$2:$D$460,3,0),\"\")","v":""},{"$f":"IFERROR(VLOOKUP(A3147,Base!$A$2:$D$460,4,0),\"\")","v":""},null,null,null,null,null,null,null,null,null,null,null,null,null,0]
[null,{"$f":"IFERROR(VLOOKUP(A3148,Base!$A$2:$D$460,2,0),\"\")","v":""},{"$f":"IFERROR(VLOOKUP(A3148,Base!$A$2:$D$460,3,0),\"\")","v":""},{"$f":"IFERROR(VLOOKUP(A3148,Base!$A$2:$D$460,4,0),\"\")","v":""},null,null,null,null,null,null,null,null,null,null,null,null,null,0]
[null,{"$f":"IFERROR(VLOOKUP(A3149,Base!$A$2:$D$460,2,0),\"\")","v":""},{"$f":"IFERROR(VLOOKUP(A3149,Base!$A$2:$D$460,3,0),\"\")","v":""},{"$f":"IFERROR(VLOOKUP(A3149,Base!$A$2:$D$460,4,0),\"\")","v":""},null,null,null,null,null,null,null,null,null,null,null,null,null,0]
[null,{"$f":"IFERROR(VLOOKUP(A3150,Base!$A$2:$D$460,2,0),\"\")","v":""},{"$f":"IFERROR(VLOOKUP(A3150,Base!$A$2:$D$460,3,0),\"\")","v":""},{"$f":"IFERROR(VLOOKUP(A3150,Base!$A$2:$D$460,4,0),\"\")","v":""},null,null,null,null,null,null,null,null,null,null,null,null,null,0]
[null,{"$f":"IFERROR(VLOOKUP(A3151,Base!$A$2:$D$460,2,0),\"\")","v":""},{"$f":"IFERROR(VLOOKUP(A3151,Base!$A$2:$D$460,3,0),\"\")","v":""},{"$f":"IFERROR(VLOOKUP(A3151,Base!$A$2:$D$460,4,0),\"\")","v":""},null,null,null,null,null,null,null,null,null,null,null,null,null,0]
[null,{"$f":"IFERROR(VLOOKUP(A3152,Base!$A$2:$D$460,2,0),\"\")","v":""},{"$f":"IFERROR(VLOOKUP(A3152,Base!$A$2:$D$460,3,0),\"\")","v":""},{"$f":"IFERROR(VLOOKUP(A3152,Base!$A$2:$D$460,4,0),\"\")","v":""},null,null,null,null,null,null,null,null,null,null,null,null,null,0]
[null,{"$f":"IFERROR(VLOOKUP(A3153,Base!$A$2:$D$460,2,0),\"\")","v":""},{"$f":"IFERROR(VLOOKUP(A3153,Base!$A$2:$D$460,3,0),\"\")","v":""},{"$f":"IFERROR(VLOOKUP(A3153,Base!$A$2:$D$460,4,0),\"\")","v":""},null,null,null,null,null,null,null,null,null,null,null,null,null,0]
[null,{"$f":"IFERROR(VLOOKUP(A3154,Base!$A$2:$D$460,2,0),\"\")","v":""},{"$f":"IFERROR(VLOOKUP(A3154,Base!$A$2:$D$460,3,0),\"\")","v":""},{"$f":"IFERROR(VLOOKUP(A3154,Base!$A$2:$D$460,4,0),\"\")","v":""},null,null,null,null,null,null,null,null,null,null,null,null,null,0]
[null,{"$f":"IFERROR(VLOOKUP(A3155,Base!$A$2:$D$460,2,0),\"\")","v":""},{"$f":"IFERROR(VLOOKUP(A3155,Base!$A$2:$D$460,3,0),\"\")","v":""},{"$f":"IFERROR(VLOOKUP(A3155,Base!$A$2:$D$460,4,0),\"\")","v":""},null,null,null,null,null,null,null,null,null,null,null,null,null,0]
[null,{"$f":"IFERROR(VLOOKUP(A3156,Base!$A$2:$D$460,2,0),\"\")","v":""},{"$f":"IFERROR(VLOOKUP(A3156,Base!$A$2:$D$460,3,0),\"\")","v":""},{"$f":"IFERROR(VLOOKUP(A3156,Base!$A$2:$D$460,4,0),\"\")","v":""},null,null,null,null,null,null,null,null,null,null,null,null,null,0]
[null,{"$f":"IFERROR(VLOOKUP(A3157,Base!$A$2:$D$460,2,0),\"\")","v":""},{"$f":"IFERROR(VLOOKUP(A3157,Base!$A$2:$D$460,3,0),\"\")","v":""},{"$f":"IFERROR(VLOOKUP(A3157,Base!$A$2:$D$460,4,0),\"\")","v":""},null,null,null,null,null,null,null,null,null,null,null,null,null,0]
[null,{"$f":"IFERROR(VLOOKUP(A3158,Base!$A$2:$D$460,2,0),\"\")","v":""},{"$f":"IFERROR(VLOOKUP(A3158,Base!$A$2:$D$460,3,0),\"\")","v":""},{"$f":"IFERROR(VLOOKUP(A3158,Base!$A$2:$D$460,4,0),\"\")","v":""},null,null,null,null,null,null,null,null,null,null,null,null,null,0]
[null,{"$f":"IFERROR(VLOOKUP(A3159,Base!$A$2:$D$460,2,0),\"\")","v":""},{"$f":"IFERROR(VLOOKUP(A3159,Base!$A$2:$D$460,3,0),\"\")","v":""},{"$f":"IFERROR(VLOOKUP(A3159,Base!$A$2:$D$460,4,0),\"\")","v":""},null,null,null,null,null,null,null,null,null,null,null,null,null,0]
[null,{"$f":"IFERROR(VLOOKUP(A3160,Base!$A$2:$D$460,2,0),\"\")","v":""},{"$f":"IFERROR(VLOOKUP(A3160,Base!$A$2:$D$460,3,0),\"\")","v":""},{"$f":"IFERROR(VLOOKUP(A3160,Base!$A$2:$D$460,4,0),\"\")","v":""},null,null,null,null,null,null,null,null,null,null,null,null,null,0]
[null,{"$f":"IFERROR(VLOOKUP(A3161,Base!$A$2:$D$460,2,0),\"\")","v":""},{"$f":"IFERROR(VLOOKUP(A3161,Base!$A$2:$D$460,3,0),\"\")","v":""},{"$f":"IFERROR(VLOOKUP(A3161,Base!$A$2:$D$460,4,0),\"\")","v":""},null,null,null,null,null,null,null,null,null,null,null,null,null,0]
[null,{"$f":"IFERROR(VLOOKUP(A3162,Base!$A$2:$D$460,2,0),\"\")","v":""},{"$f":"IFERROR(VLOOKUP(A3162,Base!$A$2:$D$460,3,0),\"\")","v":""},{"$f":"IFERROR(VLOOKUP(A3162,Base!$A$2:$D$460,4,0),\"\")","v":""},null,null,null,null,null,null,null,null,null,null,null,null,null,0]
[null,{"$f":"IFERROR(VLOOKUP(A3163,Base!$A$2:$D$460,2,0),\"\")","v":""},{"$f":"IFERROR(VLOOKUP(A3163,Base!$A$2:$D$460,3,0),\"\")","v":""},{"$f":"IFERROR(VLOOKUP(A3163,Base!$A$2:$D$460,4,0),\"\")","v":""},null,null,null,null,null,null,null,null,null,null,null,null,null,0]
[null,{"$f":"IFERROR(VLOOKUP(A3164,Base!$A$2:$D$460,2,0),\"\")","v":""},{"$f":"IFERROR(VLOOKUP(A3164,Base!$A$2:$D$460,3,0),\"\")","v":""},{"$f":"IFERROR(VLOOKUP(A3164,Base!$A$2:$D$460,4,0),\"\")","v":""},null,null,null,null,null,null,null,null,null,null,null,null,null,0]
[null,{"$f":"IFERROR(VLOOKUP(A3165,Base!$A$2:$D$460,2,0),\"\")","v":""},{"$f":"IFERROR(VLOOKUP(A3165,Base!$A$2:$D$460,3,0),\"\")","v":""},{"$f":"IFERROR(VLOOKUP(A3165,Base!$A$2:$D$460,4,0),\"\")","v":""},null,null,null,null,null,null,null,null,null,null,null,null,null,0]
[null,{"$f":"IFERROR(VLOOKUP(A3166,Base!$A$2:$D$460,2,0),\"\")","v":""},{"$f":"IFERROR(VLOOKUP(A3166,Base!$A$2:$D$460,3,0),\"\")","v":""},{"$f":"IFERROR(VLOOKUP(A3166,Base!$A$2:$D$460,4,0),\"\")","v":""},null,null,null,null,null,null,null,null,null,null,null,null,null,0]
[null,{"$f":"IFERROR(VLOOKUP(A3167,Base!$A$2:$D$460,2,0),\"\")","v":""},{"$f":"IFERROR(VLOOKUP(A3167,Base!$A$2:$D$460,3,0),\"\")","v":""},{"$f":"IFERROR(VLOOKUP(A3167,Base!$A$2:$D$460,4,0),\"\")","v":""},null,null,null,null,null,null,null,null,null,null,null,null,null,0]
[null,{"$f":"IFERROR(VLOOKUP(A3168,Base!$A$2:$D$460,2,0),\"\")","v":""},{"$f":"IFERROR(VLOOKUP(A3168,Base!$A$2:$D$460,3,0),\"\")","v":""},{"$f":"IFERROR(VLOOKUP(A3168,Base!$A$2:$D$460,4,0),\"\")","v":""},null,null,null,null,null,null,null,null,null,null,null,null,null,0]
[null,{"$f":"IFERROR(VLOOKUP(A3169,Base!$A$2:$D$460,2,0),\"\")","v":""},{"$f":"IFERROR(VLOOKUP(A3169,Base!$A$2:$D$460,3,0),\"\")","v":""},{"$f":"IFERROR(VLOOKUP(A3169,Base!$A$2:$D$460,4,0),\"\")","v":""},null,null,null,null,null,null,null,null,null,null,null,null,null,0]
[null,{"$f":"IFERROR(VLOOKUP(A3170,Base!$A$2:$D$460,2,0),\"\")","v":""},{"$f":"IFERROR(VLOOKUP(A3170,Base!$A$2:$D$460,3,0),\"\")","v":""},{"$f":"IFERROR(VLOOKUP(A3170,Base!$A$2:$D$460,4,0),\"\")","v":""},null,null,null,null,null,null,null,null,null,null,null,null,null,0]
[null,{"$f":"IFERROR(VLOOKUP(A3171,Base!$A$2:$D$460,2,0),\"\")","v":""},{"$f":"IFERROR(VLOOKUP(A3171,Base!$A$2:$D$460,3,0),\"\")","v":""},{"$f":"IFERROR(VLOOKUP(A3171,Base!$A$2:$D$460,4,0),\"\")","v":""},null,null,null,null,null,null,null,null,null,null,null,null,null,0]
[null,{"$f":"IFERROR(VLOOKUP(A3172,Base!$A$2:$D$460,2,0),\"\")","v":""},{"$f":"IFERROR(VLOOKUP(A3172,Base!$A$2:$D$460,3,0),\"\")","v":""},{"$f":"IFERROR(VLOOKUP(A3172,Base!$A$2:$D$460,4,0),\"\")","v":""},null,null,null,null,null,null,null,null,null,null,null,null,null,0]
[null,{"$f":"IFERROR(VLOOKUP(A3173,Base!$A$2:$D$460,2,0),\"\")","v":""},{"$f":"IFERROR(VLOOKUP(A3173,Base!$A$2:$D$460,3,0),\"\")","v":""},{"$f":"IFERROR(VLOOKUP(A3173,Base!$A$2:$D$460,4,0),\"\")","v":""},null,null,null,null,null,null,null,null,null,null,null,null,null,0]
[null,{"$f":"IFERROR(VLOOKUP(A3174,Base!$A$2:$D$460,2,0),\"\")","v":""},{"$f":"IFERROR(VLOOKUP(A3174,Base!$A$2:$D$460,3,0),\"\")","v":""},{"$f":"IFERROR(VLOOKUP(A3174,Base!$A$2:$D$460,4,0),\"\")","v":""},null,null,null,null,null,null,null,null,null,null,null,null,null,0]
[null,{"$f":"IFERROR(VLOOKUP(A3175,Base!$A$2:$D$460,2,0),\"\")","v":""},{"$f":"IFERROR(VLOOKUP(A3175,Base!$A$2:$D$460,3,0),\"\")","v":""},{"$f":"IFERROR(VLOOKUP(A3175,Base!$A$2:$D$460,4,0),\"\")","v":""},null,null,null,null,null,null,null,null,null,null,null,null,null,{"$f":"SUM(N3175:Q3175)/4","v":0}]
[null,{"$f":"IFERROR(VLOOKUP(A3176,Base!$A$2:$D$460,2,0),\"\")","v":""},{"$f":"IFERROR(VLOOKUP(A3176,Base!$A$2:$D$460,3,0),\"\")","v":""},{"$f":"IFERROR(VLOOKUP(A3176,Base!$A$2:$D$460,4,0),\"\")","v":""},null,null,null,null,null,null,null,null,null,null,null,null,null,0]
[null,{"$f":"IFERROR(VLOOKUP(A3177,Base!$A$2:$D$460,2,0),\"\")","v":""},{"$f":"IFERROR(VLOOKUP(A3177,Base!$A$2:$D$460,3,0),\"\")","v":""},{"$f":"IFERROR(VLOOKUP(A3177,Base!$A$2:$D$460,4,0),\"\")","v":""},null,null,null,null,null,null,null,null,null,null,null,null,null,0]
[null,{"$f":"IFERROR(VLOOKUP(A3178,Base!$A$2:$D$460,2,0),\"\")","v":""},{"$f":"IFERROR(VLOOKUP(A3178,Base!$A$2:$D$460,3,0),\"\")","v":""},{"$f":"IFERROR(VLOOKUP(A3178,Base!$A$2:$D$460,4,0),\"\")","v":""},null,null,null,null,null,null,null,null,null,null,null,null,null,0]
[null,{"$f":"IFERROR(VLOOKUP(A3179,Base!$A$2:$D$460,2,0),\"\")","v":""},{"$f":"IFERROR(VLOOKUP(A3179,Base!$A$2:$D$460,3,0),\"\")","v":""},{"$f":"IFERROR(VLOOKUP(A3179,Base!$A$2:$D$460,4,0),\"\")","v":""},null,null,null,null,null,null,null,null,null,null,null,null,null,0]
[null,{"$f":"IFERROR(VLOOKUP(A3180,Base!$A$2:$D$460,2,0),\"\")","v":""},{"$f":"IFERROR(VLOOKUP(A3180,Base!$A$2:$D$460,3,0),\"\")","v":""},{"$f":"IFERROR(VLOOKUP(A3180,Base!$A$2:$D$460,4,0),\"\")","v":""},null,null,null,null,null,null,null,null,null,null,null,null,null,0]
[null,{"$f":"IFERROR(VLOOKUP(A3181,Base!$A$2:$D$460,2,0),\"\")","v":""},{"$f":"IFERROR(VLOOKUP(A3181,Base!$A$2:$D$460,3,0),\"\")","v":""},{"$f":"IFERROR(VLOOKUP(A3181,Base!$A$2:$D$460,4,0),\"\")","v":""},null,null,null,null,null,null,null,null,null,null,null,null,null,0]
[null,{"$f":"IFERROR(VLOOKUP(A3182,Base!$A$2:$D$460,2,0),\"\")","v":""},{"$f":"IFERROR(VLOOKUP(A3182,Base!$A$2:$D$460,3,0),\"\")","v":""},{"$f":"IFERROR(VLOOKUP(A3182,Base!$A$2:$D$460,4,0),\"\")","v":""},null,null,null,null,null,null,null,null,null,null,null,null,null,0]
[null,{"$f":"IFERROR(VLOOKUP(A3183,Base!$A$2:$D$460,2,0),\"\")","v":""},{"$f":"IFERROR(VLOOKUP(A3183,Base!$A$2:$D$460,3,0),\"\")","v":""},{"$f":"IFERROR(VLOOKUP(A3183,Base!$A$2:$D$460,4,0),\"\")","v":""},null,null,null,null,null,null,null,null,null,null,null,null,null,0]
[null,{"$f":"IFERROR(VLOOKUP(A3184,Base!$A$2:$D$460,2,0),\"\")","v":""},{"$f":"IFERROR(VLOOKUP(A3184,Base!$A$2:$D$460,3,0),\"\")","v":""},{"$f":"IFERROR(VLOOKUP(A3184,Base!$A$2:$D$460,4,0),\"\")","v":""},null,null,null,null,null,null,null,null,null,null,null,null,null,0]
[null,{"$f":"IFERROR(VLOOKUP(A3185,Base!$A$2:$D$460,2,0),\"\")","v":""},{"$f":"IFERROR(VLOOKUP(A3185,Base!$A$2:$D$460,3,0),\"\")","v":""},{"$f":"IFERROR(VLOOKUP(A3185,Base!$A$2:$D$460,4,0),\"\")","v":""},null,null,null,null,null,null,null,null,null,null,null,null,null,0]
[null,{"$f":"IFERROR(VLOOKUP(A3186,Base!$A$2:$D$460,2,0),\"\")","v":""},{"$f":"IFERROR(VLOOKUP(A3186,Base!$A$2:$D$460,3,0),\"\")","v":""},{"$f":"IFERROR(VLOOKUP(A3186,Base!$A$2:$D$460,4,0),\"\")","v":""},null,null,null,null,null,null,null,null,null,null,null,null,null,0]
[null,{"$f":"IFERROR(VLOOKUP(A3187,Base!$A$2:$D$460,2,0),\"\")","v":""},{"$f":"IFERROR(VLOOKUP(A3187,Base!$A$2:$D$460,3,0),\"\")","v":""},{"$f":"IFERROR(VLOOKUP(A3187,Base!$A$2:$D$460,4,0),\"\")","v":""},null,null,null,null,null,null,null,null,null,null,null,null,null,0]
[null,{"$f":"IFERROR(VLOOKUP(A3188,Base!$A$2:$D$460,2,0),\"\")","v":""},{"$f":"IFERROR(VLOOKUP(A3188,Base!$A$2:$D$460,3,0),\"\")","v":""},{"$f":"IFERROR(VLOOKUP(A3188,Base!$A$2:$D$460,4,0),\"\")","v":""},null,null,null,null,null,null,null,null,null,null,null,null,null,0]
[null,{"$f":"IFERROR(VLOOKUP(A3189,Base!$A$2:$D$460,2,0),\"\")","v":""},{"$f":"IFERROR(VLOOKUP(A3189,Base!$A$2:$D$460,3,0),\"\")","v":""},{"$f":"IFERROR(VLOOKUP(A3189,Base!$A$2:$D$460,4,0),\"\")","v":""},null,null,null,null,null,null,null,null,null,null,null,null,null,0]
[null,{"$f":"IFERROR(VLOOKUP(A3190,Base!$A$2:$D$460,2,0),\"\")","v":""},{"$f":"IFERROR(VLOOKUP(A3190,Base!$A$2:$D$460,3,0),\"\")","v":""},{"$f":"IFERROR(VLOOKUP(A3190,Base!$A$2:$D$460,4,0),\"\")","v":""},null,null,null,null,null,null,null,null,null,null,null,null,null,0]
[null,{"$f":"IFERROR(VLOOKUP(A3191,Base!$A$2:$D$460,2,0),\"\")","v":""},{"$f":"IFERROR(VLOOKUP(A3191,Base!$A$2:$D$460,3,0),\"\")","v":""},{"$f":"IFERROR(VLOOKUP(A3191,Base!$A$2:$D$460,4,0),\"\")","v":""},null,null,null,null,null,null,null,null,null,null,null,null,null,0]
[null,{"$f":"IFERROR(VLOOKUP(A3192,Base!$A$2:$D$460,2,0),\"\")","v":""},{"$f":"IFERROR(VLOOKUP(A3192,Base!$A$2:$D$460,3,0),\"\")","v":""},{"$f":"IFERROR(VLOOKUP(A3192,Base!$A$2:$D$460,4,0),\"\")","v":""},null,null,null,null,null,null,null,null,null,null,null,null,null,0]
[null,{"$f":"IFERROR(VLOOKUP(A3193,Base!$A$2:$D$460,2,0),\"\")","v":""},{"$f":"IFERROR(VLOOKUP(A3193,Base!$A$2:$D$460,3,0),\"\")","v":""},{"$f":"IFERROR(VLOOKUP(A3193,Base!$A$2:$D$460,4,0),\"\")","v":""},null,null,null,null,null,null,null,null,null,null,null,null,null,0]
[null,{"$f":"IFERROR(VLOOKUP(A3194,Base!$A$2:$D$460,2,0),\"\")","v":""},{"$f":"IFERROR(VLOOKUP(A3194,Base!$A$2:$D$460,3,0),\"\")","v":""},{"$f":"IFERROR(VLOOKUP(A3194,Base!$A$2:$D$460,4,0),\"\")","v":""},null,null,null,null,null,null,null,null,null,null,null,null,null,0]
[null,{"$f":"IFERROR(VLOOKUP(A3195,Base!$A$2:$D$460,2,0),\"\")","v":""},{"$f":"IFERROR(VLOOKUP(A3195,Base!$A$2:$D$460,3,0),\"\")","v":""},{"$f":"IFERROR(VLOOKUP(A3195,Base!$A$2:$D$460,4,0),\"\")","v":""},null,null,null,null,null,null,null,null,null,null,null,null,null,0]
[null,{"$f":"IFERROR(VLOOKUP(A3196,Base!$A$2:$D$460,2,0),\"\")","v":""},{"$f":"IFERROR(VLOOKUP(A3196,Base!$A$2:$D$460,3,0),\"\")","v":""},{"$f":"IFERROR(VLOOKUP(A3196,Base!$A$2:$D$460,4,0),\"\")","v":""},null,null,null,null,null,null,null,null,null,null,null,null,null,0]
[null,{"$f":"IFERROR(VLOOKUP(A3197,Base!$A$2:$D$460,2,0),\"\")","v":""},{"$f":"IFERROR(VLOOKUP(A3197,Base!$A$2:$D$460,3,0),\"\")","v":""},{"$f":"IFERROR(VLOOKUP(A3197,Base!$A$2:$D$460,4,0),\"\")","v":""},null,null,null,null,null,null,null,null,null,null,null,null,null,0]
[null,{"$f":"IFERROR(VLOOKUP(A3198,Base!$A$2:$D$460,2,0),\"\")","v":""},{"$f":"IFERROR(VLOOKUP(A3198,Base!$A$2:$D$460,3,0),\"\")","v":""},{"$f":"IFERROR(VLOOKUP(A3198,Base!$A$2:$D$460,4,0),\"\")","v":""},null,null,null,null,null,null,null,null,null,null,null,null,null,0]
[null,{"$f":"IFERROR(VLOOKUP(A3199,Base!$A$2:$D$460,2,0),\"\")","v":""},{"$f":"IFERROR(VLOOKUP(A3199,Base!$A$2:$D$460,3,0),\"\")","v":""},{"$f":"IFERROR(VLOOKUP(A3199,Base!$A$2:$D$460,4,0),\"\")","v":""},null,null,null,null,null,null,null,null,null,null,null,null,null,0]
[null,{"$f":"IFERROR(VLOOKUP(A3200,Base!$A$2:$D$460,2,0),\"\")","v":""},{"$f":"IFERROR(VLOOKUP(A3200,Base!$A$2:$D$460,3,0),\"\")","v":""},{"$f":"IFERROR(VLOOKUP(A3200,Base!$A$2:$D$460,4,0),\"\")","v":""},null,null,null,null,null,null,null,null,null,null,null,null,null,0]
[null,{"$f":"IFERROR(VLOOKUP(A3201,Base!$A$2:$D$460,2,0),\"\")","v":""},{"$f":"IFERROR(VLOOKUP(A3201,Base!$A$2:$D$460,3,0),\"\")","v":""},{"$f":"IFERROR(VLOOKUP(A3201,Base!$A$2:$D$460,4,0),\"\")","v":""},null,null,null,null,null,null,null,null,null,null,null,null,null,0]
[null,{"$f":"IFERROR(VLOOKUP(A3202,Base!$A$2:$D$460,2,0),\"\")","v":""},{"$f":"IFERROR(VLOOKUP(A3202,Base!$A$2:$D$460,3,0),\"\")","v":""},{"$f":"IFERROR(VLOOKUP(A3202,Base!$A$2:$D$460,4,0),\"\")","v":""},null,null,null,null,null,null,null,null,null,null,null,null,null,0]
[null,{"$f":"IFERROR(VLOOKUP(A3203,Base!$A$2:$D$460,2,0),\"\")","v":""},{"$f":"IFERROR(VLOOKUP(A3203,Base!$A$2:$D$460,3,0),\"\")","v":""},{"$f":"IFERROR(VLOOKUP(A3203,Base!$A$2:$D$460,4,0),\"\")","v":""},null,null,null,null,null,null,null,null,null,null,null,null,null,0]
[null,{"$f":"IFERROR(VLOOKUP(A3204,Base!$A$2:$D$460,2,0),\"\")","v":""},{"$f":"IFERROR(VLOOKUP(A3204,Base!$A$2:$D$460,3,0),\"\")","v":""},{"$f":"IFERROR(VLOOKUP(A3204,Base!$A$2:$D$460,4,0),\"\")","v":""},null,null,null,null,null,null,null,null,null,null,null,null,null,0]
[null,{"$f":"IFERROR(VLOOKUP(A3205,Base!$A$2:$D$460,2,0),\"\")","v":""},{"$f":"IFERROR(VLOOKUP(A3205,Base!$A$2:$D$460,3,0),\"\")","v":""},{"$f":"IFERROR(VLOOKUP(A3205,Base!$A$2:$D$460,4,0),\"\")","v":""},null,null,null,null,null,null,null,null,null,null,null,null,null,0]
[null,{"$f":"IFERROR(VLOOKUP(A3206,Base!$A$2:$D$460,2,0),\"\")","v":""},{"$f":"IFERROR(VLOOKUP(A3206,Base!$A$2:$D$460,3,0),\"\")","v":""},{"$f":"IFERROR(VLOOKUP(A3206,Base!$A$2:$D$460,4,0),\"\")","v":""},null,null,null,null,null,null,null,null,null,null,null,null,null,0]
[null,{"$f":"IFERROR(VLOOKUP(A3207,Base!$A$2:$D$460,2,0),\"\")","v":""},{"$f":"IFERROR(VLOOKUP(A3207,Base!$A$2:$D$460,3,0),\"\")","v":""},{"$f":"IFERROR(VLOOKUP(A3207,Base!$A$2:$D$460,4,0),\"\")","v":""},null,null,null,null,null,null,null,null,null,null,null,null,null,0]
[null,{"$f":"IFERROR(VLOOKUP(A3208,Base!$A$2:$D$460,2,0),\"\")","v":""},{"$f":"IFERROR(VLOOKUP(A3208,Base!$A$2:$D$460,3,0),\"\")","v":""},{"$f":"IFERROR(VLOOKUP(A3208,Base!$A$2:$D$460,4,0),\"\")","v":""},null,null,null,null,null,null,null,null,null,null,null,null,null,0]
[null,{"$f":"IFERROR(VLOOKUP(A3209,Base!$A$2:$D$460,2,0),\"\")","v":""},{"$f":"IFERROR(VLOOKUP(A3209,Base!$A$2:$D$460,3,0),\"\")","v":""},{"$f":"IFERROR(VLOOKUP(A3209,Base!$A$2:$D$460,4,0),\"\")","v":""},null,null,null,null,null,null,null,null,null,null,null,null,null,0]
[null,{"$f":"IFERROR(VLOOKUP(A3210,Base!$A$2:$D$460,2,0),\"\")","v":""},{"$f":"IFERROR(VLOOKUP(A3210,Base!$A$2:$D$460,3,0),\"\")","v":""},{"$f":"IFERROR(VLOOKUP(A3210,Base!$A$2:$D$460,4,0),\"\")","v":""},null,null,null,null,null,null,null,null,null,null,null,null,null,0]
[null,{"$f":"IFERROR(VLOOKUP(A3211,Base!$A$2:$D$460,2,0),\"\")","v":""},{"$f":"IFERROR(VLOOKUP(A3211,Base!$A$2:$D$460,3,0),\"\")","v":""},{"$f":"IFERROR(VLOOKUP(A3211,Base!$A$2:$D$460,4,0),\"\")","v":""},null,null,null,null,null,null,null,null,null,null,null,null,null,0]
[null,{"$f":"IFERROR(VLOOKUP(A3212,Base!$A$2:$D$460,2,0),\"\")","v":""},{"$f":"IFERROR(VLOOKUP(A3212,Base!$A$2:$D$460,3,0),\"\")","v":""},{"$f":"IFERROR(VLOOKUP(A3212,Base!$A$2:$D$460,4,0),\"\")","v":""},null,null,null,null,null,null,null,null,null,null,null,null,null,0]
[null,{"$f":"IFERROR(VLOOKUP(A3213,Base!$A$2:$D$460,2,0),\"\")","v":""},{"$f":"IFERROR(VLOOKUP(A3213,Base!$A$2:$D$460,3,0),\"\")","v":""},{"$f":"IFERROR(VLOOKUP(A3213,Base!$A$2:$D$460,4,0),\"\")","v":""},null,null,null,null,null,null,null,null,null,null,null,null,null,0]
[null,{"$f":"IFERROR(VLOOKUP(A3214,Base!$A$2:$D$460,2,0),\"\")","v":""},{"$f":"IFERROR(VLOOKUP(A3214,Base!$A$2:$D$460,3,0),\"\")","v":""},{"$f":"IFERROR(VLOOKUP(A3214,Base!$A$2:$D$460,4,0),\"\")","v":""},null,null,null,null,null,null,null,null,null,null,null,null,null,0]
[null,{"$f":"IFERROR(VLOOKUP(A3215,Base!$A$2:$D$460,2,0),\"\")","v":""},{"$f":"IFERROR(VLOOKUP(A3215,Base!$A$2:$D$460,3,0),\"\")","v":""},{"$f":"IFERROR(VLOOKUP(A3215,Base!$A$2:$D$460,4,0),\"\")","v":""},null,null,null,null,null,null,null,null,null,null,null,null,null,0]
[null,{"$f":"IFERROR(VLOOKUP(A3216,Base!$A$2:$D$460,2,0),\"\")","v":""},{"$f":"IFERROR(VLOOKUP(A3216,Base!$A$2:$D$460,3,0),\"\")","v":""},{"$f":"IFERROR(VLOOKUP(A3216,Base!$A$2:$D$460,4,0),\"\")","v":""},null,null,null,null,null,null,null,null,null,null,null,null,null,0]
[null,{"$f":"IFERROR(VLOOKUP(A3217,Base!$A$2:$D$460,2,0),\"\")","v":""},{"$f":"IFERROR(VLOOKUP(A3217,Base!$A$2:$D$460,3,0),\"\")","v":""},{"$f":"IFERROR(VLOOKUP(A3217,Base!$A$2:$D$460,4,0),\"\")","v":""},null,null,null,null,null,null,null,null,null,null,null,null,null,0]
[null,{"$f":"IFERROR(VLOOKUP(A3218,Base!$A$2:$D$460,2,0),\"\")","v":""},{"$f":"IFERROR(VLOOKUP(A3218,Base!$A$2:$D$460,3,0),\"\")","v":""},{"$f":"IFERROR(VLOOKUP(A3218,Base!$A$2:$D$460,4,0),\"\")","v":""},null,null,null,null,null,null,null,null,null,null,null,null,null,0]
[null,{"$f":"IFERROR(VLOOKUP(A3219,Base!$A$2:$D$460,2,0),\"\")","v":""},{"$f":"IFERROR(VLOOKUP(A3219,Base!$A$2:$D$460,3,0),\"\")","v":""},{"$f":"IFERROR(VLOOKUP(A3219,Base!$A$2:$D$460,4,0),\"\")","v":""},null,null,null,null,null,null,null,null,null,null,null,null,null,0]
[null,{"$f":"IFERROR(VLOOKUP(A3220,Base!$A$2:$D$460,2,0),\"\")","v":""},{"$f":"IFERROR(VLOOKUP(A3220,Base!$A$2:$D$460,3,0),\"\")","v":""},{"$f":"IFERROR(VLOOKUP(A3220,Base!$A$2:$D$460,4,0),\"\")","v":""},null,null,null,null,null,null,null,null,null,null,null,null,null,0]
[null,{"$f":"IFERROR(VLOOKUP(A3221,Base!$A$2:$D$460,2,0),\"\")","v":""},{"$f":"IFERROR(VLOOKUP(A3221,Base!$A$2:$D$460,3,0),\"\")","v":""},{"$f":"IFERROR(VLOOKUP(A3221,Base!$A$2:$D$460,4,0),\"\")","v":""},null,null,null,null,null,null,null,null,null,null,null,null,null,0]
[null,{"$f":"IFERROR(VLOOKUP(A3222,Base!$A$2:$D$460,2,0),\"\")","v":""},{"$f":"IFERROR(VLOOKUP(A3222,Base!$A$2:$D$460,3,0),\"\")","v":""},{"$f":"IFERROR(VLOOKUP(A3222,Base!$A$2:$D$460,4,0),\"\")","v":""},null,null,null,null,null,null,null,null,null,null,null,null,null,0]
[null,{"$f":"IFERROR(VLOOKUP(A3223,Base!$A$2:$D$460,2,0),\"\")","v":""},{"$f":"IFERROR(VLOOKUP(A3223,Base!$A$2:$D$460,3,0),\"\")","v":""},{"$f":"IFERROR(VLOOKUP(A3223,Base!$A$2:$D$460,4,0),\"\")","v":""},null,null,null,null,null,null,null,null,null,null,null,null,null,0]
[null,{"$f":"IFERROR(VLOOKUP(A3224,Base!$A$2:$D$460,2,0),\"\")","v":""},{"$f":"IFERROR(VLOOKUP(A3224,Base!$A$2:$D$460,3,0),\"\")","v":""},{"$f":"IFERROR(VLOOKUP(A3224,Base!$A$2:$D$460,4,0),\"\")","v":""},null,null,null,null,null,null,null,null,null,null,null,null,null,0]
[null,{"$f":"IFERROR(VLOOKUP(A3225,Base!$A$2:$D$460,2,0),\"\")","v":""},{"$f":"IFERROR(VLOOKUP(A3225,Base!$A$2:$D$460,3,0),\"\")","v":""},{"$f":"IFERROR(VLOOKUP(A3225,Base!$A$2:$D$460,4,0),\"\")","v":""},null,null,null,null,null,null,null,null,null,null,null,null,null,0]
[null,{"$f":"IFERROR(VLOOKUP(A3226,Base!$A$2:$D$460,2,0),\"\")","v":""},{"$f":"IFERROR(VLOOKUP(A3226,Base!$A$2:$D$460,3,0),\"\")","v":""},{"$f":"IFERROR(VLOOKUP(A3226,Base!$A$2:$D$460,4,0),\"\")","v":""},null,null,null,null,null,null,null,null,null,null,null,null,null,0]
[null,{"$f":"IFERROR(VLOOKUP(A3227,Base!$A$2:$D$460,2,0),\"\")","v":""},{"$f":"IFERROR(VLOOKUP(A3227,Base!$A$2:$D$460,3,0),\"\")","v":""},{"$f":"IFERROR(VLOOKUP(A3227,Base!$A$2:$D$460,4,0),\"\")","v":""},null,null,null,null,null,null,null,null,null,null,null,null,null,0]
[null,{"$f":"IFERROR(VLOOKUP(A3228,Base!$A$2:$D$460,2,0),\"\")","v":""},{"$f":"IFERROR(VLOOKUP(A3228,Base!$A$2:$D$460,3,0),\"\")","v":""},{"$f":"IFERROR(VLOOKUP(A3228,Base!$A$2:$D$460,4,0),\"\")","v":""},null,null,null,null,null,null,null,null,null,null,null,null,null,0]
[null,{"$f":"IFERROR(VLOOKUP(A3229,Base!$A$2:$D$460,2,0),\"\")","v":""},{"$f":"IFERROR(VLOOKUP(A3229,Base!$A$2:$D$460,3,0),\"\")","v":""},{"$f":"IFERROR(VLOOKUP(A3229,Base!$A$2:$D$460,4,0),\"\")","v":""},null,null,null,null,null,null,null,null,null,null,null,null,null,0]
[null,{"$f":"IFERROR(VLOOKUP(A3230,Base!$A$2:$D$460,2,0),\"\")","v":""},{"$f":"IFERROR(VLOOKUP(A3230,Base!$A$2:$D$460,3,0),\"\")","v":""},{"$f":"IFERROR(VLOOKUP(A3230,Base!$A$2:$D$460,4,0),\"\")","v":""},null,null,null,null,null,null,null,null,null,null,null,null,null,0]
[null,{"$f":"IFERROR(VLOOKUP(A3231,Base!$A$2:$D$460,2,0),\"\")","v":""},{"$f":"IFERROR(VLOOKUP(A3231,Base!$A$2:$D$460,3,0),\"\")","v":""},{"$f":"IFERROR(VLOOKUP(A3231,Base!$A$2:$D$460,4,0),\"\")","v":""},null,null,null,null,null,null,null,null,null,null,null,null,null,0]
[null,{"$f":"IFERROR(VLOOKUP(A3232,Base!$A$2:$D$460,2,0),\"\")","v":""},{"$f":"IFERROR(VLOOKUP(A3232,Base!$A$2:$D$460,3,0),\"\")","v":""},{"$f":"IFERROR(VLOOKUP(A3232,Base!$A$2:$D$460,4,0),\"\")","v":""},null,null,null,null,null,null,null,null,null,null,null,null,null,0]
[null,{"$f":"IFERROR(VLOOKUP(A3233,Base!$A$2:$D$460,2,0),\"\")","v":""},{"$f":"IFERROR(VLOOKUP(A3233,Base!$A$2:$D$460,3,0),\"\")","v":""},{"$f":"IFERROR(VLOOKUP(A3233,Base!$A$2:$D$460,4,0),\"\")","v":""},null,null,null,null,null,null,null,null,null,null,null,null,null,0]
[null,{"$f":"IFERROR(VLOOKUP(A3234,Base!$A$2:$D$460,2,0),\"\")","v":""},{"$f":"IFERROR(VLOOKUP(A3234,Base!$A$2:$D$460,3,0),\"\")","v":""},{"$f":"IFERROR(VLOOKUP(A3234,Base!$A$2:$D$460,4,0),\"\")","v":""},null,null,null,null,null,null,null,null,null,null,null,null,null,0]
[null,{"$f":"IFERROR(VLOOKUP(A3235,Base!$A$2:$D$460,2,0),\"\")","v":""},{"$f":"IFERROR(VLOOKUP(A3235,Base!$A$2:$D$460,3,0),\"\")","v":""},{"$f":"IFERROR(VLOOKUP(A3235,Base!$A$2:$D$460,4,0),\"\")","v":""},null,null,null,null,null,null,null,null,null,null,null,null,null,0]
[null,{"$f":"IFERROR(VLOOKUP(A3236,Base!$A$2:$D$460,2,0),\"\")","v":""},{"$f":"IFERROR(VLOOKUP(A3236,Base!$A$2:$D$460,3,0),\"\")","v":""},{"$f":"IFERROR(VLOOKUP(A3236,Base!$A$2:$D$460,4,0),\"\")","v":""},null,null,null,null,null,null,null,null,null,null,null,null,null,0]
[null,{"$f":"IFERROR(VLOOKUP(A3237,Base!$A$2:$D$460,2,0),\"\")","v":""},{"$f":"IFERROR(VLOOKUP(A3237,Base!$A$2:$D$460,3,0),\"\")","v":""},{"$f":"IFERROR(VLOOKUP(A3237,Base!$A$2:$D$460,4,0),\"\")","v":""},null,null,null,null,null,null,null,null,null,null,null,null,null,0]
[null,{"$f":"IFERROR(VLOOKUP(A3238,Base!$A$2:$D$460,2,0),\"\")","v":""},{"$f":"IFERROR(VLOOKUP(A3238,Base!$A$2:$D$460,3,0),\"\")","v":""},{"$f":"IFERROR(VLOOKUP(A3238,Base!$A$2:$D$460,4,0),\"\")","v":""},null,null,null,null,null,null,null,null,null,null,null,null,null,0]
[null,{"$f":"IFERROR(VLOOKUP(A3239,Base!$A$2:$D$460,2,0),\"\")","v":""},{"$f":"IFERROR(VLOOKUP(A3239,Base!$A$2:$D$460,3,0),\"\")","v":""},{"$f":"IFERROR(VLOOKUP(A3239,Base!$A$2:$D$460,4,0),\"\")","v":""},null,null,null,null,null,null,null,null,null,null,null,null,null,{"$f":"SUM(N3239:Q3239)/4","v":0}]
[null,{"$f":"IFERROR(VLOOKUP(A3240,Base!$A$2:$D$460,2,0),\"\")","v":""},{"$f":"IFERROR(VLOOKUP(A3240,Base!$A$2:$D$460,3,0),\"\")","v":""},{"$f":"IFERROR(VLOOKUP(A3240,Base!$A$2:$D$460,4,0),\"\")","v":""},null,null,null,null,null,null,null,null,null,null,null,null,null,0]
[null,{"$f":"IFERROR(VLOOKUP(A3241,Base!$A$2:$D$460,2,0),\"\")","v":""},{"$f":"IFERROR(VLOOKUP(A3241,Base!$A$2:$D$460,3,0),\"\")","v":""},{"$f":"IFERROR(VLOOKUP(A3241,Base!$A$2:$D$460,4,0),\"\")","v":""},null,null,null,null,null,null,null,null,null,null,null,null,null,0]
[null,{"$f":"IFERROR(VLOOKUP(A3242,Base!$A$2:$D$460,2,0),\"\")","v":""},{"$f":"IFERROR(VLOOKUP(A3242,Base!$A$2:$D$460,3,0),\"\")","v":""},{"$f":"IFERROR(VLOOKUP(A3242,Base!$A$2:$D$460,4,0),\"\")","v":""},null,null,null,null,null,null,null,null,null,null,null,null,null,0]
[null,{"$f":"IFERROR(VLOOKUP(A3243,Base!$A$2:$D$460,2,0),\"\")","v":""},{"$f":"IFERROR(VLOOKUP(A3243,Base!$A$2:$D$460,3,0),\"\")","v":""},{"$f":"IFERROR(VLOOKUP(A3243,Base!$A$2:$D$460,4,0),\"\")","v":""},null,null,null,null,null,null,null,null,null,null,null,null,null,0]
[null,{"$f":"IFERROR(VLOOKUP(A3244,Base!$A$2:$D$460,2,0),\"\")","v":""},{"$f":"IFERROR(VLOOKUP(A3244,Base!$A$2:$D$460,3,0),\"\")","v":""},{"$f":"IFERROR(VLOOKUP(A3244,Base!$A$2:$D$460,4,0),\"\")","v":""},null,null,null,null,null,null,null,null,null,null,null,null,null,0]
[null,{"$f":"IFERROR(VLOOKUP(A3245,Base!$A$2:$D$460,2,0),\"\")","v":""},{"$f":"IFERROR(VLOOKUP(A3245,Base!$A$2:$D$460,3,0),\"\")","v":""},{"$f":"IFERROR(VLOOKUP(A3245,Base!$A$2:$D$460,4,0),\"\")","v":""},null,null,null,null,null,null,null,null,null,null,null,null,null,0]
[null,{"$f":"IFERROR(VLOOKUP(A3246,Base!$A$2:$D$460,2,0),\"\")","v":""},{"$f":"IFERROR(VLOOKUP(A3246,Base!$A$2:$D$460,3,0),\"\")","v":""},{"$f":"IFERROR(VLOOKUP(A3246,Base!$A$2:$D$460,4,0),\"\")","v":""},null,null,null,null,null,null,null,null,null,null,null,null,null,0]
[null,{"$f":"IFERROR(VLOOKUP(A3247,Base!$A$2:$D$460,2,0),\"\")","v":""},{"$f":"IFERROR(VLOOKUP(A3247,Base!$A$2:$D$460,3,0),\"\")","v":""},{"$f":"IFERROR(VLOOKUP(A3247,Base!$A$2:$D$460,4,0),\"\")","v":""},null,null,null,null,null,null,null,null,null,null,null,null,null,0]
[null,{"$f":"IFERROR(VLOOKUP(A3248,Base!$A$2:$D$460,2,0),\"\")","v":""},{"$f":"IFERROR(VLOOKUP(A3248,Base!$A$2:$D$460,3,0),\"\")","v":""},{"$f":"IFERROR(VLOOKUP(A3248,Base!$A$2:$D$460,4,0),\"\")","v":""},null,null,null,null,null,null,null,null,null,null,null,null,null,0]
[null,{"$f":"IFERROR(VLOOKUP(A3249,Base!$A$2:$D$460,2,0),\"\")","v":""},{"$f":"IFERROR(VLOOKUP(A3249,Base!$A$2:$D$460,3,0),\"\")","v":""},{"$f":"IFERROR(VLOOKUP(A3249,Base!$A$2:$D$460,4,0),\"\")","v":""},null,null,null,null,null,null,null,null,null,null,null,null,null,0]
[null,{"$f":"IFERROR(VLOOKUP(A3250,Base!$A$2:$D$460,2,0),\"\")","v":""},{"$f":"IFERROR(VLOOKUP(A3250,Base!$A$2:$D$460,3,0),\"\")","v":""},{"$f":"IFERROR(VLOOKUP(A3250,Base!$A$2:$D$460,4,0),\"\")","v":""},null,null,null,null,null,null,null,null,null,null,null,null,null,0]
[null,{"$f":"IFERROR(VLOOKUP(A3251,Base!$A$2:$D$460,2,0),\"\")","v":""},{"$f":"IFERROR(VLOOKUP(A3251,Base!$A$2:$D$460,3,0),\"\")","v":""},{"$f":"IFERROR(VLOOKUP(A3251,Base!$A$2:$D$460,4,0),\"\")","v":""},null,null,null,null,null,null,null,null,null,null,null,null,null,0]
[null,{"$f":"IFERROR(VLOOKUP(A3252,Base!$A$2:$D$460,2,0),\"\")","v":""},{"$f":"IFERROR(VLOOKUP(A3252,Base!$A$2:$D$460,3,0),\"\")","v":""},{"$f":"IFERROR(VLOOKUP(A3252,Base!$A$2:$D$460,4,0),\"\")","v":""},null,null,null,null,null,null,null,null,null,null,null,null,null,0]
[null,{"$f":"IFERROR(VLOOKUP(A3253,Base!$A$2:$D$460,2,0),\"\")","v":""},{"$f":"IFERROR(VLOOKUP(A3253,Base!$A$2:$D$460,3,0),\"\")","v":""},{"$f":"IFERROR(VLOOKUP(A3253,Base!$A$2:$D$460,4,0),\"\")","v":""},null,null,null,null,null,null,null,null,null,null,null,null,null,0]
[null,{"$f":"IFERROR(VLOOKUP(A3254,Base!$A$2:$D$460,2,0),\"\")","v":""},{"$f":"IFERROR(VLOOKUP(A3254,Base!$A$2:$D$460,3,0),\"\")","v":""},{"$f":"IFERROR(VLOOKUP(A3254,Base!$A$2:$D$460,4,0),\"\")","v":""},null,null,null,null,null,null,null,null,null,null,null,null,null,0]
[null,{"$f":"IFERROR(VLOOKUP(A3255,Base!$A$2:$D$460,2,0),\"\")","v":""},{"$f":"IFERROR(VLOOKUP(A3255,Base!$A$2:$D$460,3,0),\"\")","v":""},{"$f":"IFERROR(VLOOKUP(A3255,Base!$A$2:$D$460,4,0),\"\")","v":""},null,null,null,null,null,null,null,null,null,null,null,null,null,0]
[null,{"$f":"IFERROR(VLOOKUP(A3256,Base!$A$2:$D$460,2,0),\"\")","v":""},{"$f":"IFERROR(VLOOKUP(A3256,Base!$A$2:$D$460,3,0),\"\")","v":""},{"$f":"IFERROR(VLOOKUP(A3256,Base!$A$2:$D$460,4,0),\"\")","v":""},null,null,null,null,null,null,null,null,null,null,null,null,null,0]
[null,{"$f":"IFERROR(VLOOKUP(A3257,Base!$A$2:$D$460,2,0),\"\")","v":""},{"$f":"IFERROR(VLOOKUP(A3257,Base!$A$2:$D$460,3,0),\"\")","v":""},{"$f":"IFERROR(VLOOKUP(A3257,Base!$A$2:$D$460,4,0),\"\")","v":""},null,null,null,null,null,null,null,null,null,null,null,null,null,0]
[null,{"$f":"IFERROR(VLOOKUP(A3258,Base!$A$2:$D$460,2,0),\"\")","v":""},{"$f":"IFERROR(VLOOKUP(A3258,Base!$A$2:$D$460,3,0),\"\")","v":""},{"$f":"IFERROR(VLOOKUP(A3258,Base!$A$2:$D$460,4,0),\"\")","v":""},null,null,null,null,null,null,null,null,null,null,null,null,null,0]
[null,{"$f":"IFERROR(VLOOKUP(A3259,Base!$A$2:$D$460,2,0),\"\")","v":""},{"$f":"IFERROR(VLOOKUP(A3259,Base!$A$2:$D$460,3,0),\"\")","v":""},{"$f":"IFERROR(VLOOKUP(A3259,Base!$A$2:$D$460,4,0),\"\")","v":""},null,null,null,null,null,null,null,null,null,null,null,null,null,0]
[null,{"$f":"IFERROR(VLOOKUP(A3260,Base!$A$2:$D$460,2,0),\"\")","v":""},{"$f":"IFERROR(VLOOKUP(A3260,Base!$A$2:$D$460,3,0),\"\")","v":""},{"$f":"IFERROR(VLOOKUP(A3260,Base!$A$2:$D$460,4,0),\"\")","v":""},null,null,null,null,null,null,null,null,null,null,null,null,null,0]
[null,{"$f":"IFERROR(VLOOKUP(A3261,Base!$A$2:$D$460,2,0),\"\")","v":""},{"$f":"IFERROR(VLOOKUP(A3261,Base!$A$2:$D$460,3,0),\"\")","v":""},{"$f":"IFERROR(VLOOKUP(A3261,Base!$A$2:$D$460,4,0),\"\")","v":""},null,null,null,null,null,null,null,null,null,null,null,null,null,0]
[null,{"$f":"IFERROR(VLOOKUP(A3262,Base!$A$2:$D$460,2,0),\"\")","v":""},{"$f":"IFERROR(VLOOKUP(A3262,Base!$A$2:$D$460,3,0),\"\")","v":""},{"$f":"IFERROR(VLOOKUP(A3262,Base!$A$2:$D$460,4,0),\"\")","v":""},null,null,null,null,null,null,null,null,null,null,null,null,null,0]
[null,{"$f":"IFERROR(VLOOKUP(A3263,Base!$A$2:$D$460,2,0),\"\")","v":""},{"$f":"IFERROR(VLOOKUP(A3263,Base!$A$2:$D$460,3,0),\"\")","v":""},{"$f":"IFERROR(VLOOKUP(A3263,Base!$A$2:$D$460,4,0),\"\")","v":""},null,null,null,null,null,null,null,null,null,null,null,null,null,0]
[null,{"$f":"IFERROR(VLOOKUP(A3264,Base!$A$2:$D$460,2,0),\"\")","v":""},{"$f":"IFERROR(VLOOKUP(A3264,Base!$A$2:$D$460,3,0),\"\")","v":""},{"$f":"IFERROR(VLOOKUP(A3264,Base!$A$2:$D$460,4,0),\"\")","v":""},null,null,null,null,null,null,null,null,null,null,null,null,null,0]
[null,{"$f":"IFERROR(VLOOKUP(A3265,Base!$A$2:$D$460,2,0),\"\")","v":""},{"$f":"IFERROR(VLOOKUP(A3265,Base!$A$2:$D$460,3,0),\"\")","v":""},{"$f":"IFERROR(VLOOKUP(A3265,Base!$A$2:$D$460,4,0),\"\")","v":""},null,null,null,null,null,null,null,null,null,null,null,null,null,0]
[null,{"$f":"IFERROR(VLOOKUP(A3266,Base!$A$2:$D$460,2,0),\"\")","v":""},{"$f":"IFERROR(VLOOKUP(A3266,Base!$A$2:$D$460,3,0),\"\")","v":""},{"$f":"IFERROR(VLOOKUP(A3266,Base!$A$2:$D$460,4,0),\"\")","v":""},null,null,null,null,null,null,null,null,null,null,null,null,null,0]
[null,{"$f":"IFERROR(VLOOKUP(A3267,Base!$A$2:$D$460,2,0),\"\")","v":""},{"$f":"IFERROR(VLOOKUP(A3267,Base!$A$2:$D$460,3,0),\"\")","v":""},{"$f":"IFERROR(VLOOKUP(A3267,Base!$A$2:$D$460,4,0),\"\")","v":""},null,null,null,null,null,null,null,null,null,null,null,null,null,0]
[null,{"$f":"IFERROR(VLOOKUP(A3268,Base!$A$2:$D$460,2,0),\"\")","v":""},{"$f":"IFERROR(VLOOKUP(A3268,Base!$A$2:$D$460,3,0),\"\")","v":""},{"$f":"IFERROR(VLOOKUP(A3268,Base!$A$2:$D$460,4,0),\"\")","v":""},null,null,null,null,null,null,null,null,null,null,null,null,null,0]
[null,{"$f":"IFERROR(VLOOKUP(A3269,Base!$A$2:$D$460,2,0),\"\")","v":""},{"$f":"IFERROR(VLOOKUP(A3269,Base!$A$2:$D$460,3,0),\"\")","v":""},{"$f":"IFERROR(VLOOKUP(A3269,Base!$A$2:$D$460,4,0),\"\")","v":""},null,null,null,null,null,null,null,null,null,null,null,null,null,0]
[null,{"$f":"IFERROR(VLOOKUP(A3270,Base!$A$2:$D$460,2,0),\"\")","v":""},{"$f":"IFERROR(VLOOKUP(A3270,Base!$A$2:$D$460,3,0),\"\")","v":""},{"$f":"IFERROR(VLOOKUP(A3270,Base!$A$2:$D$460,4,0),\"\")","v":""},null,null,null,null,null,null,null,null,null,null,null,null,null,0]
[null,{"$f":"IFERROR(VLOOKUP(A3271,Base!$A$2:$D$460,2,0),\"\")","v":""},{"$f":"IFERROR(VLOOKUP(A3271,Base!$A$2:$D$460,3,0),\"\")","v":""},{"$f":"IFERROR(VLOOKUP(A3271,Base!$A$2:$D$460,4,0),\"\")","v":""},null,null,null,null,null,null,null,null,null,null,null,null,null,0]
[null,{"$f":"IFERROR(VLOOKUP(A3272,Base!$A$2:$D$460,2,0),\"\")","v":""},{"$f":"IFERROR(VLOOKUP(A3272,Base!$A$2:$D$460,3,0),\"\")","v":""},{"$f":"IFERROR(VLOOKUP(A3272,Base!$A$2:$D$460,4,0),\"\")","v":""},null,null,null,null,null,null,null,null,null,null,null,null,null,0]
[null,{"$f":"IFERROR(VLOOKUP(A3273,Base!$A$2:$D$460,2,0),\"\")","v":""},{"$f":"IFERROR(VLOOKUP(A3273,Base!$A$2:$D$460,3,0),\"\")","v":""},{"$f":"IFERROR(VLOOKUP(A3273,Base!$A$2:$D$460,4,0),\"\")","v":""},null,null,null,null,null,null,null,null,null,null,null,null,null,0]
[null,{"$f":"IFERROR(VLOOKUP(A3274,Base!$A$2:$D$460,2,0),\"\")","v":""},{"$f":"IFERROR(VLOOKUP(A3274,Base!$A$2:$D$460,3,0),\"\")","v":""},{"$f":"IFERROR(VLOOKUP(A3274,Base!$A$2:$D$460,4,0),\"\")","v":""},null,null,null,null,null,null,null,null,null,null,null,null,null,0]
[null,{"$f":"IFERROR(VLOOKUP(A3275,Base!$A$2:$D$460,2,0),\"\")","v":""},{"$f":"IFERROR(VLOOKUP(A3275,Base!$A$2:$D$460,3,0),\"\")","v":""},{"$f":"IFERROR(VLOOKUP(A3275,Base!$A$2:$D$460,4,0),\"\")","v":""},null,null,null,null,null,null,null,null,null,null,null,null,null,0]
[null,{"$f":"IFERROR(VLOOKUP(A3276,Base!$A$2:$D$460,2,0),\"\")","v":""},{"$f":"IFERROR(VLOOKUP(A3276,Base!$A$2:$D$460,3,0),\"\")","v":""},{"$f":"IFERROR(VLOOKUP(A3276,Base!$A$2:$D$460,4,0),\"\")","v":""},null,null,null,null,null,null,null,null,null,null,null,null,null,0]
[null,{"$f":"IFERROR(VLOOKUP(A3277,Base!$A$2:$D$460,2,0),\"\")","v":""},{"$f":"IFERROR(VLOOKUP(A3277,Base!$A$2:$D$460,3,0),\"\")","v":""},{"$f":"IFERROR(VLOOKUP(A3277,Base!$A$2:$D$460,4,0),\"\")","v":""},null,null,null,null,null,null,null,null,null,null,null,null,null,0]
[null,{"$f":"IFERROR(VLOOKUP(A3278,Base!$A$2:$D$460,2,0),\"\")","v":""},{"$f":"IFERROR(VLOOKUP(A3278,Base!$A$2:$D$460,3,0),\"\")","v":""},{"$f":"IFERROR(VLOOKUP(A3278,Base!$A$2:$D$460,4,0),\"\")","v":""},null,null,null,null,null,null,null,null,null,null,null,null,null,0]
[null,{"$f":"IFERROR(VLOOKUP(A3279,Base!$A$2:$D$460,2,0),\"\")","v":""},{"$f":"IFERROR(VLOOKUP(A3279,Base!$A$2:$D$460,3,0),\"\")","v":""},{"$f":"IFERROR(VLOOKUP(A3279,Base!$A$2:$D$460,4,0),\"\")","v":""},null,null,null,null,null,null,null,null,null,null,null,null,null,0]
[null,{"$f":"IFERROR(VLOOKUP(A3280,Base!$A$2:$D$460,2,0),\"\")","v":""},{"$f":"IFERROR(VLOOKUP(A3280,Base!$A$2:$D$460,3,0),\"\")","v":""},{"$f":"IFERROR(VLOOKUP(A3280,Base!$A$2:$D$460,4,0),\"\")","v":""},null,null,null,null,null,null,null,null,null,null,null,null,null,0]
[null,{"$f":"IFERROR(VLOOKUP(A3281,Base!$A$2:$D$460,2,0),\"\")","v":""},{"$f":"IFERROR(VLOOKUP(A3281,Base!$A$2:$D$460,3,0),\"\")","v":""},{"$f":"IFERROR(VLOOKUP(A3281,Base!$A$2:$D$460,4,0),\"\")","v":""},null,null,null,null,null,null,null,null,null,null,null,null,null,0]
[null,{"$f":"IFERROR(VLOOKUP(A3282,Base!$A$2:$D$460,2,0),\"\")","v":""},{"$f":"IFERROR(VLOOKUP(A3282,Base!$A$2:$D$460,3,0),\"\")","v":""},{"$f":"IFERROR(VLOOKUP(A3282,Base!$A$2:$D$460,4,0),\"\")","v":""},null,null,null,null,null,null,null,null,null,null,null,null,null,0]
[null,{"$f":"IFERROR(VLOOKUP(A3283,Base!$A$2:$D$460,2,0),\"\")","v":""},{"$f":"IFERROR(VLOOKUP(A3283,Base!$A$2:$D$460,3,0),\"\")","v":""},{"$f":"IFERROR(VLOOKUP(A3283,Base!$A$2:$D$460,4,0),\"\")","v":""},null,null,null,null,null,null,null,null,null,null,null,null,null,0]
[null,{"$f":"IFERROR(VLOOKUP(A3284,Base!$A$2:$D$460,2,0),\"\")","v":""},{"$f":"IFERROR(VLOOKUP(A3284,Base!$A$2:$D$460,3,0),\"\")","v":""},{"$f":"IFERROR(VLOOKUP(A3284,Base!$A$2:$D$460,4,0),\"\")","v":""},null,null,null,null,null,null,null,null,null,null,null,null,null,0]
[null,{"$f":"IFERROR(VLOOKUP(A3285,Base!$A$2:$D$460,2,0),\"\")","v":""},{"$f":"IFERROR(VLOOKUP(A3285,Base!$A$2:$D$460,3,0),\"\")","v":""},{"$f":"IFERROR(VLOOKUP(A3285,Base!$A$2:$D$460,4,0),\"\")","v":""},null,null,null,null,null,null,null,null,null,null,null,null,null,0]
[null,{"$f":"IFERROR(VLOOKUP(A3286,Base!$A$2:$D$460,2,0),\"\")","v":""},{"$f":"IFERROR(VLOOKUP(A3286,Base!$A$2:$D$460,3,0),\"\")","v":""},{"$f":"IFERROR(VLOOKUP(A3286,Base!$A$2:$D$460,4,0),\"\")","v":""},null,null,null,null,null,null,null,null,null,null,null,null,null,0]
[null,{"$f":"IFERROR(VLOOKUP(A3287,Base!$A$2:$D$460,2,0),\"\")","v":""},{"$f":"IFERROR(VLOOKUP(A3287,Base!$A$2:$D$460,3,0),\"\")","v":""},{"$f":"IFERROR(VLOOKUP(A3287,Base!$A$2:$D$460,4,0),\"\")","v":""},null,null,null,null,null,null,null,null,null,null,null,null,null,0]
[null,{"$f":"IFERROR(VLOOKUP(A3288,Base!$A$2:$D$460,2,0),\"\")","v":""},{"$f":"IFERROR(VLOOKUP(A3288,Base!$A$2:$D$460,3,0),\"\")","v":""},{"$f":"IFERROR(VLOOKUP(A3288,Base!$A$2:$D$460,4,0),\"\")","v":""},null,null,null,null,null,null,null,null,null,null,null,null,null,0]
[null,{"$f":"IFERROR(VLOOKUP(A3289,Base!$A$2:$D$460,2,0),\"\")","v":""},{"$f":"IFERROR(VLOOKUP(A3289,Base!$A$2:$D$460,3,0),\"\")","v":""},{"$f":"IFERROR(VLOOKUP(A3289,Base!$A$2:$D$460,4,0),\"\")","v":""},null,null,null,null,null,null,null,null,null,null,null,null,null,0]
[null,{"$f":"IFERROR(VLOOKUP(A3290,Base!$A$2:$D$460,2,0),\"\")","v":""},{"$f":"IFERROR(VLOOKUP(A3290,Base!$A$2:$D$460,3,0),\"\")","v":""},{"$f":"IFERROR(VLOOKUP(A3290,Base!$A$2:$D$460,4,0),\"\")","v":""},null,null,null,null,null,null,null,null,null,null,null,null,null,0]
[null,{"$f":"IFERROR(VLOOKUP(A3291,Base!$A$2:$D$460,2,0),\"\")","v":""},{"$f":"IFERROR(VLOOKUP(A3291,Base!$A$2:$D$460,3,0),\"\")","v":""},{"$f":"IFERROR(VLOOKUP(A3291,Base!$A$2:$D$460,4,0),\"\")","v":""},null,null,null,null,null,null,null,null,null,null,null,null,null,0]
[null,{"$f":"IFERROR(VLOOKUP(A3292,Base!$A$2:$D$460,2,0),\"\")","v":""},{"$f":"IFERROR(VLOOKUP(A3292,Base!$A$2:$D$460,3,0),\"\")","v":""},{"$f":"IFERROR(VLOOKUP(A3292,Base!$A$2:$D$460,4,0),\"\")","v":""},null,null,null,null,null,null,null,null,null,null,null,null,null,0]
[null,{"$f":"IFERROR(VLOOKUP(A3293,Base!$A$2:$D$460,2,0),\"\")","v":""},{"$f":"IFERROR(VLOOKUP(A3293,Base!$A$2:$D$460,3,0),\"\")","v":""},{"$f":"IFERROR(VLOOKUP(A3293,Base!$A$2:$D$460,4,0),\"\")","v":""},null,null,null,null,null,null,null,null,null,null,null,null,null,0]
[null,{"$f":"IFERROR(VLOOKUP(A3294,Base!$A$2:$D$460,2,0),\"\")","v":""},{"$f":"IFERROR(VLOOKUP(A3294,Base!$A$2:$D$460,3,0),\"\")","v":""},{"$f":"IFERROR(VLOOKUP(A3294,Base!$A$2:$D$460,4,0),\"\")","v":""},null,null,null,null,null,null,null,null,null,null,null,null,null,0]
[null,{"$f":"IFERROR(VLOOKUP(A3295,Base!$A$2:$D$460,2,0),\"\")","v":""},{"$f":"IFERROR(VLOOKUP(A3295,Base!$A$2:$D$460,3,0),\"\")","v":""},{"$f":"IFERROR(VLOOKUP(A3295,Base!$A$2:$D$460,4,0),\"\")","v":""},null,null,null,null,null,null,null,null,null,null,null,null,null,0]
[null,{"$f":"IFERROR(VLOOKUP(A3296,Base!$A$2:$D$460,2,0),\"\")","v":""},{"$f":"IFERROR(VLOOKUP(A3296,Base!$A$2:$D$460,3,0),\"\")","v":""},{"$f":"IFERROR(VLOOKUP(A3296,Base!$A$2:$D$460,4,0),\"\")","v":""},null,null,null,null,null,null,null,null,null,null,null,null,null,0]
[null,{"$f":"IFERROR(VLOOKUP(A3297,Base!$A$2:$D$460,2,0),\"\")","v":""},{"$f":"IFERROR(VLOOKUP(A3297,Base!$A$2:$D$460,3,0),\"\")","v":""},{"$f":"IFERROR(VLOOKUP(A3297,Base!$A$2:$D$460,4,0),\"\")","v":""},null,null,null,null,null,null,null,null,null,null,null,null,null,0]
[null,{"$f":"IFERROR(VLOOKUP(A3298,Base!$A$2:$D$460,2,0),\"\")","v":""},{"$f":"IFERROR(VLOOKUP(A3298,Base!$A$2:$D$460,3,0),\"\")","v":""},{"$f":"IFERROR(VLOOKUP(A3298,Base!$A$2:$D$460,4,0),\"\")","v":""},null,null,null,null,null,null,null,null,null,null,null,null,null,0]
[null,{"$f":"IFERROR(VLOOKUP(A3299,Base!$A$2:$D$460,2,0),\"\")","v":""},{"$f":"IFERROR(VLOOKUP(A3299,Base!$A$2:$D$460,3,0),\"\")","v":""},{"$f":"IFERROR(VLOOKUP(A3299,Base!$A$2:$D$460,4,0),\"\")","v":""},null,null,null,null,null,null,null,null,null,null,null,null,null,0]
[null,{"$f":"IFERROR(VLOOKUP(A3300,Base!$A$2:$D$460,2,0),\"\")","v":""},{"$f":"IFERROR(VLOOKUP(A3300,Base!$A$2:$D$460,3,0),\"\")","v":""},{"$f":"IFERROR(VLOOKUP(A3300,Base!$A$2:$D$460,4,0),\"\")","v":""},null,null,null,null,null,null,null,null,null,null,null,null,null,0]
[null,{"$f":"IFERROR(VLOOKUP(A3301,Base!$A$2:$D$460,2,0),\"\")","v":""},{"$f":"IFERROR(VLOOKUP(A3301,Base!$A$2:$D$460,3,0),\"\")","v":""},{"$f":"IFERROR(VLOOKUP(A3301,Base!$A$2:$D$460,4,0),\"\")","v":""},null,null,null,null,null,null,null,null,null,null,null,null,null,0]
[null,{"$f":"IFERROR(VLOOKUP(A3302,Base!$A$2:$D$460,2,0),\"\")","v":""},{"$f":"IFERROR(VLOOKUP(A3302,Base!$A$2:$D$460,3,0),\"\")","v":""},{"$f":"IFERROR(VLOOKUP(A3302,Base!$A$2:$D$460,4,0),\"\")","v":""},null,null,null,null,null,null,null,null,null,null,null,null,null,0]
[null,{"$f":"IFERROR(VLOOKUP(A3303,Base!$A$2:$D$460,2,0),\"\")","v":""},{"$f":"IFERROR(VLOOKUP(A3303,Base!$A$2:$D$460,3,0),\"\")","v":""},{"$f":"IFERROR(VLOOKUP(A3303,Base!$A$2:$D$460,4,0),\"\")","v":""},null,null,null,null,null,null,null,null,null,null,null,null,null,{"$f":"SUM(N3303:Q3303)/4","v":0}]
[null,{"$f":"IFERROR(VLOOKUP(A3304,Base!$A$2:$D$460,2,0),\"\")","v":""},{"$f":"IFERROR(VLOOKUP(A3304,Base!$A$2:$D$460,3,0),\"\")","v":""},{"$f":"IFERROR(VLOOKUP(A3304,Base!$A$2:$D$460,4,0),\"\")","v":""},null,null,null,null,null,null,null,null,null,null,null,null,null,0]
[null,{"$f":"IFERROR(VLOOKUP(A3305,Base!$A$2:$D$460,2,0),\"\")","v":""},{"$f":"IFERROR(VLOOKUP(A3305,Base!$A$2:$D$460,3,0),\"\")","v":""},{"$f":"IFERROR(VLOOKUP(A3305,Base!$A$2:$D$460,4,0),\"\")","v":""},null,null,null,null,null,null,null,null,null,null,null,null,null,0]
[null,{"$f":"IFERROR(VLOOKUP(A3306,Base!$A$2:$D$460,2,0),\"\")","v":""},{"$f":"IFERROR(VLOOKUP(A3306,Base!$A$2:$D$460,3,0),\"\")","v":""},{"$f":"IFERROR(VLOOKUP(A3306,Base!$A$2:$D$460,4,0),\"\")","v":""},null,null,null,null,null,null,null,null,null,null,null,null,null,0]
[null,{"$f":"IFERROR(VLOOKUP(A3307,Base!$A$2:$D$460,2,0),\"\")","v":""},{"$f":"IFERROR(VLOOKUP(A3307,Base!$A$2:$D$460,3,0),\"\")","v":""},{"$f":"IFERROR(VLOOKUP(A3307,Base!$A$2:$D$460,4,0),\"\")","v":""},null,null,null,null,null,null,null,null,null,null,null,null,null,0]
[null,{"$f":"IFERROR(VLOOKUP(A3308,Base!$A$2:$D$460,2,0),\"\")","v":""},{"$f":"IFERROR(VLOOKUP(A3308,Base!$A$2:$D$460,3,0),\"\")","v":""},{"$f":"IFERROR(VLOOKUP(A3308,Base!$A$2:$D$460,4,0),\"\")","v":""},null,null,null,null,null,null,null,null,null,null,null,null,null,0]
[null,{"$f":"IFERROR(VLOOKUP(A3309,Base!$A$2:$D$460,2,0),\"\")","v":""},{"$f":"IFERROR(VLOOKUP(A3309,Base!$A$2:$D$460,3,0),\"\")","v":""},{"$f":"IFERROR(VLOOKUP(A3309,Base!$A$2:$D$460,4,0),\"\")","v":""},null,null,null,null,null,null,null,null,null,null,null,null,null,0]
[null,{"$f":"IFERROR(VLOOKUP(A3310,Base!$A$2:$D$460,2,0),\"\")","v":""},{"$f":"IFERROR(VLOOKUP(A3310,Base!$A$2:$D$460,3,0),\"\")","v":""},{"$f":"IFERROR(VLOOKUP(A3310,Base!$A$2:$D$460,4,0),\"\")","v":""},null,null,null,null,null,null,null,null,null,null,null,null,null,0]
[null,{"$f":"IFERROR(VLOOKUP(A3311,Base!$A$2:$D$460,2,0),\"\")","v":""},{"$f":"IFERROR(VLOOKUP(A3311,Base!$A$2:$D$460,3,0),\"\")","v":""},{"$f":"IFERROR(VLOOKUP(A3311,Base!$A$2:$D$460,4,0),\"\")","v":""},null,null,null,null,null,null,null,null,null,null,null,null,null,0]
[null,{"$f":"IFERROR(VLOOKUP(A3312,Base!$A$2:$D$460,2,0),\"\")","v":""},{"$f":"IFERROR(VLOOKUP(A3312,Base!$A$2:$D$460,3,0),\"\")","v":""},{"$f":"IFERROR(VLOOKUP(A3312,Base!$A$2:$D$460,4,0),\"\")","v":""},null,null,null,null,null,null,null,null,null,null,null,null,null,0]
[null,{"$f":"IFERROR(VLOOKUP(A3313,Base!$A$2:$D$460,2,0),\"\")","v":""},{"$f":"IFERROR(VLOOKUP(A3313,Base!$A$2:$D$460,3,0),\"\")","v":""},{"$f":"IFERROR(VLOOKUP(A3313,Base!$A$2:$D$460,4,0),\"\")","v":""},null,null,null,null,null,null,null,null,null,null,null,null,null,0]
[null,{"$f":"IFERROR(VLOOKUP(A3314,Base!$A$2:$D$460,2,0),\"\")","v":""},{"$f":"IFERROR(VLOOKUP(A3314,Base!$A$2:$D$460,3,0),\"\")","v":""},{"$f":"IFERROR(VLOOKUP(A3314,Base!$A$2:$D$460,4,0),\"\")","v":""},null,null,null,null,null,null,null,null,null,null,null,null,null,0]
[null,{"$f":"IFERROR(VLOOKUP(A3315,Base!$A$2:$D$460,2,0),\"\")","v":""},{"$f":"IFERROR(VLOOKUP(A3315,Base!$A$2:$D$460,3,0),\"\")","v":""},{"$f":"IFERROR(VLOOKUP(A3315,Base!$A$2:$D$460,4,0),\"\")","v":""},null,null,null,null,null,null,null,null,null,null,null,null,null,0]
[null,{"$f":"IFERROR(VLOOKUP(A3316,Base!$A$2:$D$460,2,0),\"\")","v":""},{"$f":"IFERROR(VLOOKUP(A3316,Base!$A$2:$D$460,3,0),\"\")","v":""},{"$f":"IFERROR(VLOOKUP(A3316,Base!$A$2:$D$460,4,0),\"\")","v":""},null,null,null,null,null,null,null,null,null,null,null,null,null,0]
[null,{"$f":"IFERROR(VLOOKUP(A3317,Base!$A$2:$D$460,2,0),\"\")","v":""},{"$f":"IFERROR(VLOOKUP(A3317,Base!$A$2:$D$460,3,0),\"\")","v":""},{"$f":"IFERROR(VLOOKUP(A3317,Base!$A$2:$D$460,4,0),\"\")","v":""},null,null,null,null,null,null,null,null,null,null,null,null,null,0]
[null,{"$f":"IFERROR(VLOOKUP(A3318,Base!$A$2:$D$460,2,0),\"\")","v":""},{"$f":"IFERROR(VLOOKUP(A3318,Base!$A$2:$D$460,3,0),\"\")","v":""},{"$f":"IFERROR(VLOOKUP(A3318,Base!$A$2:$D$460,4,0),\"\")","v":""},null,null,null,null,null,null,null,null,null,null,null,null,null,0]
[null,{"$f":"IFERROR(VLOOKUP(A3319,Base!$A$2:$D$460,2,0),\"\")","v":""},{"$f":"IFERROR(VLOOKUP(A3319,Base!$A$2:$D$460,3,0),\"\")","v":""},{"$f":"IFERROR(VLOOKUP(A3319,Base!$A$2:$D$460,4,0),\"\")","v":""},null,null,null,null,null,null,null,null,null,null,null,null,null,0]
[null,{"$f":"IFERROR(VLOOKUP(A3320,Base!$A$2:$D$460,2,0),\"\")","v":""},{"$f":"IFERROR(VLOOKUP(A3320,Base!$A$2:$D$460,3,0),\"\")","v":""},{"$f":"IFERROR(VLOOKUP(A3320,Base!$A$2:$D$460,4,0),\"\")","v":""},null,null,null,null,null,null,null,null,null,null,null,null,null,0]
[null,{"$f":"IFERROR(VLOOKUP(A3321,Base!$A$2:$D$460,2,0),\"\")","v":""},{"$f":"IFERROR(VLOOKUP(A3321,Base!$A$2:$D$460,3,0),\"\")","v":""},{"$f":"IFERROR(VLOOKUP(A3321,Base!$A$2:$D$460,4,0),\"\")","v":""},null,null,null,null,null,null,null,null,null,null,null,null,null,0]
[null,{"$f":"IFERROR(VLOOKUP(A3322,Base!$A$2:$D$460,2,0),\"\")","v":""},{"$f":"IFERROR(VLOOKUP(A3322,Base!$A$2:$D$460,3,0),\"\")","v":""},{"$f":"IFERROR(VLOOKUP(A3322,Base!$A$2:$D$460,4,0),\"\")","v":""},null,null,null,null,null,null,null,null,null,null,null,null,null,0]
[null,{"$f":"IFERROR(VLOOKUP(A3323,Base!$A$2:$D$460,2,0),\"\")","v":""},{"$f":"IFERROR(VLOOKUP(A3323,Base!$A$2:$D$460,3,0),\"\")","v":""},{"$f":"IFERROR(VLOOKUP(A3323,Base!$A$2:$D$460,4,0),\"\")","v":""},null,null,null,null,null,null,null,null,null,null,null,null,null,0]
[null,{"$f":"IFERROR(VLOOKUP(A3324,Base!$A$2:$D$460,2,0),\"\")","v":""},{"$f":"IFERROR(VLOOKUP(A3324,Base!$A$2:$D$460,3,0),\"\")","v":""},{"$f":"IFERROR(VLOOKUP(A3324,Base!$A$2:$D$460,4,0),\"\")","v":""},null,null,null,null,null,null,null,null,null,null,null,null,null,0]
[null,{"$f":"IFERROR(VLOOKUP(A3325,Base!$A$2:$D$460,2,0),\"\")","v":""},{"$f":"IFERROR(VLOOKUP(A3325,Base!$A$2:$D$460,3,0),\"\")","v":""},{"$f":"IFERROR(VLOOKUP(A3325,Base!$A$2:$D$460,4,0),\"\")","v":""},null,null,null,null,null,null,null,null,null,null,null,null,null,0]
[null,{"$f":"IFERROR(VLOOKUP(A3326,Base!$A$2:$D$460,2,0),\"\")","v":""},{"$f":"IFERROR(VLOOKUP(A3326,Base!$A$2:$D$460,3,0),\"\")","v":""},{"$f":"IFERROR(VLOOKUP(A3326,Base!$A$2:$D$460,4,0),\"\")","v":""},null,null,null,null,null,null,null,null,null,null,null,null,null,0]
[null,{"$f":"IFERROR(VLOOKUP(A3327,Base!$A$2:$D$460,2,0),\"\")","v":""},{"$f":"IFERROR(VLOOKUP(A3327,Base!$A$2:$D$460,3,0),\"\")","v":""},{"$f":"IFERROR(VLOOKUP(A3327,Base!$A$2:$D$460,4,0),\"\")","v":""},null,null,null,null,null,null,null,null,null,null,null,null,null,0]
[null,{"$f":"IFERROR(VLOOKUP(A3328,Base!$A$2:$D$460,2,0),\"\")","v":""},{"$f":"IFERROR(VLOOKUP(A3328,Base!$A$2:$D$460,3,0),\"\")","v":""},{"$f":"IFERROR(VLOOKUP(A3328,Base!$A$2:$D$460,4,0),\"\")","v":""},null,null,null,null,null,null,null,null,null,null,null,null,null,0]
[null,{"$f":"IFERROR(VLOOKUP(A3329,Base!$A$2:$D$460,2,0),\"\")","v":""},{"$f":"IFERROR(VLOOKUP(A3329,Base!$A$2:$D$460,3,0),\"\")","v":""},{"$f":"IFERROR(VLOOKUP(A3329,Base!$A$2:$D$460,4,0),\"\")","v":""},null,null,null,null,null,null,null,null,null,null,null,null,null,0]
[null,{"$f":"IFERROR(VLOOKUP(A3330,Base!$A$2:$D$460,2,0),\"\")","v":""},{"$f":"IFERROR(VLOOKUP(A3330,Base!$A$2:$D$460,3,0),\"\")","v":""},{"$f":"IFERROR(VLOOKUP(A3330,Base!$A$2:$D$460,4,0),\"\")","v":""},null,null,null,null,null,null,null,null,null,null,null,null,null,0]
[null,{"$f":"IFERROR(VLOOKUP(A3331,Base!$A$2:$D$460,2,0),\"\")","v":""},{"$f":"IFERROR(VLOOKUP(A3331,Base!$A$2:$D$460,3,0),\"\")","v":""},{"$f":"IFERROR(VLOOKUP(A3331,Base!$A$2:$D$460,4,0),\"\")","v":""},null,null,null,null,null,null,null,null,null,null,null,null,null,0]
[null,{"$f":"IFERROR(VLOOKUP(A3332,Base!$A$2:$D$460,2,0),\"\")","v":""},{"$f":"IFERROR(VLOOKUP(A3332,Base!$A$2:$D$460,3,0),\"\")","v":""},{"$f":"IFERROR(VLOOKUP(A3332,Base!$A$2:$D$460,4,0),\"\")","v":""},null,null,null,null,null,null,null,null,null,null,null,null,null,0]
[null,{"$f":"IFERROR(VLOOKUP(A3333,Base!$A$2:$D$460,2,0),\"\")","v":""},{"$f":"IFERROR(VLOOKUP(A3333,Base!$A$2:$D$460,3,0),\"\")","v":""},{"$f":"IFERROR(VLOOKUP(A3333,Base!$A$2:$D$460,4,0),\"\")","v":""},null,null,null,null,null,null,null,null,null,null,null,null,null,0]
[null,{"$f":"IFERROR(VLOOKUP(A3334,Base!$A$2:$D$460,2,0),\"\")","v":""},{"$f":"IFERROR(VLOOKUP(A3334,Base!$A$2:$D$460,3,0),\"\")","v":""},{"$f":"IFERROR(VLOOKUP(A3334,Base!$A$2:$D$460,4,0),\"\")","v":""},null,null,null,null,null,null,null,null,null,null,null,null,null,0]
[null,{"$f":"IFERROR(VLOOKUP(A3335,Base!$A$2:$D$460,2,0),\"\")","v":""},{"$f":"IFERROR(VLOOKUP(A3335,Base!$A$2:$D$460,3,0),\"\")","v":""},{"$f":"IFERROR(VLOOKUP(A3335,Base!$A$2:$D$460,4,0),\"\")","v":""},null,null,null,null,null,null,null,null,null,null,null,null,null,0]
[null,{"$f":"IFERROR(VLOOKUP(A3336,Base!$A$2:$D$460,2,0),\"\")","v":""},{"$f":"IFERROR(VLOOKUP(A3336,Base!$A$2:$D$460,3,0),\"\")","v":""},{"$f":"IFERROR(VLOOKUP(A3336,Base!$A$2:$D$460,4,0),\"\")","v":""},null,null,null,null,null,null,null,null,null,null,null,null,null,0]
[null,{"$f":"IFERROR(VLOOKUP(A3337,Base!$A$2:$D$460,2,0),\"\")","v":""},{"$f":"IFERROR(VLOOKUP(A3337,Base!$A$2:$D$460,3,0),\"\")","v":""},{"$f":"IFERROR(VLOOKUP(A3337,Base!$A$2:$D$460,4,0),\"\")","v":""},null,null,null,null,null,null,null,null,null,null,null,null,null,0]
[null,{"$f":"IFERROR(VLOOKUP(A3338,Base!$A$2:$D$460,2,0),\"\")","v":""},{"$f":"IFERROR(VLOOKUP(A3338,Base!$A$2:$D$460,3,0),\"\")","v":""},{"$f":"IFERROR(VLOOKUP(A3338,Base!$A$2:$D$460,4,0),\"\")","v":""},null,null,null,null,null,null,null,null,null,null,null,null,null,0]
[null,{"$f":"IFERROR(VLOOKUP(A3339,Base!$A$2:$D$460,2,0),\"\")","v":""},{"$f":"IFERROR(VLOOKUP(A3339,Base!$A$2:$D$460,3,0),\"\")","v":""},{"$f":"IFERROR(VLOOKUP(A3339,Base!$A$2:$D$460,4,0),\"\")","v":""},null,null,null,null,null,null,null,null,null,null,null,null,null,0]
[null,{"$f":"IFERROR(VLOOKUP(A3340,Base!$A$2:$D$460,2,0),\"\")","v":""},{"$f":"IFERROR(VLOOKUP(A3340,Base!$A$2:$D$460,3,0),\"\")","v":""},{"$f":"IFERROR(VLOOKUP(A3340,Base!$A$2:$D$460,4,0),\"\")","v":""},null,null,null,null,null,null,null,null,null,null,null,null,null,0]
[null,{"$f":"IFERROR(VLOOKUP(A3341,Base!$A$2:$D$460,2,0),\"\")","v":""},{"$f":"IFERROR(VLOOKUP(A3341,Base!$A$2:$D$460,3,0),\"\")","v":""},{"$f":"IFERROR(VLOOKUP(A3341,Base!$A$2:$D$460,4,0),\"\")","v":""},null,null,null,null,null,null,null,null,null,null,null,null,null,0]
[null,{"$f":"IFERROR(VLOOKUP(A3342,Base!$A$2:$D$460,2,0),\"\")","v":""},{"$f":"IFERROR(VLOOKUP(A3342,Base!$A$2:$D$460,3,0),\"\")","v":""},{"$f":"IFERROR(VLOOKUP(A3342,Base!$A$2:$D$460,4,0),\"\")","v":""},null,null,null,null,null,null,null,null,null,null,null,null,null,0]
[null,{"$f":"IFERROR(VLOOKUP(A3343,Base!$A$2:$D$460,2,0),\"\")","v":""},{"$f":"IFERROR(VLOOKUP(A3343,Base!$A$2:$D$460,3,0),\"\")","v":""},{"$f":"IFERROR(VLOOKUP(A3343,Base!$A$2:$D$460,4,0),\"\")","v":""},null,null,null,null,null,null,null,null,null,null,null,null,null,0]
[null,{"$f":"IFERROR(VLOOKUP(A3344,Base!$A$2:$D$460,2,0),\"\")","v":""},{"$f":"IFERROR(VLOOKUP(A3344,Base!$A$2:$D$460,3,0),\"\")","v":""},{"$f":"IFERROR(VLOOKUP(A3344,Base!$A$2:$D$460,4,0),\"\")","v":""},null,null,null,null,null,null,null,null,null,null,null,null,null,0]
[null,{"$f":"IFERROR(VLOOKUP(A3345,Base!$A$2:$D$460,2,0),\"\")","v":""},{"$f":"IFERROR(VLOOKUP(A3345,Base!$A$2:$D$460,3,0),\"\")","v":""},{"$f":"IFERROR(VLOOKUP(A3345,Base!$A$2:$D$460,4,0),\"\")","v":""},null,null,null,null,null,null,null,null,null,null,null,null,null,0]
[null,{"$f":"IFERROR(VLOOKUP(A3346,Base!$A$2:$D$460,2,0),\"\")","v":""},{"$f":"IFERROR(VLOOKUP(A3346,Base!$A$2:$D$460,3,0),\"\")","v":""},{"$f":"IFERROR(VLOOKUP(A3346,Base!$A$2:$D$460,4,0),\"\")","v":""},null,null,null,null,null,null,null,null,null,null,null,null,null,0]
[null,{"$f":"IFERROR(VLOOKUP(A3347,Base!$A$2:$D$460,2,0),\"\")","v":""},{"$f":"IFERROR(VLOOKUP(A3347,Base!$A$2:$D$460,3,0),\"\")","v":""},{"$f":"IFERROR(VLOOKUP(A3347,Base!$A$2:$D$460,4,0),\"\")","v":""},null,null,null,null,null,null,null,null,null,null,null,null,null,0]
[null,{"$f":"IFERROR(VLOOKUP(A3348,Base!$A$2:$D$460,2,0),\"\")","v":""},{"$f":"IFERROR(VLOOKUP(A3348,Base!$A$2:$D$460,3,0),\"\")","v":""},{"$f":"IFERROR(VLOOKUP(A3348,Base!$A$2:$D$460,4,0),\"\")","v":""},null,null,null,null,null,null,null,null,null,null,null,null,null,0]
[null,{"$f":"IFERROR(VLOOKUP(A3349,Base!$A$2:$D$460,2,0),\"\")","v":""},{"$f":"IFERROR(VLOOKUP(A3349,Base!$A$2:$D$460,3,0),\"\")","v":""},{"$f":"IFERROR(VLOOKUP(A3349,Base!$A$2:$D$460,4,0),\"\")","v":""},null,null,null,null,null,null,null,null,null,null,null,null,null,0]
[null,{"$f":"IFERROR(VLOOKUP(A3350,Base!$A$2:$D$460,2,0),\"\")","v":""},{"$f":"IFERROR(VLOOKUP(A3350,Base!$A$2:$D$460,3,0),\"\")","v":""},{"$f":"IFERROR(VLOOKUP(A3350,Base!$A$2:$D$460,4,0),\"\")","v":""},null,null,null,null,null,null,null,null,null,null,null,null,null,0]
[null,{"$f":"IFERROR(VLOOKUP(A3351,Base!$A$2:$D$460,2,0),\"\")","v":""},{"$f":"IFERROR(VLOOKUP(A3351,Base!$A$2:$D$460,3,0),\"\")","v":""},{"$f":"IFERROR(VLOOKUP(A3351,Base!$A$2:$D$460,4,0),\"\")","v":""},null,null,null,null,null,null,null,null,null,null,null,null,null,0]
[null,{"$f":"IFERROR(VLOOKUP(A3352,Base!$A$2:$D$460,2,0),\"\")","v":""},{"$f":"IFERROR(VLOOKUP(A3352,Base!$A$2:$D$460,3,0),\"\")","v":""},{"$f":"IFERROR(VLOOKUP(A3352,Base!$A$2:$D$460,4,0),\"\")","v":""},null,null,null,null,null,null,null,null,null,null,null,null,null,0]
[null,{"$f":"IFERROR(VLOOKUP(A3353,Base!$A$2:$D$460,2,0),\"\")","v":""},{"$f":"IFERROR(VLOOKUP(A3353,Base!$A$2:$D$460,3,0),\"\")","v":""},{"$f":"IFERROR(VLOOKUP(A3353,Base!$A$2:$D$460,4,0),\"\")","v":""},null,null,null,null,null,null,null,null,null,null,null,null,null,0]
[null,{"$f":"IFERROR(VLOOKUP(A3354,Base!$A$2:$D$460,2,0),\"\")","v":""},{"$f":"IFERROR(VLOOKUP(A3354,Base!$A$2:$D$460,3,0),\"\")","v":""},{"$f":"IFERROR(VLOOKUP(A3354,Base!$A$2:$D$460,4,0),\"\")","v":""},null,null,null,null,null,null,null,null,null,null,null,null,null,0]
[null,{"$f":"IFERROR(VLOOKUP(A3355,Base!$A$2:$D$460,2,0),\"\")","v":""},{"$f":"IFERROR(VLOOKUP(A3355,Base!$A$2:$D$460,3,0),\"\")","v":""},{"$f":"IFERROR(VLOOKUP(A3355,Base!$A$2:$D$460,4,0),\"\")","v":""},null,null,null,null,null,null,null,null,null,null,null,null,null,0]
[null,{"$f":"IFERROR(VLOOKUP(A3356,Base!$A$2:$D$460,2,0),\"\")","v":""},{"$f":"IFERROR(VLOOKUP(A3356,Base!$A$2:$D$460,3,0),\"\")","v":""},{"$f":"IFERROR(VLOOKUP(A3356,Base!$A$2:$D$460,4,0),\"\")","v":""},null,null,null,null,null,null,null,null,null,null,null,null,null,0]
[null,{"$f":"IFERROR(VLOOKUP(A3357,Base!$A$2:$D$460,2,0),\"\")","v":""},{"$f":"IFERROR(VLOOKUP(A3357,Base!$A$2:$D$460,3,0),\"\")","v":""},{"$f":"IFERROR(VLOOKUP(A3357,Base!$A$2:$D$460,4,0),\"\")","v":""},null,null,null,null,null,null,null,null,null,null,null,null,null,0]
[null,{"$f":"IFERROR(VLOOKUP(A3358,Base!$A$2:$D$460,2,0),\"\")","v":""},{"$f":"IFERROR(VLOOKUP(A3358,Base!$A$2:$D$460,3,0),\"\")","v":""},{"$f":"IFERROR(VLOOKUP(A3358,Base!$A$2:$D$460,4,0),\"\")","v":""},null,null,null,null,null,null,null,null,null,null,null,null,null,0]
[null,{"$f":"IFERROR(VLOOKUP(A3359,Base!$A$2:$D$460,2,0),\"\")","v":""},{"$f":"IFERROR(VLOOKUP(A3359,Base!$A$2:$D$460,3,0),\"\")","v":""},{"$f":"IFERROR(VLOOKUP(A3359,Base!$A$2:$D$460,4,0),\"\")","v":""},null,null,null,null,null,null,null,null,null,null,null,null,null,0]
[null,{"$f":"IFERROR(VLOOKUP(A3360,Base!$A$2:$D$460,2,0),\"\")","v":""},{"$f":"IFERROR(VLOOKUP(A3360,Base!$A$2:$D$460,3,0),\"\")","v":""},{"$f":"IFERROR(VLOOKUP(A3360,Base!$A$2:$D$460,4,0),\"\")","v":""},null,null,null,null,null,null,null,null,null,null,null,null,null,0]
[null,{"$f":"IFERROR(VLOOKUP(A3361,Base!$A$2:$D$460,2,0),\"\")","v":""},{"$f":"IFERROR(VLOOKUP(A3361,Base!$A$2:$D$460,3,0),\"\")","v":""},{"$f":"IFERROR(VLOOKUP(A3361,Base!$A$2:$D$460,4,0),\"\")","v":""},null,null,null,null,null,null,null,null,null,null,null,null,null,0]
[null,{"$f":"IFERROR(VLOOKUP(A3362,Base!$A$2:$D$460,2,0),\"\")","v":""},{"$f":"IFERROR(VLOOKUP(A3362,Base!$A$2:$D$460,3,0),\"\")","v":""},{"$f":"IFERROR(VLOOKUP(A3362,Base!$A$2:$D$460,4,0),\"\")","v":""},null,null,null,null,null,null,null,null,null,null,null,null,null,0]
[null,{"$f":"IFERROR(VLOOKUP(A3363,Base!$A$2:$D$460,2,0),\"\")","v":""},{"$f":"IFERROR(VLOOKUP(A3363,Base!$A$2:$D$460,3,0),\"\")","v":""},{"$f":"IFERROR(VLOOKUP(A3363,Base!$A$2:$D$460,4,0),\"\")","v":""},null,null,null,null,null,null,null,null,null,null,null,null,null,0]
[null,{"$f":"IFERROR(VLOOKUP(A3364,Base!$A$2:$D$460,2,0),\"\")","v":""},{"$f":"IFERROR(VLOOKUP(A3364,Base!$A$2:$D$460,3,0),\"\")","v":""},{"$f":"IFERROR(VLOOKUP(A3364,Base!$A$2:$D$460,4,0),\"\")","v":""},null,null,null,null,null,null,null,null,null,null,null,null,null,0]
[null,{"$f":"IFERROR(VLOOKUP(A3365,Base!$A$2:$D$460,2,0),\"\")","v":""},{"$f":"IFERROR(VLOOKUP(A3365,Base!$A$2:$D$460,3,0),\"\")","v":""},{"$f":"IFERROR(VLOOKUP(A3365,Base!$A$2:$D$460,4,0),\"\")","v":""},null,null,null,null,null,null,null,null,null,null,null,null,null,0]
[null,{"$f":"IFERROR(VLOOKUP(A3366,Base!$A$2:$D$460,2,0),\"\")","v":""},{"$f":"IFERROR(VLOOKUP(A3366,Base!$A$2:$D$460,3,0),\"\")","v":""},{"$f":"IFERROR(VLOOKUP(A3366,Base!$A$2:$D$460,4,0),\"\")","v":""},null,null,null,null,null,null,null,null,null,null,null,null,null,0]
[null,{"$f":"IFERROR(VLOOKUP(A3367,Base!$A$2:$D$460,2,0),\"\")","v":""},{"$f":"IFERROR(VLOOKUP(A3367,Base!$A$2:$D$460,3,0),\"\")","v":""},{"$f":"IFERROR(VLOOKUP(A3367,Base!$A$2:$D$460,4,0),\"\")","v":""},null,null,null,null,null,null,null,null,null,null,null,null,null,{"$f":"SUM(N3367:Q3367)/4","v":0}]
[null,{"$f":"IFERROR(VLOOKUP(A3368,Base!$A$2:$D$460,2,0),\"\")","v":""},{"$f":"IFERROR(VLOOKUP(A3368,Base!$A$2:$D$460,3,0),\"\")","v":""},{"$f":"IFERROR(VLOOKUP(A3368,Base!$A$2:$D$460,4,0),\"\")","v":""},null,null,null,null,null,null,null,null,null,null,null,null,null,0]
[null,{"$f":"IFERROR(VLOOKUP(A3369,Base!$A$2:$D$460,2,0),\"\")","v":""},{"$f":"IFERROR(VLOOKUP(A3369,Base!$A$2:$D$460,3,0),\"\")","v":""},{"$f":"IFERROR(VLOOKUP(A3369,Base!$A$2:$D$460,4,0),\"\")","v":""},null,null,null,null,null,null,null,null,null,null,null,null,null,0]
[null,{"$f":"IFERROR(VLOOKUP(A3370,Base!$A$2:$D$460,2,0),\"\")","v":""},{"$f":"IFERROR(VLOOKUP(A3370,Base!$A$2:$D$460,3,0),\"\")","v":""},{"$f":"IFERROR(VLOOKUP(A3370,Base!$A$2:$D$460,4,0),\"\")","v":""},null,null,null,null,null,null,null,null,null,null,null,null,null,0]
[null,{"$f":"IFERROR(VLOOKUP(A3371,Base!$A$2:$D$460,2,0),\"\")","v":""},{"$f":"IFERROR(VLOOKUP(A3371,Base!$A$2:$D$460,3,0),\"\")","v":""},{"$f":"IFERROR(VLOOKUP(A3371,Base!$A$2:$D$460,4,0),\"\")","v":""},null,null,null,null,null,null,null,null,null,null,null,null,null,0]
[null,{"$f":"IFERROR(VLOOKUP(A3372,Base!$A$2:$D$460,2,0),\"\")","v":""},{"$f":"IFERROR(VLOOKUP(A3372,Base!$A$2:$D$460,3,0),\"\")","v":""},{"$f":"IFERROR(VLOOKUP(A3372,Base!$A$2:$D$460,4,0),\"\")","v":""},null,null,null,null,null,null,null,null,null,null,null,null,null,0]
[null,{"$f":"IFERROR(VLOOKUP(A3373,Base!$A$2:$D$460,2,0),\"\")","v":""},{"$f":"IFERROR(VLOOKUP(A3373,Base!$A$2:$D$460,3,0),\"\")","v":""},{"$f":"IFERROR(VLOOKUP(A3373,Base!$A$2:$D$460,4,0),\"\")","v":""},null,null,null,null,null,null,null,null,null,null,null,null,null,0]
[null,{"$f":"IFERROR(VLOOKUP(A3374,Base!$A$2:$D$460,2,0),\"\")","v":""},{"$f":"IFERROR(VLOOKUP(A3374,Base!$A$2:$D$460,3,0),\"\")","v":""},{"$f":"IFERROR(VLOOKUP(A3374,Base!$A$2:$D$460,4,0),\"\")","v":""},null,null,null,null,null,null,null,null,null,null,null,null,null,0]
[null,{"$f":"IFERROR(VLOOKUP(A3375,Base!$A$2:$D$460,2,0),\"\")","v":""},{"$f":"IFERROR(VLOOKUP(A3375,Base!$A$2:$D$460,3,0),\"\")","v":""},{"$f":"IFERROR(VLOOKUP(A3375,Base!$A$2:$D$460,4,0),\"\")","v":""},null,null,null,null,null,null,null,null,null,null,null,null,null,0]
[null,{"$f":"IFERROR(VLOOKUP(A3376,Base!$A$2:$D$460,2,0),\"\")","v":""},{"$f":"IFERROR(VLOOKUP(A3376,Base!$A$2:$D$460,3,0),\"\")","v":""},{"$f":"IFERROR(VLOOKUP(A3376,Base!$A$2:$D$460,4,0),\"\")","v":""},null,null,null,null,null,null,null,null,null,null,null,null,null,0]
[null,{"$f":"IFERROR(VLOOKUP(A3377,Base!$A$2:$D$460,2,0),\"\")","v":""},{"$f":"IFERROR(VLOOKUP(A3377,Base!$A$2:$D$460,3,0),\"\")","v":""},{"$f":"IFERROR(VLOOKUP(A3377,Base!$A$2:$D$460,4,0),\"\")","v":""},null,null,null,null,null,null,null,null,null,null,null,null,null,0]
[null,{"$f":"IFERROR(VLOOKUP(A3378,Base!$A$2:$D$460,2,0),\"\")","v":""},{"$f":"IFERROR(VLOOKUP(A3378,Base!$A$2:$D$460,3,0),\"\")","v":""},{"$f":"IFERROR(VLOOKUP(A3378,Base!$A$2:$D$460,4,0),\"\")","v":""},null,null,null,null,null,null,null,null,null,null,null,null,null,0]
[null,{"$f":"IFERROR(VLOOKUP(A3379,Base!$A$2:$D$460,2,0),\"\")","v":""},{"$f":"IFERROR(VLOOKUP(A3379,Base!$A$2:$D$460,3,0),\"\")","v":""},{"$f":"IFERROR(VLOOKUP(A3379,Base!$A$2:$D$460,4,0),\"\")","v":""},null,null,null,null,null,null,null,null,null,null,null,null,null,0]
[null,{"$f":"IFERROR(VLOOKUP(A3380,Base!$A$2:$D$460,2,0),\"\")","v":""},{"$f":"IFERROR(VLOOKUP(A3380,Base!$A$2:$D$460,3,0),\"\")","v":""},{"$f":"IFERROR(VLOOKUP(A3380,Base!$A$2:$D$460,4,0),\"\")","v":""},null,null,null,null,null,null,null,null,null,null,null,null,null,0]
[null,{"$f":"IFERROR(VLOOKUP(A3381,Base!$A$2:$D$460,2,0),\"\")","v":""},{"$f":"IFERROR(VLOOKUP(A3381,Base!$A$2:$D$460,3,0),\"\")","v":""},{"$f":"IFERROR(VLOOKUP(A3381,Base!$A$2:$D$460,4,0),\"\")","v":""},null,null,null,null,null,null,null,null,null,null,null,null,null,0]
[null,{"$f":"IFERROR(VLOOKUP(A3382,Base!$A$2:$D$460,2,0),\"\")","v":""},{"$f":"IFERROR(VLOOKUP(A3382,Base!$A$2:$D$460,3,0),\"\")","v":""},{"$f":"IFERROR(VLOOKUP(A3382,Base!$A$2:$D$460,4,0),\"\")","v":""},null,null,null,null,null,null,null,null,null,null,null,null,null,0]
[null,{"$f":"IFERROR(VLOOKUP(A3383,Base!$A$2:$D$460,2,0),\"\")","v":""},{"$f":"IFERROR(VLOOKUP(A3383,Base!$A$2:$D$460,3,0),\"\")","v":""},{"$f":"IFERROR(VLOOKUP(A3383,Base!$A$2:$D$460,4,0),\"\")","v":""},null,null,null,null,null,null,null,null,null,null,null,null,null,0]
[null,{"$f":"IFERROR(VLOOKUP(A3384,Base!$A$2:$D$460,2,0),\"\")","v":""},{"$f":"IFERROR(VLOOKUP(A3384,Base!$A$2:$D$460,3,0),\"\")","v":""},{"$f":"IFERROR(VLOOKUP(A3384,Base!$A$2:$D$460,4,0),\"\")","v":""},null,null,null,null,null,null,null,null,null,null,null,null,null,0]
[null,{"$f":"IFERROR(VLOOKUP(A3385,Base!$A$2:$D$460,2,0),\"\")","v":""},{"$f":"IFERROR(VLOOKUP(A3385,Base!$A$2:$D$460,3,0),\"\")","v":""},{"$f":"IFERROR(VLOOKUP(A3385,Base!$A$2:$D$460,4,0),\"\")","v":""},null,null,null,null,null,null,null,null,null,null,null,null,null,0]
[null,{"$f":"IFERROR(VLOOKUP(A3386,Base!$A$2:$D$460,2,0),\"\")","v":""},{"$f":"IFERROR(VLOOKUP(A3386,Base!$A$2:$D$460,3,0),\"\")","v":""},{"$f":"IFERROR(VLOOKUP(A3386,Base!$A$2:$D$460,4,0),\"\")","v":""},null,null,null,null,null,null,null,null,null,null,null,null,null,0]
[null,{"$f":"IFERROR(VLOOKUP(A3387,Base!$A$2:$D$460,2,0),\"\")","v":""},{"$f":"IFERROR(VLOOKUP(A3387,Base!$A$2:$D$460,3,0),\"\")","v":""},{"$f":"IFERROR(VLOOKUP(A3387,Base!$A$2:$D$460,4,0),\"\")","v":""},null,null,null,null,null,null,null,null,null,null,null,null,null,0]
[null,{"$f":"IFERROR(VLOOKUP(A3388,Base!$A$2:$D$460,2,0),\"\")","v":""},{"$f":"IFERROR(VLOOKUP(A3388,Base!$A$2:$D$460,3,0),\"\")","v":""},{"$f":"IFERROR(VLOOKUP(A3388,Base!$A$2:$D$460,4,0),\"\")","v":""},null,null,null,null,null,null,null,null,null,null,null,null,null,0]
[null,{"$f":"IFERROR(VLOOKUP(A3389,Base!$A$2:$D$460,2,0),\"\")","v":""},{"$f":"IFERROR(VLOOKUP(A3389,Base!$A$2:$D$460,3,0),\"\")","v":""},{"$f":"IFERROR(VLOOKUP(A3389,Base!$A$2:$D$460,4,0),\"\")","v":""},null,null,null,null,null,null,null,null,null,null,null,null,null,0]
[null,{"$f":"IFERROR(VLOOKUP(A3390,Base!$A$2:$D$460,2,0),\"\")","v":""},{"$f":"IFERROR(VLOOKUP(A3390,Base!$A$2:$D$460,3,0),\"\")","v":""},{"$f":"IFERROR(VLOOKUP(A3390,Base!$A$2:$D$460,4,0),\"\")","v":""},null,null,null,null,null,null,null,null,null,null,null,null,null,0]
[null,{"$f":"IFERROR(VLOOKUP(A3391,Base!$A$2:$D$460,2,0),\"\")","v":""},{"$f":"IFERROR(VLOOKUP(A3391,Base!$A$2:$D$460,3,0),\"\")","v":""},{"$f":"IFERROR(VLOOKUP(A3391,Base!$A$2:$D$460,4,0),\"\")","v":""},null,null,null,null,null,null,null,null,null,null,null,null,null,0]
[null,{"$f":"IFERROR(VLOOKUP(A3392,Base!$A$2:$D$460,2,0),\"\")","v":""},{"$f":"IFERROR(VLOOKUP(A3392,Base!$A$2:$D$460,3,0),\"\")","v":""},{"$f":"IFERROR(VLOOKUP(A3392,Base!$A$2:$D$460,4,0),\"\")","v":""},null,null,null,null,null,null,null,null,null,null,null,null,null,0]
[null,{"$f":"IFERROR(VLOOKUP(A3393,Base!$A$2:$D$460,2,0),\"\")","v":""},{"$f":"IFERROR(VLOOKUP(A3393,Base!$A$2:$D$460,3,0),\"\")","v":""},{"$f":"IFERROR(VLOOKUP(A3393,Base!$A$2:$D$460,4,0),\"\")","v":""},null,null,null,null,null,null,null,null,null,null,null,null,null,0]
[null,{"$f":"IFERROR(VLOOKUP(A3394,Base!$A$2:$D$460,2,0),\"\")","v":""},{"$f":"IFERROR(VLOOKUP(A3394,Base!$A$2:$D$460,3,0),\"\")","v":""},{"$f":"IFERROR(VLOOKUP(A3394,Base!$A$2:$D$460,4,0),\"\")","v":""},null,null,null,null,null,null,null,null,null,null,null,null,null,0]
[null,{"$f":"IFERROR(VLOOKUP(A3395,Base!$A$2:$D$460,2,0),\"\")","v":""},{"$f":"IFERROR(VLOOKUP(A3395,Base!$A$2:$D$460,3,0),\"\")","v":""},{"$f":"IFERROR(VLOOKUP(A3395,Base!$A$2:$D$460,4,0),\"\")","v":""},null,null,null,null,null,null,null,null,null,null,null,null,null,0]
[null,{"$f":"IFERROR(VLOOKUP(A3396,Base!$A$2:$D$460,2,0),\"\")","v":""},{"$f":"IFERROR(VLOOKUP(A3396,Base!$A$2:$D$460,3,0),\"\")","v":""},{"$f":"IFERROR(VLOOKUP(A3396,Base!$A$2:$D$460,4,0),\"\")","v":""},null,null,null,null,null,null,null,null,null,null,null,null,null,0]
[null,{"$f":"IFERROR(VLOOKUP(A3397,Base!$A$2:$D$460,2,0),\"\")","v":""},{"$f":"IFERROR(VLOOKUP(A3397,Base!$A$2:$D$460,3,0),\"\")","v":""},{"$f":"IFERROR(VLOOKUP(A3397,Base!$A$2:$D$460,4,0),\"\")","v":""},null,null,null,null,null,null,null,null,null,null,null,null,null,0]
[null,{"$f":"IFERROR(VLOOKUP(A3398,Base!$A$2:$D$460,2,0),\"\")","v":""},{"$f":"IFERROR(VLOOKUP(A3398,Base!$A$2:$D$460,3,0),\"\")","v":""},{"$f":"IFERROR(VLOOKUP(A3398,Base!$A$2:$D$460,4,0),\"\")","v":""},null,null,null,null,null,null,null,null,null,null,null,null,null,0]
[null,{"$f":"IFERROR(VLOOKUP(A3399,Base!$A$2:$D$460,2,0),\"\")","v":""},{"$f":"IFERROR(VLOOKUP(A3399,Base!$A$2:$D$460,3,0),\"\")","v":""},{"$f":"IFERROR(VLOOKUP(A3399,Base!$A$2:$D$460,4,0),\"\")","v":""},null,null,null,null,null,null,null,null,null,null,null,null,null,0]
[null,{"$f":"IFERROR(VLOOKUP(A3400,Base!$A$2:$D$460,2,0),\"\")","v":""},{"$f":"IFERROR(VLOOKUP(A3400,Base!$A$2:$D$460,3,0),\"\")","v":""},{"$f":"IFERROR(VLOOKUP(A3400,Base!$A$2:$D$460,4,0),\"\")","v":""},null,null,null,null,null,null,null,null,null,null,null,null,null,0]
[null,{"$f":"IFERROR(VLOOKUP(A3401,Base!$A$2:$D$460,2,0),\"\")","v":""},{"$f":"IFERROR(VLOOKUP(A3401,Base!$A$2:$D$460,3,0),\"\")","v":""},{"$f":"IFERROR(VLOOKUP(A3401,Base!$A$2:$D$460,4,0),\"\")","v":""},null,null,null,null,null,null,null,null,null,null,null,null,null,0]
[null,{"$f":"IFERROR(VLOOKUP(A3402,Base!$A$2:$D$460,2,0),\"\")","v":""},{"$f":"IFERROR(VLOOKUP(A3402,Base!$A$2:$D$460,3,0),\"\")","v":""},{"$f":"IFERROR(VLOOKUP(A3402,Base!$A$2:$D$460,4,0),\"\")","v":""},null,null,null,null,null,null,null,null,null,null,null,null,null,0]
[null,{"$f":"IFERROR(VLOOKUP(A3403,Base!$A$2:$D$460,2,0),\"\")","v":""},{"$f":"IFERROR(VLOOKUP(A3403,Base!$A$2:$D$460,3,0),\"\")","v":""},{"$f":"IFERROR(VLOOKUP(A3403,Base!$A$2:$D$460,4,0),\"\")","v":""},null,null,null,null,null,null,null,null,null,null,null,null,null,0]
[null,{"$f":"IFERROR(VLOOKUP(A3404,Base!$A$2:$D$460,2,0),\"\")","v":""},{"$f":"IFERROR(VLOOKUP(A3404,Base!$A$2:$D$460,3,0),\"\")","v":""},{"$f":"IFERROR(VLOOKUP(A3404,Base!$A$2:$D$460,4,0),\"\")","v":""},null,null,null,null,null,null,null,null,null,null,null,null,null,0]
[null,{"$f":"IFERROR(VLOOKUP(A3405,Base!$A$2:$D$460,2,0),\"\")","v":""},{"$f":"IFERROR(VLOOKUP(A3405,Base!$A$2:$D$460,3,0),\"\")","v":""},{"$f":"IFERROR(VLOOKUP(A3405,Base!$A$2:$D$460,4,0),\"\")","v":""},null,null,null,null,null,null,null,null,null,null,null,null,null,0]
[null,{"$f":"IFERROR(VLOOKUP(A3406,Base!$A$2:$D$460,2,0),\"\")","v":""},{"$f":"IFERROR(VLOOKUP(A3406,Base!$A$2:$D$460,3,0),\"\")","v":""},{"$f":"IFERROR(VLOOKUP(A3406,Base!$A$2:$D$460,4,0),\"\")","v":""},null,null,null,null,null,null,null,null,null,null,null,null,null,0]
[null,{"$f":"IFERROR(VLOOKUP(A3407,Base!$A$2:$D$460,2,0),\"\")","v":""},{"$f":"IFERROR(VLOOKUP(A3407,Base!$A$2:$D$460,3,0),\"\")","v":""},{"$f":"IFERROR(VLOOKUP(A3407,Base!$A$2:$D$460,4,0),\"\")","v":""},null,null,null,null,null,null,null,null,null,null,null,null,null,0]
[null,{"$f":"IFERROR(VLOOKUP(A3408,Base!$A$2:$D$460,2,0),\"\")","v":""},{"$f":"IFERROR(VLOOKUP(A3408,Base!$A$2:$D$460,3,0),\"\")","v":""},{"$f":"IFERROR(VLOOKUP(A3408,Base!$A$2:$D$460,4,0),\"\")","v":""},null,null,null,null,null,null,null,null,null,null,null,null,null,0]
[null,{"$f":"IFERROR(VLOOKUP(A3409,Base!$A$2:$D$460,2,0),\"\")","v":""},{"$f":"IFERROR(VLOOKUP(A3409,Base!$A$2:$D$460,3,0),\"\")","v":""},{"$f":"IFERROR(VLOOKUP(A3409,Base!$A$2:$D$460,4,0),\"\")","v":""},null,null,null,null,null,null,null,null,null,null,null,null,null,0]
[null,{"$f":"IFERROR(VLOOKUP(A3410,Base!$A$2:$D$460,2,0),\"\")","v":""},{"$f":"IFERROR(VLOOKUP(A3410,Base!$A$2:$D$460,3,0),\"\")","v":""},{"$f":"IFERROR(VLOOKUP(A3410,Base!$A$2:$D$460,4,0),\"\")","v":""},null,null,null,null,null,null,null,null,null,null,null,null,null,0]
[null,{"$f":"IFERROR(VLOOKUP(A3411,Base!$A$2:$D$460,2,0),\"\")","v":""},{"$f":"IFERROR(VLOOKUP(A3411,Base!$A$2:$D$460,3,0),\"\")","v":""},{"$f":"IFERROR(VLOOKUP(A3411,Base!$A$2:$D$460,4,0),\"\")","v":""},null,null,null,null,null,null,null,null,null,null,null,null,null,0]
[null,{"$f":"IFERROR(VLOOKUP(A3412,Base!$A$2:$D$460,2,0),\"\")","v":""},{"$f":"IFERROR(VLOOKUP(A3412,Base!$A$2:$D$460,3,0),\"\")","v":""},{"$f":"IFERROR(VLOOKUP(A3412,Base!$A$2:$D$460,4,0),\"\")","v":""},null,null,null,null,null,null,null,null,null,null,null,null,null,0]
[null,{"$f":"IFERROR(VLOOKUP(A3413,Base!$A$2:$D$460,2,0),\"\")","v":""},{"$f":"IFERROR(VLOOKUP(A3413,Base!$A$2:$D$460,3,0),\"\")","v":""},{"$f":"IFERROR(VLOOKUP(A3413,Base!$A$2:$D$460,4,0),\"\")","v":""},null,null,null,null,null,null,null,null,null,null,null,null,null,0]
[null,{"$f":"IFERROR(VLOOKUP(A3414,Base!$A$2:$D$460,2,0),\"\")","v":""},{"$f":"IFERROR(VLOOKUP(A3414,Base!$A$2:$D$460,3,0),\"\")","v":""},{"$f":"IFERROR(VLOOKUP(A3414,Base!$A$2:$D$460,4,0),\"\")","v":""},null,null,null,null,null,null,null,null,null,null,null,null,null,0]
[null,{"$f":"IFERROR(VLOOKUP(A3415,Base!$A$2:$D$460,2,0),\"\")","v":""},{"$f":"IFERROR(VLOOKUP(A3415,Base!$A$2:$D$460,3,0),\"\")","v":""},{"$f":"IFERROR(VLOOKUP(A3415,Base!$A$2:$D$460,4,0),\"\")","v":""},null,null,null,null,null,null,null,null,null,null,null,null,null,0]
[null,{"$f":"IFERROR(VLOOKUP(A3416,Base!$A$2:$D$460,2,0),\"\")","v":""},{"$f":"IFERROR(VLOOKUP(A3416,Base!$A$2:$D$460,3,0),\"\")","v":""},{"$f":"IFERROR(VLOOKUP(A3416,Base!$A$2:$D$460,4,0),\"\")","v":""},null,null,null,null,null,null,null,null,null,null,null,null,null,0]
[null,{"$f":"IFERROR(VLOOKUP(A3417,Base!$A$2:$D$460,2,0),\"\")","v":""},{"$f":"IFERROR(VLOOKUP(A3417,Base!$A$2:$D$460,3,0),\"\")","v":""},{"$f":"IFERROR(VLOOKUP(A3417,Base!$A$2:$D$460,4,0),\"\")","v":""},null,null,null,null,null,null,null,null,null,null,null,null,null,0]
[null,{"$f":"IFERROR(VLOOKUP(A3418,Base!$A$2:$D$460,2,0),\"\")","v":""},{"$f":"IFERROR(VLOOKUP(A3418,Base!$A$2:$D$460,3,0),\"\")","v":""},{"$f":"IFERROR(VLOOKUP(A3418,Base!$A$2:$D$460,4,0),\"\")","v":""},null,null,null,null,null,null,null,null,null,null,null,null,null,0]
[null,{"$f":"IFERROR(VLOOKUP(A3419,Base!$A$2:$D$460,2,0),\"\")","v":""},{"$f":"IFERROR(VLOOKUP(A3419,Base!$A$2:$D$460,3,0),\"\")","v":""},{"$f":"IFERROR(VLOOKUP(A3419,Base!$A$2:$D$460,4,0),\"\")","v":""},null,null,null,null,null,null,null,null,null,null,null,null,null,0]
[null,{"$f":"IFERROR(VLOOKUP(A3420,Base!$A$2:$D$460,2,0),\"\")","v":""},{"$f":"IFERROR(VLOOKUP(A3420,Base!$A$2:$D$460,3,0),\"\")","v":""},{"$f":"IFERROR(VLOOKUP(A3420,Base!$A$2:$D$460,4,0),\"\")","v":""},null,null,null,null,null,null,null,null,null,null,null,null,null,0]
[null,{"$f":"IFERROR(VLOOKUP(A3421,Base!$A$2:$D$460,2,0),\"\")","v":""},{"$f":"IFERROR(VLOOKUP(A3421,Base!$A$2:$D$460,3,0),\"\")","v":""},{"$f":"IFERROR(VLOOKUP(A3421,Base!$A$2:$D$460,4,0),\"\")","v":""},null,null,null,null,null,null,null,null,null,null,null,null,null,0]
[null,{"$f":"IFERROR(VLOOKUP(A3422,Base!$A$2:$D$460,2,0),\"\")","v":""},{"$f":"IFERROR(VLOOKUP(A3422,Base!$A$2:$D$460,3,0),\"\")","v":""},{"$f":"IFERROR(VLOOKUP(A3422,Base!$A$2:$D$460,4,0),\"\")","v":""},null,null,null,null,null,null,null,null,null,null,null,null,null,0]
[null,{"$f":"IFERROR(VLOOKUP(A3423,Base!$A$2:$D$460,2,0),\"\")","v":""},{"$f":"IFERROR(VLOOKUP(A3423,Base!$A$2:$D$460,3,0),\"\")","v":""},{"$f":"IFERROR(VLOOKUP(A3423,Base!$A$2:$D$460,4,0),\"\")","v":""},null,null,null,null,null,null,null,null,null,null,null,null,null,0]
[null,{"$f":"IFERROR(VLOOKUP(A3424,Base!$A$2:$D$460,2,0),\"\")","v":""},{"$f":"IFERROR(VLOOKUP(A3424,Base!$A$2:$D$460,3,0),\"\")","v":""},{"$f":"IFERROR(VLOOKUP(A3424,Base!$A$2:$D$460,4,0),\"\")","v":""},null,null,null,null,null,null,null,null,null,null,null,null,null,0]
[null,{"$f":"IFERROR(VLOOKUP(A3425,Base!$A$2:$D$460,2,0),\"\")","v":""},{"$f":"IFERROR(VLOOKUP(A3425,Base!$A$2:$D$460,3,0),\"\")","v":""},{"$f":"IFERROR(VLOOKUP(A3425,Base!$A$2:$D$460,4,0),\"\")","v":""},null,null,null,null,null,null,null,null,null,null,null,null,null,0]
[null,{"$f":"IFERROR(VLOOKUP(A3426,Base!$A$2:$D$460,2,0),\"\")","v":""},{"$f":"IFERROR(VLOOKUP(A3426,Base!$A$2:$D$460,3,0),\"\")","v":""},{"$f":"IFERROR(VLOOKUP(A3426,Base!$A$2:$D$460,4,0),\"\")","v":""},null,null,null,null,null,null,null,null,null,null,null,null,null,0]
[null,{"$f":"IFERROR(VLOOKUP(A3427,Base!$A$2:$D$460,2,0),\"\")","v":""},{"$f":"IFERROR(VLOOKUP(A3427,Base!$A$2:$D$460,3,0),\"\")","v":""},{"$f":"IFERROR(VLOOKUP(A3427,Base!$A$2:$D$460,4,0),\"\")","v":""},null,null,null,null,null,null,null,null,null,null,null,null,null,0]
[null,{"$f":"IFERROR(VLOOKUP(A3428,Base!$A$2:$D$460,2,0),\"\")","v":""},{"$f":"IFERROR(VLOOKUP(A3428,Base!$A$2:$D$460,3,0),\"\")","v":""},{"$f":"IFERROR(VLOOKUP(A3428,Base!$A$2:$D$460,4,0),\"\")","v":""},null,null,null,null,null,null,null,null,null,null,null,null,null,0]
[null,{"$f":"IFERROR(VLOOKUP(A3429,Base!$A$2:$D$460,2,0),\"\")","v":""},{"$f":"IFERROR(VLOOKUP(A3429,Base!$A$2:$D$460,3,0),\"\")","v":""},{"$f":"IFERROR(VLOOKUP(A3429,Base!$A$2:$D$460,4,0),\"\")","v":""},null,null,null,null,null,null,null,null,null,null,null,null,null,0]
[null,{"$f":"IFERROR(VLOOKUP(A3430,Base!$A$2:$D$460,2,0),\"\")","v":""},{"$f":"IFERROR(VLOOKUP(A3430,Base!$A$2:$D$460,3,0),\"\")","v":""},{"$f":"IFERROR(VLOOKUP(A3430,Base!$A$2:$D$460,4,0),\"\")","v":""},null,null,null,null,null,null,null,null,null,null,null,null,null,0]
[null,{"$f":"IFERROR(VLOOKUP(A3431,Base!$A$2:$D$460,2,0),\"\")","v":""},{"$f":"IFERROR(VLOOKUP(A3431,Base!$A$2:$D$460,3,0),\"\")","v":""},{"$f":"IFERROR(VLOOKUP(A3431,Base!$A$2:$D$460,4,0),\"\")","v":""},null,null,null,null,null,null,null,null,null,null,null,null,null,{"$f":"SUM(N3431:Q3431)/4","v":0}]
[null,{"$f":"IFERROR(VLOOKUP(A3432,Base!$A$2:$D$460,2,0),\"\")","v":""},{"$f":"IFERROR(VLOOKUP(A3432,Base!$A$2:$D$460,3,0),\"\")","v":""},{"$f":"IFERROR(VLOOKUP(A3432,Base!$A$2:$D$460,4,0),\"\")","v":""},null,null,null,null,null,null,null,null,null,null,null,null,null,0]
[null,{"$f":"IFERROR(VLOOKUP(A3433,Base!$A$2:$D$460,2,0),\"\")","v":""},{"$f":"IFERROR(VLOOKUP(A3433,Base!$A$2:$D$460,3,0),\"\")","v":""},{"$f":"IFERROR(VLOOKUP(A3433,Base!$A$2:$D$460,4,0),\"\")","v":""},null,null,null,null,null,null,null,null,null,null,null,null,null,0]
[null,{"$f":"IFERROR(VLOOKUP(A3434,Base!$A$2:$D$460,2,0),\"\")","v":""},{"$f":"IFERROR(VLOOKUP(A3434,Base!$A$2:$D$460,3,0),\"\")","v":""},{"$f":"IFERROR(VLOOKUP(A3434,Base!$A$2:$D$460,4,0),\"\")","v":""},null,null,null,null,null,null,null,null,null,null,null,null,null,0]
[null,{"$f":"IFERROR(VLOOKUP(A3435,Base!$A$2:$D$460,2,0),\"\")","v":""},{"$f":"IFERROR(VLOOKUP(A3435,Base!$A$2:$D$460,3,0),\"\")","v":""},{"$f":"IFERROR(VLOOKUP(A3435,Base!$A$2:$D$460,4,0),\"\")","v":""},null,null,null,null,null,null,null,null,null,null,null,null,null,0]
[null,{"$f":"IFERROR(VLOOKUP(A3436,Base!$A$2:$D$460,2,0),\"\")","v":""},{"$f":"IFERROR(VLOOKUP(A3436,Base!$A$2:$D$460,3,0),\"\")","v":""},{"$f":"IFERROR(VLOOKUP(A3436,Base!$A$2:$D$460,4,0),\"\")","v":""},null,null,null,null,null,null,null,null,null,null,null,null,null,0]
[null,{"$f":"IFERROR(VLOOKUP(A3437,Base!$A$2:$D$460,2,0),\"\")","v":""},{"$f":"IFERROR(VLOOKUP(A3437,Base!$A$2:$D$460,3,0),\"\")","v":""},{"$f":"IFERROR(VLOOKUP(A3437,Base!$A$2:$D$460,4,0),\"\")","v":""},null,null,null,null,null,null,null,null,null,null,null,null,null,0]
[null,{"$f":"IFERROR(VLOOKUP(A3438,Base!$A$2:$D$460,2,0),\"\")","v":""},{"$f":"IFERROR(VLOOKUP(A3438,Base!$A$2:$D$460,3,0),\"\")","v":""},{"$f":"IFERROR(VLOOKUP(A3438,Base!$A$2:$D$460,4,0),\"\")","v":""},null,null,null,null,null,null,null,null,null,null,null,null,null,0]
[null,{"$f":"IFERROR(VLOOKUP(A3439,Base!$A$2:$D$460,2,0),\"\")","v":""},{"$f":"IFERROR(VLOOKUP(A3439,Base!$A$2:$D$460,3,0),\"\")","v":""},{"$f":"IFERROR(VLOOKUP(A3439,Base!$A$2:$D$460,4,0),\"\")","v":""},null,null,null,null,null,null,null,null,null,null,null,null,null,0]
[null,{"$f":"IFERROR(VLOOKUP(A3440,Base!$A$2:$D$460,2,0),\"\")","v":""},{"$f":"IFERROR(VLOOKUP(A3440,Base!$A$2:$D$460,3,0),\"\")","v":""},{"$f":"IFERROR(VLOOKUP(A3440,Base!$A$2:$D$460,4,0),\"\")","v":""},null,null,null,null,null,null,null,null,null,null,null,null,null,0]
[null,{"$f":"IFERROR(VLOOKUP(A3441,Base!$A$2:$D$460,2,0),\"\")","v":""},{"$f":"IFERROR(VLOOKUP(A3441,Base!$A$2:$D$460,3,0),\"\")","v":""},{"$f":"IFERROR(VLOOKUP(A3441,Base!$A$2:$D$460,4,0),\"\")","v":""},null,null,null,null,null,null,null,null,null,null,null,null,null,0]
[null,{"$f":"IFERROR(VLOOKUP(A3442,Base!$A$2:$D$460,2,0),\"\")","v":""},{"$f":"IFERROR(VLOOKUP(A3442,Base!$A$2:$D$460,3,0),\"\")","v":""},{"$f":"IFERROR(VLOOKUP(A3442,Base!$A$2:$D$460,4,0),\"\")","v":""},null,null,null,null,null,null,null,null,null,null,null,null,null,0]
[null,{"$f":"IFERROR(VLOOKUP(A3443,Base!$A$2:$D$460,2,0),\"\")","v":""},{"$f":"IFERROR(VLOOKUP(A3443,Base!$A$2:$D$460,3,0),\"\")","v":""},{"$f":"IFERROR(VLOOKUP(A3443,Base!$A$2:$D$460,4,0),\"\")","v":""},null,null,null,null,null,null,null,null,null,null,null,null,null,0]
[null,{"$f":"IFERROR(VLOOKUP(A3444,Base!$A$2:$D$460,2,0),\"\")","v":""},{"$f":"IFERROR(VLOOKUP(A3444,Base!$A$2:$D$460,3,0),\"\")","v":""},{"$f":"IFERROR(VLOOKUP(A3444,Base!$A$2:$D$460,4,0),\"\")","v":""},null,null,null,null,null,null,null,null,null,null,null,null,null,0]
[null,{"$f":"IFERROR(VLOOKUP(A3445,Base!$A$2:$D$460,2,0),\"\")","v":""},{"$f":"IFERROR(VLOOKUP(A3445,Base!$A$2:$D$460,3,0),\"\")","v":""},{"$f":"IFERROR(VLOOKUP(A3445,Base!$A$2:$D$460,4,0),\"\")","v":""},null,null,null,null,null,null,null,null,null,null,null,null,null,0]
[null,{"$f":"IFERROR(VLOOKUP(A3446,Base!$A$2:$D$460,2,0),\"\")","v":""},{"$f":"IFERROR(VLOOKUP(A3446,Base!$A$2:$D$460,3,0),\"\")","v":""},{"$f":"IFERROR(VLOOKUP(A3446,Base!$A$2:$D$460,4,0),\"\")","v":""},null,null,null,null,null,null,null,null,null,null,null,null,null,0]
[null,{"$f":"IFERROR(VLOOKUP(A3447,Base!$A$2:$D$460,2,0),\"\")","v":""},{"$f":"IFERROR(VLOOKUP(A3447,Base!$A$2:$D$460,3,0),\"\")","v":""},{"$f":"IFERROR(VLOOKUP(A3447,Base!$A$2:$D$460,4,0),\"\")","v":""},null,null,null,null,null,null,null,null,null,null,null,null,null,0]
[null,{"$f":"IFERROR(VLOOKUP(A3448,Base!$A$2:$D$460,2,0),\"\")","v":""},{"$f":"IFERROR(VLOOKUP(A3448,Base!$A$2:$D$460,3,0),\"\")","v":""},{"$f":"IFERROR(VLOOKUP(A3448,Base!$A$2:$D$460,4,0),\"\")","v":""},null,null,null,null,null,null,null,null,null,null,null,null,null,0]
[null,{"$f":"IFERROR(VLOOKUP(A3449,Base!$A$2:$D$460,2,0),\"\")","v":""},{"$f":"IFERROR(VLOOKUP(A3449,Base!$A$2:$D$460,3,0),\"\")","v":""},{"$f":"IFERROR(VLOOKUP(A3449,Base!$A$2:$D$460,4,0),\"\")","v":""},null,null,null,null,null,null,null,null,null,null,null,null,null,0]
[null,{"$f":"IFERROR(VLOOKUP(A3450,Base!$A$2:$D$460,2,0),\"\")","v":""},{"$f":"IFERROR(VLOOKUP(A3450,Base!$A$2:$D$460,3,0),\"\")","v":""},{"$f":"IFERROR(VLOOKUP(A3450,Base!$A$2:$D$460,4,0),\"\")","v":""},null,null,null,null,null,null,null,null,null,null,null,null,null,0]
[null,{"$f":"IFERROR(VLOOKUP(A3451,Base!$A$2:$D$460,2,0),\"\")","v":""},{"$f":"IFERROR(VLOOKUP(A3451,Base!$A$2:$D$460,3,0),\"\")","v":""},{"$f":"IFERROR(VLOOKUP(A3451,Base!$A$2:$D$460,4,0),\"\")","v":""},null,null,null,null,null,null,null,null,null,null,null,null,null,0]
[null,{"$f":"IFERROR(VLOOKUP(A3452,Base!$A$2:$D$460,2,0),\"\")","v":""},{"$f":"IFERROR(VLOOKUP(A3452,Base!$A$2:$D$460,3,0),\"\")","v":""},{"$f":"IFERROR(VLOOKUP(A3452,Base!$A$2:$D$460,4,0),\"\")","v":""},null,null,null,null,null,null,null,null,null,null,null,null,null,0]
[null,{"$f":"IFERROR(VLOOKUP(A3453,Base!$A$2:$D$460,2,0),\"\")","v":""},{"$f":"IFERROR(VLOOKUP(A3453,Base!$A$2:$D$460,3,0),\"\")","v":""},{"$f":"IFERROR(VLOOKUP(A3453,Base!$A$2:$D$460,4,0),\"\")","v":""},null,null,null,null,null,null,null,null,null,null,null,null,null,0]
[null,{"$f":"IFERROR(VLOOKUP(A3454,Base!$A$2:$D$460,2,0),\"\")","v":""},{"$f":"IFERROR(VLOOKUP(A3454,Base!$A$2:$D$460,3,0),\"\")","v":""},{"$f":"IFERROR(VLOOKUP(A3454,Base!$A$2:$D$460,4,0),\"\")","v":""},null,null,null,null,null,null,null,null,null,null,null,null,null,0]
[null,{"$f":"IFERROR(VLOOKUP(A3455,Base!$A$2:$D$460,2,0),\"\")","v":""},{"$f":"IFERROR(VLOOKUP(A3455,Base!$A$2:$D$460,3,0),\"\")","v":""},{"$f":"IFERROR(VLOOKUP(A3455,Base!$A$2:$D$460,4,0),\"\")","v":""},null,null,null,null,null,null,null,null,null,null,null,null,null,0]
[null,{"$f":"IFERROR(VLOOKUP(A3456,Base!$A$2:$D$460,2,0),\"\")","v":""},{"$f":"IFERROR(VLOOKUP(A3456,Base!$A$2:$D$460,3,0),\"\")","v":""},{"$f":"IFERROR(VLOOKUP(A3456,Base!$A$2:$D$460,4,0),\"\")","v":""},null,null,null,null,null,null,null,null,null,null,null,null,null,0]
[null,{"$f":"IFERROR(VLOOKUP(A3457,Base!$A$2:$D$460,2,0),\"\")","v":""},{"$f":"IFERROR(VLOOKUP(A3457,Base!$A$2:$D$460,3,0),\"\")","v":""},{"$f":"IFERROR(VLOOKUP(A3457,Base!$A$2:$D$460,4,0),\"\")","v":""},null,null,null,null,null,null,null,null,null,null,null,null,null,0]
[null,{"$f":"IFERROR(VLOOKUP(A3458,Base!$A$2:$D$460,2,0),\"\")","v":""},{"$f":"IFERROR(VLOOKUP(A3458,Base!$A$2:$D$460,3,0),\"\")","v":""},{"$f":"IFERROR(VLOOKUP(A3458,Base!$A$2:$D$460,4,0),\"\")","v":""},null,null,null,null,null,null,null,null,null,null,null,null,null,0]
[null,{"$f":"IFERROR(VLOOKUP(A3459,Base!$A$2:$D$460,2,0),\"\")","v":""},{"$f":"IFERROR(VLOOKUP(A3459,Base!$A$2:$D$460,3,0),\"\")","v":""},{"$f":"IFERROR(VLOOKUP(A3459,Base!$A$2:$D$460,4,0),\"\")","v":""},null,null,null,null,null,null,null,null,null,null,null,null,null,0]
[null,{"$f":"IFERROR(VLOOKUP(A3460,Base!$A$2:$D$460,2,0),\"\")","v":""},{"$f":"IFERROR(VLOOKUP(A3460,Base!$A$2:$D$460,3,0),\"\")","v":""},{"$f":"IFERROR(VLOOKUP(A3460,Base!$A$2:$D$460,4,0),\"\")","v":""},null,null,null,null,null,null,null,null,null,null,null,null,null,0]
[null,{"$f":"IFERROR(VLOOKUP(A3461,Base!$A$2:$D$460,2,0),\"\")","v":""},{"$f":"IFERROR(VLOOKUP(A3461,Base!$A$2:$D$460,3,0),\"\")","v":""},{"$f":"IFERROR(VLOOKUP(A3461,Base!$A$2:$D$460,4,0),\"\")","v":""},null,null,null,null,null,null,null,null,null,null,null,null,null,0]
[null,{"$f":"IFERROR(VLOOKUP(A3462,Base!$A$2:$D$460,2,0),\"\")","v":""},{"$f":"IFERROR(VLOOKUP(A3462,Base!$A$2:$D$460,3,0),\"\")","v":""},{"$f":"IFERROR(VLOOKUP(A3462,Base!$A$2:$D$460,4,0),\"\")","v":""},null,null,null,null,null,null,null,null,null,null,null,null,null,0]
[null,{"$f":"IFERROR(VLOOKUP(A3463,Base!$A$2:$D$460,2,0),\"\")","v":""},{"$f":"IFERROR(VLOOKUP(A3463,Base!$A$2:$D$460,3,0),\"\")","v":""},{"$f":"IFERROR(VLOOKUP(A3463,Base!$A$2:$D$460,4,0),\"\")","v":""},null,null,null,null,null,null,null,null,null,null,null,null,null,0]
[null,{"$f":"IFERROR(VLOOKUP(A3464,Base!$A$2:$D$460,2,0),\"\")","v":""},{"$f":"IFERROR(VLOOKUP(A3464,Base!$A$2:$D$460,3,0),\"\")","v":""},{"$f":"IFERROR(VLOOKUP(A3464,Base!$A$2:$D$460,4,0),\"\")","v":""},null,null,null,null,null,null,null,null,null,null,null,null,null,0]
[null,{"$f":"IFERROR(VLOOKUP(A3465,Base!$A$2:$D$460,2,0),\"\")","v":""},{"$f":"IFERROR(VLOOKUP(A3465,Base!$A$2:$D$460,3,0),\"\")","v":""},{"$f":"IFERROR(VLOOKUP(A3465,Base!$A$2:$D$460,4,0),\"\")","v":""},null,null,null,null,null,null,null,null,null,null,null,null,null,0]
[null,{"$f":"IFERROR(VLOOKUP(A3466,Base!$A$2:$D$460,2,0),\"\")","v":""},{"$f":"IFERROR(VLOOKUP(A3466,Base!$A$2:$D$460,3,0),\"\")","v":""},{"$f":"IFERROR(VLOOKUP(A3466,Base!$A$2:$D$460,4,0),\"\")","v":""},null,null,null,null,null,null,null,null,null,null,null,null,null,0]
[null,{"$f":"IFERROR(VLOOKUP(A3467,Base!$A$2:$D$460,2,0),\"\")","v":""},{"$f":"IFERROR(VLOOKUP(A3467,Base!$A$2:$D$460,3,0),\"\")","v":""},{"$f":"IFERROR(VLOOKUP(A3467,Base!$A$2:$D$460,4,0),\"\")","v":""},null,null,null,null,null,null,null,null,null,null,null,null,null,0]
[null,{"$f":"IFERROR(VLOOKUP(A3468,Base!$A$2:$D$460,2,0),\"\")","v":""},{"$f":"IFERROR(VLOOKUP(A3468,Base!$A$2:$D$460,3,0),\"\")","v":""},{"$f":"IFERROR(VLOOKUP(A3468,Base!$A$2:$D$460,4,0),\"\")","v":""},null,null,null,null,null,null,null,null,null,null,null,null,null,0]
[null,{"$f":"IFERROR(VLOOKUP(A3469,Base!$A$2:$D$460,2,0),\"\")","v":""},{"$f":"IFERROR(VLOOKUP(A3469,Base!$A$2:$D$460,3,0),\"\")","v":""},{"$f":"IFERROR(VLOOKUP(A3469,Base!$A$2:$D$460,4,0),\"\")","v":""},null,null,null,null,null,null,null,null,null,null,null,null,null,0]
[null,{"$f":"IFERROR(VLOOKUP(A3470,Base!$A$2:$D$460,2,0),\"\")","v":""},{"$f":"IFERROR(VLOOKUP(A3470,Base!$A$2:$D$460,3,0),\"\")","v":""},{"$f":"IFERROR(VLOOKUP(A3470,Base!$A$2:$D$460,4,0),\"\")","v":""},null,null,null,null,null,null,null,null,null,null,null,null,null,0]
[null,{"$f":"IFERROR(VLOOKUP(A3471,Base!$A$2:$D$460,2,0),\"\")","v":""},{"$f":"IFERROR(VLOOKUP(A3471,Base!$A$2:$D$460,3,0),\"\")","v":""},{"$f":"IFERROR(VLOOKUP(A3471,Base!$A$2:$D$460,4,0),\"\")","v":""},null,null,null,null,null,null,null,null,null,null,null,null,null,0]
[null,{"$f":"IFERROR(VLOOKUP(A3472,Base!$A$2:$D$460,2,0),\"\")","v":""},{"$f":"IFERROR(VLOOKUP(A3472,Base!$A$2:$D$460,3,0),\"\")","v":""},{"$f":"IFERROR(VLOOKUP(A3472,Base!$A$2:$D$460,4,0),\"\")","v":""},null,null,null,null,null,null,null,null,null,null,null,null,null,0]
[null,{"$f":"IFERROR(VLOOKUP(A3473,Base!$A$2:$D$460,2,0),\"\")","v":""},{"$f":"IFERROR(VLOOKUP(A3473,Base!$A$2:$D$460,3,0),\"\")","v":""},{"$f":"IFERROR(VLOOKUP(A3473,Base!$A$2:$D$460,4,0),\"\")","v":""},null,null,null,null,null,null,null,null,null,null,null,null,null,0]
[null,{"$f":"IFERROR(VLOOKUP(A3474,Base!$A$2:$D$460,2,0),\"\")","v":""},{"$f":"IFERROR(VLOOKUP(A3474,Base!$A$2:$D$460,3,0),\"\")","v":""},{"$f":"IFERROR(VLOOKUP(A3474,Base!$A$2:$D$460,4,0),\"\")","v":""},null,null,null,null,null,null,null,null,null,null,null,null,null,0]
[null,{"$f":"IFERROR(VLOOKUP(A3475,Base!$A$2:$D$460,2,0),\"\")","v":""},{"$f":"IFERROR(VLOOKUP(A3475,Base!$A$2:$D$460,3,0),\"\")","v":""},{"$f":"IFERROR(VLOOKUP(A3475,Base!$A$2:$D$460,4,0),\"\")","v":""},null,null,null,null,null,null,null,null,null,null,null,null,null,0]
[null,{"$f":"IFERROR(VLOOKUP(A3476,Base!$A$2:$D$460,2,0),\"\")","v":""},{"$f":"IFERROR(VLOOKUP(A3476,Base!$A$2:$D$460,3,0),\"\")","v":""},{"$f":"IFERROR(VLOOKUP(A3476,Base!$A$2:$D$460,4,0),\"\")","v":""},null,null,null,null,null,null,null,null,null,null,null,null,null,0]
[null,{"$f":"IFERROR(VLOOKUP(A3477,Base!$A$2:$D$460,2,0),\"\")","v":""},{"$f":"IFERROR(VLOOKUP(A3477,Base!$A$2:$D$460,3,0),\"\")","v":""},{"$f":"IFERROR(VLOOKUP(A3477,Base!$A$2:$D$460,4,0),\"\")","v":""},null,null,null,null,null,null,null,null,null,null,null,null,null,0]
[null,{"$f":"IFERROR(VLOOKUP(A3478,Base!$A$2:$D$460,2,0),\"\")","v":""},{"$f":"IFERROR(VLOOKUP(A3478,Base!$A$2:$D$460,3,0),\"\")","v":""},{"$f":"IFERROR(VLOOKUP(A3478,Base!$A$2:$D$460,4,0),\"\")","v":""},null,null,null,null,null,null,null,null,null,null,null,null,null,0]
[null,{"$f":"IFERROR(VLOOKUP(A3479,Base!$A$2:$D$460,2,0),\"\")","v":""},{"$f":"IFERROR(VLOOKUP(A3479,Base!$A$2:$D$460,3,0),\"\")","v":""},{"$f":"IFERROR(VLOOKUP(A3479,Base!$A$2:$D$460,4,0),\"\")","v":""},null,null,null,null,null,null,null,null,null,null,null,null,null,0]
[null,{"$f":"IFERROR(VLOOKUP(A3480,Base!$A$2:$D$460,2,0),\"\")","v":""},{"$f":"IFERROR(VLOOKUP(A3480,Base!$A$2:$D$460,3,0),\"\")","v":""},{"$f":"IFERROR(VLOOKUP(A3480,Base!$A$2:$D$460,4,0),\"\")","v":""},null,null,null,null,null,null,null,null,null,null,null,null,null,0]
[null,{"$f":"IFERROR(VLOOKUP(A3481,Base!$A$2:$D$460,2,0),\"\")","v":""},{"$f":"IFERROR(VLOOKUP(A3481,Base!$A$2:$D$460,3,0),\"\")","v":""},{"$f":"IFERROR(VLOOKUP(A3481,Base!$A$2:$D$460,4,0),\"\")","v":""},null,null,null,null,null,null,null,null,null,null,null,null,null,0]
[null,{"$f":"IFERROR(VLOOKUP(A3482,Base!$A$2:$D$460,2,0),\"\")","v":""},{"$f":"IFERROR(VLOOKUP(A3482,Base!$A$2:$D$460,3,0),\"\")","v":""},{"$f":"IFERROR(VLOOKUP(A3482,Base!$A$2:$D$460,4,0),\"\")","v":""},null,null,null,null,null,null,null,null,null,null,null,null,null,0]
[null,{"$f":"IFERROR(VLOOKUP(A3483,Base!$A$2:$D$460,2,0),\"\")","v":""},{"$f":"IFERROR(VLOOKUP(A3483,Base!$A$2:$D$460,3,0),\"\")","v":""},{"$f":"IFERROR(VLOOKUP(A3483,Base!$A$2:$D$460,4,0),\"\")","v":""},null,null,null,null,null,null,null,null,null,null,null,null,null,0]
[null,{"$f":"IFERROR(VLOOKUP(A3484,Base!$A$2:$D$460,2,0),\"\")","v":""},{"$f":"IFERROR(VLOOKUP(A3484,Base!$A$2:$D$460,3,0),\"\")","v":""},{"$f":"IFERROR(VLOOKUP(A3484,Base!$A$2:$D$460,4,0),\"\")","v":""},null,null,null,null,null,null,null,null,null,null,null,null,null,0]
[null,{"$f":"IFERROR(VLOOKUP(A3485,Base!$A$2:$D$460,2,0),\"\")","v":""},{"$f":"IFERROR(VLOOKUP(A3485,Base!$A$2:$D$460,3,0),\"\")","v":""},{"$f":"IFERROR(VLOOKUP(A3485,Base!$A$2:$D$460,4,0),\"\")","v":""},null,null,null,null,null,null,null,null,null,null,null,null,null,0]
[null,{"$f":"IFERROR(VLOOKUP(A3486,Base!$A$2:$D$460,2,0),\"\")","v":""},{"$f":"IFERROR(VLOOKUP(A3486,Base!$A$2:$D$460,3,0),\"\")","v":""},{"$f":"IFERROR(VLOOKUP(A3486,Base!$A$2:$D$460,4,0),\"\")","v":""},null,null,null,null,null,null,null,null,null,null,null,null,null,0]
[null,{"$f":"IFERROR(VLOOKUP(A3487,Base!$A$2:$D$460,2,0),\"\")","v":""},{"$f":"IFERROR(VLOOKUP(A3487,Base!$A$2:$D$460,3,0),\"\")","v":""},{"$f":"IFERROR(VLOOKUP(A3487,Base!$A$2:$D$460,4,0),\"\")","v":""},null,null,null,null,null,null,null,null,null,null,null,null,null,0]
[null,{"$f":"IFERROR(VLOOKUP(A3488,Base!$A$2:$D$460,2,0),\"\")","v":""},{"$f":"IFERROR(VLOOKUP(A3488,Base!$A$2:$D$460,3,0),\"\")","v":""},{"$f":"IFERROR(VLOOKUP(A3488,Base!$A$2:$D$460,4,0),\"\")","v":""},null,null,null,null,null,null,null,null,null,null,null,null,null,0]
[null,{"$f":"IFERROR(VLOOKUP(A3489,Base!$A$2:$D$460,2,0),\"\")","v":""},{"$f":"IFERROR(VLOOKUP(A3489,Base!$A$2:$D$460,3,0),\"\")","v":""},{"$f":"IFERROR(VLOOKUP(A3489,Base!$A$2:$D$460,4,0),\"\")","v":""},null,null,null,null,null,null,null,null,null,null,null,null,null,0]
[null,{"$f":"IFERROR(VLOOKUP(A3490,Base!$A$2:$D$460,2,0),\"\")","v":""},{"$f":"IFERROR(VLOOKUP(A3490,Base!$A$2:$D$460,3,0),\"\")","v":""},{"$f":"IFERROR(VLOOKUP(A3490,Base!$A$2:$D$460,4,0),\"\")","v":""},null,null,null,null,null,null,null,null,null,null,null,null,null,0]
[null,{"$f":"IFERROR(VLOOKUP(A3491,Base!$A$2:$D$460,2,0),\"\")","v":""},{"$f":"IFERROR(VLOOKUP(A3491,Base!$A$2:$D$460,3,0),\"\")","v":""},{"$f":"IFERROR(VLOOKUP(A3491,Base!$A$2:$D$460,4,0),\"\")","v":""},null,null,null,null,null,null,null,null,null,null,null,null,null,0]
[null,{"$f":"IFERROR(VLOOKUP(A3492,Base!$A$2:$D$460,2,0),\"\")","v":""},{"$f":"IFERROR(VLOOKUP(A3492,Base!$A$2:$D$460,3,0),\"\")","v":""},{"$f":"IFERROR(VLOOKUP(A3492,Base!$A$2:$D$460,4,0),\"\")","v":""},null,null,null,null,null,null,null,null,null,null,null,null,null,0]
[null,{"$f":"IFERROR(VLOOKUP(A3493,Base!$A$2:$D$460,2,0),\"\")","v":""},{"$f":"IFERROR(VLOOKUP(A3493,Base!$A$2:$D$460,3,0),\"\")","v":""},{"$f":"IFERROR(VLOOKUP(A3493,Base!$A$2:$D$460,4,0),\"\")","v":""},null,null,null,null,null,null,null,null,null,null,null,null,null,0]
[null,{"$f":"IFERROR(VLOOKUP(A3494,Base!$A$2:$D$460,2,0),\"\")","v":""},{"$f":"IFERROR(VLOOKUP(A3494,Base!$A$2:$D$460,3,0),\"\")","v":""},{"$f":"IFERROR(VLOOKUP(A3494,Base!$A$2:$D$460,4,0),\"\")","v":""},null,null,null,null,null,null,null,null,null,null,null,null,null,0]
[null,{"$f":"IFERROR(VLOOKUP(A3495,Base!$A$2:$D$460,2,0),\"\")","v":""},{"$f":"IFERROR(VLOOKUP(A3495,Base!$A$2:$D$460,3,0),\"\")","v":""},{"$f":"IFERROR(VLOOKUP(A3495,Base!$A$2:$D$460,4,0),\"\")","v":""},null,null,null,null,null,null,null,null,null,null,null,null,null,{"$f":"SUM(N3495:Q3495)/4","v":0}]
[null,{"$f":"IFERROR(VLOOKUP(A3496,Base!$A$2:$D$460,2,0),\"\")","v":""},{"$f":"IFERROR(VLOOKUP(A3496,Base!$A$2:$D$460,3,0),\"\")","v":""},{"$f":"IFERROR(VLOOKUP(A3496,Base!$A$2:$D$460,4,0),\"\")","v":""},null,null,null,null,null,null,null,null,null,null,null,null,null,0]
[null,{"$f":"IFERROR(VLOOKUP(A3497,Base!$A$2:$D$460,2,0),\"\")","v":""},{"$f":"IFERROR(VLOOKUP(A3497,Base!$A$2:$D$460,3,0),\"\")","v":""},{"$f":"IFERROR(VLOOKUP(A3497,Base!$A$2:$D$460,4,0),\"\")","v":""},null,null,null,null,null,null,null,null,null,null,null,null,null,0]
[null,{"$f":"IFERROR(VLOOKUP(A3498,Base!$A$2:$D$460,2,0),\"\")","v":""},{"$f":"IFERROR(VLOOKUP(A3498,Base!$A$2:$D$460,3,0),\"\")","v":""},{"$f":"IFERROR(VLOOKUP(A3498,Base!$A$2:$D$460,4,0),\"\")","v":""},null,null,null,null,null,null,null,null,null,null,null,null,null,0]
[null,{"$f":"IFERROR(VLOOKUP(A3499,Base!$A$2:$D$460,2,0),\"\")","v":""},{"$f":"IFERROR(VLOOKUP(A3499,Base!$A$2:$D$460,3,0),\"\")","v":""},{"$f":"IFERROR(VLOOKUP(A3499,Base!$A$2:$D$460,4,0),\"\")","v":""},null,null,null,null,null,null,null,null,null,null,null,null,null,0]
[null,{"$f":"IFERROR(VLOOKUP(A3500,Base!$A$2:$D$460,2,0),\"\")","v":""},{"$f":"IFERROR(VLOOKUP(A3500,Base!$A$2:$D$460,3,0),\"\")","v":""},{"$f":"IFERROR(VLOOKUP(A3500,Base!$A$2:$D$460,4,0),\"\")","v":""},null,null,null,null,null,null,null,null,null,null,null,null,null,0]
[null,{"$f":"IFERROR(VLOOKUP(A3501,Base!$A$2:$D$460,2,0),\"\")","v":""},{"$f":"IFERROR(VLOOKUP(A3501,Base!$A$2:$D$460,3,0),\"\")","v":""},{"$f":"IFERROR(VLOOKUP(A3501,Base!$A$2:$D$460,4,0),\"\")","v":""},null,null,null,null,null,null,null,null,null,null,null,null,null,0]
[null,{"$f":"IFERROR(VLOOKUP(A3502,Base!$A$2:$D$460,2,0),\"\")","v":""},{"$f":"IFERROR(VLOOKUP(A3502,Base!$A$2:$D$460,3,0),\"\")","v":""},{"$f":"IFERROR(VLOOKUP(A3502,Base!$A$2:$D$460,4,0),\"\")","v":""},null,null,null,null,null,null,null,null,null,null,null,null,null,0]
[null,{"$f":"IFERROR(VLOOKUP(A3503,Base!$A$2:$D$460,2,0),\"\")","v":""},{"$f":"IFERROR(VLOOKUP(A3503,Base!$A$2:$D$460,3,0),\"\")","v":""},{"$f":"IFERROR(VLOOKUP(A3503,Base!$A$2:$D$460,4,0),\"\")","v":""},null,null,null,null,null,null,null,null,null,null,null,null,null,0]
[null,{"$f":"IFERROR(VLOOKUP(A3504,Base!$A$2:$D$460,2,0),\"\")","v":""},{"$f":"IFERROR(VLOOKUP(A3504,Base!$A$2:$D$460,3,0),\"\")","v":""},{"$f":"IFERROR(VLOOKUP(A3504,Base!$A$2:$D$460,4,0),\"\")","v":""},null,null,null,null,null,null,null,null,null,null,null,null,null,0]
[null,{"$f":"IFERROR(VLOOKUP(A3505,Base!$A$2:$D$460,2,0),\"\")","v":""},{"$f":"IFERROR(VLOOKUP(A3505,Base!$A$2:$D$460,3,0),\"\")","v":""},{"$f":"IFERROR(VLOOKUP(A3505,Base!$A$2:$D$460,4,0),\"\")","v":""},null,null,null,null,null,null,null,null,null,null,null,null,null,0]
[null,{"$f":"IFERROR(VLOOKUP(A3506,Base!$A$2:$D$460,2,0),\"\")","v":""},{"$f":"IFERROR(VLOOKUP(A3506,Base!$A$2:$D$460,3,0),\"\")","v":""},{"$f":"IFERROR(VLOOKUP(A3506,Base!$A$2:$D$460,4,0),\"\")","v":""},null,null,null,null,null,null,null,null,null,null,null,null,null,0]
[null,{"$f":"IFERROR(VLOOKUP(A3507,Base!$A$2:$D$460,2,0),\"\")","v":""},{"$f":"IFERROR(VLOOKUP(A3507,Base!$A$2:$D$460,3,0),\"\")","v":""},{"$f":"IFERROR(VLOOKUP(A3507,Base!$A$2:$D$460,4,0),\"\")","v":""},null,null,null,null,null,null,null,null,null,null,null,null,null,0]
[null,{"$f":"IFERROR(VLOOKUP(A3508,Base!$A$2:$D$460,2,0),\"\")","v":""},{"$f":"IFERROR(VLOOKUP(A3508,Base!$A$2:$D$460,3,0),\"\")","v":""},{"$f":"IFERROR(VLOOKUP(A3508,Base!$A$2:$D$460,4,0),\"\")","v":""},null,null,null,null,null,null,null,null,null,null,null,null,null,0]
[null,{"$f":"IFERROR(VLOOKUP(A3509,Base!$A$2:$D$460,2,0),\"\")","v":""},{"$f":"IFERROR(VLOOKUP(A3509,Base!$A$2:$D$460,3,0),\"\")","v":""},{"$f":"IFERROR(VLOOKUP(A3509,Base!$A$2:$D$460,4,0),\"\")","v":""},null,null,null,null,null,null,null,null,null,null,null,null,null,0]
[null,{"$f":"IFERROR(VLOOKUP(A3510,Base!$A$2:$D$460,2,0),\"\")","v":""},{"$f":"IFERROR(VLOOKUP(A3510,Base!$A$2:$D$460,3,0),\"\")","v":""},{"$f":"IFERROR(VLOOKUP(A3510,Base!$A$2:$D$460,4,0),\"\")","v":""},null,null,null,null,null,null,null,null,null,null,null,null,null,0]
[null,{"$f":"IFERROR(VLOOKUP(A3511,Base!$A$2:$D$460,2,0),\"\")","v":""},{"$f":"IFERROR(VLOOKUP(A3511,Base!$A$2:$D$460,3,0),\"\")","v":""},{"$f":"IFERROR(VLOOKUP(A3511,Base!$A$2:$D$460,4,0),\"\")","v":""},null,null,null,null,null,null,null,null,null,null,null,null,null,0]
[null,{"$f":"IFERROR(VLOOKUP(A3512,Base!$A$2:$D$460,2,0),\"\")","v":""},{"$f":"IFERROR(VLOOKUP(A3512,Base!$A$2:$D$460,3,0),\"\")","v":""},{"$f":"IFERROR(VLOOKUP(A3512,Base!$A$2:$D$460,4,0),\"\")","v":""},null,null,null,null,null,null,null,null,null,null,null,null,null,0]
[null,{"$f":"IFERROR(VLOOKUP(A3513,Base!$A$2:$D$460,2,0),\"\")","v":""},{"$f":"IFERROR(VLOOKUP(A3513,Base!$A$2:$D$460,3,0),\"\")","v":""},{"$f":"IFERROR(VLOOKUP(A3513,Base!$A$2:$D$460,4,0),\"\")","v":""},null,null,null,null,null,null,null,null,null,null,null,null,null,0]
[null,{"$f":"IFERROR(VLOOKUP(A3514,Base!$A$2:$D$460,2,0),\"\")","v":""},{"$f":"IFERROR(VLOOKUP(A3514,Base!$A$2:$D$460,3,0),\"\")","v":""},{"$f":"IFERROR(VLOOKUP(A3514,Base!$A$2:$D$460,4,0),\"\")","v":""},null,null,null,null,null,null,null,null,null,null,null,null,null,0]
[null,{"$f":"IFERROR(VLOOKUP(A3515,Base!$A$2:$D$460,2,0),\"\")","v":""},{"$f":"IFERROR(VLOOKUP(A3515,Base!$A$2:$D$460,3,0),\"\")","v":""},{"$f":"IFERROR(VLOOKUP(A3515,Base!$A$2:$D$460,4,0),\"\")","v":""},null,null,null,null,null,null,null,null,null,null,null,null,null,0]
[null,{"$f":"IFERROR(VLOOKUP(A3516,Base!$A$2:$D$460,2,0),\"\")","v":""},{"$f":"IFERROR(VLOOKUP(A3516,Base!$A$2:$D$460,3,0),\"\")","v":""},{"$f":"IFERROR(VLOOKUP(A3516,Base!$A$2:$D$460,4,0),\"\")","v":""},null,null,null,null,null,null,null,null,null,null,null,null,null,0]
[null,{"$f":"IFERROR(VLOOKUP(A3517,Base!$A$2:$D$460,2,0),\"\")","v":""},{"$f":"IFERROR(VLOOKUP(A3517,Base!$A$2:$D$460,3,0),\"\")","v":""},{"$f":"IFERROR(VLOOKUP(A3517,Base!$A$2:$D$460,4,0),\"\")","v":""},null,null,null,null,null,null,null,null,null,null,null,null,null,0]
[null,{"$f":"IFERROR(VLOOKUP(A3518,Base!$A$2:$D$460,2,0),\"\")","v":""},{"$f":"IFERROR(VLOOKUP(A3518,Base!$A$2:$D$460,3,0),\"\")","v":""},{"$f":"IFERROR(VLOOKUP(A3518,Base!$A$2:$D$460,4,0),\"\")","v":""},null,null,null,null,null,null,null,null,null,null,null,null,null,0]
[null,{"$f":"IFERROR(VLOOKUP(A3519,Base!$A$2:$D$460,2,0),\"\")","v":""},{"$f":"IFERROR(VLOOKUP(A3519,Base!$A$2:$D$460,3,0),\"\")","v":""},{"$f":"IFERROR(VLOOKUP(A3519,Base!$A$2:$D$460,4,0),\"\")","v":""},null,null,null,null,null,null,null,null,null,null,null,null,null,0]
[null,{"$f":"IFERROR(VLOOKUP(A3520,Base!$A$2:$D$460,2,0),\"\")","v":""},{"$f":"IFERROR(VLOOKUP(A3520,Base!$A$2:$D$460,3,0),\"\")","v":""},{"$f":"IFERROR(VLOOKUP(A3520,Base!$A$2:$D$460,4,0),\"\")","v":""},null,null,null,null,null,null,null,null,null,null,null,null,null,0]
[null,{"$f":"IFERROR(VLOOKUP(A3521,Base!$A$2:$D$460,2,0),\"\")","v":""},{"$f":"IFERROR(VLOOKUP(A3521,Base!$A$2:$D$460,3,0),\"\")","v":""},{"$f":"IFERROR(VLOOKUP(A3521,Base!$A$2:$D$460,4,0),\"\")","v":""},null,null,null,null,null,null,null,null,null,null,null,null,null,0]
[null,{"$f":"IFERROR(VLOOKUP(A3522,Base!$A$2:$D$460,2,0),\"\")","v":""},{"$f":"IFERROR(VLOOKUP(A3522,Base!$A$2:$D$460,3,0),\"\")","v":""},{"$f":"IFERROR(VLOOKUP(A3522,Base!$A$2:$D$460,4,0),\"\")","v":""},null,null,null,null,null,null,null,null,null,null,null,null,null,0]
[null,{"$f":"IFERROR(VLOOKUP(A3523,Base!$A$2:$D$460,2,0),\"\")","v":""},{"$f":"IFERROR(VLOOKUP(A3523,Base!$A$2:$D$460,3,0),\"\")","v":""},{"$f":"IFERROR(VLOOKUP(A3523,Base!$A$2:$D$460,4,0),\"\")","v":""},null,null,null,null,null,null,null,null,null,null,null,null,null,0]
[null,{"$f":"IFERROR(VLOOKUP(A3524,Base!$A$2:$D$460,2,0),\"\")","v":""},{"$f":"IFERROR(VLOOKUP(A3524,Base!$A$2:$D$460,3,0),\"\")","v":""},{"$f":"IFERROR(VLOOKUP(A3524,Base!$A$2:$D$460,4,0),\"\")","v":""},null,null,null,null,null,null,null,null,null,null,null,null,null,0]
[null,{"$f":"IFERROR(VLOOKUP(A3525,Base!$A$2:$D$460,2,0),\"\")","v":""},{"$f":"IFERROR(VLOOKUP(A3525,Base!$A$2:$D$460,3,0),\"\")","v":""},{"$f":"IFERROR(VLOOKUP(A3525,Base!$A$2:$D$460,4,0),\"\")","v":""},null,null,null,null,null,null,null,null,null,null,null,null,null,0]
[null,{"$f":"IFERROR(VLOOKUP(A3526,Base!$A$2:$D$460,2,0),\"\")","v":""},{"$f":"IFERROR(VLOOKUP(A3526,Base!$A$2:$D$460,3,0),\"\")","v":""},{"$f":"IFERROR(VLOOKUP(A3526,Base!$A$2:$D$460,4,0),\"\")","v":""},null,null,null,null,null,null,null,null,null,null,null,null,null,0]
[null,{"$f":"IFERROR(VLOOKUP(A3527,Base!$A$2:$D$460,2,0),\"\")","v":""},{"$f":"IFERROR(VLOOKUP(A3527,Base!$A$2:$D$460,3,0),\"\")","v":""},{"$f":"IFERROR(VLOOKUP(A3527,Base!$A$2:$D$460,4,0),\"\")","v":""},null,null,null,null,null,null,null,null,null,null,null,null,null,0]
[null,{"$f":"IFERROR(VLOOKUP(A3528,Base!$A$2:$D$460,2,0),\"\")","v":""},{"$f":"IFERROR(VLOOKUP(A3528,Base!$A$2:$D$460,3,0),\"\")","v":""},{"$f":"IFERROR(VLOOKUP(A3528,Base!$A$2:$D$460,4,0),\"\")","v":""},null,null,null,null,null,null,null,null,null,null,null,null,null,0]
[null,{"$f":"IFERROR(VLOOKUP(A3529,Base!$A$2:$D$460,2,0),\"\")","v":""},{"$f":"IFERROR(VLOOKUP(A3529,Base!$A$2:$D$460,3,0),\"\")","v":""},{"$f":"IFERROR(VLOOKUP(A3529,Base!$A$2:$D$460,4,0),\"\")","v":""},null,null,null,null,null,null,null,null,null,null,null,null,null,0]
[null,{"$f":"IFERROR(VLOOKUP(A3530,Base!$A$2:$D$460,2,0),\"\")","v":""},{"$f":"IFERROR(VLOOKUP(A3530,Base!$A$2:$D$460,3,0),\"\")","v":""},{"$f":"IFERROR(VLOOKUP(A3530,Base!$A$2:$D$460,4,0),\"\")","v":""},null,null,null,null,null,null,null,null,null,null,null,null,null,0]
[null,{"$f":"IFERROR(VLOOKUP(A3531,Base!$A$2:$D$460,2,0),\"\")","v":""},{"$f":"IFERROR(VLOOKUP(A3531,Base!$A$2:$D$460,3,0),\"\")","v":""},{"$f":"IFERROR(VLOOKUP(A3531,Base!$A$2:$D$460,4,0),\"\")","v":""},null,null,null,null,null,null,null,null,null,null,null,null,null,0]
[null,{"$f":"IFERROR(VLOOKUP(A3532,Base!$A$2:$D$460,2,0),\"\")","v":""},{"$f":"IFERROR(VLOOKUP(A3532,Base!$A$2:$D$460,3,0),\"\")","v":""},{"$f":"IFERROR(VLOOKUP(A3532,Base!$A$2:$D$460,4,0),\"\")","v":""},null,null,null,null,null,null,null,null,null,null,null,null,null,0]
[null,{"$f":"IFERROR(VLOOKUP(A3533,Base!$A$2:$D$460,2,0),\"\")","v":""},{"$f":"IFERROR(VLOOKUP(A3533,Base!$A$2:$D$460,3,0),\"\")","v":""},{"$f":"IFERROR(VLOOKUP(A3533,Base!$A$2:$D$460,4,0),\"\")","v":""},null,null,null,null,null,null,null,null,null,null,null,null,null,0]
[null,{"$f":"IFERROR(VLOOKUP(A3534,Base!$A$2:$D$460,2,0),\"\")","v":""},{"$f":"IFERROR(VLOOKUP(A3534,Base!$A$2:$D$460,3,0),\"\")","v":""},{"$f":"IFERROR(VLOOKUP(A3534,Base!$A$2:$D$460,4,0),\"\")","v":""},null,null,null,null,null,null,null,null,null,null,null,null,null,0]
[null,{"$f":"IFERROR(VLOOKUP(A3535,Base!$A$2:$D$460,2,0),\"\")","v":""},{"$f":"IFERROR(VLOOKUP(A3535,Base!$A$2:$D$460,3,0),\"\")","v":""},{"$f":"IFERROR(VLOOKUP(A3535,Base!$A$2:$D$460,4,0),\"\")","v":""},null,null,null,null,null,null,null,null,null,null,null,null,null,0]
[null,{"$f":"IFERROR(VLOOKUP(A3536,Base!$A$2:$D$460,2,0),\"\")","v":""},{"$f":"IFERROR(VLOOKUP(A3536,Base!$A$2:$D$460,3,0),\"\")","v":""},{"$f":"IFERROR(VLOOKUP(A3536,Base!$A$2:$D$460,4,0),\"\")","v":""},null,null,null,null,null,null,null,null,null,null,null,null,null,0]
[null,{"$f":"IFERROR(VLOOKUP(A3537,Base!$A$2:$D$460,2,0),\"\")","v":""},{"$f":"IFERROR(VLOOKUP(A3537,Base!$A$2:$D$460,3,0),\"\")","v":""},{"$f":"IFERROR(VLOOKUP(A3537,Base!$A$2:$D$460,4,0),\"\")","v":""},null,null,null,null,null,null,null,null,null,null,null,null,null,0]
[null,{"$f":"IFERROR(VLOOKUP(A3538,Base!$A$2:$D$460,2,0),\"\")","v":""},{"$f":"IFERROR(VLOOKUP(A3538,Base!$A$2:$D$460,3,0),\"\")","v":""},{"$f":"IFERROR(VLOOKUP(A3538,Base!$A$2:$D$460,4,0),\"\")","v":""},null,null,null,null,null,null,null,null,null,null,null,null,null,0]
[null,{"$f":"IFERROR(VLOOKUP(A3539,Base!$A$2:$D$460,2,0),\"\")","v":""},{"$f":"IFERROR(VLOOKUP(A3539,Base!$A$2:$D$460,3,0),\"\")","v":""},{"$f":"IFERROR(VLOOKUP(A3539,Base!$A$2:$D$460,4,0),\"\")","v":""},null,null,null,null,null,null,null,null,null,null,null,null,null,0]
[null,{"$f":"IFERROR(VLOOKUP(A3540,Base!$A$2:$D$460,2,0),\"\")","v":""},{"$f":"IFERROR(VLOOKUP(A3540,Base!$A$2:$D$460,3,0),\"\")","v":""},{"$f":"IFERROR(VLOOKUP(A3540,Base!$A$2:$D$460,4,0),\"\")","v":""},null,null,null,null,null,null,null,null,null,null,null,null,null,0]
[null,{"$f":"IFERROR(VLOOKUP(A3541,Base!$A$2:$D$460,2,0),\"\")","v":""},{"$f":"IFERROR(VLOOKUP(A3541,Base!$A$2:$D$460,3,0),\"\")","v":""},{"$f":"IFERROR(VLOOKUP(A3541,Base!$A$2:$D$460,4,0),\"\")","v":""},null,null,null,null,null,null,null,null,null,null,null,null,null,0]
[null,{"$f":"IFERROR(VLOOKUP(A3542,Base!$A$2:$D$460,2,0),\"\")","v":""},{"$f":"IFERROR(VLOOKUP(A3542,Base!$A$2:$D$460,3,0),\"\")","v":""},{"$f":"IFERROR(VLOOKUP(A3542,Base!$A$2:$D$460,4,0),\"\")","v":""},null,null,null,null,null,null,null,null,null,null,null,null,null,0]
[null,{"$f":"IFERROR(VLOOKUP(A3543,Base!$A$2:$D$460,2,0),\"\")","v":""},{"$f":"IFERROR(VLOOKUP(A3543,Base!$A$2:$D$460,3,0),\"\")","v":""},{"$f":"IFERROR(VLOOKUP(A3543,Base!$A$2:$D$460,4,0),\"\")","v":""},null,null,null,null,null,null,null,null,null,null,null,null,null,0]
[null,{"$f":"IFERROR(VLOOKUP(A3544,Base!$A$2:$D$460,2,0),\"\")","v":""},{"$f":"IFERROR(VLOOKUP(A3544,Base!$A$2:$D$460,3,0),\"\")","v":""},{"$f":"IFERROR(VLOOKUP(A3544,Base!$A$2:$D$460,4,0),\"\")","v":""},null,null,null,null,null,null,null,null,null,null,null,null,null,0]
[null,{"$f":"IFERROR(VLOOKUP(A3545,Base!$A$2:$D$460,2,0),\"\")","v":""},{"$f":"IFERROR(VLOOKUP(A3545,Base!$A$2:$D$460,3,0),\"\")","v":""},{"$f":"IFERROR(VLOOKUP(A3545,Base!$A$2:$D$460,4,0),\"\")","v":""},null,null,null,null,null,null,null,null,null,null,null,null,null,0]
[null,{"$f":"IFERROR(VLOOKUP(A3546,Base!$A$2:$D$460,2,0),\"\")","v":""},{"$f":"IFERROR(VLOOKUP(A3546,Base!$A$2:$D$460,3,0),\"\")","v":""},{"$f":"IFERROR(VLOOKUP(A3546,Base!$A$2:$D$460,4,0),\"\")","v":""},null,null,null,null,null,null,null,null,null,null,null,null,null,0]
[null,{"$f":"IFERROR(VLOOKUP(A3547,Base!$A$2:$D$460,2,0),\"\")","v":""},{"$f":"IFERROR(VLOOKUP(A3547,Base!$A$2:$D$460,3,0),\"\")","v":""},{"$f":"IFERROR(VLOOKUP(A3547,Base!$A$2:$D$460,4,0),\"\")","v":""},null,null,null,null,null,null,null,null,null,null,null,null,null,0]
[null,{"$f":"IFERROR(VLOOKUP(A3548,Base!$A$2:$D$460,2,0),\"\")","v":""},{"$f":"IFERROR(VLOOKUP(A3548,Base!$A$2:$D$460,3,0),\"\")","v":""},{"$f":"IFERROR(VLOOKUP(A3548,Base!$A$2:$D$460,4,0),\"\")","v":""},null,null,null,null,null,null,null,null,null,null,null,null,null,0]
[null,{"$f":"IFERROR(VLOOKUP(A3549,Base!$A$2:$D$460,2,0),\"\")","v":""},{"$f":"IFERROR(VLOOKUP(A3549,Base!$A$2:$D$460,3,0),\"\")","v":""},{"$f":"IFERROR(VLOOKUP(A3549,Base!$A$2:$D$460,4,0),\"\")","v":""},null,null,null,null,null,null,null,null,null,null,null,null,null,0]
[null,{"$f":"IFERROR(VLOOKUP(A3550,Base!$A$2:$D$460,2,0),\"\")","v":""},{"$f":"IFERROR(VLOOKUP(A3550,Base!$A$2:$D$460,3,0),\"\")","v":""},{"$f":"IFERROR(VLOOKUP(A3550,Base!$A$2:$D$460,4,0),\"\")","v":""},null,null,null,null,null,null,null,null,null,null,null,null,null,0]
[null,{"$f":"IFERROR(VLOOKUP(A3551,Base!$A$2:$D$460,2,0),\"\")","v":""},{"$f":"IFERROR(VLOOKUP(A3551,Base!$A$2:$D$460,3,0),\"\")","v":""},{"$f":"IFERROR(VLOOKUP(A3551,Base!$A$2:$D$460,4,0),\"\")","v":""},null,null,null,null,null,null,null,null,null,null,null,null,null,0]
[null,{"$f":"IFERROR(VLOOKUP(A3552,Base!$A$2:$D$460,2,0),\"\")","v":""},{"$f":"IFERROR(VLOOKUP(A3552,Base!$A$2:$D$460,3,0),\"\")","v":""},{"$f":"IFERROR(VLOOKUP(A3552,Base!$A$2:$D$460,4,0),\"\")","v":""},null,null,null,null,null,null,null,null,null,null,null,null,null,0]
[null,{"$f":"IFERROR(VLOOKUP(A3553,Base!$A$2:$D$460,2,0),\"\")","v":""},{"$f":"IFERROR(VLOOKUP(A3553,Base!$A$2:$D$460,3,0),\"\")","v":""},{"$f":"IFERROR(VLOOKUP(A3553,Base!$A$2:$D$460,4,0),\"\")","v":""},null,null,null,null,null,null,null,null,null,null,null,null,null,0]
[null,{"$f":"IFERROR(VLOOKUP(A3554,Base!$A$2:$D$460,2,0),\"\")","v":""},{"$f":"IFERROR(VLOOKUP(A3554,Base!$A$2:$D$460,3,0),\"\")","v":""},{"$f":"IFERROR(VLOOKUP(A3554,Base!$A$2:$D$460,4,0),\"\")","v":""},null,null,null,null,null,null,null,null,null,null,null,null,null,0]
[null,{"$f":"IFERROR(VLOOKUP(A3555,Base!$A$2:$D$460,2,0),\"\")","v":""},{"$f":"IFERROR(VLOOKUP(A3555,Base!$A$2:$D$460,3,0),\"\")","v":""},{"$f":"IFERROR(VLOOKUP(A3555,Base!$A$2:$D$460,4,0),\"\")","v":""},null,null,null,null,null,null,null,null,null,null,null,null,null,0]
[null,{"$f":"IFERROR(VLOOKUP(A3556,Base!$A$2:$D$460,2,0),\"\")","v":""},{"$f":"IFERROR(VLOOKUP(A3556,Base!$A$2:$D$460,3,0),\"\")","v":""},{"$f":"IFERROR(VLOOKUP(A3556,Base!$A$2:$D$460,4,0),\"\")","v":""},null,null,null,null,null,null,null,null,null,null,null,null,null,0]
[null,{"$f":"IFERROR(VLOOKUP(A3557,Base!$A$2:$D$460,2,0),\"\")","v":""},{"$f":"IFERROR(VLOOKUP(A3557,Base!$A$2:$D$460,3,0),\"\")","v":""},{"$f":"IFERROR(VLOOKUP(A3557,Base!$A$2:$D$460,4,0),\"\")","v":""},null,null,null,null,null,null,null,null,null,null,null,null,null,0]
[null,{"$f":"IFERROR(VLOOKUP(A3558,Base!$A$2:$D$460,2,0),\"\")","v":""},{"$f":"IFERROR(VLOOKUP(A3558,Base!$A$2:$D$460,3,0),\"\")","v":""},{"$f":"IFERROR(VLOOKUP(A3558,Base!$A$2:$D$460,4,0),\"\")","v":""},null,null,null,null,null,null,null,null,null,null,null,null,null,0]
[null,{"$f":"IFERROR(VLOOKUP(A3559,Base!$A$2:$D$460,2,0),\"\")","v":""},{"$f":"IFERROR(VLOOKUP(A3559,Base!$A$2:$D$460,3,0),\"\")","v":""},{"$f":"IFERROR(VLOOKUP(A3559,Base!$A$2:$D$460,4,0),\"\")","v":""},null,null,null,null,null,null,null,null,null,null,null,null,null,{"$f":"SUM(N3559:Q3559)/4","v":0}]
[null,{"$f":"IFERROR(VLOOKUP(A3560,Base!$A$2:$D$460,2,0),\"\")","v":""},{"$f":"IFERROR(VLOOKUP(A3560,Base!$A$2:$D$460,3,0),\"\")","v":""},{"$f":"IFERROR(VLOOKUP(A3560,Base!$A$2:$D$460,4,0),\"\")","v":""},null,null,null,null,null,null,null,null,null,null,null,null,null,0]
[null,{"$f":"IFERROR(VLOOKUP(A3561,Base!$A$2:$D$460,2,0),\"\")","v":""},{"$f":"IFERROR(VLOOKUP(A3561,Base!$A$2:$D$460,3,0),\"\")","v":""},{"$f":"IFERROR(VLOOKUP(A3561,Base!$A$2:$D$460,4,0),\"\")","v":""},null,null,null,null,null,null,null,null,null,null,null,null,null,0]
[null,{"$f":"IFERROR(VLOOKUP(A3562,Base!$A$2:$D$460,2,0),\"\")","v":""},{"$f":"IFERROR(VLOOKUP(A3562,Base!$A$2:$D$460,3,0),\"\")","v":""},{"$f":"IFERROR(VLOOKUP(A3562,Base!$A$2:$D$460,4,0),\"\")","v":""},null,null,null,null,null,null,null,null,null,null,null,null,null,0]
[null,{"$f":"IFERROR(VLOOKUP(A3563,Base!$A$2:$D$460,2,0),\"\")","v":""},{"$f":"IFERROR(VLOOKUP(A3563,Base!$A$2:$D$460,3,0),\"\")","v":""},{"$f":"IFERROR(VLOOKUP(A3563,Base!$A$2:$D$460,4,0),\"\")","v":""},null,null,null,null,null,null,null,null,null,null,null,null,null,0]
[null,{"$f":"IFERROR(VLOOKUP(A3564,Base!$A$2:$D$460,2,0),\"\")","v":""},{"$f":"IFERROR(VLOOKUP(A3564,Base!$A$2:$D$460,3,0),\"\")","v":""},{"$f":"IFERROR(VLOOKUP(A3564,Base!$A$2:$D$460,4,0),\"\")","v":""},null,null,null,null,null,null,null,null,null,null,null,null,null,0]
[null,{"$f":"IFERROR(VLOOKUP(A3565,Base!$A$2:$D$460,2,0),\"\")","v":""},{"$f":"IFERROR(VLOOKUP(A3565,Base!$A$2:$D$460,3,0),\"\")","v":""},{"$f":"IFERROR(VLOOKUP(A3565,Base!$A$2:$D$460,4,0),\"\")","v":""},null,null,null,null,null,null,null,null,null,null,null,null,null,0]
[null,{"$f":"IFERROR(VLOOKUP(A3566,Base!$A$2:$D$460,2,0),\"\")","v":""},{"$f":"IFERROR(VLOOKUP(A3566,Base!$A$2:$D$460,3,0),\"\")","v":""},{"$f":"IFERROR(VLOOKUP(A3566,Base!$A$2:$D$460,4,0),\"\")","v":""},null,null,null,null,null,null,null,null,null,null,null,null,null,0]
[null,{"$f":"IFERROR(VLOOKUP(A3567,Base!$A$2:$D$460,2,0),\"\")","v":""},{"$f":"IFERROR(VLOOKUP(A3567,Base!$A$2:$D$460,3,0),\"\")","v":""},{"$f":"IFERROR(VLOOKUP(A3567,Base!$A$2:$D$460,4,0),\"\")","v":""},null,null,null,null,null,null,null,null,null,null,null,null,null,0]
[null,{"$f":"IFERROR(VLOOKUP(A3568,Base!$A$2:$D$460,2,0),\"\")","v":""},{"$f":"IFERROR(VLOOKUP(A3568,Base!$A$2:$D$460,3,0),\"\")","v":""},{"$f":"IFERROR(VLOOKUP(A3568,Base!$A$2:$D$460,4,0),\"\")","v":""},null,null,null,null,null,null,null,null,null,null,null,null,null,0]
[null,{"$f":"IFERROR(VLOOKUP(A3569,Base!$A$2:$D$460,2,0),\"\")","v":""},{"$f":"IFERROR(VLOOKUP(A3569,Base!$A$2:$D$460,3,0),\"\")","v":""},{"$f":"IFERROR(VLOOKUP(A3569,Base!$A$2:$D$460,4,0),\"\")","v":""},null,null,null,null,null,null,null,null,null,null,null,null,null,0]
[null,{"$f":"IFERROR(VLOOKUP(A3570,Base!$A$2:$D$460,2,0),\"\")","v":""},{"$f":"IFERROR(VLOOKUP(A3570,Base!$A$2:$D$460,3,0),\"\")","v":""},{"$f":"IFERROR(VLOOKUP(A3570,Base!$A$2:$D$460,4,0),\"\")","v":""},null,null,null,null,null,null,null,null,null,null,null,null,null,0]
[null,{"$f":"IFERROR(VLOOKUP(A3571,Base!$A$2:$D$460,2,0),\"\")","v":""},{"$f":"IFERROR(VLOOKUP(A3571,Base!$A$2:$D$460,3,0),\"\")","v":""},{"$f":"IFERROR(VLOOKUP(A3571,Base!$A$2:$D$460,4,0),\"\")","v":""},null,null,null,null,null,null,null,null,null,null,null,null,null,0]
[null,{"$f":"IFERROR(VLOOKUP(A3572,Base!$A$2:$D$460,2,0),\"\")","v":""},{"$f":"IFERROR(VLOOKUP(A3572,Base!$A$2:$D$460,3,0),\"\")","v":""},{"$f":"IFERROR(VLOOKUP(A3572,Base!$A$2:$D$460,4,0),\"\")","v":""},null,null,null,null,null,null,null,null,null,null,null,null,null,0]
[null,{"$f":"IFERROR(VLOOKUP(A3573,Base!$A$2:$D$460,2,0),\"\")","v":""},{"$f":"IFERROR(VLOOKUP(A3573,Base!$A$2:$D$460,3,0),\"\")","v":""},{"$f":"IFERROR(VLOOKUP(A3573,Base!$A$2:$D$460,4,0),\"\")","v":""},null,null,null,null,null,null,null,null,null,null,null,null,null,0]
[null,{"$f":"IFERROR(VLOOKUP(A3574,Base!$A$2:$D$460,2,0),\"\")","v":""},{"$f":"IFERROR(VLOOKUP(A3574,Base!$A$2:$D$460,3,0),\"\")","v":""},{"$f":"IFERROR(VLOOKUP(A3574,Base!$A$2:$D$460,4,0),\"\")","v":""},null,null,null,null,null,null,null,null,null,null,null,null,null,0]
[null,{"$f":"IFERROR(VLOOKUP(A3575,Base!$A$2:$D$460,2,0),\"\")","v":""},{"$f":"IFERROR(VLOOKUP(A3575,Base!$A$2:$D$460,3,0),\"\")","v":""},{"$f":"IFERROR(VLOOKUP(A3575,Base!$A$2:$D$460,4,0),\"\")","v":""},null,null,null,null,null,null,null,null,null,null,null,null,null,0]
[null,{"$f":"IFERROR(VLOOKUP(A3576,Base!$A$2:$D$460,2,0),\"\")","v":""},{"$f":"IFERROR(VLOOKUP(A3576,Base!$A$2:$D$460,3,0),\"\")","v":""},{"$f":"IFERROR(VLOOKUP(A3576,Base!$A$2:$D$460,4,0),\"\")","v":""},null,null,null,null,null,null,null,null,null,null,null,null,null,0]
[null,{"$f":"IFERROR(VLOOKUP(A3577,Base!$A$2:$D$460,2,0),\"\")","v":""},{"$f":"IFERROR(VLOOKUP(A3577,Base!$A$2:$D$460,3,0),\"\")","v":""},{"$f":"IFERROR(VLOOKUP(A3577,Base!$A$2:$D$460,4,0),\"\")","v":""},null,null,null,null,null,null,null,null,null,null,null,null,null,0]
[null,{"$f":"IFERROR(VLOOKUP(A3578,Base!$A$2:$D$460,2,0),\"\")","v":""},{"$f":"IFERROR(VLOOKUP(A3578,Base!$A$2:$D$460,3,0),\"\")","v":""},{"$f":"IFERROR(VLOOKUP(A3578,Base!$A$2:$D$460,4,0),\"\")","v":""},null,null,null,null,null,null,null,null,null,null,null,null,null,0]
[null,{"$f":"IFERROR(VLOOKUP(A3579,Base!$A$2:$D$460,2,0),\"\")","v":""},{"$f":"IFERROR(VLOOKUP(A3579,Base!$A$2:$D$460,3,0),\"\")","v":""},{"$f":"IFERROR(VLOOKUP(A3579,Base!$A$2:$D$460,4,0),\"\")","v":""},null,null,null,null,null,null,null,null,null,null,null,null,null,0]
[null,{"$f":"IFERROR(VLOOKUP(A3580,Base!$A$2:$D$460,2,0),\"\")","v":""},{"$f":"IFERROR(VLOOKUP(A3580,Base!$A$2:$D$460,3,0),\"\")","v":""},{"$f":"IFERROR(VLOOKUP(A3580,Base!$A$2:$D$460,4,0),\"\")","v":""},null,null,null,null,null,null,null,null,null,null,null,null,null,0]
[null,{"$f":"IFERROR(VLOOKUP(A3581,Base!$A$2:$D$460,2,0),\"\")","v":""},{"$f":"IFERROR(VLOOKUP(A3581,Base!$A$2:$D$460,3,0),\"\")","v":""},{"$f":"IFERROR(VLOOKUP(A3581,Base!$A$2:$D$460,4,0),\"\")","v":""},null,null,null,null,null,null,null,null,null,null,null,null,null,0]
[null,{"$f":"IFERROR(VLOOKUP(A3582,Base!$A$2:$D$460,2,0),\"\")","v":""},{"$f":"IFERROR(VLOOKUP(A3582,Base!$A$2:$D$460,3,0),\"\")","v":""},{"$f":"IFERROR(VLOOKUP(A3582,Base!$A$2:$D$460,4,0),\"\")","v":""},null,null,null,null,null,null,null,null,null,null,null,null,null,0]
[null,{"$f":"IFERROR(VLOOKUP(A3583,Base!$A$2:$D$460,2,0),\"\")","v":""},{"$f":"IFERROR(VLOOKUP(A3583,Base!$A$2:$D$460,3,0),\"\")","v":""},{"$f":"IFERROR(VLOOKUP(A3583,Base!$A$2:$D$460,4,0),\"\")","v":""},null,null,null,null,null,null,null,null,null,null,null,null,null,0]
[null,{"$f":"IFERROR(VLOOKUP(A3584,Base!$A$2:$D$460,2,0),\"\")","v":""},{"$f":"IFERROR(VLOOKUP(A3584,Base!$A$2:$D$460,3,0),\"\")","v":""},{"$f":"IFERROR(VLOOKUP(A3584,Base!$A$2:$D$460,4,0),\"\")","v":""},null,null,null,null,null,null,null,null,null,null,null,null,null,0]
[null,{"$f":"IFERROR(VLOOKUP(A3585,Base!$A$2:$D$460,2,0),\"\")","v":""},{"$f":"IFERROR(VLOOKUP(A3585,Base!$A$2:$D$460,3,0),\"\")","v":""},{"$f":"IFERROR(VLOOKUP(A3585,Base!$A$2:$D$460,4,0),\"\")","v":""},null,null,null,null,null,null,null,null,null,null,null,null,null,0]
[null,{"$f":"IFERROR(VLOOKUP(A3586,Base!$A$2:$D$460,2,0),\"\")","v":""},{"$f":"IFERROR(VLOOKUP(A3586,Base!$A$2:$D$460,3,0),\"\")","v":""},{"$f":"IFERROR(VLOOKUP(A3586,Base!$A$2:$D$460,4,0),\"\")","v":""},null,null,null,null,null,null,null,null,null,null,null,null,null,0]
[null,{"$f":"IFERROR(VLOOKUP(A3587,Base!$A$2:$D$460,2,0),\"\")","v":""},{"$f":"IFERROR(VLOOKUP(A3587,Base!$A$2:$D$460,3,0),\"\")","v":""},{"$f":"IFERROR(VLOOKUP(A3587,Base!$A$2:$D$460,4,0),\"\")","v":""},null,null,null,null,null,null,null,null,null,null,null,null,null,0]
[null,{"$f":"IFERROR(VLOOKUP(A3588,Base!$A$2:$D$460,2,0),\"\")","v":""},{"$f":"IFERROR(VLOOKUP(A3588,Base!$A$2:$D$460,3,0),\"\")","v":""},{"$f":"IFERROR(VLOOKUP(A3588,Base!$A$2:$D$460,4,0),\"\")","v":""},null,null,null,null,null,null,null,null,null,null,null,null,null,0]
[null,{"$f":"IFERROR(VLOOKUP(A3589,Base!$A$2:$D$460,2,0),\"\")","v":""},{"$f":"IFERROR(VLOOKUP(A3589,Base!$A$2:$D$460,3,0),\"\")","v":""},{"$f":"IFERROR(VLOOKUP(A3589,Base!$A$2:$D$460,4,0),\"\")","v":""},null,null,null,null,null,null,null,null,null,null,null,null,null,0]
[null,{"$f":"IFERROR(VLOOKUP(A3590,Base!$A$2:$D$460,2,0),\"\")","v":""},{"$f":"IFERROR(VLOOKUP(A3590,Base!$A$2:$D$460,3,0),\"\")","v":""},{"$f":"IFERROR(VLOOKUP(A3590,Base!$A$2:$D$460,4,0),\"\")","v":""},null,null,null,null,null,null,null,null,null,null,null,null,null,0]
[null,{"$f":"IFERROR(VLOOKUP(A3591,Base!$A$2:$D$460,2,0),\"\")","v":""},{"$f":"IFERROR(VLOOKUP(A3591,Base!$A$2:$D$460,3,0),\"\")","v":""},{"$f":"IFERROR(VLOOKUP(A3591,Base!$A$2:$D$460,4,0),\"\")","v":""},null,null,null,null,null,null,null,null,null,null,null,null,null,0]
[null,{"$f":"IFERROR(VLOOKUP(A3592,Base!$A$2:$D$460,2,0),\"\")","v":""},{"$f":"IFERROR(VLOOKUP(A3592,Base!$A$2:$D$460,3,0),\"\")","v":""},{"$f":"IFERROR(VLOOKUP(A3592,Base!$A$2:$D$460,4,0),\"\")","v":""},null,null,null,null,null,null,null,null,null,null,null,null,null,0]
[null,{"$f":"IFERROR(VLOOKUP(A3593,Base!$A$2:$D$460,2,0),\"\")","v":""},{"$f":"IFERROR(VLOOKUP(A3593,Base!$A$2:$D$460,3,0),\"\")","v":""},{"$f":"IFERROR(VLOOKUP(A3593,Base!$A$2:$D$460,4,0),\"\")","v":""},null,null,null,null,null,null,null,null,null,null,null,null,null,0]
[null,{"$f":"IFERROR(VLOOKUP(A3594,Base!$A$2:$D$460,2,0),\"\")","v":""},{"$f":"IFERROR(VLOOKUP(A3594,Base!$A$2:$D$460,3,0),\"\")","v":""},{"$f":"IFERROR(VLOOKUP(A3594,Base!$A$2:$D$460,4,0),\"\")","v":""},null,null,null,null,null,null,null,null,null,null,null,null,null,0]
[null,{"$f":"IFERROR(VLOOKUP(A3595,Base!$A$2:$D$460,2,0),\"\")","v":""},{"$f":"IFERROR(VLOOKUP(A3595,Base!$A$2:$D$460,3,0),\"\")","v":""},{"$f":"IFERROR(VLOOKUP(A3595,Base!$A$2:$D$460,4,0),\"\")","v":""},null,null,null,null,null,null,null,null,null,null,null,null,null,0]
[null,{"$f":"IFERROR(VLOOKUP(A3596,Base!$A$2:$D$460,2,0),\"\")","v":""},{"$f":"IFERROR(VLOOKUP(A3596,Base!$A$2:$D$460,3,0),\"\")","v":""},{"$f":"IFERROR(VLOOKUP(A3596,Base!$A$2:$D$460,4,0),\"\")","v":""},null,null,null,null,null,null,null,null,null,null,null,null,null,0]
[null,{"$f":"IFERROR(VLOOKUP(A3597,Base!$A$2:$D$460,2,0),\"\")","v":""},{"$f":"IFERROR(VLOOKUP(A3597,Base!$A$2:$D$460,3,0),\"\")","v":""},{"$f":"IFERROR(VLOOKUP(A3597,Base!$A$2:$D$460,4,0),\"\")","v":""},null,null,null,null,null,null,null,null,null,null,null,null,null,0]
[null,{"$f":"IFERROR(VLOOKUP(A3598,Base!$A$2:$D$460,2,0),\"\")","v":""},{"$f":"IFERROR(VLOOKUP(A3598,Base!$A$2:$D$460,3,0),\"\")","v":""},{"$f":"IFERROR(VLOOKUP(A3598,Base!$A$2:$D$460,4,0),\"\")","v":""},null,null,null,null,null,null,null,null,null,null,null,null,null,0]
[null,{"$f":"IFERROR(VLOOKUP(A3599,Base!$A$2:$D$460,2,0),\"\")","v":""},{"$f":"IFERROR(VLOOKUP(A3599,Base!$A$2:$D$460,3,0),\"\")","v":""},{"$f":"IFERROR(VLOOKUP(A3599,Base!$A$2:$D$460,4,0),\"\")","v":""},null,null,null,null,null,null,null,null,null,null,null,null,null,0]
[null,{"$f":"IFERROR(VLOOKUP(A3600,Base!$A$2:$D$460,2,0),\"\")","v":""},{"$f":"IFERROR(VLOOKUP(A3600,Base!$A$2:$D$460,3,0),\"\")","v":""},{"$f":"IFERROR(VLOOKUP(A3600,Base!$A$2:$D$460,4,0),\"\")","v":""},null,null,null,null,null,null,null,null,null,null,null,null,null,0]
[null,{"$f":"IFERROR(VLOOKUP(A3601,Base!$A$2:$D$460,2,0),\"\")","v":""},{"$f":"IFERROR(VLOOKUP(A3601,Base!$A$2:$D$460,3,0),\"\")","v":""},{"$f":"IFERROR(VLOOKUP(A3601,Base!$A$2:$D$460,4,0),\"\")","v":""},null,null,null,null,null,null,null,null,null,null,null,null,null,0]
[null,{"$f":"IFERROR(VLOOKUP(A3602,Base!$A$2:$D$460,2,0),\"\")","v":""},{"$f":"IFERROR(VLOOKUP(A3602,Base!$A$2:$D$460,3,0),\"\")","v":""},{"$f":"IFERROR(VLOOKUP(A3602,Base!$A$2:$D$460,4,0),\"\")","v":""},null,null,null,null,null,null,null,null,null,null,null,null,null,0]
[null,{"$f":"IFERROR(VLOOKUP(A3603,Base!$A$2:$D$460,2,0),\"\")","v":""},{"$f":"IFERROR(VLOOKUP(A3603,Base!$A$2:$D$460,3,0),\"\")","v":""},{"$f":"IFERROR(VLOOKUP(A3603,Base!$A$2:$D$460,4,0),\"\")","v":""},null,null,null,null,null,null,null,null,null,null,null,null,null,0]
[null,{"$f":"IFERROR(VLOOKUP(A3604,Base!$A$2:$D$460,2,0),\"\")","v":""},{"$f":"IFERROR(VLOOKUP(A3604,Base!$A$2:$D$460,3,0),\"\")","v":""},{"$f":"IFERROR(VLOOKUP(A3604,Base!$A$2:$D$460,4,0),\"\")","v":""},null,null,null,null,null,null,null,null,null,null,null,null,null,0]
[null,{"$f":"IFERROR(VLOOKUP(A3605,Base!$A$2:$D$460,2,0),\"\")","v":""},{"$f":"IFERROR(VLOOKUP(A3605,Base!$A$2:$D$460,3,0),\"\")","v":""},{"$f":"IFERROR(VLOOKUP(A3605,Base!$A$2:$D$460,4,0),\"\")","v":""},null,null,null,null,null,null,null,null,null,null,null,null,null,0]
[null,{"$f":"IFERROR(VLOOKUP(A3606,Base!$A$2:$D$460,2,0),\"\")","v":""},{"$f":"IFERROR(VLOOKUP(A3606,Base!$A$2:$D$460,3,0),\"\")","v":""},{"$f":"IFERROR(VLOOKUP(A3606,Base!$A$2:$D$460,4,0),\"\")","v":""},null,null,null,null,null,null,null,null,null,null,null,null,null,0]
[null,{"$f":"IFERROR(VLOOKUP(A3607,Base!$A$2:$D$460,2,0),\"\")","v":""},{"$f":"IFERROR(VLOOKUP(A3607,Base!$A$2:$D$460,3,0),\"\")","v":""},{"$f":"IFERROR(VLOOKUP(A3607,Base!$A$2:$D$460,4,0),\"\")","v":""},null,null,null,null,null,null,null,null,null,null,null,null,null,0]
[null,{"$f":"IFERROR(VLOOKUP(A3608,Base!$A$2:$D$460,2,0),\"\")","v":""},{"$f":"IFERROR(VLOOKUP(A3608,Base!$A$2:$D$460,3,0),\"\")","v":""},{"$f":"IFERROR(VLOOKUP(A3608,Base!$A$2:$D$460,4,0),\"\")","v":""},null,null,null,null,null,null,null,null,null,null,null,null,null,0]
[null,{"$f":"IFERROR(VLOOKUP(A3609,Base!$A$2:$D$460,2,0),\"\")","v":""},{"$f":"IFERROR(VLOOKUP(A3609,Base!$A$2:$D$460,3,0),\"\")","v":""},{"$f":"IFERROR(VLOOKUP(A3609,Base!$A$2:$D$460,4,0),\"\")","v":""},null,null,null,null,null,null,null,null,null,null,null,null,null,0]
[null,{"$f":"IFERROR(VLOOKUP(A3610,Base!$A$2:$D$460,2,0),\"\")","v":""},{"$f":"IFERROR(VLOOKUP(A3610,Base!$A$2:$D$460,3,0),\"\")","v":""},{"$f":"IFERROR(VLOOKUP(A3610,Base!$A$2:$D$460,4,0),\"\")","v":""},null,null,null,null,null,null,null,null,null,null,null,null,null,0]
[null,{"$f":"IFERROR(VLOOKUP(A3611,Base!$A$2:$D$460,2,0),\"\")","v":""},{"$f":"IFERROR(VLOOKUP(A3611,Base!$A$2:$D$460,3,0),\"\")","v":""},{"$f":"IFERROR(VLOOKUP(A3611,Base!$A$2:$D$460,4,0),\"\")","v":""},null,null,null,null,null,null,null,null,null,null,null,null,null,0]
[null,{"$f":"IFERROR(VLOOKUP(A3612,Base!$A$2:$D$460,2,0),\"\")","v":""},{"$f":"IFERROR(VLOOKUP(A3612,Base!$A$2:$D$460,3,0),\"\")","v":""},{"$f":"IFERROR(VLOOKUP(A3612,Base!$A$2:$D$460,4,0),\"\")","v":""},null,null,null,null,null,null,null,null,null,null,null,null,null,0]
[null,{"$f":"IFERROR(VLOOKUP(A3613,Base!$A$2:$D$460,2,0),\"\")","v":""},{"$f":"IFERROR(VLOOKUP(A3613,Base!$A$2:$D$460,3,0),\"\")","v":""},{"$f":"IFERROR(VLOOKUP(A3613,Base!$A$2:$D$460,4,0),\"\")","v":""},null,null,null,null,null,null,null,null,null,null,null,null,null,0]
[null,{"$f":"IFERROR(VLOOKUP(A3614,Base!$A$2:$D$460,2,0),\"\")","v":""},{"$f":"IFERROR(VLOOKUP(A3614,Base!$A$2:$D$460,3,0),\"\")","v":""},{"$f":"IFERROR(VLOOKUP(A3614,Base!$A$2:$D$460,4,0),\"\")","v":""},null,null,null,null,null,null,null,null,null,null,null,null,null,0]
[null,{"$f":"IFERROR(VLOOKUP(A3615,Base!$A$2:$D$460,2,0),\"\")","v":""},{"$f":"IFERROR(VLOOKUP(A3615,Base!$A$2:$D$460,3,0),\"\")","v":""},{"$f":"IFERROR(VLOOKUP(A3615,Base!$A$2:$D$460,4,0),\"\")","v":""},null,null,null,null,null,null,null,null,null,null,null,null,null,0]
[null,{"$f":"IFERROR(VLOOKUP(A3616,Base!$A$2:$D$460,2,0),\"\")","v":""},{"$f":"IFERROR(VLOOKUP(A3616,Base!$A$2:$D$460,3,0),\"\")","v":""},{"$f":"IFERROR(VLOOKUP(A3616,Base!$A$2:$D$460,4,0),\"\")","v":""},null,null,null,null,null,null,null,null,null,null,null,null,null,0]
[null,{"$f":"IFERROR(VLOOKUP(A3617,Base!$A$2:$D$460,2,0),\"\")","v":""},{"$f":"IFERROR(VLOOKUP(A3617,Base!$A$2:$D$460,3,0),\"\")","v":""},{"$f":"IFERROR(VLOOKUP(A3617,Base!$A$2:$D$460,4,0),\"\")","v":""},null,null,null,null,null,null,null,null,null,null,null,null,null,0]
[null,{"$f":"IFERROR(VLOOKUP(A3618,Base!$A$2:$D$460,2,0),\"\")","v":""},{"$f":"IFERROR(VLOOKUP(A3618,Base!$A$2:$D$460,3,0),\"\")","v":""},{"$f":"IFERROR(VLOOKUP(A3618,Base!$A$2:$D$460,4,0),\"\")","v":""},null,null,null,null,null,null,null,null,null,null,null,null,null,0]
[null,{"$f":"IFERROR(VLOOKUP(A3619,Base!$A$2:$D$460,2,0),\"\")","v":""},{"$f":"IFERROR(VLOOKUP(A3619,Base!$A$2:$D$460,3,0),\"\")","v":""},{"$f":"IFERROR(VLOOKUP(A3619,Base!$A$2:$D$460,4,0),\"\")","v":""},null,null,null,null,null,null,null,null,null,null,null,null,null,0]
[null,{"$f":"IFERROR(VLOOKUP(A3620,Base!$A$2:$D$460,2,0),\"\")","v":""},{"$f":"IFERROR(VLOOKUP(A3620,Base!$A$2:$D$460,3,0),\"\")","v":""},{"$f":"IFERROR(VLOOKUP(A3620,Base!$A$2:$D$460,4,0),\"\")","v":""},null,null,null,null,null,null,null,null,null,null,null,null,null,0]
[null,{"$f":"IFERROR(VLOOKUP(A3621,Base!$A$2:$D$460,2,0),\"\")","v":""},{"$f":"IFERROR(VLOOKUP(A3621,Base!$A$2:$D$460,3,0),\"\")","v":""},{"$f":"IFERROR(VLOOKUP(A3621,Base!$A$2:$D$460,4,0),\"\")","v":""},null,null,null,null,null,null,null,null,null,null,null,null,null,0]
[null,{"$f":"IFERROR(VLOOKUP(A3622,Base!$A$2:$D$460,2,0),\"\")","v":""},{"$f":"IFERROR(VLOOKUP(A3622,Base!$A$2:$D$460,3,0),\"\")","v":""},{"$f":"IFERROR(VLOOKUP(A3622,Base!$A$2:$D$460,4,0),\"\")","v":""},null,null,null,null,null,null,null,null,null,null,null,null,null,0]
[null,{"$f":"IFERROR(VLOOKUP(A3623,Base!$A$2:$D$460,2,0),\"\")","v":""},{"$f":"IFERROR(VLOOKUP(A3623,Base!$A$2:$D$460,3,0),\"\")","v":""},{"$f":"IFERROR(VLOOKUP(A3623,Base!$A$2:$D$460,4,0),\"\")","v":""},null,null,null,null,null,null,null,null,null,null,null,null,null,{"$f":"SUM(N3623:Q3623)/4","v":0}]
[null,{"$f":"IFERROR(VLOOKUP(A3624,Base!$A$2:$D$460,2,0),\"\")","v":""},{"$f":"IFERROR(VLOOKUP(A3624,Base!$A$2:$D$460,3,0),\"\")","v":""},{"$f":"IFERROR(VLOOKUP(A3624,Base!$A$2:$D$460,4,0),\"\")","v":""},null,null,null,null,null,null,null,null,null,null,null,null,null,0]
[null,{"$f":"IFERROR(VLOOKUP(A3625,Base!$A$2:$D$460,2,0),\"\")","v":""},{"$f":"IFERROR(VLOOKUP(A3625,Base!$A$2:$D$460,3,0),\"\")","v":""},{"$f":"IFERROR(VLOOKUP(A3625,Base!$A$2:$D$460,4,0),\"\")","v":""},null,null,null,null,null,null,null,null,null,null,null,null,null,0]
[null,{"$f":"IFERROR(VLOOKUP(A3626,Base!$A$2:$D$460,2,0),\"\")","v":""},{"$f":"IFERROR(VLOOKUP(A3626,Base!$A$2:$D$460,3,0),\"\")","v":""},{"$f":"IFERROR(VLOOKUP(A3626,Base!$A$2:$D$460,4,0),\"\")","v":""},null,null,null,null,null,null,null,null,null,null,null,null,null,0]
[null,{"$f":"IFERROR(VLOOKUP(A3627,Base!$A$2:$D$460,2,0),\"\")","v":""},{"$f":"IFERROR(VLOOKUP(A3627,Base!$A$2:$D$460,3,0),\"\")","v":""},{"$f":"IFERROR(VLOOKUP(A3627,Base!$A$2:$D$460,4,0),\"\")","v":""},null,null,null,null,null,null,null,null,null,null,null,null,null,0]
[null,{"$f":"IFERROR(VLOOKUP(A3628,Base!$A$2:$D$460,2,0),\"\")","v":""},{"$f":"IFERROR(VLOOKUP(A3628,Base!$A$2:$D$460,3,0),\"\")","v":""},{"$f":"IFERROR(VLOOKUP(A3628,Base!$A$2:$D$460,4,0),\"\")","v":""},null,null,null,null,null,null,null,null,null,null,null,null,null,0]
[null,{"$f":"IFERROR(VLOOKUP(A3629,Base!$A$2:$D$460,2,0),\"\")","v":""},{"$f":"IFERROR(VLOOKUP(A3629,Base!$A$2:$D$460,3,0),\"\")","v":""},{"$f":"IFERROR(VLOOKUP(A3629,Base!$A$2:$D$460,4,0),\"\")","v":""},null,null,null,null,null,null,null,null,null,null,null,null,null,0]
[null,{"$f":"IFERROR(VLOOKUP(A3630,Base!$A$2:$D$460,2,0),\"\")","v":""},{"$f":"IFERROR(VLOOKUP(A3630,Base!$A$2:$D$460,3,0),\"\")","v":""},{"$f":"IFERROR(VLOOKUP(A3630,Base!$A$2:$D$460,4,0),\"\")","v":""},null,null,null,null,null,null,null,null,null,null,null,null,null,0]
[null,{"$f":"IFERROR(VLOOKUP(A3631,Base!$A$2:$D$460,2,0),\"\")","v":""},{"$f":"IFERROR(VLOOKUP(A3631,Base!$A$2:$D$460,3,0),\"\")","v":""},{"$f":"IFERROR(VLOOKUP(A3631,Base!$A$2:$D$460,4,0),\"\")","v":""},null,null,null,null,null,null,null,null,null,null,null,null,null,0]
[null,{"$f":"IFERROR(VLOOKUP(A3632,Base!$A$2:$D$460,2,0),\"\")","v":""},{"$f":"IFERROR(VLOOKUP(A3632,Base!$A$2:$D$460,3,0),\"\")","v":""},{"$f":"IFERROR(VLOOKUP(A3632,Base!$A$2:$D$460,4,0),\"\")","v":""},null,null,null,null,null,null,null,null,null,null,null,null,null,0]
[null,{"$f":"IFERROR(VLOOKUP(A3633,Base!$A$2:$D$460,2,0),\"\")","v":""},{"$f":"IFERROR(VLOOKUP(A3633,Base!$A$2:$D$460,3,0),\"\")","v":""},{"$f":"IFERROR(VLOOKUP(A3633,Base!$A$2:$D$460,4,0),\"\")","v":""},null,null,null,null,null,null,null,null,null,null,null,null,null,0]
[null,{"$f":"IFERROR(VLOOKUP(A3634,Base!$A$2:$D$460,2,0),\"\")","v":""},{"$f":"IFERROR(VLOOKUP(A3634,Base!$A$2:$D$460,3,0),\"\")","v":""},{"$f":"IFERROR(VLOOKUP(A3634,Base!$A$2:$D$460,4,0),\"\")","v":""},null,null,null,null,null,null,null,null,null,null,null,null,null,0]
[null,{"$f":"IFERROR(VLOOKUP(A3635,Base!$A$2:$D$460,2,0),\"\")","v":""},{"$f":"IFERROR(VLOOKUP(A3635,Base!$A$2:$D$460,3,0),\"\")","v":""},{"$f":"IFERROR(VLOOKUP(A3635,Base!$A$2:$D$460,4,0),\"\")","v":""},null,null,null,null,null,null,null,null,null,null,null,null,null,0]
[null,{"$f":"IFERROR(VLOOKUP(A3636,Base!$A$2:$D$460,2,0),\"\")","v":""},{"$f":"IFERROR(VLOOKUP(A3636,Base!$A$2:$D$460,3,0),\"\")","v":""},{"$f":"IFERROR(VLOOKUP(A3636,Base!$A$2:$D$460,4,0),\"\")","v":""},null,null,null,null,null,null,null,null,null,null,null,null,null,0]
[null,{"$f":"IFERROR(VLOOKUP(A3637,Base!$A$2:$D$460,2,0),\"\")","v":""},{"$f":"IFERROR(VLOOKUP(A3637,Base!$A$2:$D$460,3,0),\"\")","v":""},{"$f":"IFERROR(VLOOKUP(A3637,Base!$A$2:$D$460,4,0),\"\")","v":""},null,null,null,null,null,null,null,null,null,null,null,null,null,0]
[null,{"$f":"IFERROR(VLOOKUP(A3638,Base!$A$2:$D$460,2,0),\"\")","v":""},{"$f":"IFERROR(VLOOKUP(A3638,Base!$A$2:$D$460,3,0),\"\")","v":""},{"$f":"IFERROR(VLOOKUP(A3638,Base!$A$2:$D$460,4,0),\"\")","v":""},null,null,null,null,null,null,null,null,null,null,null,null,null,0]
[null,{"$f":"IFERROR(VLOOKUP(A3639,Base!$A$2:$D$460,2,0),\"\")","v":""},{"$f":"IFERROR(VLOOKUP(A3639,Base!$A$2:$D$460,3,0),\"\")","v":""},{"$f":"IFERROR(VLOOKUP(A3639,Base!$A$2:$D$460,4,0),\"\")","v":""},null,null,null,null,null,null,null,null,null,null,null,null,null,0]
[null,{"$f":"IFERROR(VLOOKUP(A3640,Base!$A$2:$D$460,2,0),\"\")","v":""},{"$f":"IFERROR(VLOOKUP(A3640,Base!$A$2:$D$460,3,0),\"\")","v":""},{"$f":"IFERROR(VLOOKUP(A3640,Base!$A$2:$D$460,4,0),\"\")","v":""},null,null,null,null,null,null,null,null,null,null,null,null,null,0]
[null,{"$f":"IFERROR(VLOOKUP(A3641,Base!$A$2:$D$460,2,0),\"\")","v":""},{"$f":"IFERROR(VLOOKUP(A3641,Base!$A$2:$D$460,3,0),\"\")","v":""},{"$f":"IFERROR(VLOOKUP(A3641,Base!$A$2:$D$460,4,0),\"\")","v":""},null,null,null,null,null,null,null,null,null,null,null,null,null,0]
[null,{"$f":"IFERROR(VLOOKUP(A3642,Base!$A$2:$D$460,2,0),\"\")","v":""},{"$f":"IFERROR(VLOOKUP(A3642,Base!$A$2:$D$460,3,0),\"\")","v":""},{"$f":"IFERROR(VLOOKUP(A3642,Base!$A$2:$D$460,4,0),\"\")","v":""},null,null,null,null,null,null,null,null,null,null,null,null,null,0]
[null,{"$f":"IFERROR(VLOOKUP(A3643,Base!$A$2:$D$460,2,0),\"\")","v":""},{"$f":"IFERROR(VLOOKUP(A3643,Base!$A$2:$D$460,3,0),\"\")","v":""},{"$f":"IFERROR(VLOOKUP(A3643,Base!$A$2:$D$460,4,0),\"\")","v":""},null,null,null,null,null,null,null,null,null,null,null,null,null,0]
[null,{"$f":"IFERROR(VLOOKUP(A3644,Base!$A$2:$D$460,2,0),\"\")","v":""},{"$f":"IFERROR(VLOOKUP(A3644,Base!$A$2:$D$460,3,0),\"\")","v":""},{"$f":"IFERROR(VLOOKUP(A3644,Base!$A$2:$D$460,4,0),\"\")","v":""},null,null,null,null,null,null,null,null,null,null,null,null,null,0]
[null,{"$f":"IFERROR(VLOOKUP(A3645,Base!$A$2:$D$460,2,0),\"\")","v":""},{"$f":"IFERROR(VLOOKUP(A3645,Base!$A$2:$D$460,3,0),\"\")","v":""},{"$f":"IFERROR(VLOOKUP(A3645,Base!$A$2:$D$460,4,0),\"\")","v":""},null,null,null,null,null,null,null,null,null,null,null,null,null,0]
[null,{"$f":"IFERROR(VLOOKUP(A3646,Base!$A$2:$D$460,2,0),\"\")","v":""},{"$f":"IFERROR(VLOOKUP(A3646,Base!$A$2:$D$460,3,0),\"\")","v":""},{"$f":"IFERROR(VLOOKUP(A3646,Base!$A$2:$D$460,4,0),\"\")","v":""},null,null,null,null,null,null,null,null,null,null,null,null,null,0]
[null,{"$f":"IFERROR(VLOOKUP(A3647,Base!$A$2:$D$460,2,0),\"\")","v":""},{"$f":"IFERROR(VLOOKUP(A3647,Base!$A$2:$D$460,3,0),\"\")","v":""},{"$f":"IFERROR(VLOOKUP(A3647,Base!$A$2:$D$460,4,0),\"\")","v":""},null,null,null,null,null,null,null,null,null,null,null,null,null,0]
[null,{"$f":"IFERROR(VLOOKUP(A3648,Base!$A$2:$D$460,2,0),\"\")","v":""},{"$f":"IFERROR(VLOOKUP(A3648,Base!$A$2:$D$460,3,0),\"\")","v":""},{"$f":"IFERROR(VLOOKUP(A3648,Base!$A$2:$D$460,4,0),\"\")","v":""},null,null,null,null,null,null,null,null,null,null,null,null,null,0]
[null,{"$f":"IFERROR(VLOOKUP(A3649,Base!$A$2:$D$460,2,0),\"\")","v":""},{"$f":"IFERROR(VLOOKUP(A3649,Base!$A$2:$D$460,3,0),\"\")","v":""},{"$f":"IFERROR(VLOOKUP(A3649,Base!$A$2:$D$460,4,0),\"\")","v":""},null,null,null,null,null,null,null,null,null,null,null,null,null,0]
[null,{"$f":"IFERROR(VLOOKUP(A3650,Base!$A$2:$D$460,2,0),\"\")","v":""},{"$f":"IFERROR(VLOOKUP(A3650,Base!$A$2:$D$460,3,0),\"\")","v":""},{"$f":"IFERROR(VLOOKUP(A3650,Base!$A$2:$D$460,4,0),\"\")","v":""},null,null,null,null,null,null,null,null,null,null,null,null,null,0]
[null,{"$f":"IFERROR(VLOOKUP(A3651,Base!$A$2:$D$460,2,0),\"\")","v":""},{"$f":"IFERROR(VLOOKUP(A3651,Base!$A$2:$D$460,3,0),\"\")","v":""},{"$f":"IFERROR(VLOOKUP(A3651,Base!$A$2:$D$460,4,0),\"\")","v":""},null,null,null,null,null,null,null,null,null,null,null,null,null,0]
[null,{"$f":"IFERROR(VLOOKUP(A3652,Base!$A$2:$D$460,2,0),\"\")","v":""},{"$f":"IFERROR(VLOOKUP(A3652,Base!$A$2:$D$460,3,0),\"\")","v":""},{"$f":"IFERROR(VLOOKUP(A3652,Base!$A$2:$D$460,4,0),\"\")","v":""},null,null,null,null,null,null,null,null,null,null,null,null,null,0]
[null,{"$f":"IFERROR(VLOOKUP(A3653,Base!$A$2:$D$460,2,0),\"\")","v":""},{"$f":"IFERROR(VLOOKUP(A3653,Base!$A$2:$D$460,3,0),\"\")","v":""},{"$f":"IFERROR(VLOOKUP(A3653,Base!$A$2:$D$460,4,0),\"\")","v":""},null,null,null,null,null,null,null,null,null,null,null,null,null,0]
[null,{"$f":"IFERROR(VLOOKUP(A3654,Base!$A$2:$D$460,2,0),\"\")","v":""},{"$f":"IFERROR(VLOOKUP(A3654,Base!$A$2:$D$460,3,0),\"\")","v":""},{"$f":"IFERROR(VLOOKUP(A3654,Base!$A$2:$D$460,4,0),\"\")","v":""},null,null,null,null,null,null,null,null,null,null,null,null,null,0]
[null,{"$f":"IFERROR(VLOOKUP(A3655,Base!$A$2:$D$460,2,0),\"\")","v":""},{"$f":"IFERROR(VLOOKUP(A3655,Base!$A$2:$D$460,3,0),\"\")","v":""},{"$f":"IFERROR(VLOOKUP(A3655,Base!$A$2:$D$460,4,0),\"\")","v":""},null,null,null,null,null,null,null,null,null,null,null,null,null,0]
[null,{"$f":"IFERROR(VLOOKUP(A3656,Base!$A$2:$D$460,2,0),\"\")","v":""},{"$f":"IFERROR(VLOOKUP(A3656,Base!$A$2:$D$460,3,0),\"\")","v":""},{"$f":"IFERROR(VLOOKUP(A3656,Base!$A$2:$D$460,4,0),\"\")","v":""},null,null,null,null,null,null,null,null,null,null,null,null,null,0]
[null,{"$f":"IFERROR(VLOOKUP(A3657,Base!$A$2:$D$460,2,0),\"\")","v":""},{"$f":"IFERROR(VLOOKUP(A3657,Base!$A$2:$D$460,3,0),\"\")","v":""},{"$f":"IFERROR(VLOOKUP(A3657,Base!$A$2:$D$460,4,0),\"\")","v":""},null,null,null,null,null,null,null,null,null,null,null,null,null,0]
[null,{"$f":"IFERROR(VLOOKUP(A3658,Base!$A$2:$D$460,2,0),\"\")","v":""},{"$f":"IFERROR(VLOOKUP(A3658,Base!$A$2:$D$460,3,0),\"\")","v":""},{"$f":"IFERROR(VLOOKUP(A3658,Base!$A$2:$D$460,4,0),\"\")","v":""},null,null,null,null,null,null,null,null,null,null,null,null,null,0]
[null,{"$f":"IFERROR(VLOOKUP(A3659,Base!$A$2:$D$460,2,0),\"\")","v":""},{"$f":"IFERROR(VLOOKUP(A3659,Base!$A$2:$D$460,3,0),\"\")","v":""},{"$f":"IFERROR(VLOOKUP(A3659,Base!$A$2:$D$460,4,0),\"\")","v":""},null,null,null,null,null,null,null,null,null,null,null,null,null,0]
[null,{"$f":"IFERROR(VLOOKUP(A3660,Base!$A$2:$D$460,2,0),\"\")","v":""},{"$f":"IFERROR(VLOOKUP(A3660,Base!$A$2:$D$460,3,0),\"\")","v":""},{"$f":"IFERROR(VLOOKUP(A3660,Base!$A$2:$D$460,4,0),\"\")","v":""},null,null,null,null,null,null,null,null,null,null,null,null,null,0]
[null,{"$f":"IFERROR(VLOOKUP(A3661,Base!$A$2:$D$460,2,0),\"\")","v":""},{"$f":"IFERROR(VLOOKUP(A3661,Base!$A$2:$D$460,3,0),\"\")","v":""},{"$f":"IFERROR(VLOOKUP(A3661,Base!$A$2:$D$460,4,0),\"\")","v":""},null,null,null,null,null,null,null,null,null,null,null,null,null,0]
[null,{"$f":"IFERROR(VLOOKUP(A3662,Base!$A$2:$D$460,2,0),\"\")","v":""},{"$f":"IFERROR(VLOOKUP(A3662,Base!$A$2:$D$460,3,0),\"\")","v":""},{"$f":"IFERROR(VLOOKUP(A3662,Base!$A$2:$D$460,4,0),\"\")","v":""},null,null,null,null,null,null,null,null,null,null,null,null,null,0]
[null,{"$f":"IFERROR(VLOOKUP(A3663,Base!$A$2:$D$460,2,0),\"\")","v":""},{"$f":"IFERROR(VLOOKUP(A3663,Base!$A$2:$D$460,3,0),\"\")","v":""},{"$f":"IFERROR(VLOOKUP(A3663,Base!$A$2:$D$460,4,0),\"\")","v":""},null,null,null,null,null,null,null,null,null,null,null,null,null,0]
[null,{"$f":"IFERROR(VLOOKUP(A3664,Base!$A$2:$D$460,2,0),\"\")","v":""},{"$f":"IFERROR(VLOOKUP(A3664,Base!$A$2:$D$460,3,0),\"\")","v":""},{"$f":"IFERROR(VLOOKUP(A3664,Base!$A$2:$D$460,4,0),\"\")","v":""},null,null,null,null,null,null,null,null,null,null,null,null,null,0]
[null,{"$f":"IFERROR(VLOOKUP(A3665,Base!$A$2:$D$460,2,0),\"\")","v":""},{"$f":"IFERROR(VLOOKUP(A3665,Base!$A$2:$D$460,3,0),\"\")","v":""},{"$f":"IFERROR(VLOOKUP(A3665,Base!$A$2:$D$460,4,0),\"\")","v":""},null,null,null,null,null,null,null,null,null,null,null,null,null,0]
[null,{"$f":"IFERROR(VLOOKUP(A3666,Base!$A$2:$D$460,2,0),\"\")","v":""},{"$f":"IFERROR(VLOOKUP(A3666,Base!$A$2:$D$460,3,0),\"\")","v":""},{"$f":"IFERROR(VLOOKUP(A3666,Base!$A$2:$D$460,4,0),\"\")","v":""},null,null,null,null,null,null,null,null,null,null,null,null,null,0]
[null,{"$f":"IFERROR(VLOOKUP(A3667,Base!$A$2:$D$460,2,0),\"\")","v":""},{"$f":"IFERROR(VLOOKUP(A3667,Base!$A$2:$D$460,3,0),\"\")","v":""},{"$f":"IFERROR(VLOOKUP(A3667,Base!$A$2:$D$460,4,0),\"\")","v":""},null,null,null,null,null,null,null,null,null,null,null,null,null,0]
[null,{"$f":"IFERROR(VLOOKUP(A3668,Base!$A$2:$D$460,2,0),\"\")","v":""},{"$f":"IFERROR(VLOOKUP(A3668,Base!$A$2:$D$460,3,0),\"\")","v":""},{"$f":"IFERROR(VLOOKUP(A3668,Base!$A$2:$D$460,4,0),\"\")","v":""},null,null,null,null,null,null,null,null,null,null,null,null,null,0]
[null,{"$f":"IFERROR(VLOOKUP(A3669,Base!$A$2:$D$460,2,0),\"\")","v":""},{"$f":"IFERROR(VLOOKUP(A3669,Base!$A$2:$D$460,3,0),\"\")","v":""},{"$f":"IFERROR(VLOOKUP(A3669,Base!$A$2:$D$460,4,0),\"\")","v":""},null,null,null,null,null,null,null,null,null,null,null,null,null,0]
[null,{"$f":"IFERROR(VLOOKUP(A3670,Base!$A$2:$D$460,2,0),\"\")","v":""},{"$f":"IFERROR(VLOOKUP(A3670,Base!$A$2:$D$460,3,0),\"\")","v":""},{"$f":"IFERROR(VLOOKUP(A3670,Base!$A$2:$D$460,4,0),\"\")","v":""},null,null,null,null,null,null,null,null,null,null,null,null,null,0]
[null,{"$f":"IFERROR(VLOOKUP(A3671,Base!$A$2:$D$460,2,0),\"\")","v":""},{"$f":"IFERROR(VLOOKUP(A3671,Base!$A$2:$D$460,3,0),\"\")","v":""},{"$f":"IFERROR(VLOOKUP(A3671,Base!$A$2:$D$460,4,0),\"\")","v":""},null,null,null,null,null,null,null,null,null,null,null,null,null,0]
[null,{"$f":"IFERROR(VLOOKUP(A3672,Base!$A$2:$D$460,2,0),\"\")","v":""},{"$f":"IFERROR(VLOOKUP(A3672,Base!$A$2:$D$460,3,0),\"\")","v":""},{"$f":"IFERROR(VLOOKUP(A3672,Base!$A$2:$D$460,4,0),\"\")","v":""},null,null,null,null,null,null,null,null,null,null,null,null,null,0]
[null,{"$f":"IFERROR(VLOOKUP(A3673,Base!$A$2:$D$460,2,0),\"\")","v":""},{"$f":"IFERROR(VLOOKUP(A3673,Base!$A$2:$D$460,3,0),\"\")","v":""},{"$f":"IFERROR(VLOOKUP(A3673,Base!$A$2:$D$460,4,0),\"\")","v":""},null,null,null,null,null,null,null,null,null,null,null,null,null,0]
[null,{"$f":"IFERROR(VLOOKUP(A3674,Base!$A$2:$D$460,2,0),\"\")","v":""},{"$f":"IFERROR(VLOOKUP(A3674,Base!$A$2:$D$460,3,0),\"\")","v":""},{"$f":"IFERROR(VLOOKUP(A3674,Base!$A$2:$D$460,4,0),\"\")","v":""},null,null,null,null,null,null,null,null,null,null,null,null,null,0]
[null,{"$f":"IFERROR(VLOOKUP(A3675,Base!$A$2:$D$460,2,0),\"\")","v":""},{"$f":"IFERROR(VLOOKUP(A3675,Base!$A$2:$D$460,3,0),\"\")","v":""},{"$f":"IFERROR(VLOOKUP(A3675,Base!$A$2:$D$460,4,0),\"\")","v":""},null,null,null,null,null,null,null,null,null,null,null,null,null,0]
[null,{"$f":"IFERROR(VLOOKUP(A3676,Base!$A$2:$D$460,2,0),\"\")","v":""},{"$f":"IFERROR(VLOOKUP(A3676,Base!$A$2:$D$460,3,0),\"\")","v":""},{"$f":"IFERROR(VLOOKUP(A3676,Base!$A$2:$D$460,4,0),\"\")","v":""},null,null,null,null,null,null,null,null,null,null,null,null,null,0]
[null,{"$f":"IFERROR(VLOOKUP(A3677,Base!$A$2:$D$460,2,0),\"\")","v":""},{"$f":"IFERROR(VLOOKUP(A3677,Base!$A$2:$D$460,3,0),\"\")","v":""},{"$f":"IFERROR(VLOOKUP(A3677,Base!$A$2:$D$460,4,0),\"\")","v":""},null,null,null,null,null,null,null,null,null,null,null,null,null,0]
[null,{"$f":"IFERROR(VLOOKUP(A3678,Base!$A$2:$D$460,2,0),\"\")","v":""},{"$f":"IFERROR(VLOOKUP(A3678,Base!$A$2:$D$460,3,0),\"\")","v":""},{"$f":"IFERROR(VLOOKUP(A3678,Base!$A$2:$D$460,4,0),\"\")","v":""},null,null,null,null,null,null,null,null,null,null,null,null,null,0]
[null,{"$f":"IFERROR(VLOOKUP(A3679,Base!$A$2:$D$460,2,0),\"\")","v":""},{"$f":"IFERROR(VLOOKUP(A3679,Base!$A$2:$D$460,3,0),\"\")","v":""},{"$f":"IFERROR(VLOOKUP(A3679,Base!$A$2:$D$460,4,0),\"\")","v":""},null,null,null,null,null,null,null,null,null,null,null,null,null,0]
[null,{"$f":"IFERROR(VLOOKUP(A3680,Base!$A$2:$D$460,2,0),\"\")","v":""},{"$f":"IFERROR(VLOOKUP(A3680,Base!$A$2:$D$460,3,0),\"\")","v":""},{"$f":"IFERROR(VLOOKUP(A3680,Base!$A$2:$D$460,4,0),\"\")","v":""},null,null,null,null,null,null,null,null,null,null,null,null,null,0]
[null,{"$f":"IFERROR(VLOOKUP(A3681,Base!$A$2:$D$460,2,0),\"\")","v":""},{"$f":"IFERROR(VLOOKUP(A3681,Base!$A$2:$D$460,3,0),\"\")","v":""},{"$f":"IFERROR(VLOOKUP(A3681,Base!$A$2:$D$460,4,0),\"\")","v":""},null,null,null,null,null,null,null,null,null,null,null,null,null,0]
[null,{"$f":"IFERROR(VLOOKUP(A3682,Base!$A$2:$D$460,2,0),\"\")","v":""},{"$f":"IFERROR(VLOOKUP(A3682,Base!$A$2:$D$460,3,0),\"\")","v":""},{"$f":"IFERROR(VLOOKUP(A3682,Base!$A$2:$D$460,4,0),\"\")","v":""},null,null,null,null,null,null,null,null,null,null,null,null,null,0]
[null,{"$f":"IFERROR(VLOOKUP(A3683,Base!$A$2:$D$460,2,0),\"\")","v":""},{"$f":"IFERROR(VLOOKUP(A3683,Base!$A$2:$D$460,3,0),\"\")","v":""},{"$f":"IFERROR(VLOOKUP(A3683,Base!$A$2:$D$460,4,0),\"\")","v":""},null,null,null,null,null,null,null,null,null,null,null,null,null,0]
[null,{"$f":"IFERROR(VLOOKUP(A3684,Base!$A$2:$D$460,2,0),\"\")","v":""},{"$f":"IFERROR(VLOOKUP(A3684,Base!$A$2:$D$460,3,0),\"\")","v":""},{"$f":"IFERROR(VLOOKUP(A3684,Base!$A$2:$D$460,4,0),\"\")","v":""},null,null,null,null,null,null,null,null,null,null,null,null,null,0]
[null,{"$f":"IFERROR(VLOOKUP(A3685,Base!$A$2:$D$460,2,0),\"\")","v":""},{"$f":"IFERROR(VLOOKUP(A3685,Base!$A$2:$D$460,3,0),\"\")","v":""},{"$f":"IFERROR(VLOOKUP(A3685,Base!$A$2:$D$460,4,0),\"\")","v":""},null,null,null,null,null,null,null,null,null,null,null,null,null,0]
[null,{"$f":"IFERROR(VLOOKUP(A3686,Base!$A$2:$D$460,2,0),\"\")","v":""},{"$f":"IFERROR(VLOOKUP(A3686,Base!$A$2:$D$460,3,0),\"\")","v":""},{"$f":"IFERROR(VLOOKUP(A3686,Base!$A$2:$D$460,4,0),\"\")","v":""},null,null,null,null,null,null,null,null,null,null,null,null,null,0]
[null,{"$f":"IFERROR(VLOOKUP(A3687,Base!$A$2:$D$460,2,0),\"\")","v":""},{"$f":"IFERROR(VLOOKUP(A3687,Base!$A$2:$D$460,3,0),\"\")","v":""},{"$f":"IFERROR(VLOOKUP(A3687,Base!$A$2:$D$460,4,0),\"\")","v":""},null,null,null,null,null,null,null,null,null,null,null,null,null,{"$f":"SUM(N3687:Q3687)/4","v":0}]
[null,{"$f":"IFERROR(VLOOKUP(A3688,Base!$A$2:$D$460,2,0),\"\")","v":""},{"$f":"IFERROR(VLOOKUP(A3688,Base!$A$2:$D$460,3,0),\"\")","v":""},{"$f":"IFERROR(VLOOKUP(A3688,Base!$A$2:$D$460,4,0),\"\")","v":""},null,null,null,null,null,null,null,null,null,null,null,null,null,0]
[null,{"$f":"IFERROR(VLOOKUP(A3689,Base!$A$2:$D$460,2,0),\"\")","v":""},{"$f":"IFERROR(VLOOKUP(A3689,Base!$A$2:$D$460,3,0),\"\")","v":""},{"$f":"IFERROR(VLOOKUP(A3689,Base!$A$2:$D$460,4,0),\"\")","v":""},null,null,null,null,null,null,null,null,null,null,null,null,null,0]
[null,{"$f":"IFERROR(VLOOKUP(A3690,Base!$A$2:$D$460,2,0),\"\")","v":""},{"$f":"IFERROR(VLOOKUP(A3690,Base!$A$2:$D$460,3,0),\"\")","v":""},{"$f":"IFERROR(VLOOKUP(A3690,Base!$A$2:$D$460,4,0),\"\")","v":""},null,null,null,null,null,null,null,null,null,null,null,null,null,0]
[null,{"$f":"IFERROR(VLOOKUP(A3691,Base!$A$2:$D$460,2,0),\"\")","v":""},{"$f":"IFERROR(VLOOKUP(A3691,Base!$A$2:$D$460,3,0),\"\")","v":""},{"$f":"IFERROR(VLOOKUP(A3691,Base!$A$2:$D$460,4,0),\"\")","v":""},null,null,null,null,null,null,null,null,null,null,null,null,null,0]
[null,{"$f":"IFERROR(VLOOKUP(A3692,Base!$A$2:$D$460,2,0),\"\")","v":""},{"$f":"IFERROR(VLOOKUP(A3692,Base!$A$2:$D$460,3,0),\"\")","v":""},{"$f":"IFERROR(VLOOKUP(A3692,Base!$A$2:$D$460,4,0),\"\")","v":""},null,null,null,null,null,null,null,null,null,null,null,null,null,0]
[null,{"$f":"IFERROR(VLOOKUP(A3693,Base!$A$2:$D$460,2,0),\"\")","v":""},{"$f":"IFERROR(VLOOKUP(A3693,Base!$A$2:$D$460,3,0),\"\")","v":""},{"$f":"IFERROR(VLOOKUP(A3693,Base!$A$2:$D$460,4,0),\"\")","v":""},null,null,null,null,null,null,null,null,null,null,null,null,null,0]
[null,{"$f":"IFERROR(VLOOKUP(A3694,Base!$A$2:$D$460,2,0),\"\")","v":""},{"$f":"IFERROR(VLOOKUP(A3694,Base!$A$2:$D$460,3,0),\"\")","v":""},{"$f":"IFERROR(VLOOKUP(A3694,Base!$A$2:$D$460,4,0),\"\")","v":""},null,null,null,null,null,null,null,null,null,null,null,null,null,0]
[null,{"$f":"IFERROR(VLOOKUP(A3695,Base!$A$2:$D$460,2,0),\"\")","v":""},{"$f":"IFERROR(VLOOKUP(A3695,Base!$A$2:$D$460,3,0),\"\")","v":""},{"$f":"IFERROR(VLOOKUP(A3695,Base!$A$2:$D$460,4,0),\"\")","v":""},null,null,null,null,null,null,null,null,null,null,null,null,null,0]
[null,{"$f":"IFERROR(VLOOKUP(A3696,Base!$A$2:$D$460,2,0),\"\")","v":""},{"$f":"IFERROR(VLOOKUP(A3696,Base!$A$2:$D$460,3,0),\"\")","v":""},{"$f":"IFERROR(VLOOKUP(A3696,Base!$A$2:$D$460,4,0),\"\")","v":""},null,null,null,null,null,null,null,null,null,null,null,null,null,0]
[null,{"$f":"IFERROR(VLOOKUP(A3697,Base!$A$2:$D$460,2,0),\"\")","v":""},{"$f":"IFERROR(VLOOKUP(A3697,Base!$A$2:$D$460,3,0),\"\")","v":""},{"$f":"IFERROR(VLOOKUP(A3697,Base!$A$2:$D$460,4,0),\"\")","v":""},null,null,null,null,null,null,null,null,null,null,null,null,null,0]
[null,{"$f":"IFERROR(VLOOKUP(A3698,Base!$A$2:$D$460,2,0),\"\")","v":""},{"$f":"IFERROR(VLOOKUP(A3698,Base!$A$2:$D$460,3,0),\"\")","v":""},{"$f":"IFERROR(VLOOKUP(A3698,Base!$A$2:$D$460,4,0),\"\")","v":""},null,null,null,null,null,null,null,null,null,null,null,null,null,0]
[null,{"$f":"IFERROR(VLOOKUP(A3699,Base!$A$2:$D$460,2,0),\"\")","v":""},{"$f":"IFERROR(VLOOKUP(A3699,Base!$A$2:$D$460,3,0),\"\")","v":""},{"$f":"IFERROR(VLOOKUP(A3699,Base!$A$2:$D$460,4,0),\"\")","v":""},null,null,null,null,null,null,null,null,null,null,null,null,null,0]
[null,{"$f":"IFERROR(VLOOKUP(A3700,Base!$A$2:$D$460,2,0),\"\")","v":""},{"$f":"IFERROR(VLOOKUP(A3700,Base!$A$2:$D$460,3,0),\"\")","v":""},{"$f":"IFERROR(VLOOKUP(A3700,Base!$A$2:$D$460,4,0),\"\")","v":""},null,null,null,null,null,null,null,null,null,null,null,null,null,0]
[null,{"$f":"IFERROR(VLOOKUP(A3701,Base!$A$2:$D$460,2,0),\"\")","v":""},{"$f":"IFERROR(VLOOKUP(A3701,Base!$A$2:$D$460,3,0),\"\")","v":""},{"$f":"IFERROR(VLOOKUP(A3701,Base!$A$2:$D$460,4,0),\"\")","v":""},null,null,null,null,null,null,null,null,null,null,null,null,null,0]
[null,{"$f":"IFERROR(VLOOKUP(A3702,Base!$A$2:$D$460,2,0),\"\")","v":""},{"$f":"IFERROR(VLOOKUP(A3702,Base!$A$2:$D$460,3,0),\"\")","v":""},{"$f":"IFERROR(VLOOKUP(A3702,Base!$A$2:$D$460,4,0),\"\")","v":""},null,null,null,null,null,null,null,null,null,null,null,null,null,0]
[null,{"$f":"IFERROR(VLOOKUP(A3703,Base!$A$2:$D$460,2,0),\"\")","v":""},{"$f":"IFERROR(VLOOKUP(A3703,Base!$A$2:$D$460,3,0),\"\")","v":""},{"$f":"IFERROR(VLOOKUP(A3703,Base!$A$2:$D$460,4,0),\"\")","v":""},null,null,null,null,null,null,null,null,null,null,null,null,null,0]
[null,{"$f":"IFERROR(VLOOKUP(A3704,Base!$A$2:$D$460,2,0),\"\")","v":""},{"$f":"IFERROR(VLOOKUP(A3704,Base!$A$2:$D$460,3,0),\"\")","v":""},{"$f":"IFERROR(VLOOKUP(A3704,Base!$A$2:$D$460,4,0),\"\")","v":""},null,null,null,null,null,null,null,null,null,null,null,null,null,0]
[null,{"$f":"IFERROR(VLOOKUP(A3705,Base!$A$2:$D$460,2,0),\"\")","v":""},{"$f":"IFERROR(VLOOKUP(A3705,Base!$A$2:$D$460,3,0),\"\")","v":""},{"$f":"IFERROR(VLOOKUP(A3705,Base!$A$2:$D$460,4,0),\"\")","v":""},null,null,null,null,null,null,null,null,null,null,null,null,null,0]
[null,{"$f":"IFERROR(VLOOKUP(A3706,Base!$A$2:$D$460,2,0),\"\")","v":""},{"$f":"IFERROR(VLOOKUP(A3706,Base!$A$2:$D$460,3,0),\"\")","v":""},{"$f":"IFERROR(VLOOKUP(A3706,Base!$A$2:$D$460,4,0),\"\")","v":""},null,null,null,null,null,null,null,null,null,null,null,null,null,0]
[null,{"$f":"IFERROR(VLOOKUP(A3707,Base!$A$2:$D$460,2,0),\"\")","v":""},{"$f":"IFERROR(VLOOKUP(A3707,Base!$A$2:$D$460,3,0),\"\")","v":""},{"$f":"IFERROR(VLOOKUP(A3707,Base!$A$2:$D$460,4,0),\"\")","v":""},null,null,null,null,null,null,null,null,null,null,null,null,null,0]
[null,{"$f":"IFERROR(VLOOKUP(A3708,Base!$A$2:$D$460,2,0),\"\")","v":""},{"$f":"IFERROR(VLOOKUP(A3708,Base!$A$2:$D$460,3,0),\"\")","v":""},{"$f":"IFERROR(VLOOKUP(A3708,Base!$A$2:$D$460,4,0),\"\")","v":""},null,null,null,null,null,null,null,null,null,null,null,null,null,0]
[null,{"$f":"IFERROR(VLOOKUP(A3709,Base!$A$2:$D$460,2,0),\"\")","v":""},{"$f":"IFERROR(VLOOKUP(A3709,Base!$A$2:$D$460,3,0),\"\")","v":""},{"$f":"IFERROR(VLOOKUP(A3709,Base!$A$2:$D$460,4,0),\"\")","v":""},null,null,null,null,null,null,null,null,null,null,null,null,null,0]
[null,{"$f":"IFERROR(VLOOKUP(A3710,Base!$A$2:$D$460,2,0),\"\")","v":""},{"$f":"IFERROR(VLOOKUP(A3710,Base!$A$2:$D$460,3,0),\"\")","v":""},{"$f":"IFERROR(VLOOKUP(A3710,Base!$A$2:$D$460,4,0),\"\")","v":""},null,null,null,null,null,null,null,null,null,null,null,null,null,0]
[null,{"$f":"IFERROR(VLOOKUP(A3711,Base!$A$2:$D$460,2,0),\"\")","v":""},{"$f":"IFERROR(VLOOKUP(A3711,Base!$A$2:$D$460,3,0),\"\")","v":""},{"$f":"IFERROR(VLOOKUP(A3711,Base!$A$2:$D$460,4,0),\"\")","v":""},null,null,null,null,null,null,null,null,null,null,null,null,null,0]
[null,{"$f":"IFERROR(VLOOKUP(A3712,Base!$A$2:$D$460,2,0),\"\")","v":""},{"$f":"IFERROR(VLOOKUP(A3712,Base!$A$2:$D$460,3,0),\"\")","v":""},{"$f":"IFERROR(VLOOKUP(A3712,Base!$A$2:$D$460,4,0),\"\")","v":""},null,null,null,null,null,null,null,null,null,null,null,null,null,0]
[null,{"$f":"IFERROR(VLOOKUP(A3713,Base!$A$2:$D$460,2,0),\"\")","v":""},{"$f":"IFERROR(VLOOKUP(A3713,Base!$A$2:$D$460,3,0),\"\")","v":""},{"$f":"IFERROR(VLOOKUP(A3713,Base!$A$2:$D$460,4,0),\"\")","v":""},null,null,null,null,null,null,null,null,null,null,null,null,null,0]
[null,{"$f":"IFERROR(VLOOKUP(A3714,Base!$A$2:$D$460,2,0),\"\")","v":""},{"$f":"IFERROR(VLOOKUP(A3714,Base!$A$2:$D$460,3,0),\"\")","v":""},{"$f":"IFERROR(VLOOKUP(A3714,Base!$A$2:$D$460,4,0),\"\")","v":""},null,null,null,null,null,null,null,null,null,null,null,null,null,0]
[null,{"$f":"IFERROR(VLOOKUP(A3715,Base!$A$2:$D$460,2,0),\"\")","v":""},{"$f":"IFERROR(VLOOKUP(A3715,Base!$A$2:$D$460,3,0),\"\")","v":""},{"$f":"IFERROR(VLOOKUP(A3715,Base!$A$2:$D$460,4,0),\"\")","v":""},null,null,null,null,null,null,null,null,null,null,null,null,null,0]
[null,{"$f":"IFERROR(VLOOKUP(A3716,Base!$A$2:$D$460,2,0),\"\")","v":""},{"$f":"IFERROR(VLOOKUP(A3716,Base!$A$2:$D$460,3,0),\"\")","v":""},{"$f":"IFERROR(VLOOKUP(A3716,Base!$A$2:$D$460,4,0),\"\")","v":""},null,null,null,null,null,null,null,null,null,null,null,null,null,0]
[null,{"$f":"IFERROR(VLOOKUP(A3717,Base!$A$2:$D$460,2,0),\"\")","v":""},{"$f":"IFERROR(VLOOKUP(A3717,Base!$A$2:$D$460,3,0),\"\")","v":""},{"$f":"IFERROR(VLOOKUP(A3717,Base!$A$2:$D$460,4,0),\"\")","v":""},null,null,null,null,null,null,null,null,null,null,null,null,null,0]
[null,{"$f":"IFERROR(VLOOKUP(A3718,Base!$A$2:$D$460,2,0),\"\")","v":""},{"$f":"IFERROR(VLOOKUP(A3718,Base!$A$2:$D$460,3,0),\"\")","v":""},{"$f":"IFERROR(VLOOKUP(A3718,Base!$A$2:$D$460,4,0),\"\")","v":""},null,null,null,null,null,null,null,null,null,null,null,null,null,0]
[null,{"$f":"IFERROR(VLOOKUP(A3719,Base!$A$2:$D$460,2,0),\"\")","v":""},{"$f":"IFERROR(VLOOKUP(A3719,Base!$A$2:$D$460,3,0),\"\")","v":""},{"$f":"IFERROR(VLOOKUP(A3719,Base!$A$2:$D$460,4,0),\"\")","v":""},null,null,null,null,null,null,null,null,null,null,null,null,null,0]
[null,{"$f":"IFERROR(VLOOKUP(A3720,Base!$A$2:$D$460,2,0),\"\")","v":""},{"$f":"IFERROR(VLOOKUP(A3720,Base!$A$2:$D$460,3,0),\"\")","v":""},{"$f":"IFERROR(VLOOKUP(A3720,Base!$A$2:$D$460,4,0),\"\")","v":""},null,null,null,null,null,null,null,null,null,null,null,null,null,0]
[null,{"$f":"IFERROR(VLOOKUP(A3721,Base!$A$2:$D$460,2,0),\"\")","v":""},{"$f":"IFERROR(VLOOKUP(A3721,Base!$A$2:$D$460,3,0),\"\")","v":""},{"$f":"IFERROR(VLOOKUP(A3721,Base!$A$2:$D$460,4,0),\"\")","v":""},null,null,null,null,null,null,null,null,null,null,null,null,null,0]
[null,{"$f":"IFERROR(VLOOKUP(A3722,Base!$A$2:$D$460,2,0),\"\")","v":""},{"$f":"IFERROR(VLOOKUP(A3722,Base!$A$2:$D$460,3,0),\"\")","v":""},{"$f":"IFERROR(VLOOKUP(A3722,Base!$A$2:$D$460,4,0),\"\")","v":""},null,null,null,null,null,null,null,null,null,null,null,null,null,0]
[null,{"$f":"IFERROR(VLOOKUP(A3723,Base!$A$2:$D$460,2,0),\"\")","v":""},{"$f":"IFERROR(VLOOKUP(A3723,Base!$A$2:$D$460,3,0),\"\")","v":""},{"$f":"IFERROR(VLOOKUP(A3723,Base!$A$2:$D$460,4,0),\"\")","v":""},null,null,null,null,null,null,null,null,null,null,null,null,null,0]
[null,{"$f":"IFERROR(VLOOKUP(A3724,Base!$A$2:$D$460,2,0),\"\")","v":""},{"$f":"IFERROR(VLOOKUP(A3724,Base!$A$2:$D$460,3,0),\"\")","v":""},{"$f":"IFERROR(VLOOKUP(A3724,Base!$A$2:$D$460,4,0),\"\")","v":""},null,null,null,null,null,null,null,null,null,null,null,null,null,0]
[null,{"$f":"IFERROR(VLOOKUP(A3725,Base!$A$2:$D$460,2,0),\"\")","v":""},{"$f":"IFERROR(VLOOKUP(A3725,Base!$A$2:$D$460,3,0),\"\")","v":""},{"$f":"IFERROR(VLOOKUP(A3725,Base!$A$2:$D$460,4,0),\"\")","v":""},null,null,null,null,null,null,null,null,null,null,null,null,null,0]
[null,{"$f":"IFERROR(VLOOKUP(A3726,Base!$A$2:$D$460,2,0),\"\")","v":""},{"$f":"IFERROR(VLOOKUP(A3726,Base!$A$2:$D$460,3,0),\"\")","v":""},{"$f":"IFERROR(VLOOKUP(A3726,Base!$A$2:$D$460,4,0),\"\")","v":""},null,null,null,null,null,null,null,null,null,null,null,null,null,0]
[null,{"$f":"IFERROR(VLOOKUP(A3727,Base!$A$2:$D$460,2,0),\"\")","v":""},{"$f":"IFERROR(VLOOKUP(A3727,Base!$A$2:$D$460,3,0),\"\")","v":""},{"$f":"IFERROR(VLOOKUP(A3727,Base!$A$2:$D$460,4,0),\"\")","v":""},null,null,null,null,null,null,null,null,null,null,null,null,null,0]
[null,{"$f":"IFERROR(VLOOKUP(A3728,Base!$A$2:$D$460,2,0),\"\")","v":""},{"$f":"IFERROR(VLOOKUP(A3728,Base!$A$2:$D$460,3,0),\"\")","v":""},{"$f":"IFERROR(VLOOKUP(A3728,Base!$A$2:$D$460,4,0),\"\")","v":""},null,null,null,null,null,null,null,null,null,null,null,null,null,0]
[null,{"$f":"IFERROR(VLOOKUP(A3729,Base!$A$2:$D$460,2,0),\"\")","v":""},{"$f":"IFERROR(VLOOKUP(A3729,Base!$A$2:$D$460,3,0),\"\")","v":""},{"$f":"IFERROR(VLOOKUP(A3729,Base!$A$2:$D$460,4,0),\"\")","v":""},null,null,null,null,null,null,null,null,null,null,null,null,null,0]
[null,{"$f":"IFERROR(VLOOKUP(A3730,Base!$A$2:$D$460,2,0),\"\")","v":""},{"$f":"IFERROR(VLOOKUP(A3730,Base!$A$2:$D$460,3,0),\"\")","v":""},{"$f":"IFERROR(VLOOKUP(A3730,Base!$A$2:$D$460,4,0),\"\")","v":""},null,null,null,null,null,null,null,null,null,null,null,null,null,0]
[null,{"$f":"IFERROR(VLOOKUP(A3731,Base!$A$2:$D$460,2,0),\"\")","v":""},{"$f":"IFERROR(VLOOKUP(A3731,Base!$A$2:$D$460,3,0),\"\")","v":""},{"$f":"IFERROR(VLOOKUP(A3731,Base!$A$2:$D$460,4,0),\"\")","v":""},null,null,null,null,null,null,null,null,null,null,null,null,null,0]
[null,{"$f":"IFERROR(VLOOKUP(A3732,Base!$A$2:$D$460,2,0),\"\")","v":""},{"$f":"IFERROR(VLOOKUP(A3732,Base!$A$2:$D$460,3,0),\"\")","v":""},{"$f":"IFERROR(VLOOKUP(A3732,Base!$A$2:$D$460,4,0),\"\")","v":""},null,null,null,null,null,null,null,null,null,null,null,null,null,0]
[null,{"$f":"IFERROR(VLOOKUP(A3733,Base!$A$2:$D$460,2,0),\"\")","v":""},{"$f":"IFERROR(VLOOKUP(A3733,Base!$A$2:$D$460,3,0),\"\")","v":""},{"$f":"IFERROR(VLOOKUP(A3733,Base!$A$2:$D$460,4,0),\"\")","v":""},null,null,null,null,null,null,null,null,null,null,null,null,null,0]
[null,{"$f":"IFERROR(VLOOKUP(A3734,Base!$A$2:$D$460,2,0),\"\")","v":""},{"$f":"IFERROR(VLOOKUP(A3734,Base!$A$2:$D$460,3,0),\"\")","v":""},{"$f":"IFERROR(VLOOKUP(A3734,Base!$A$2:$D$460,4,0),\"\")","v":""},null,null,null,null,null,null,null,null,null,null,null,null,null,0]
[null,{"$f":"IFERROR(VLOOKUP(A3735,Base!$A$2:$D$460,2,0),\"\")","v":""},{"$f":"IFERROR(VLOOKUP(A3735,Base!$A$2:$D$460,3,0),\"\")","v":""},{"$f":"IFERROR(VLOOKUP(A3735,Base!$A$2:$D$460,4,0),\"\")","v":""},null,null,null,null,null,null,null,null,null,null,null,null,null,0]
[null,{"$f":"IFERROR(VLOOKUP(A3736,Base!$A$2:$D$460,2,0),\"\")","v":""},{"$f":"IFERROR(VLOOKUP(A3736,Base!$A$2:$D$460,3,0),\"\")","v":""},{"$f":"IFERROR(VLOOKUP(A3736,Base!$A$2:$D$460,4,0),\"\")","v":""},null,null,null,null,null,null,null,null,null,null,null,null,null,0]
[null,{"$f":"IFERROR(VLOOKUP(A3737,Base!$A$2:$D$460,2,0),\"\")","v":""},{"$f":"IFERROR(VLOOKUP(A3737,Base!$A$2:$D$460,3,0),\"\")","v":""},{"$f":"IFERROR(VLOOKUP(A3737,Base!$A$2:$D$460,4,0),\"\")","v":""},null,null,null,null,null,null,null,null,null,null,null,null,null,0]
[null,{"$f":"IFERROR(VLOOKUP(A3738,Base!$A$2:$D$460,2,0),\"\")","v":""},{"$f":"IFERROR(VLOOKUP(A3738,Base!$A$2:$D$460,3,0),\"\")","v":""},{"$f":"IFERROR(VLOOKUP(A3738,Base!$A$2:$D$460,4,0),\"\")","v":""},null,null,null,null,null,null,null,null,null,null,null,null,null,0]
[null,{"$f":"IFERROR(VLOOKUP(A3739,Base!$A$2:$D$460,2,0),\"\")","v":""},{"$f":"IFERROR(VLOOKUP(A3739,Base!$A$2:$D$460,3,0),\"\")","v":""},{"$f":"IFERROR(VLOOKUP(A3739,Base!$A$2:$D$460,4,0),\"\")","v":""},null,null,null,null,null,null,null,null,null,null,null,null,null,0]
[null,{"$f":"IFERROR(VLOOKUP(A3740,Base!$A$2:$D$460,2,0),\"\")","v":""},{"$f":"IFERROR(VLOOKUP(A3740,Base!$A$2:$D$460,3,0),\"\")","v":""},{"$f":"IFERROR(VLOOKUP(A3740,Base!$A$2:$D$460,4,0),\"\")","v":""},null,null,null,null,null,null,null,null,null,null,null,null,null,0]
[null,{"$f":"IFERROR(VLOOKUP(A3741,Base!$A$2:$D$460,2,0),\"\")","v":""},{"$f":"IFERROR(VLOOKUP(A3741,Base!$A$2:$D$460,3,0),\"\")","v":""},{"$f":"IFERROR(VLOOKUP(A3741,Base!$A$2:$D$460,4,0),\"\")","v":""},null,null,null,null,null,null,null,null,null,null,null,null,null,0]
[null,{"$f":"IFERROR(VLOOKUP(A3742,Base!$A$2:$D$460,2,0),\"\")","v":""},{"$f":"IFERROR(VLOOKUP(A3742,Base!$A$2:$D$460,3,0),\"\")","v":""},{"$f":"IFERROR(VLOOKUP(A3742,Base!$A$2:$D$460,4,0),\"\")","v":""},null,null,null,null,null,null,null,null,null,null,null,null,null,0]
[null,{"$f":"IFERROR(VLOOKUP(A3743,Base!$A$2:$D$460,2,0),\"\")","v":""},{"$f":"IFERROR(VLOOKUP(A3743,Base!$A$2:$D$460,3,0),\"\")","v":""},{"$f":"IFERROR(VLOOKUP(A3743,Base!$A$2:$D$460,4,0),\"\")","v":""},null,null,null,null,null,null,null,null,null,null,null,null,null,0]
[null,{"$f":"IFERROR(VLOOKUP(A3744,Base!$A$2:$D$460,2,0),\"\")","v":""},{"$f":"IFERROR(VLOOKUP(A3744,Base!$A$2:$D$460,3,0),\"\")","v":""},{"$f":"IFERROR(VLOOKUP(A3744,Base!$A$2:$D$460,4,0),\"\")","v":""},null,null,null,null,null,null,null,null,null,null,null,null,null,0]
[null,{"$f":"IFERROR(VLOOKUP(A3745,Base!$A$2:$D$460,2,0),\"\")","v":""},{"$f":"IFERROR(VLOOKUP(A3745,Base!$A$2:$D$460,3,0),\"\")","v":""},{"$f":"IFERROR(VLOOKUP(A3745,Base!$A$2:$D$460,4,0),\"\")","v":""},null,null,null,null,null,null,null,null,null,null,null,null,null,0]
[null,{"$f":"IFERROR(VLOOKUP(A3746,Base!$A$2:$D$460,2,0),\"\")","v":""},{"$f":"IFERROR(VLOOKUP(A3746,Base!$A$2:$D$460,3,0),\"\")","v":""},{"$f":"IFERROR(VLOOKUP(A3746,Base!$A$2:$D$460,4,0),\"\")","v":""},null,null,null,null,null,null,null,null,null,null,null,null,null,0]
[null,{"$f":"IFERROR(VLOOKUP(A3747,Base!$A$2:$D$460,2,0),\"\")","v":""},{"$f":"IFERROR(VLOOKUP(A3747,Base!$A$2:$D$460,3,0),\"\")","v":""},{"$f":"IFERROR(VLOOKUP(A3747,Base!$A$2:$D$460,4,0),\"\")","v":""},null,null,null,null,null,null,null,null,null,null,null,null,null,0]
[null,{"$f":"IFERROR(VLOOKUP(A3748,Base!$A$2:$D$460,2,0),\"\")","v":""},{"$f":"IFERROR(VLOOKUP(A3748,Base!$A$2:$D$460,3,0),\"\")","v":""},{"$f":"IFERROR(VLOOKUP(A3748,Base!$A$2:$D$460,4,0),\"\")","v":""},null,null,null,null,null,null,null,null,null,null,null,null,null,0]
[null,{"$f":"IFERROR(VLOOKUP(A3749,Base!$A$2:$D$460,2,0),\"\")","v":""},{"$f":"IFERROR(VLOOKUP(A3749,Base!$A$2:$D$460,3,0),\"\")","v":""},{"$f":"IFERROR(VLOOKUP(A3749,Base!$A$2:$D$460,4,0),\"\")","v":""},null,null,null,null,null,null,null,null,null,null,null,null,null,0]
[null,{"$f":"IFERROR(VLOOKUP(A3750,Base!$A$2:$D$460,2,0),\"\")","v":""},{"$f":"IFERROR(VLOOKUP(A3750,Base!$A$2:$D$460,3,0),\"\")","v":""},{"$f":"IFERROR(VLOOKUP(A3750,Base!$A$2:$D$460,4,0),\"\")","v":""},null,null,null,null,null,null,null,null,null,null,null,null,null,0]
[null,{"$f":"IFERROR(VLOOKUP(A3751,Base!$A$2:$D$460,2,0),\"\")","v":""},{"$f":"IFERROR(VLOOKUP(A3751,Base!$A$2:$D$460,3,0),\"\")","v":""},{"$f":"IFERROR(VLOOKUP(A3751,Base!$A$2:$D$460,4,0),\"\")","v":""},null,null,null,null,null,null,null,null,null,null,null,null,null,{"$f":"SUM(N3751:Q3751)/4","v":0}]
[null,{"$f":"IFERROR(VLOOKUP(A3752,Base!$A$2:$D$460,2,0),\"\")","v":""},{"$f":"IFERROR(VLOOKUP(A3752,Base!$A$2:$D$460,3,0),\"\")","v":""},{"$f":"IFERROR(VLOOKUP(A3752,Base!$A$2:$D$460,4,0),\"\")","v":""},null,null,null,null,null,null,null,null,null,null,null,null,null,0]
[null,{"$f":"IFERROR(VLOOKUP(A3753,Base!$A$2:$D$460,2,0),\"\")","v":""},{"$f":"IFERROR(VLOOKUP(A3753,Base!$A$2:$D$460,3,0),\"\")","v":""},{"$f":"IFERROR(VLOOKUP(A3753,Base!$A$2:$D$460,4,0),\"\")","v":""},null,null,null,null,null,null,null,null,null,null,null,null,null,0]
[null,{"$f":"IFERROR(VLOOKUP(A3754,Base!$A$2:$D$460,2,0),\"\")","v":""},{"$f":"IFERROR(VLOOKUP(A3754,Base!$A$2:$D$460,3,0),\"\")","v":""},{"$f":"IFERROR(VLOOKUP(A3754,Base!$A$2:$D$460,4,0),\"\")","v":""},null,null,null,null,null,null,null,null,null,null,null,null,null,0]
[null,{"$f":"IFERROR(VLOOKUP(A3755,Base!$A$2:$D$460,2,0),\"\")","v":""},{"$f":"IFERROR(VLOOKUP(A3755,Base!$A$2:$D$460,3,0),\"\")","v":""},{"$f":"IFERROR(VLOOKUP(A3755,Base!$A$2:$D$460,4,0),\"\")","v":""},null,null,null,null,null,null,null,null,null,null,null,null,null,0]
[null,{"$f":"IFERROR(VLOOKUP(A3756,Base!$A$2:$D$460,2,0),\"\")","v":""},{"$f":"IFERROR(VLOOKUP(A3756,Base!$A$2:$D$460,3,0),\"\")","v":""},{"$f":"IFERROR(VLOOKUP(A3756,Base!$A$2:$D$460,4,0),\"\")","v":""},null,null,null,null,null,null,null,null,null,null,null,null,null,0]
[null,{"$f":"IFERROR(VLOOKUP(A3757,Base!$A$2:$D$460,2,0),\"\")","v":""},{"$f":"IFERROR(VLOOKUP(A3757,Base!$A$2:$D$460,3,0),\"\")","v":""},{"$f":"IFERROR(VLOOKUP(A3757,Base!$A$2:$D$460,4,0),\"\")","v":""},null,null,null,null,null,null,null,null,null,null,null,null,null,0]
[null,{"$f":"IFERROR(VLOOKUP(A3758,Base!$A$2:$D$460,2,0),\"\")","v":""},{"$f":"IFERROR(VLOOKUP(A3758,Base!$A$2:$D$460,3,0),\"\")","v":""},{"$f":"IFERROR(VLOOKUP(A3758,Base!$A$2:$D$460,4,0),\"\")","v":""},null,null,null,null,null,null,null,null,null,null,null,null,null,0]
[null,{"$f":"IFERROR(VLOOKUP(A3759,Base!$A$2:$D$460,2,0),\"\")","v":""},{"$f":"IFERROR(VLOOKUP(A3759,Base!$A$2:$D$460,3,0),\"\")","v":""},{"$f":"IFERROR(VLOOKUP(A3759,Base!$A$2:$D$460,4,0),\"\")","v":""},null,null,null,null,null,null,null,null,null,null,null,null,null,0]
[null,{"$f":"IFERROR(VLOOKUP(A3760,Base!$A$2:$D$460,2,0),\"\")","v":""},{"$f":"IFERROR(VLOOKUP(A3760,Base!$A$2:$D$460,3,0),\"\")","v":""},{"$f":"IFERROR(VLOOKUP(A3760,Base!$A$2:$D$460,4,0),\"\")","v":""},null,null,null,null,null,null,null,null,null,null,null,null,null,0]
[null,{"$f":"IFERROR(VLOOKUP(A3761,Base!$A$2:$D$460,2,0),\"\")","v":""},{"$f":"IFERROR(VLOOKUP(A3761,Base!$A$2:$D$460,3,0),\"\")","v":""},{"$f":"IFERROR(VLOOKUP(A3761,Base!$A$2:$D$460,4,0),\"\")","v":""},null,null,null,null,null,null,null,null,null,null,null,null,null,0]
[null,{"$f":"IFERROR(VLOOKUP(A3762,Base!$A$2:$D$460,2,0),\"\")","v":""},{"$f":"IFERROR(VLOOKUP(A3762,Base!$A$2:$D$460,3,0),\"\")","v":""},{"$f":"IFERROR(VLOOKUP(A3762,Base!$A$2:$D$460,4,0),\"\")","v":""},null,null,null,null,null,null,null,null,null,null,null,null,null,0]
[null,{"$f":"IFERROR(VLOOKUP(A3763,Base!$A$2:$D$460,2,0),\"\")","v":""},{"$f":"IFERROR(VLOOKUP(A3763,Base!$A$2:$D$460,3,0),\"\")","v":""},{"$f":"IFERROR(VLOOKUP(A3763,Base!$A$2:$D$460,4,0),\"\")","v":""},null,null,null,null,null,null,null,null,null,null,null,null,null,0]
[null,{"$f":"IFERROR(VLOOKUP(A3764,Base!$A$2:$D$460,2,0),\"\")","v":""},{"$f":"IFERROR(VLOOKUP(A3764,Base!$A$2:$D$460,3,0),\"\")","v":""},{"$f":"IFERROR(VLOOKUP(A3764,Base!$A$2:$D$460,4,0),\"\")","v":""},null,null,null,null,null,null,null,null,null,null,null,null,null,0]
[null,{"$f":"IFERROR(VLOOKUP(A3765,Base!$A$2:$D$460,2,0),\"\")","v":""},{"$f":"IFERROR(VLOOKUP(A3765,Base!$A$2:$D$460,3,0),\"\")","v":""},{"$f":"IFERROR(VLOOKUP(A3765,Base!$A$2:$D$460,4,0),\"\")","v":""},null,null,null,null,null,null,null,null,null,null,null,null,null,0]
[null,{"$f":"IFERROR(VLOOKUP(A3766,Base!$A$2:$D$460,2,0),\"\")","v":""},{"$f":"IFERROR(VLOOKUP(A3766,Base!$A$2:$D$460,3,0),\"\")","v":""},{"$f":"IFERROR(VLOOKUP(A3766,Base!$A$2:$D$460,4,0),\"\")","v":""},null,null,null,null,null,null,null,null,null,null,null,null,null,0]
[null,{"$f":"IFERROR(VLOOKUP(A3767,Base!$A$2:$D$460,2,0),\"\")","v":""},{"$f":"IFERROR(VLOOKUP(A3767,Base!$A$2:$D$460,3,0),\"\")","v":""},{"$f":"IFERROR(VLOOKUP(A3767,Base!$A$2:$D$460,4,0),\"\")","v":""},null,null,null,null,null,null,null,null,null,null,null,null,null,0]
[null,{"$f":"IFERROR(VLOOKUP(A3768,Base!$A$2:$D$460,2,0),\"\")","v":""},{"$f":"IFERROR(VLOOKUP(A3768,Base!$A$2:$D$460,3,0),\"\")","v":""},{"$f":"IFERROR(VLOOKUP(A3768,Base!$A$2:$D$460,4,0),\"\")","v":""},null,null,null,null,null,null,null,null,null,null,null,null,null,0]
[null,{"$f":"IFERROR(VLOOKUP(A3769,Base!$A$2:$D$460,2,0),\"\")","v":""},{"$f":"IFERROR(VLOOKUP(A3769,Base!$A$2:$D$460,3,0),\"\")","v":""},{"$f":"IFERROR(VLOOKUP(A3769,Base!$A$2:$D$460,4,0),\"\")","v":""},null,null,null,null,null,null,null,null,null,null,null,null,null,0]
[null,{"$f":"IFERROR(VLOOKUP(A3770,Base!$A$2:$D$460,2,0),\"\")","v":""},{"$f":"IFERROR(VLOOKUP(A3770,Base!$A$2:$D$460,3,0),\"\")","v":""},{"$f":"IFERROR(VLOOKUP(A3770,Base!$A$2:$D$460,4,0),\"\")","v":""},null,null,null,null,null,null,null,null,null,null,null,null,null,0]
[null,{"$f":"IFERROR(VLOOKUP(A3771,Base!$A$2:$D$460,2,0),\"\")","v":""},{"$f":"IFERROR(VLOOKUP(A3771,Base!$A$2:$D$460,3,0),\"\")","v":""},{"$f":"IFERROR(VLOOKUP(A3771,Base!$A$2:$D$460,4,0),\"\")","v":""},null,null,null,null,null,null,null,null,null,null,null,null,null,0]
[null,{"$f":"IFERROR(VLOOKUP(A3772,Base!$A$2:$D$460,2,0),\"\")","v":""},{"$f":"IFERROR(VLOOKUP(A3772,Base!$A$2:$D$460,3,0),\"\")","v":""},{"$f":"IFERROR(VLOOKUP(A3772,Base!$A$2:$D$460,4,0),\"\")","v":""},null,null,null,null,null,null,null,null,null,null,null,null,null,0]
[null,{"$f":"IFERROR(VLOOKUP(A3773,Base!$A$2:$D$460,2,0),\"\")","v":""},{"$f":"IFERROR(VLOOKUP(A3773,Base!$A$2:$D$460,3,0),\"\")","v":""},{"$f":"IFERROR(VLOOKUP(A3773,Base!$A$2:$D$460,4,0),\"\")","v":""},null,null,null,null,null,null,null,null,null,null,null,null,null,0]
[null,{"$f":"IFERROR(VLOOKUP(A3774,Base!$A$2:$D$460,2,0),\"\")","v":""},{"$f":"IFERROR(VLOOKUP(A3774,Base!$A$2:$D$460,3,0),\"\")","v":""},{"$f":"IFERROR(VLOOKUP(A3774,Base!$A$2:$D$460,4,0),\"\")","v":""},null,null,null,null,null,null,null,null,null,null,null,null,null,0]
[null,{"$f":"IFERROR(VLOOKUP(A3775,Base!$A$2:$D$460,2,0),\"\")","v":""},{"$f":"IFERROR(VLOOKUP(A3775,Base!$A$2:$D$460,3,0),\"\")","v":""},{"$f":"IFERROR(VLOOKUP(A3775,Base!$A$2:$D$460,4,0),\"\")","v":""},null,null,null,null,null,null,null,null,null,null,null,null,null,0]
[null,{"$f":"IFERROR(VLOOKUP(A3776,Base!$A$2:$D$460,2,0),\"\")","v":""},{"$f":"IFERROR(VLOOKUP(A3776,Base!$A$2:$D$460,3,0),\"\")","v":""},{"$f":"IFERROR(VLOOKUP(A3776,Base!$A$2:$D$460,4,0),\"\")","v":""},null,null,null,null,null,null,null,null,null,null,null,null,null,0]
[null,{"$f":"IFERROR(VLOOKUP(A3777,Base!$A$2:$D$460,2,0),\"\")","v":""},{"$f":"IFERROR(VLOOKUP(A3777,Base!$A$2:$D$460,3,0),\"\")","v":""},{"$f":"IFERROR(VLOOKUP(A3777,Base!$A$2:$D$460,4,0),\"\")","v":""},null,null,null,null,null,null,null,null,null,null,null,null,null,0]
[null,{"$f":"IFERROR(VLOOKUP(A3778,Base!$A$2:$D$460,2,0),\"\")","v":""},{"$f":"IFERROR(VLOOKUP(A3778,Base!$A$2:$D$460,3,0),\"\")","v":""},{"$f":"IFERROR(VLOOKUP(A3778,Base!$A$2:$D$460,4,0),\"\")","v":""},null,null,null,null,null,null,null,null,null,null,null,null,null,0]
[null,{"$f":"IFERROR(VLOOKUP(A3779,Base!$A$2:$D$460,2,0),\"\")","v":""},{"$f":"IFERROR(VLOOKUP(A3779,Base!$A$2:$D$460,3,0),\"\")","v":""},{"$f":"IFERROR(VLOOKUP(A3779,Base!$A$2:$D$460,4,0),\"\")","v":""},null,null,null,null,null,null,null,null,null,null,null,null,null,0]
[null,{"$f":"IFERROR(VLOOKUP(A3780,Base!$A$2:$D$460,2,0),\"\")","v":""},{"$f":"IFERROR(VLOOKUP(A3780,Base!$A$2:$D$460,3,0),\"\")","v":""},{"$f":"IFERROR(VLOOKUP(A3780,Base!$A$2:$D$460,4,0),\"\")","v":""},null,null,null,null,null,null,null,null,null,null,null,null,null,0]
[null,{"$f":"IFERROR(VLOOKUP(A3781,Base!$A$2:$D$460,2,0),\"\")","v":""},{"$f":"IFERROR(VLOOKUP(A3781,Base!$A$2:$D$460,3,0),\"\")","v":""},{"$f":"IFERROR(VLOOKUP(A3781,Base!$A$2:$D$460,4,0),\"\")","v":""},null,null,null,null,null,null,null,null,null,null,null,null,null,0]
[null,{"$f":"IFERROR(VLOOKUP(A3782,Base!$A$2:$D$460,2,0),\"\")","v":""},{"$f":"IFERROR(VLOOKUP(A3782,Base!$A$2:$D$460,3,0),\"\")","v":""},{"$f":"IFERROR(VLOOKUP(A3782,Base!$A$2:$D$460,4,0),\"\")","v":""},null,null,null,null,null,null,null,null,null,null,null,null,null,0]
[null,{"$f":"IFERROR(VLOOKUP(A3783,Base!$A$2:$D$460,2,0),\"\")","v":""},{"$f":"IFERROR(VLOOKUP(A3783,Base!$A$2:$D$460,3,0),\"\")","v":""},{"$f":"IFERROR(VLOOKUP(A3783,Base!$A$2:$D$460,4,0),\"\")","v":""},null,null,null,null,null,null,null,null,null,null,null,null,null,0]
[null,{"$f":"IFERROR(VLOOKUP(A3784,Base!$A$2:$D$460,2,0),\"\")","v":""},{"$f":"IFERROR(VLOOKUP(A3784,Base!$A$2:$D$460,3,0),\"\")","v":""},{"$f":"IFERROR(VLOOKUP(A3784,Base!$A$2:$D$460,4,0),\"\")","v":""},null,null,null,null,null,null,null,null,null,null,null,null,null,0]
[null,{"$f":"IFERROR(VLOOKUP(A3785,Base!$A$2:$D$460,2,0),\"\")","v":""},{"$f":"IFERROR(VLOOKUP(A3785,Base!$A$2:$D$460,3,0),\"\")","v":""},{"$f":"IFERROR(VLOOKUP(A3785,Base!$A$2:$D$460,4,0),\"\")","v":""},null,null,null,null,null,null,null,null,null,null,null,null,null,0]
[null,{"$f":"IFERROR(VLOOKUP(A3786,Base!$A$2:$D$460,2,0),\"\")","v":""},{"$f":"IFERROR(VLOOKUP(A3786,Base!$A$2:$D$460,3,0),\"\")","v":""},{"$f":"IFERROR(VLOOKUP(A3786,Base!$A$2:$D$460,4,0),\"\")","v":""},null,null,null,null,null,null,null,null,null,null,null,null,null,0]
[null,{"$f":"IFERROR(VLOOKUP(A3787,Base!$A$2:$D$460,2,0),\"\")","v":""},{"$f":"IFERROR(VLOOKUP(A3787,Base!$A$2:$D$460,3,0),\"\")","v":""},{"$f":"IFERROR(VLOOKUP(A3787,Base!$A$2:$D$460,4,0),\"\")","v":""},null,null,null,null,null,null,null,null,null,null,null,null,null,0]
[null,{"$f":"IFERROR(VLOOKUP(A3788,Base!$A$2:$D$460,2,0),\"\")","v":""},{"$f":"IFERROR(VLOOKUP(A3788,Base!$A$2:$D$460,3,0),\"\")","v":""},{"$f":"IFERROR(VLOOKUP(A3788,Base!$A$2:$D$460,4,0),\"\")","v":""},null,null,null,null,null,null,null,null,null,null,null,null,null,0]
[null,{"$f":"IFERROR(VLOOKUP(A3789,Base!$A$2:$D$460,2,0),\"\")","v":""},{"$f":"IFERROR(VLOOKUP(A3789,Base!$A$2:$D$460,3,0),\"\")","v":""},{"$f":"IFERROR(VLOOKUP(A3789,Base!$A$2:$D$460,4,0),\"\")","v":""},null,null,null,null,null,null,null,null,null,null,null,null,null,0]
[null,{"$f":"IFERROR(VLOOKUP(A3790,Base!$A$2:$D$460,2,0),\"\")","v":""},{"$f":"IFERROR(VLOOKUP(A3790,Base!$A$2:$D$460,3,0),\"\")","v":""},{"$f":"IFERROR(VLOOKUP(A3790,Base!$A$2:$D$460,4,0),\"\")","v":""},null,null,null,null,null,null,null,null,null,null,null,null,null,0]
[null,{"$f":"IFERROR(VLOOKUP(A3791,Base!$A$2:$D$460,2,0),\"\")","v":""},{"$f":"IFERROR(VLOOKUP(A3791,Base!$A$2:$D$460,3,0),\"\")","v":""},{"$f":"IFERROR(VLOOKUP(A3791,Base!$A$2:$D$460,4,0),\"\")","v":""},null,null,null,null,null,null,null,null,null,null,null,null,null,0]
[null,{"$f":"IFERROR(VLOOKUP(A3792,Base!$A$2:$D$460,2,0),\"\")","v":""},{"$f":"IFERROR(VLOOKUP(A3792,Base!$A$2:$D$460,3,0),\"\")","v":""},{"$f":"IFERROR(VLOOKUP(A3792,Base!$A$2:$D$460,4,0),\"\")","v":""},null,null,null,null,null,null,null,null,null,null,null,null,null,0]
[null,{"$f":"IFERROR(VLOOKUP(A3793,Base!$A$2:$D$460,2,0),\"\")","v":""},{"$f":"IFERROR(VLOOKUP(A3793,Base!$A$2:$D$460,3,0),\"\")","v":""},{"$f":"IFERROR(VLOOKUP(A3793,Base!$A$2:$D$460,4,0),\"\")","v":""},null,null,null,null,null,null,null,null,null,null,null,null,null,0]
[null,{"$f":"IFERROR(VLOOKUP(A3794,Base!$A$2:$D$460,2,0),\"\")","v":""},{"$f":"IFERROR(VLOOKUP(A3794,Base!$A$2:$D$460,3,0),\"\")","v":""},{"$f":"IFERROR(VLOOKUP(A3794,Base!$A$2:$D$460,4,0),\"\")","v":""},null,null,null,null,null,null,null,null,null,null,null,null,null,0]
[null,{"$f":"IFERROR(VLOOKUP(A3795,Base!$A$2:$D$460,2,0),\"\")","v":""},{"$f":"IFERROR(VLOOKUP(A3795,Base!$A$2:$D$460,3,0),\"\")","v":""},{"$f":"IFERROR(VLOOKUP(A3795,Base!$A$2:$D$460,4,0),\"\")","v":""},null,null,null,null,null,null,null,null,null,null,null,null,null,0]
[null,{"$f":"IFERROR(VLOOKUP(A3796,Base!$A$2:$D$460,2,0),\"\")","v":""},{"$f":"IFERROR(VLOOKUP(A3796,Base!$A$2:$D$460,3,0),\"\")","v":""},{"$f":"IFERROR(VLOOKUP(A3796,Base!$A$2:$D$460,4,0),\"\")","v":""},null,null,null,null,null,null,null,null,null,null,null,null,null,0]
[null,{"$f":"IFERROR(VLOOKUP(A3797,Base!$A$2:$D$460,2,0),\"\")","v":""},{"$f":"IFERROR(VLOOKUP(A3797,Base!$A$2:$D$460,3,0),\"\")","v":""},{"$f":"IFERROR(VLOOKUP(A3797,Base!$A$2:$D$460,4,0),\"\")","v":""},null,null,null,null,null,null,null,null,null,null,null,null,null,0]
[null,{"$f":"IFERROR(VLOOKUP(A3798,Base!$A$2:$D$460,2,0),\"\")","v":""},{"$f":"IFERROR(VLOOKUP(A3798,Base!$A$2:$D$460,3,0),\"\")","v":""},{"$f":"IFERROR(VLOOKUP(A3798,Base!$A$2:$D$460,4,0),\"\")","v":""},null,null,null,null,null,null,null,null,null,null,null,null,null,0]
[null,{"$f":"IFERROR(VLOOKUP(A3799,Base!$A$2:$D$460,2,0),\"\")","v":""},{"$f":"IFERROR(VLOOKUP(A3799,Base!$A$2:$D$460,3,0),\"\")","v":""},{"$f":"IFERROR(VLOOKUP(A3799,Base!$A$2:$D$460,4,0),\"\")","v":""},null,null,null,null,null,null,null,null,null,null,null,null,null,0]
[null,{"$f":"IFERROR(VLOOKUP(A3800,Base!$A$2:$D$460,2,0),\"\")","v":""},{"$f":"IFERROR(VLOOKUP(A3800,Base!$A$2:$D$460,3,0),\"\")","v":""},{"$f":"IFERROR(VLOOKUP(A3800,Base!$A$2:$D$460,4,0),\"\")","v":""},null,null,null,null,null,null,null,null,null,null,null,null,null,0]
[null,{"$f":"IFERROR(VLOOKUP(A3801,Base!$A$2:$D$460,2,0),\"\")","v":""},{"$f":"IFERROR(VLOOKUP(A3801,Base!$A$2:$D$460,3,0),\"\")","v":""},{"$f":"IFERROR(VLOOKUP(A3801,Base!$A$2:$D$460,4,0),\"\")","v":""},null,null,null,null,null,null,null,null,null,null,null,null,null,0]
[null,{"$f":"IFERROR(VLOOKUP(A3802,Base!$A$2:$D$460,2,0),\"\")","v":""},{"$f":"IFERROR(VLOOKUP(A3802,Base!$A$2:$D$460,3,0),\"\")","v":""},{"$f":"IFERROR(VLOOKUP(A3802,Base!$A$2:$D$460,4,0),\"\")","v":""},null,null,null,null,null,null,null,null,null,null,null,null,null,0]
[null,{"$f":"IFERROR(VLOOKUP(A3803,Base!$A$2:$D$460,2,0),\"\")","v":""},{"$f":"IFERROR(VLOOKUP(A3803,Base!$A$2:$D$460,3,0),\"\")","v":""},{"$f":"IFERROR(VLOOKUP(A3803,Base!$A$2:$D$460,4,0),\"\")","v":""},null,null,null,null,null,null,null,null,null,null,null,null,null,0]
[null,{"$f":"IFERROR(VLOOKUP(A3804,Base!$A$2:$D$460,2,0),\"\")","v":""},{"$f":"IFERROR(VLOOKUP(A3804,Base!$A$2:$D$460,3,0),\"\")","v":""},{"$f":"IFERROR(VLOOKUP(A3804,Base!$A$2:$D$460,4,0),\"\")","v":""},null,null,null,null,null,null,null,null,null,null,null,null,null,0]
[null,{"$f":"IFERROR(VLOOKUP(A3805,Base!$A$2:$D$460,2,0),\"\")","v":""},{"$f":"IFERROR(VLOOKUP(A3805,Base!$A$2:$D$460,3,0),\"\")","v":""},{"$f":"IFERROR(VLOOKUP(A3805,Base!$A$2:$D$460,4,0),\"\")","v":""},null,null,null,null,null,null,null,null,null,null,null,null,null,0]
[null,{"$f":"IFERROR(VLOOKUP(A3806,Base!$A$2:$D$460,2,0),\"\")","v":""},{"$f":"IFERROR(VLOOKUP(A3806,Base!$A$2:$D$460,3,0),\"\")","v":""},{"$f":"IFERROR(VLOOKUP(A3806,Base!$A$2:$D$460,4,0),\"\")","v":""},null,null,null,null,null,null,null,null,null,null,null,null,null,0]
[null,{"$f":"IFERROR(VLOOKUP(A3807,Base!$A$2:$D$460,2,0),\"\")","v":""},{"$f":"IFERROR(VLOOKUP(A3807,Base!$A$2:$D$460,3,0),\"\")","v":""},{"$f":"IFERROR(VLOOKUP(A3807,Base!$A$2:$D$460,4,0),\"\")","v":""},null,null,null,null,null,null,null,null,null,null,null,null,null,0]
[null,{"$f":"IFERROR(VLOOKUP(A3808,Base!$A$2:$D$460,2,0),\"\")","v":""},{"$f":"IFERROR(VLOOKUP(A3808,Base!$A$2:$D$460,3,0),\"\")","v":""},{"$f":"IFERROR(VLOOKUP(A3808,Base!$A$2:$D$460,4,0),\"\")","v":""},null,null,null,null,null,null,null,null,null,null,null,null,null,0]
[null,{"$f":"IFERROR(VLOOKUP(A3809,Base!$A$2:$D$460,2,0),\"\")","v":""},{"$f":"IFERROR(VLOOKUP(A3809,Base!$A$2:$D$460,3,0),\"\")","v":""},{"$f":"IFERROR(VLOOKUP(A3809,Base!$A$2:$D$460,4,0),\"\")","v":""},null,null,null,null,null,null,null,null,null,null,null,null,null,0]
[null,{"$f":"IFERROR(VLOOKUP(A3810,Base!$A$2:$D$460,2,0),\"\")","v":""},{"$f":"IFERROR(VLOOKUP(A3810,Base!$A$2:$D$460,3,0),\"\")","v":""},{"$f":"IFERROR(VLOOKUP(A3810,Base!$A$2:$D$460,4,0),\"\")","v":""},null,null,null,null,null,null,null,null,null,null,null,null,null,0]
[null,{"$f":"IFERROR(VLOOKUP(A3811,Base!$A$2:$D$460,2,0),\"\")","v":""},{"$f":"IFERROR(VLOOKUP(A3811,Base!$A$2:$D$460,3,0),\"\")","v":""},{"$f":"IFERROR(VLOOKUP(A3811,Base!$A$2:$D$460,4,0),\"\")","v":""},null,null,null,null,null,null,null,null,null,null,null,null,null,0]
[null,{"$f":"IFERROR(VLOOKUP(A3812,Base!$A$2:$D$460,2,0),\"\")","v":""},{"$f":"IFERROR(VLOOKUP(A3812,Base!$A$2:$D$460,3,0),\"\")","v":""},{"$f":"IFERROR(VLOOKUP(A3812,Base!$A$2:$D$460,4,0),\"\")","v":""},null,null,null,null,null,null,null,null,null,null,null,null,null,0]
[null,{"$f":"IFERROR(VLOOKUP(A3813,Base!$A$2:$D$460,2,0),\"\")","v":""},{"$f":"IFERROR(VLOOKUP(A3813,Base!$A$2:$D$460,3,0),\"\")","v":""},{"$f":"IFERROR(VLOOKUP(A3813,Base!$A$2:$D$460,4,0),\"\")","v":""},null,null,null,null,null,null,null,null,null,null,null,null,null,0]
[null,{"$f":"IFERROR(VLOOKUP(A3814,Base!$A$2:$D$460,2,0),\"\")","v":""},{"$f":"IFERROR(VLOOKUP(A3814,Base!$A$2:$D$460,3,0),\"\")","v":""},{"$f":"IFERROR(VLOOKUP(A3814,Base!$A$2:$D$460,4,0),\"\")","v":""},null,null,null,null,null,null,null,null,null,null,null,null,null,0]
[null,{"$f":"IFERROR(VLOOKUP(A3815,Base!$A$2:$D$460,2,0),\"\")","v":""},{"$f":"IFERROR(VLOOKUP(A3815,Base!$A$2:$D$460,3,0),\"\")","v":""},{"$f":"IFERROR(VLOOKUP(A3815,Base!$A$2:$D$460,4,0),\"\")","v":""},null,null,null,null,null,null,null,null,null,null,null,null,null,{"$f":"SUM(N3815:Q3815)/4","v":0}]
[null,{"$f":"IFERROR(VLOOKUP(A3816,Base!$A$2:$D$460,2,0),\"\")","v":""},{"$f":"IFERROR(VLOOKUP(A3816,Base!$A$2:$D$460,3,0),\"\")","v":""},{"$f":"IFERROR(VLOOKUP(A3816,Base!$A$2:$D$460,4,0),\"\")","v":""},null,null,null,null,null,null,null,null,null,null,null,null,null,0]
[null,{"$f":"IFERROR(VLOOKUP(A3817,Base!$A$2:$D$460,2,0),\"\")","v":""},{"$f":"IFERROR(VLOOKUP(A3817,Base!$A$2:$D$460,3,0),\"\")","v":""},{"$f":"IFERROR(VLOOKUP(A3817,Base!$A$2:$D$460,4,0),\"\")","v":""},null,null,null,null,null,null,null,null,null,null,null,null,null,0]
[null,{"$f":"IFERROR(VLOOKUP(A3818,Base!$A$2:$D$460,2,0),\"\")","v":""},{"$f":"IFERROR(VLOOKUP(A3818,Base!$A$2:$D$460,3,0),\"\")","v":""},{"$f":"IFERROR(VLOOKUP(A3818,Base!$A$2:$D$460,4,0),\"\")","v":""},null,null,null,null,null,null,null,null,null,null,null,null,null,0]
[null,{"$f":"IFERROR(VLOOKUP(A3819,Base!$A$2:$D$460,2,0),\"\")","v":""},{"$f":"IFERROR(VLOOKUP(A3819,Base!$A$2:$D$460,3,0),\"\")","v":""},{"$f":"IFERROR(VLOOKUP(A3819,Base!$A$2:$D$460,4,0),\"\")","v":""},null,null,null,null,null,null,null,null,null,null,null,null,null,0]
[null,{"$f":"IFERROR(VLOOKUP(A3820,Base!$A$2:$D$460,2,0),\"\")","v":""},{"$f":"IFERROR(VLOOKUP(A3820,Base!$A$2:$D$460,3,0),\"\")","v":""},{"$f":"IFERROR(VLOOKUP(A3820,Base!$A$2:$D$460,4,0),\"\")","v":""},null,null,null,null,null,null,null,null,null,null,null,null,null,0]
[null,{"$f":"IFERROR(VLOOKUP(A3821,Base!$A$2:$D$460,2,0),\"\")","v":""},{"$f":"IFERROR(VLOOKUP(A3821,Base!$A$2:$D$460,3,0),\"\")","v":""},{"$f":"IFERROR(VLOOKUP(A3821,Base!$A$2:$D$460,4,0),\"\")","v":""},null,null,null,null,null,null,null,null,null,null,null,null,null,0]
[null,{"$f":"IFERROR(VLOOKUP(A3822,Base!$A$2:$D$460,2,0),\"\")","v":""},{"$f":"IFERROR(VLOOKUP(A3822,Base!$A$2:$D$460,3,0),\"\")","v":""},{"$f":"IFERROR(VLOOKUP(A3822,Base!$A$2:$D$460,4,0),\"\")","v":""},null,null,null,null,null,null,null,null,null,null,null,null,null,0]
[null,{"$f":"IFERROR(VLOOKUP(A3823,Base!$A$2:$D$460,2,0),\"\")","v":""},{"$f":"IFERROR(VLOOKUP(A3823,Base!$A$2:$D$460,3,0),\"\")","v":""},{"$f":"IFERROR(VLOOKUP(A3823,Base!$A$2:$D$460,4,0),\"\")","v":""},null,null,null,null,null,null,null,null,null,null,null,null,null,0]
[null,{"$f":"IFERROR(VLOOKUP(A3824,Base!$A$2:$D$460,2,0),\"\")","v":""},{"$f":"IFERROR(VLOOKUP(A3824,Base!$A$2:$D$460,3,0),\"\")","v":""},{"$f":"IFERROR(VLOOKUP(A3824,Base!$A$2:$D$460,4,0),\"\")","v":""},null,null,null,null,null,null,null,null,null,null,null,null,null,0]
[null,{"$f":"IFERROR(VLOOKUP(A3825,Base!$A$2:$D$460,2,0),\"\")","v":""},{"$f":"IFERROR(VLOOKUP(A3825,Base!$A$2:$D$460,3,0),\"\")","v":""},{"$f":"IFERROR(VLOOKUP(A3825,Base!$A$2:$D$460,4,0),\"\")","v":""},null,null,null,null,null,null,null,null,null,null,null,null,null,0]
[null,{"$f":"IFERROR(VLOOKUP(A3826,Base!$A$2:$D$460,2,0),\"\")","v":""},{"$f":"IFERROR(VLOOKUP(A3826,Base!$A$2:$D$460,3,0),\"\")","v":""},{"$f":"IFERROR(VLOOKUP(A3826,Base!$A$2:$D$460,4,0),\"\")","v":""},null,null,null,null,null,null,null,null,null,null,null,null,null,0]
[null,{"$f":"IFERROR(VLOOKUP(A3827,Base!$A$2:$D$460,2,0),\"\")","v":""},{"$f":"IFERROR(VLOOKUP(A3827,Base!$A$2:$D$460,3,0),\"\")","v":""},{"$f":"IFERROR(VLOOKUP(A3827,Base!$A$2:$D$460,4,0),\"\")","v":""},null,null,null,null,null,null,null,null,null,null,null,null,null,0]
[null,{"$f":"IFERROR(VLOOKUP(A3828,Base!$A$2:$D$460,2,0),\"\")","v":""},{"$f":"IFERROR(VLOOKUP(A3828,Base!$A$2:$D$460,3,0),\"\")","v":""},{"$f":"IFERROR(VLOOKUP(A3828,Base!$A$2:$D$460,4,0),\"\")","v":""},null,null,null,null,null,null,null,null,null,null,null,null,null,0]
[null,{"$f":"IFERROR(VLOOKUP(A3829,Base!$A$2:$D$460,2,0),\"\")","v":""},{"$f":"IFERROR(VLOOKUP(A3829,Base!$A$2:$D$460,3,0),\"\")","v":""},{"$f":"IFERROR(VLOOKUP(A3829,Base!$A$2:$D$460,4,0),\"\")","v":""},null,null,null,null,null,null,null,null,null,null,null,null,null,0]
[null,{"$f":"IFERROR(VLOOKUP(A3830,Base!$A$2:$D$460,2,0),\"\")","v":""},{"$f":"IFERROR(VLOOKUP(A3830,Base!$A$2:$D$460,3,0),\"\")","v":""},{"$f":"IFERROR(VLOOKUP(A3830,Base!$A$2:$D$460,4,0),\"\")","v":""},null,null,null,null,null,null,null,null,null,null,null,null,null,0]
[null,{"$f":"IFERROR(VLOOKUP(A3831,Base!$A$2:$D$460,2,0),\"\")","v":""},{"$f":"IFERROR(VLOOKUP(A3831,Base!$A$2:$D$460,3,0),\"\")","v":""},{"$f":"IFERROR(VLOOKUP(A3831,Base!$A$2:$D$460,4,0),\"\")","v":""},null,null,null,null,null,null,null,null,null,null,null,null,null,0]
[null,{"$f":"IFERROR(VLOOKUP(A3832,Base!$A$2:$D$460,2,0),\"\")","v":""},{"$f":"IFERROR(VLOOKUP(A3832,Base!$A$2:$D$460,3,0),\"\")","v":""},{"$f":"IFERROR(VLOOKUP(A3832,Base!$A$2:$D$460,4,0),\"\")","v":""},null,null,null,null,null,null,null,null,null,null,null,null,null,0]
[null,{"$f":"IFERROR(VLOOKUP(A3833,Base!$A$2:$D$460,2,0),\"\")","v":""},{"$f":"IFERROR(VLOOKUP(A3833,Base!$A$2:$D$460,3,0),\"\")","v":""},{"$f":"IFERROR(VLOOKUP(A3833,Base!$A$2:$D$460,4,0),\"\")","v":""},null,null,null,null,null,null,null,null,null,null,null,null,null,0]
[null,{"$f":"IFERROR(VLOOKUP(A3834,Base!$A$2:$D$460,2,0),\"\")","v":""},{"$f":"IFERROR(VLOOKUP(A3834,Base!$A$2:$D$460,3,0),\"\")","v":""},{"$f":"IFERROR(VLOOKUP(A3834,Base!$A$2:$D$460,4,0),\"\")","v":""},null,null,null,null,null,null,null,null,null,null,null,null,null,0]
[null,{"$f":"IFERROR(VLOOKUP(A3835,Base!$A$2:$D$460,2,0),\"\")","v":""},{"$f":"IFERROR(VLOOKUP(A3835,Base!$A$2:$D$460,3,0),\"\")","v":""},{"$f":"IFERROR(VLOOKUP(A3835,Base!$A$2:$D$460,4,0),\"\")","v":""},null,null,null,null,null,null,null,null,null,null,null,null,null,0]
[null,{"$f":"IFERROR(VLOOKUP(A3836,Base!$A$2:$D$460,2,0),\"\")","v":""},{"$f":"IFERROR(VLOOKUP(A3836,Base!$A$2:$D$460,3,0),\"\")","v":""},{"$f":"IFERROR(VLOOKUP(A3836,Base!$A$2:$D$460,4,0),\"\")","v":""},null,null,null,null,null,null,null,null,null,null,null,null,null,0]
[null,{"$f":"IFERROR(VLOOKUP(A3837,Base!$A$2:$D$460,2,0),\"\")","v":""},{"$f":"IFERROR(VLOOKUP(A3837,Base!$A$2:$D$460,3,0),\"\")","v":""},{"$f":"IFERROR(VLOOKUP(A3837,Base!$A$2:$D$460,4,0),\"\")","v":""},null,null,null,null,null,null,null,null,null,null,null,null,null,0]
[null,{"$f":"IFERROR(VLOOKUP(A3838,Base!$A$2:$D$460,2,0),\"\")","v":""},{"$f":"IFERROR(VLOOKUP(A3838,Base!$A$2:$D$460,3,0),\"\")","v":""},{"$f":"IFERROR(VLOOKUP(A3838,Base!$A$2:$D$460,4,0),\"\")","v":""},null,null,null,null,null,null,null,null,null,null,null,null,null,0]
[null,{"$f":"IFERROR(VLOOKUP(A3839,Base!$A$2:$D$460,2,0),\"\")","v":""},{"$f":"IFERROR(VLOOKUP(A3839,Base!$A$2:$D$460,3,0),\"\")","v":""},{"$f":"IFERROR(VLOOKUP(A3839,Base!$A$2:$D$460,4,0),\"\")","v":""},null,null,null,null,null,null,null,null,null,null,null,null,null,0]
[null,{"$f":"IFERROR(VLOOKUP(A3840,Base!$A$2:$D$460,2,0),\"\")","v":""},{"$f":"IFERROR(VLOOKUP(A3840,Base!$A$2:$D$460,3,0),\"\")","v":""},{"$f":"IFERROR(VLOOKUP(A3840,Base!$A$2:$D$460,4,0),\"\")","v":""},null,null,null,null,null,null,null,null,null,null,null,null,null,0]
[null,{"$f":"IFERROR(VLOOKUP(A3841,Base!$A$2:$D$460,2,0),\"\")","v":""},{"$f":"IFERROR(VLOOKUP(A3841,Base!$A$2:$D$460,3,0),\"\")","v":""},{"$f":"IFERROR(VLOOKUP(A3841,Base!$A$2:$D$460,4,0),\"\")","v":""},null,null,null,null,null,null,null,null,null,null,null,null,null,0]
[null,{"$f":"IFERROR(VLOOKUP(A3842,Base!$A$2:$D$460,2,0),\"\")","v":""},{"$f":"IFERROR(VLOOKUP(A3842,Base!$A$2:$D$460,3,0),\"\")","v":""},{"$f":"IFERROR(VLOOKUP(A3842,Base!$A$2:$D$460,4,0),\"\")","v":""},null,null,null,null,null,null,null,null,null,null,null,null,null,0]
[null,{"$f":"IFERROR(VLOOKUP(A3843,Base!$A$2:$D$460,2,0),\"\")","v":""},{"$f":"IFERROR(VLOOKUP(A3843,Base!$A$2:$D$460,3,0),\"\")","v":""},{"$f":"IFERROR(VLOOKUP(A3843,Base!$A$2:$D$460,4,0),\"\")","v":""},null,null,null,null,null,null,null,null,null,null,null,null,null,0]
[null,{"$f":"IFERROR(VLOOKUP(A3844,Base!$A$2:$D$460,2,0),\"\")","v":""},{"$f":"IFERROR(VLOOKUP(A3844,Base!$A$2:$D$460,3,0),\"\")","v":""},{"$f":"IFERROR(VLOOKUP(A3844,Base!$A$2:$D$460,4,0),\"\")","v":""},null,null,null,null,null,null,null,null,null,null,null,null,null,0]
[null,{"$f":"IFERROR(VLOOKUP(A3845,Base!$A$2:$D$460,2,0),\"\")","v":""},{"$f":"IFERROR(VLOOKUP(A3845,Base!$A$2:$D$460,3,0),\"\")","v":""},{"$f":"IFERROR(VLOOKUP(A3845,Base!$A$2:$D$460,4,0),\"\")","v":""},null,null,null,null,null,null,null,null,null,null,null,null,null,0]
[null,{"$f":"IFERROR(VLOOKUP(A3846,Base!$A$2:$D$460,2,0),\"\")","v":""},{"$f":"IFERROR(VLOOKUP(A3846,Base!$A$2:$D$460,3,0),\"\")","v":""},{"$f":"IFERROR(VLOOKUP(A3846,Base!$A$2:$D$460,4,0),\"\")","v":""},null,null,null,null,null,null,null,null,null,null,null,null,null,0]
[null,{"$f":"IFERROR(VLOOKUP(A3847,Base!$A$2:$D$460,2,0),\"\")","v":""},{"$f":"IFERROR(VLOOKUP(A3847,Base!$A$2:$D$460,3,0),\"\")","v":""},{"$f":"IFERROR(VLOOKUP(A3847,Base!$A$2:$D$460,4,0),\"\")","v":""},null,null,null,null,null,null,null,null,null,null,null,null,null,0]
[null,{"$f":"IFERROR(VLOOKUP(A3848,Base!$A$2:$D$460,2,0),\"\")","v":""},{"$f":"IFERROR(VLOOKUP(A3848,Base!$A$2:$D$460,3,0),\"\")","v":""},{"$f":"IFERROR(VLOOKUP(A3848,Base!$A$2:$D$460,4,0),\"\")","v":""},null,null,null,null,null,null,null,null,null,null,null,null,null,0]
[null,{"$f":"IFERROR(VLOOKUP(A3849,Base!$A$2:$D$460,2,0),\"\")","v":""},{"$f":"IFERROR(VLOOKUP(A3849,Base!$A$2:$D$460,3,0),\"\")","v":""},{"$f":"IFERROR(VLOOKUP(A3849,Base!$A$2:$D$460,4,0),\"\")","v":""},null,null,null,null,null,null,null,null,null,null,null,null,null,0]
[null,{"$f":"IFERROR(VLOOKUP(A3850,Base!$A$2:$D$460,2,0),\"\")","v":""},{"$f":"IFERROR(VLOOKUP(A3850,Base!$A$2:$D$460,3,0),\"\")","v":""},{"$f":"IFERROR(VLOOKUP(A3850,Base!$A$2:$D$460,4,0),\"\")","v":""},null,null,null,null,null,null,null,null,null,null,null,null,null,0]
[null,{"$f":"IFERROR(VLOOKUP(A3851,Base!$A$2:$D$460,2,0),\"\")","v":""},{"$f":"IFERROR(VLOOKUP(A3851,Base!$A$2:$D$460,3,0),\"\")","v":""},{"$f":"IFERROR(VLOOKUP(A3851,Base!$A$2:$D$460,4,0),\"\")","v":""},null,null,null,null,null,null,null,null,null,null,null,null,null,0]
[null,{"$f":"IFERROR(VLOOKUP(A3852,Base!$A$2:$D$460,2,0),\"\")","v":""},{"$f":"IFERROR(VLOOKUP(A3852,Base!$A$2:$D$460,3,0),\"\")","v":""},{"$f":"IFERROR(VLOOKUP(A3852,Base!$A$2:$D$460,4,0),\"\")","v":""},null,null,null,null,null,null,null,null,null,null,null,null,null,0]
[null,{"$f":"IFERROR(VLOOKUP(A3853,Base!$A$2:$D$460,2,0),\"\")","v":""},{"$f":"IFERROR(VLOOKUP(A3853,Base!$A$2:$D$460,3,0),\"\")","v":""},{"$f":"IFERROR(VLOOKUP(A3853,Base!$A$2:$D$460,4,0),\"\")","v":""},null,null,null,null,null,null,null,null,null,null,null,null,null,0]
[null,{"$f":"IFERROR(VLOOKUP(A3854,Base!$A$2:$D$460,2,0),\"\")","v":""},{"$f":"IFERROR(VLOOKUP(A3854,Base!$A$2:$D$460,3,0),\"\")","v":""},{"$f":"IFERROR(VLOOKUP(A3854,Base!$A$2:$D$460,4,0),\"\")","v":""},null,null,null,null,null,null,null,null,null,null,null,null,null,0]
[null,{"$f":"IFERROR(VLOOKUP(A3855,Base!$A$2:$D$460,2,0),\"\")","v":""},{"$f":"IFERROR(VLOOKUP(A3855,Base!$A$2:$D$460,3,0),\"\")","v":""},{"$f":"IFERROR(VLOOKUP(A3855,Base!$A$2:$D$460,4,0),\"\")","v":""},null,null,null,null,null,null,null,null,null,null,null,null,null,0]
[null,{"$f":"IFERROR(VLOOKUP(A3856,Base!$A$2:$D$460,2,0),\"\")","v":""},{"$f":"IFERROR(VLOOKUP(A3856,Base!$A$2:$D$460,3,0),\"\")","v":""},{"$f":"IFERROR(VLOOKUP(A3856,Base!$A$2:$D$460,4,0),\"\")","v":""},null,null,null,null,null,null,null,null,null,null,null,null,null,0]
[null,{"$f":"IFERROR(VLOOKUP(A3857,Base!$A$2:$D$460,2,0),\"\")","v":""},{"$f":"IFERROR(VLOOKUP(A3857,Base!$A$2:$D$460,3,0),\"\")","v":""},{"$f":"IFERROR(VLOOKUP(A3857,Base!$A$2:$D$460,4,0),\"\")","v":""},null,null,null,null,null,null,null,null,null,null,null,null,null,0]
[null,{"$f":"IFERROR(VLOOKUP(A3858,Base!$A$2:$D$460,2,0),\"\")","v":""},{"$f":"IFERROR(VLOOKUP(A3858,Base!$A$2:$D$460,3,0),\"\")","v":""},{"$f":"IFERROR(VLOOKUP(A3858,Base!$A$2:$D$460,4,0),\"\")","v":""},null,null,null,null,null,null,null,null,null,null,null,null,null,0]
[null,{"$f":"IFERROR(VLOOKUP(A3859,Base!$A$2:$D$460,2,0),\"\")","v":""},{"$f":"IFERROR(VLOOKUP(A3859,Base!$A$2:$D$460,3,0),\"\")","v":""},{"$f":"IFERROR(VLOOKUP(A3859,Base!$A$2:$D$460,4,0),\"\")","v":""},null,null,null,null,null,null,null,null,null,null,null,null,null,0]
[null,{"$f":"IFERROR(VLOOKUP(A3860,Base!$A$2:$D$460,2,0),\"\")","v":""},{"$f":"IFERROR(VLOOKUP(A3860,Base!$A$2:$D$460,3,0),\"\")","v":""},{"$f":"IFERROR(VLOOKUP(A3860,Base!$A$2:$D$460,4,0),\"\")","v":""},null,null,null,null,null,null,null,null,null,null,null,null,null,0]
[null,{"$f":"IFERROR(VLOOKUP(A3861,Base!$A$2:$D$460,2,0),\"\")","v":""},{"$f":"IFERROR(VLOOKUP(A3861,Base!$A$2:$D$460,3,0),\"\")","v":""},{"$f":"IFERROR(VLOOKUP(A3861,Base!$A$2:$D$460,4,0),\"\")","v":""},null,null,null,null,null,null,null,null,null,null,null,null,null,0]
[null,{"$f":"IFERROR(VLOOKUP(A3862,Base!$A$2:$D$460,2,0),\"\")","v":""},{"$f":"IFERROR(VLOOKUP(A3862,Base!$A$2:$D$460,3,0),\"\")","v":""},{"$f":"IFERROR(VLOOKUP(A3862,Base!$A$2:$D$460,4,0),\"\")","v":""},null,null,null,null,null,null,null,null,null,null,null,null,null,0]
[null,{"$f":"IFERROR(VLOOKUP(A3863,Base!$A$2:$D$460,2,0),\"\")","v":""},{"$f":"IFERROR(VLOOKUP(A3863,Base!$A$2:$D$460,3,0),\"\")","v":""},{"$f":"IFERROR(VLOOKUP(A3863,Base!$A$2:$D$460,4,0),\"\")","v":""},null,null,null,null,null,null,null,null,null,null,null,null,null,0]
[null,{"$f":"IFERROR(VLOOKUP(A3864,Base!$A$2:$D$460,2,0),\"\")","v":""},{"$f":"IFERROR(VLOOKUP(A3864,Base!$A$2:$D$460,3,0),\"\")","v":""},{"$f":"IFERROR(VLOOKUP(A3864,Base!$A$2:$D$460,4,0),\"\")","v":""},null,null,null,null,null,null,null,null,null,null,null,null,null,0]
[null,{"$f":"IFERROR(VLOOKUP(A3865,Base!$A$2:$D$460,2,0),\"\")","v":""},{"$f":"IFERROR(VLOOKUP(A3865,Base!$A$2:$D$460,3,0),\"\")","v":""},{"$f":"IFERROR(VLOOKUP(A3865,Base!$A$2:$D$460,4,0),\"\")","v":""},null,null,null,null,null,null,null,null,null,null,null,null,null,0]
[null,{"$f":"IFERROR(VLOOKUP(A3866,Base!$A$2:$D$460,2,0),\"\")","v":""},{"$f":"IFERROR(VLOOKUP(A3866,Base!$A$2:$D$460,3,0),\"\")","v":""},{"$f":"IFERROR(VLOOKUP(A3866,Base!$A$2:$D$460,4,0),\"\")","v":""},null,null,null,null,null,null,null,null,null,null,null,null,null,0]
[null,{"$f":"IFERROR(VLOOKUP(A3867,Base!$A$2:$D$460,2,0),\"\")","v":""},{"$f":"IFERROR(VLOOKUP(A3867,Base!$A$2:$D$460,3,0),\"\")","v":""},{"$f":"IFERROR(VLOOKUP(A3867,Base!$A$2:$D$460,4,0),\"\")","v":""},null,null,null,null,null,null,null,null,null,null,null,null,null,0]
[null,{"$f":"IFERROR(VLOOKUP(A3868,Base!$A$2:$D$460,2,0),\"\")","v":""},{"$f":"IFERROR(VLOOKUP(A3868,Base!$A$2:$D$460,3,0),\"\")","v":""},{"$f":"IFERROR(VLOOKUP(A3868,Base!$A$2:$D$460,4,0),\"\")","v":""},null,null,null,null,null,null,null,null,null,null,null,null,null,0]
[null,{"$f":"IFERROR(VLOOKUP(A3869,Base!$A$2:$D$460,2,0),\"\")","v":""},{"$f":"IFERROR(VLOOKUP(A3869,Base!$A$2:$D$460,3,0),\"\")","v":""},{"$f":"IFERROR(VLOOKUP(A3869,Base!$A$2:$D$460,4,0),\"\")","v":""},null,null,null,null,null,null,null,null,null,null,null,null,null,0]
[null,{"$f":"IFERROR(VLOOKUP(A3870,Base!$A$2:$D$460,2,0),\"\")","v":""},{"$f":"IFERROR(VLOOKUP(A3870,Base!$A$2:$D$460,3,0),\"\")","v":""},{"$f":"IFERROR(VLOOKUP(A3870,Base!$A$2:$D$460,4,0),\"\")","v":""},null,null,null,null,null,null,null,null,null,null,null,null,null,0]
[null,{"$f":"IFERROR(VLOOKUP(A3871,Base!$A$2:$D$460,2,0),\"\")","v":""},{"$f":"IFERROR(VLOOKUP(A3871,Base!$A$2:$D$460,3,0),\"\")","v":""},{"$f":"IFERROR(VLOOKUP(A3871,Base!$A$2:$D$460,4,0),\"\")","v":""},null,null,null,null,null,null,null,null,null,null,null,null,null,0]
[null,{"$f":"IFERROR(VLOOKUP(A3872,Base!$A$2:$D$460,2,0),\"\")","v":""},{"$f":"IFERROR(VLOOKUP(A3872,Base!$A$2:$D$460,3,0),\"\")","v":""},{"$f":"IFERROR(VLOOKUP(A3872,Base!$A$2:$D$460,4,0),\"\")","v":""},null,null,null,null,null,null,null,null,null,null,null,null,null,0]
[null,{"$f":"IFERROR(VLOOKUP(A3873,Base!$A$2:$D$460,2,0),\"\")","v":""},{"$f":"IFERROR(VLOOKUP(A3873,Base!$A$2:$D$460,3,0),\"\")","v":""},{"$f":"IFERROR(VLOOKUP(A3873,Base!$A$2:$D$460,4,0),\"\")","v":""},null,null,null,null,null,null,null,null,null,null,null,null,null,0]
[null,{"$f":"IFERROR(VLOOKUP(A3874,Base!$A$2:$D$460,2,0),\"\")","v":""},{"$f":"IFERROR(VLOOKUP(A3874,Base!$A$2:$D$460,3,0),\"\")","v":""},{"$f":"IFERROR(VLOOKUP(A3874,Base!$A$2:$D$460,4,0),\"\")","v":""},null,null,null,null,null,null,null,null,null,null,null,null,null,0]
[null,{"$f":"IFERROR(VLOOKUP(A3875,Base!$A$2:$D$460,2,0),\"\")","v":""},{"$f":"IFERROR(VLOOKUP(A3875,Base!$A$2:$D$460,3,0),\"\")","v":""},{"$f":"IFERROR(VLOOKUP(A3875,Base!$A$2:$D$460,4,0),\"\")","v":""},null,null,null,null,null,null,null,null,null,null,null,null,null,0]
[null,{"$f":"IFERROR(VLOOKUP(A3876,Base!$A$2:$D$460,2,0),\"\")","v":""},{"$f":"IFERROR(VLOOKUP(A3876,Base!$A$2:$D$460,3,0),\"\")","v":""},{"$f":"IFERROR(VLOOKUP(A3876,Base!$A$2:$D$460,4,0),\"\")","v":""},null,null,null,null,null,null,null,null,null,null,null,null,null,0]
[null,{"$f":"IFERROR(VLOOKUP(A3877,Base!$A$2:$D$460,2,0),\"\")","v":""},{"$f":"IFERROR(VLOOKUP(A3877,Base!$A$2:$D$460,3,0),\"\")","v":""},{"$f":"IFERROR(VLOOKUP(A3877,Base!$A$2:$D$460,4,0),\"\")","v":""},null,null,null,null,null,null,null,null,null,null,null,null,null,0]
[null,{"$f":"IFERROR(VLOOKUP(A3878,Base!$A$2:$D$460,2,0),\"\")","v":""},{"$f":"IFERROR(VLOOKUP(A3878,Base!$A$2:$D$460,3,0),\"\")","v":""},{"$f":"IFERROR(VLOOKUP(A3878,Base!$A$2:$D$460,4,0),\"\")","v":""},null,null,null,null,null,null,null,null,null,null,null,null,null,0]
[null,{"$f":"IFERROR(VLOOKUP(A3879,Base!$A$2:$D$460,2,0),\"\")","v":""},{"$f":"IFERROR(VLOOKUP(A3879,Base!$A$2:$D$460,3,0),\"\")","v":""},{"$f":"IFERROR(VLOOKUP(A3879,Base!$A$2:$D$460,4,0),\"\")","v":""},null,null,null,null,null,null,null,null,null,null,null,null,null,{"$f":"SUM(N3879:Q3879)/4","v":0}]
[null,{"$f":"IFERROR(VLOOKUP(A3880,Base!$A$2:$D$460,2,0),\"\")","v":""},{"$f":"IFERROR(VLOOKUP(A3880,Base!$A$2:$D$460,3,0),\"\")","v":""},{"$f":"IFERROR(VLOOKUP(A3880,Base!$A$2:$D$460,4,0),\"\")","v":""},null,null,null,null,null,null,null,null,null,null,null,null,null,0]
[null,{"$f":"IFERROR(VLOOKUP(A3881,Base!$A$2:$D$460,2,0),\"\")","v":""},{"$f":"IFERROR(VLOOKUP(A3881,Base!$A$2:$D$460,3,0),\"\")","v":""},{"$f":"IFERROR(VLOOKUP(A3881,Base!$A$2:$D$460,4,0),\"\")","v":""},null,null,null,null,null,null,null,null,null,null,null,null,null,0]
[null,{"$f":"IFERROR(VLOOKUP(A3882,Base!$A$2:$D$460,2,0),\"\")","v":""},{"$f":"IFERROR(VLOOKUP(A3882,Base!$A$2:$D$460,3,0),\"\")","v":""},{"$f":"IFERROR(VLOOKUP(A3882,Base!$A$2:$D$460,4,0),\"\")","v":""},null,null,null,null,null,null,null,null,null,null,null,null,null,0]
[null,{"$f":"IFERROR(VLOOKUP(A3883,Base!$A$2:$D$460,2,0),\"\")","v":""},{"$f":"IFERROR(VLOOKUP(A3883,Base!$A$2:$D$460,3,0),\"\")","v":""},{"$f":"IFERROR(VLOOKUP(A3883,Base!$A$2:$D$460,4,0),\"\")","v":""},null,null,null,null,null,null,null,null,null,null,null,null,null,0]
[null,{"$f":"IFERROR(VLOOKUP(A3884,Base!$A$2:$D$460,2,0),\"\")","v":""},{"$f":"IFERROR(VLOOKUP(A3884,Base!$A$2:$D$460,3,0),\"\")","v":""},{"$f":"IFERROR(VLOOKUP(A3884,Base!$A$2:$D$460,4,0),\"\")","v":""},null,null,null,null,null,null,null,null,null,null,null,null,null,0]
[null,{"$f":"IFERROR(VLOOKUP(A3885,Base!$A$2:$D$460,2,0),\"\")","v":""},{"$f":"IFERROR(VLOOKUP(A3885,Base!$A$2:$D$460,3,0),\"\")","v":""},{"$f":"IFERROR(VLOOKUP(A3885,Base!$A$2:$D$460,4,0),\"\")","v":""},null,null,null,null,null,null,null,null,null,null,null,null,null,0]
[null,{"$f":"IFERROR(VLOOKUP(A3886,Base!$A$2:$D$460,2,0),\"\")","v":""},{"$f":"IFERROR(VLOOKUP(A3886,Base!$A$2:$D$460,3,0),\"\")","v":""},{"$f":"IFERROR(VLOOKUP(A3886,Base!$A$2:$D$460,4,0),\"\")","v":""},null,null,null,null,null,null,null,null,null,null,null,null,null,0]
[null,{"$f":"IFERROR(VLOOKUP(A3887,Base!$A$2:$D$460,2,0),\"\")","v":""},{"$f":"IFERROR(VLOOKUP(A3887,Base!$A$2:$D$460,3,0),\"\")","v":""},{"$f":"IFERROR(VLOOKUP(A3887,Base!$A$2:$D$460,4,0),\"\")","v":""},null,null,null,null,null,null,null,null,null,null,null,null,null,0]
[null,{"$f":"IFERROR(VLOOKUP(A3888,Base!$A$2:$D$460,2,0),\"\")","v":""},{"$f":"IFERROR(VLOOKUP(A3888,Base!$A$2:$D$460,3,0),\"\")","v":""},{"$f":"IFERROR(VLOOKUP(A3888,Base!$A$2:$D$460,4,0),\"\")","v":""},null,null,null,null,null,null,null,null,null,null,null,null,null,0]
[null,{"$f":"IFERROR(VLOOKUP(A3889,Base!$A$2:$D$460,2,0),\"\")","v":""},{"$f":"IFERROR(VLOOKUP(A3889,Base!$A$2:$D$460,3,0),\"\")","v":""},{"$f":"IFERROR(VLOOKUP(A3889,Base!$A$2:$D$460,4,0),\"\")","v":""},null,null,null,null,null,null,null,null,null,null,null,null,null,0]
[null,{"$f":"IFERROR(VLOOKUP(A3890,Base!$A$2:$D$460,2,0),\"\")","v":""},{"$f":"IFERROR(VLOOKUP(A3890,Base!$A$2:$D$460,3,0),\"\")","v":""},{"$f":"IFERROR(VLOOKUP(A3890,Base!$A$2:$D$460,4,0),\"\")","v":""},null,null,null,null,null,null,null,null,null,null,null,null,null,0]
[null,{"$f":"IFERROR(VLOOKUP(A3891,Base!$A$2:$D$460,2,0),\"\")","v":""},{"$f":"IFERROR(VLOOKUP(A3891,Base!$A$2:$D$460,3,0),\"\")","v":""},{"$f":"IFERROR(VLOOKUP(A3891,Base!$A$2:$D$460,4,0),\"\")","v":""},null,null,null,null,null,null,null,null,null,null,null,null,null,0]
[null,{"$f":"IFERROR(VLOOKUP(A3892,Base!$A$2:$D$460,2,0),\"\")","v":""},{"$f":"IFERROR(VLOOKUP(A3892,Base!$A$2:$D$460,3,0),\"\")","v":""},{"$f":"IFERROR(VLOOKUP(A3892,Base!$A$2:$D$460,4,0),\"\")","v":""},null,null,null,null,null,null,null,null,null,null,null,null,null,0]
[null,{"$f":"IFERROR(VLOOKUP(A3893,Base!$A$2:$D$460,2,0),\"\")","v":""},{"$f":"IFERROR(VLOOKUP(A3893,Base!$A$2:$D$460,3,0),\"\")","v":""},{"$f":"IFERROR(VLOOKUP(A3893,Base!$A$2:$D$460,4,0),\"\")","v":""},null,null,null,null,null,null,null,null,null,null,null,null,null,0]
[null,{"$f":"IFERROR(VLOOKUP(A3894,Base!$A$2:$D$460,2,0),\"\")","v":""},{"$f":"IFERROR(VLOOKUP(A3894,Base!$A$2:$D$460,3,0),\"\")","v":""},{"$f":"IFERROR(VLOOKUP(A3894,Base!$A$2:$D$460,4,0),\"\")","v":""},null,null,null,null,null,null,null,null,null,null,null,null,null,0]
[null,{"$f":"IFERROR(VLOOKUP(A3895,Base!$A$2:$D$460,2,0),\"\")","v":""},{"$f":"IFERROR(VLOOKUP(A3895,Base!$A$2:$D$460,3,0),\"\")","v":""},{"$f":"IFERROR(VLOOKUP(A3895,Base!$A$2:$D$460,4,0),\"\")","v":""},null,null,null,null,null,null,null,null,null,null,null,null,null,0]
[null,{"$f":"IFERROR(VLOOKUP(A3896,Base!$A$2:$D$460,2,0),\"\")","v":""},{"$f":"IFERROR(VLOOKUP(A3896,Base!$A$2:$D$460,3,0),\"\")","v":""},{"$f":"IFERROR(VLOOKUP(A3896,Base!$A$2:$D$460,4,0),\"\")","v":""},null,null,null,null,null,null,null,null,null,null,null,null,null,0]
[null,{"$f":"IFERROR(VLOOKUP(A3897,Base!$A$2:$D$460,2,0),\"\")","v":""},{"$f":"IFERROR(VLOOKUP(A3897,Base!$A$2:$D$460,3,0),\"\")","v":""},{"$f":"IFERROR(VLOOKUP(A3897,Base!$A$2:$D$460,4,0),\"\")","v":""},null,null,null,null,null,null,null,null,null,null,null,null,null,0]
[null,{"$f":"IFERROR(VLOOKUP(A3898,Base!$A$2:$D$460,2,0),\"\")","v":""},{"$f":"IFERROR(VLOOKUP(A3898,Base!$A$2:$D$460,3,0),\"\")","v":""},{"$f":"IFERROR(VLOOKUP(A3898,Base!$A$2:$D$460,4,0),\"\")","v":""},null,null,null,null,null,null,null,null,null,null,null,null,null,0]
[null,{"$f":"IFERROR(VLOOKUP(A3899,Base!$A$2:$D$460,2,0),\"\")","v":""},{"$f":"IFERROR(VLOOKUP(A3899,Base!$A$2:$D$460,3,0),\"\")","v":""},{"$f":"IFERROR(VLOOKUP(A3899,Base!$A$2:$D$460,4,0),\"\")","v":""},null,null,null,null,null,null,null,null,null,null,null,null,null,0]
[null,{"$f":"IFERROR(VLOOKUP(A3900,Base!$A$2:$D$460,2,0),\"\")","v":""},{"$f":"IFERROR(VLOOKUP(A3900,Base!$A$2:$D$460,3,0),\"\")","v":""},{"$f":"IFERROR(VLOOKUP(A3900,Base!$A$2:$D$460,4,0),\"\")","v":""},null,null,null,null,null,null,null,null,null,null,null,null,null,0]
[null,{"$f":"IFERROR(VLOOKUP(A3901,Base!$A$2:$D$460,2,0),\"\")","v":""},{"$f":"IFERROR(VLOOKUP(A3901,Base!$A$2:$D$460,3,0),\"\")","v":""},{"$f":"IFERROR(VLOOKUP(A3901,Base!$A$2:$D$460,4,0),\"\")","v":""},null,null,null,null,null,null,null,null,null,null,null,null,null,0]
[null,{"$f":"IFERROR(VLOOKUP(A3902,Base!$A$2:$D$460,2,0),\"\")","v":""},{"$f":"IFERROR(VLOOKUP(A3902,Base!$A$2:$D$460,3,0),\"\")","v":""},{"$f":"IFERROR(VLOOKUP(A3902,Base!$A$2:$D$460,4,0),\"\")","v":""},null,null,null,null,null,null,null,null,null,null,null,null,null,0]
[null,{"$f":"IFERROR(VLOOKUP(A3903,Base!$A$2:$D$460,2,0),\"\")","v":""},{"$f":"IFERROR(VLOOKUP(A3903,Base!$A$2:$D$460,3,0),\"\")","v":""},{"$f":"IFERROR(VLOOKUP(A3903,Base!$A$2:$D$460,4,0),\"\")","v":""},null,null,null,null,null,null,null,null,null,null,null,null,null,0]
[null,{"$f":"IFERROR(VLOOKUP(A3904,Base!$A$2:$D$460,2,0),\"\")","v":""},{"$f":"IFERROR(VLOOKUP(A3904,Base!$A$2:$D$460,3,0),\"\")","v":""},{"$f":"IFERROR(VLOOKUP(A3904,Base!$A$2:$D$460,4,0),\"\")","v":""},null,null,null,null,null,null,null,null,null,null,null,null,null,0]
[null,{"$f":"IFERROR(VLOOKUP(A3905,Base!$A$2:$D$460,2,0),\"\")","v":""},{"$f":"IFERROR(VLOOKUP(A3905,Base!$A$2:$D$460,3,0),\"\")","v":""},{"$f":"IFERROR(VLOOKUP(A3905,Base!$A$2:$D$460,4,0),\"\")","v":""},null,null,null,null,null,null,null,null,null,null,null,null,null,0]
[null,{"$f":"IFERROR(VLOOKUP(A3906,Base!$A$2:$D$460,2,0),\"\")","v":""},{"$f":"IFERROR(VLOOKUP(A3906,Base!$A$2:$D$460,3,0),\"\")","v":""},{"$f":"IFERROR(VLOOKUP(A3906,Base!$A$2:$D$460,4,0),\"\")","v":""},null,null,null,null,null,null,null,null,null,null,null,null,null,0]
[null,{"$f":"IFERROR(VLOOKUP(A3907,Base!$A$2:$D$460,2,0),\"\")","v":""},{"$f":"IFERROR(VLOOKUP(A3907,Base!$A$2:$D$460,3,0),\"\")","v":""},{"$f":"IFERROR(VLOOKUP(A3907,Base!$A$2:$D$460,4,0),\"\")","v":""},null,null,null,null,null,null,null,null,null,null,null,null,null,0]
[null,{"$f":"IFERROR(VLOOKUP(A3908,Base!$A$2:$D$460,2,0),\"\")","v":""},{"$f":"IFERROR(VLOOKUP(A3908,Base!$A$2:$D$460,3,0),\"\")","v":""},{"$f":"IFERROR(VLOOKUP(A3908,Base!$A$2:$D$460,4,0),\"\")","v":""},null,null,null,null,null,null,null,null,null,null,null,null,null,0]
[null,{"$f":"IFERROR(VLOOKUP(A3909,Base!$A$2:$D$460,2,0),\"\")","v":""},{"$f":"IFERROR(VLOOKUP(A3909,Base!$A$2:$D$460,3,0),\"\")","v":""},{"$f":"IFERROR(VLOOKUP(A3909,Base!$A$2:$D$460,4,0),\"\")","v":""},null,null,null,null,null,null,null,null,null,null,null,null,null,0]
[null,{"$f":"IFERROR(VLOOKUP(A3910,Base!$A$2:$D$460,2,0),\"\")","v":""},{"$f":"IFERROR(VLOOKUP(A3910,Base!$A$2:$D$460,3,0),\"\")","v":""},{"$f":"IFERROR(VLOOKUP(A3910,Base!$A$2:$D$460,4,0),\"\")","v":""},null,null,null,null,null,null,null,null,null,null,null,null,null,0]
[null,{"$f":"IFERROR(VLOOKUP(A3911,Base!$A$2:$D$460,2,0),\"\")","v":""},{"$f":"IFERROR(VLOOKUP(A3911,Base!$A$2:$D$460,3,0),\"\")","v":""},{"$f":"IFERROR(VLOOKUP(A3911,Base!$A$2:$D$460,4,0),\"\")","v":""},null,null,null,null,null,null,null,null,null,null,null,null,null,0]
[null,{"$f":"IFERROR(VLOOKUP(A3912,Base!$A$2:$D$460,2,0),\"\")","v":""},{"$f":"IFERROR(VLOOKUP(A3912,Base!$A$2:$D$460,3,0),\"\")","v":""},{"$f":"IFERROR(VLOOKUP(A3912,Base!$A$2:$D$460,4,0),\"\")","v":""},null,null,null,null,null,null,null,null,null,null,null,null,null,0]
[null,{"$f":"IFERROR(VLOOKUP(A3913,Base!$A$2:$D$460,2,0),\"\")","v":""},{"$f":"IFERROR(VLOOKUP(A3913,Base!$A$2:$D$460,3,0),\"\")","v":""},{"$f":"IFERROR(VLOOKUP(A3913,Base!$A$2:$D$460,4,0),\"\")","v":""},null,null,null,null,null,null,null,null,null,null,null,null,null,0]
[null,{"$f":"IFERROR(VLOOKUP(A3914,Base!$A$2:$D$460,2,0),\"\")","v":""},{"$f":"IFERROR(VLOOKUP(A3914,Base!$A$2:$D$460,3,0),\"\")","v":""},{"$f":"IFERROR(VLOOKUP(A3914,Base!$A$2:$D$460,4,0),\"\")","v":""},null,null,null,null,null,null,null,null,null,null,null,null,null,0]
[null,{"$f":"IFERROR(VLOOKUP(A3915,Base!$A$2:$D$460,2,0),\"\")","v":""},{"$f":"IFERROR(VLOOKUP(A3915,Base!$A$2:$D$460,3,0),\"\")","v":""},{"$f":"IFERROR(VLOOKUP(A3915,Base!$A$2:$D$460,4,0),\"\")","v":""},null,null,null,null,null,null,null,null,null,null,null,null,null,0]
[null,{"$f":"IFERROR(VLOOKUP(A3916,Base!$A$2:$D$460,2,0),\"\")","v":""},{"$f":"IFERROR(VLOOKUP(A3916,Base!$A$2:$D$460,3,0),\"\")","v":""},{"$f":"IFERROR(VLOOKUP(A3916,Base!$A$2:$D$460,4,0),\"\")","v":""},null,null,null,null,null,null,null,null,null,null,null,null,null,0]
[null,{"$f":"IFERROR(VLOOKUP(A3917,Base!$A$2:$D$460,2,0),\"\")","v":""},{"$f":"IFERROR(VLOOKUP(A3917,Base!$A$2:$D$460,3,0),\"\")","v":""},{"$f":"IFERROR(VLOOKUP(A3917,Base!$A$2:$D$460,4,0),\"\")","v":""},null,null,null,null,null,null,null,null,null,null,null,null,null,0]
[null,{"$f":"IFERROR(VLOOKUP(A3918,Base!$A$2:$D$460,2,0),\"\")","v":""},{"$f":"IFERROR(VLOOKUP(A3918,Base!$A$2:$D$460,3,0),\"\")","v":""},{"$f":"IFERROR(VLOOKUP(A3918,Base!$A$2:$D$460,4,0),\"\")","v":""},null,null,null,null,null,null,null,null,null,null,null,null,null,0]
[null,{"$f":"IFERROR(VLOOKUP(A3919,Base!$A$2:$D$460,2,0),\"\")","v":""},{"$f":"IFERROR(VLOOKUP(A3919,Base!$A$2:$D$460,3,0),\"\")","v":""},{"$f":"IFERROR(VLOOKUP(A3919,Base!$A$2:$D$460,4,0),\"\")","v":""},null,null,null,null,null,null,null,null,null,null,null,null,null,0]
[null,{"$f":"IFERROR(VLOOKUP(A3920,Base!$A$2:$D$460,2,0),\"\")","v":""},{"$f":"IFERROR(VLOOKUP(A3920,Base!$A$2:$D$460,3,0),\"\")","v":""},{"$f":"IFERROR(VLOOKUP(A3920,Base!$A$2:$D$460,4,0),\"\")","v":""},null,null,null,null,null,null,null,null,null,null,null,null,null,0]
[null,{"$f":"IFERROR(VLOOKUP(A3921,Base!$A$2:$D$460,2,0),\"\")","v":""},{"$f":"IFERROR(VLOOKUP(A3921,Base!$A$2:$D$460,3,0),\"\")","v":""},{"$f":"IFERROR(VLOOKUP(A3921,Base!$A$2:$D$460,4,0),\"\")","v":""},null,null,null,null,null,null,null,null,null,null,null,null,null,0]
[null,{"$f":"IFERROR(VLOOKUP(A3922,Base!$A$2:$D$460,2,0),\"\")","v":""},{"$f":"IFERROR(VLOOKUP(A3922,Base!$A$2:$D$460,3,0),\"\")","v":""},{"$f":"IFERROR(VLOOKUP(A3922,Base!$A$2:$D$460,4,0),\"\")","v":""},null,null,null,null,null,null,null,null,null,null,null,null,null,0]
[null,{"$f":"IFERROR(VLOOKUP(A3923,Base!$A$2:$D$460,2,0),\"\")","v":""},{"$f":"IFERROR(VLOOKUP(A3923,Base!$A$2:$D$460,3,0),\"\")","v":""},{"$f":"IFERROR(VLOOKUP(A3923,Base!$A$2:$D$460,4,0),\"\")","v":""},null,null,null,null,null,null,null,null,null,null,null,null,null,0]
[null,{"$f":"IFERROR(VLOOKUP(A3924,Base!$A$2:$D$460,2,0),\"\")","v":""},{"$f":"IFERROR(VLOOKUP(A3924,Base!$A$2:$D$460,3,0),\"\")","v":""},{"$f":"IFERROR(VLOOKUP(A3924,Base!$A$2:$D$460,4,0),\"\")","v":""},null,null,null,null,null,null,null,null,null,null,null,null,null,0]
[null,{"$f":"IFERROR(VLOOKUP(A3925,Base!$A$2:$D$460,2,0),\"\")","v":""},{"$f":"IFERROR(VLOOKUP(A3925,Base!$A$2:$D$460,3,0),\"\")","v":""},{"$f":"IFERROR(VLOOKUP(A3925,Base!$A$2:$D$460,4,0),\"\")","v":""},null,null,null,null,null,null,null,null,null,null,null,null,null,0]
[null,{"$f":"IFERROR(VLOOKUP(A3926,Base!$A$2:$D$460,2,0),\"\")","v":""},{"$f":"IFERROR(VLOOKUP(A3926,Base!$A$2:$D$460,3,0),\"\")","v":""},{"$f":"IFERROR(VLOOKUP(A3926,Base!$A$2:$D$460,4,0),\"\")","v":""},null,null,null,null,null,null,null,null,null,null,null,null,null,0]
[null,{"$f":"IFERROR(VLOOKUP(A3927,Base!$A$2:$D$460,2,0),\"\")","v":""},{"$f":"IFERROR(VLOOKUP(A3927,Base!$A$2:$D$460,3,0),\"\")","v":""},{"$f":"IFERROR(VLOOKUP(A3927,Base!$A$2:$D$460,4,0),\"\")","v":""},null,null,null,null,null,null,null,null,null,null,null,null,null,0]
[null,{"$f":"IFERROR(VLOOKUP(A3928,Base!$A$2:$D$460,2,0),\"\")","v":""},{"$f":"IFERROR(VLOOKUP(A3928,Base!$A$2:$D$460,3,0),\"\")","v":""},{"$f":"IFERROR(VLOOKUP(A3928,Base!$A$2:$D$460,4,0),\"\")","v":""},null,null,null,null,null,null,null,null,null,null,null,null,null,0]
[null,{"$f":"IFERROR(VLOOKUP(A3929,Base!$A$2:$D$460,2,0),\"\")","v":""},{"$f":"IFERROR(VLOOKUP(A3929,Base!$A$2:$D$460,3,0),\"\")","v":""},{"$f":"IFERROR(VLOOKUP(A3929,Base!$A$2:$D$460,4,0),\"\")","v":""},null,null,null,null,null,null,null,null,null,null,null,null,null,0]
[null,{"$f":"IFERROR(VLOOKUP(A3930,Base!$A$2:$D$460,2,0),\"\")","v":""},{"$f":"IFERROR(VLOOKUP(A3930,Base!$A$2:$D$460,3,0),\"\")","v":""},{"$f":"IFERROR(VLOOKUP(A3930,Base!$A$2:$D$460,4,0),\"\")","v":""},null,null,null,null,null,null,null,null,null,null,null,null,null,0]
[null,{"$f":"IFERROR(VLOOKUP(A3931,Base!$A$2:$D$460,2,0),\"\")","v":""},{"$f":"IFERROR(VLOOKUP(A3931,Base!$A$2:$D$460,3,0),\"\")","v":""},{"$f":"IFERROR(VLOOKUP(A3931,Base!$A$2:$D$460,4,0),\"\")","v":""},null,null,null,null,null,null,null,null,null,null,null,null,null,0]
[null,{"$f":"IFERROR(VLOOKUP(A3932,Base!$A$2:$D$460,2,0),\"\")","v":""},{"$f":"IFERROR(VLOOKUP(A3932,Base!$A$2:$D$460,3,0),\"\")","v":""},{"$f":"IFERROR(VLOOKUP(A3932,Base!$A$2:$D$460,4,0),\"\")","v":""},null,null,null,null,null,null,null,null,null,null,null,null,null,0]
[null,{"$f":"IFERROR(VLOOKUP(A3933,Base!$A$2:$D$460,2,0),\"\")","v":""},{"$f":"IFERROR(VLOOKUP(A3933,Base!$A$2:$D$460,3,0),\"\")","v":""},{"$f":"IFERROR(VLOOKUP(A3933,Base!$A$2:$D$460,4,0),\"\")","v":""},null,null,null,null,null,null,null,null,null,null,null,null,null,0]
[null,{"$f":"IFERROR(VLOOKUP(A3934,Base!$A$2:$D$460,2,0),\"\")","v":""},{"$f":"IFERROR(VLOOKUP(A3934,Base!$A$2:$D$460,3,0),\"\")","v":""},{"$f":"IFERROR(VLOOKUP(A3934,Base!$A$2:$D$460,4,0),\"\")","v":""},null,null,null,null,null,null,null,null,null,null,null,null,null,0]
[null,{"$f":"IFERROR(VLOOKUP(A3935,Base!$A$2:$D$460,2,0),\"\")","v":""},{"$f":"IFERROR(VLOOKUP(A3935,Base!$A$2:$D$460,3,0),\"\")","v":""},{"$f":"IFERROR(VLOOKUP(A3935,Base!$A$2:$D$460,4,0),\"\")","v":""},null,null,null,null,null,null,null,null,null,null,null,null,null,0]
[null,{"$f":"IFERROR(VLOOKUP(A3936,Base!$A$2:$D$460,2,0),\"\")","v":""},{"$f":"IFERROR(VLOOKUP(A3936,Base!$A$2:$D$460,3,0),\"\")","v":""},{"$f":"IFERROR(VLOOKUP(A3936,Base!$A$2:$D$460,4,0),\"\")","v":""},null,null,null,null,null,null,null,null,null,null,null,null,null,0]
[null,{"$f":"IFERROR(VLOOKUP(A3937,Base!$A$2:$D$460,2,0),\"\")","v":""},{"$f":"IFERROR(VLOOKUP(A3937,Base!$A$2:$D$460,3,0),\"\")","v":""},{"$f":"IFERROR(VLOOKUP(A3937,Base!$A$2:$D$460,4,0),\"\")","v":""},null,null,null,null,null,null,null,null,null,null,null,null,null,0]
[null,{"$f":"IFERROR(VLOOKUP(A3938,Base!$A$2:$D$460,2,0),\"\")","v":""},{"$f":"IFERROR(VLOOKUP(A3938,Base!$A$2:$D$460,3,0),\"\")","v":""},{"$f":"IFERROR(VLOOKUP(A3938,Base!$A$2:$D$460,4,0),\"\")","v":""},null,null,null,null,null,null,null,null,null,null,null,null,null,0]
[null,{"$f":"IFERROR(VLOOKUP(A3939,Base!$A$2:$D$460,2,0),\"\")","v":""},{"$f":"IFERROR(VLOOKUP(A3939,Base!$A$2:$D$460,3,0),\"\")","v":""},{"$f":"IFERROR(VLOOKUP(A3939,Base!$A$2:$D$460,4,0),\"\")","v":""},null,null,null,null,null,null,null,null,null,null,null,null,null,0]
[null,{"$f":"IFERROR(VLOOKUP(A3940,Base!$A$2:$D$460,2,0),\"\")","v":""},{"$f":"IFERROR(VLOOKUP(A3940,Base!$A$2:$D$460,3,0),\"\")","v":""},{"$f":"IFERROR(VLOOKUP(A3940,Base!$A$2:$D$460,4,0),\"\")","v":""},null,null,null,null,null,null,null,null,null,null,null,null,null,0]
[null,{"$f":"IFERROR(VLOOKUP(A3941,Base!$A$2:$D$460,2,0),\"\")","v":""},{"$f":"IFERROR(VLOOKUP(A3941,Base!$A$2:$D$460,3,0),\"\")","v":""},{"$f":"IFERROR(VLOOKUP(A3941,Base!$A$2:$D$460,4,0),\"\")","v":""},null,null,null,null,null,null,null,null,null,null,null,null,null,0]
[null,{"$f":"IFERROR(VLOOKUP(A3942,Base!$A$2:$D$460,2,0),\"\")","v":""},{"$f":"IFERROR(VLOOKUP(A3942,Base!$A$2:$D$460,3,0),\"\")","v":""},{"$f":"IFERROR(VLOOKUP(A3942,Base!$A$2:$D$460,4,0),\"\")","v":""},null,null,null,null,null,null,null,null,null,null,null,null,null,0]
[null,{"$f":"IFERROR(VLOOKUP(A3943,Base!$A$2:$D$460,2,0),\"\")","v":""},{"$f":"IFERROR(VLOOKUP(A3943,Base!$A$2:$D$460,3,0),\"\")","v":""},{"$f":"IFERROR(VLOOKUP(A3943,Base!$A$2:$D$460,4,0),\"\")","v":""},null,null,null,null,null,null,null,null,null,null,null,null,null,{"$f":"SUM(N3943:Q3943)/4","v":0}]
[null,{"$f":"IFERROR(VLOOKUP(A3944,Base!$A$2:$D$460,2,0),\"\")","v":""},{"$f":"IFERROR(VLOOKUP(A3944,Base!$A$2:$D$460,3,0),\"\")","v":""},{"$f":"IFERROR(VLOOKUP(A3944,Base!$A$2:$D$460,4,0),\"\")","v":""},null,null,null,null,null,null,null,null,null,null,null,null,null,0]
[null,{"$f":"IFERROR(VLOOKUP(A3945,Base!$A$2:$D$460,2,0),\"\")","v":""},{"$f":"IFERROR(VLOOKUP(A3945,Base!$A$2:$D$460,3,0),\"\")","v":""},{"$f":"IFERROR(VLOOKUP(A3945,Base!$A$2:$D$460,4,0),\"\")","v":""},null,null,null,null,null,null,null,null,null,null,null,null,null,0]
[null,{"$f":"IFERROR(VLOOKUP(A3946,Base!$A$2:$D$460,2,0),\"\")","v":""},{"$f":"IFERROR(VLOOKUP(A3946,Base!$A$2:$D$460,3,0),\"\")","v":""},{"$f":"IFERROR(VLOOKUP(A3946,Base!$A$2:$D$460,4,0),\"\")","v":""},null,null,null,null,null,null,null,null,null,null,null,null,null,0]
[null,{"$f":"IFERROR(VLOOKUP(A3947,Base!$A$2:$D$460,2,0),\"\")","v":""},{"$f":"IFERROR(VLOOKUP(A3947,Base!$A$2:$D$460,3,0),\"\")","v":""},{"$f":"IFERROR(VLOOKUP(A3947,Base!$A$2:$D$460,4,0),\"\")","v":""},null,null,null,null,null,null,null,null,null,null,null,null,null,0]
[null,{"$f":"IFERROR(VLOOKUP(A3948,Base!$A$2:$D$460,2,0),\"\")","v":""},{"$f":"IFERROR(VLOOKUP(A3948,Base!$A$2:$D$460,3,0),\"\")","v":""},{"$f":"IFERROR(VLOOKUP(A3948,Base!$A$2:$D$460,4,0),\"\")","v":""},null,null,null,null,null,null,null,null,null,null,null,null,null,0]
[null,{"$f":"IFERROR(VLOOKUP(A3949,Base!$A$2:$D$460,2,0),\"\")","v":""},{"$f":"IFERROR(VLOOKUP(A3949,Base!$A$2:$D$460,3,0),\"\")","v":""},{"$f":"IFERROR(VLOOKUP(A3949,Base!$A$2:$D$460,4,0),\"\")","v":""},null,null,null,null,null,null,null,null,null,null,null,null,null,0]
[null,{"$f":"IFERROR(VLOOKUP(A3950,Base!$A$2:$D$460,2,0),\"\")","v":""},{"$f":"IFERROR(VLOOKUP(A3950,Base!$A$2:$D$460,3,0),\"\")","v":""},{"$f":"IFERROR(VLOOKUP(A3950,Base!$A$2:$D$460,4,0),\"\")","v":""},null,null,null,null,null,null,null,null,null,null,null,null,null,0]
[null,{"$f":"IFERROR(VLOOKUP(A3951,Base!$A$2:$D$460,2,0),\"\")","v":""},{"$f":"IFERROR(VLOOKUP(A3951,Base!$A$2:$D$460,3,0),\"\")","v":""},{"$f":"IFERROR(VLOOKUP(A3951,Base!$A$2:$D$460,4,0),\"\")","v":""},null,null,null,null,null,null,null,null,null,null,null,null,null,0]
[null,{"$f":"IFERROR(VLOOKUP(A3952,Base!$A$2:$D$460,2,0),\"\")","v":""},{"$f":"IFERROR(VLOOKUP(A3952,Base!$A$2:$D$460,3,0),\"\")","v":""},{"$f":"IFERROR(VLOOKUP(A3952,Base!$A$2:$D$460,4,0),\"\")","v":""},null,null,null,null,null,null,null,null,null,null,null,null,null,0]
[null,{"$f":"IFERROR(VLOOKUP(A3953,Base!$A$2:$D$460,2,0),\"\")","v":""},{"$f":"IFERROR(VLOOKUP(A3953,Base!$A$2:$D$460,3,0),\"\")","v":""},{"$f":"IFERROR(VLOOKUP(A3953,Base!$A$2:$D$460,4,0),\"\")","v":""},null,null,null,null,null,null,null,null,null,null,null,null,null,0]
[null,{"$f":"IFERROR(VLOOKUP(A3954,Base!$A$2:$D$460,2,0),\"\")","v":""},{"$f":"IFERROR(VLOOKUP(A3954,Base!$A$2:$D$460,3,0),\"\")","v":""},{"$f":"IFERROR(VLOOKUP(A3954,Base!$A$2:$D$460,4,0),\"\")","v":""},null,null,null,null,null,null,null,null,null,null,null,null,null,0]
[null,{"$f":"IFERROR(VLOOKUP(A3955,Base!$A$2:$D$460,2,0),\"\")","v":""},{"$f":"IFERROR(VLOOKUP(A3955,Base!$A$2:$D$460,3,0),\"\")","v":""},{"$f":"IFERROR(VLOOKUP(A3955,Base!$A$2:$D$460,4,0),\"\")","v":""},null,null,null,null,null,null,null,null,null,null,null,null,null,0]
[null,{"$f":"IFERROR(VLOOKUP(A3956,Base!$A$2:$D$460,2,0),\"\")","v":""},{"$f":"IFERROR(VLOOKUP(A3956,Base!$A$2:$D$460,3,0),\"\")","v":""},{"$f":"IFERROR(VLOOKUP(A3956,Base!$A$2:$D$460,4,0),\"\")","v":""},null,null,null,null,null,null,null,null,null,null,null,null,null,0]
[null,{"$f":"IFERROR(VLOOKUP(A3957,Base!$A$2:$D$460,2,0),\"\")","v":""},{"$f":"IFERROR(VLOOKUP(A3957,Base!$A$2:$D$460,3,0),\"\")","v":""},{"$f":"IFERROR(VLOOKUP(A3957,Base!$A$2:$D$460,4,0),\"\")","v":""},null,null,null,null,null,null,null,null,null,null,null,null,null,0]
[null,{"$f":"IFERROR(VLOOKUP(A3958,Base!$A$2:$D$460,2,0),\"\")","v":""},{"$f":"IFERROR(VLOOKUP(A3958,Base!$A$2:$D$460,3,0),\"\")","v":""},{"$f":"IFERROR(VLOOKUP(A3958,Base!$A$2:$D$460,4,0),\"\")","v":""},null,null,null,null,null,null,null,null,null,null,null,null,null,0]
[null,{"$f":"IFERROR(VLOOKUP(A3959,Base!$A$2:$D$460,2,0),\"\")","v":""},{"$f":"IFERROR(VLOOKUP(A3959,Base!$A$2:$D$460,3,0),\"\")","v":""},{"$f":"IFERROR(VLOOKUP(A3959,Base!$A$2:$D$460,4,0),\"\")","v":""},null,null,null,null,null,null,null,null,null,null,null,null,null,0]
[null,{"$f":"IFERROR(VLOOKUP(A3960,Base!$A$2:$D$460,2,0),\"\")","v":""},{"$f":"IFERROR(VLOOKUP(A3960,Base!$A$2:$D$460,3,0),\"\")","v":""},{"$f":"IFERROR(VLOOKUP(A3960,Base!$A$2:$D$460,4,0),\"\")","v":""},null,null,null,null,null,null,null,null,null,null,null,null,null,0]
[null,{"$f":"IFERROR(VLOOKUP(A3961,Base!$A$2:$D$460,2,0),\"\")","v":""},{"$f":"IFERROR(VLOOKUP(A3961,Base!$A$2:$D$460,3,0),\"\")","v":""},{"$f":"IFERROR(VLOOKUP(A3961,Base!$A$2:$D$460,4,0),\"\")","v":""},null,null,null,null,null,null,null,null,null,null,null,null,null,0]
[null,{"$f":"IFERROR(VLOOKUP(A3962,Base!$A$2:$D$460,2,0),\"\")","v":""},{"$f":"IFERROR(VLOOKUP(A3962,Base!$A$2:$D$460,3,0),\"\")","v":""},{"$f":"IFERROR(VLOOKUP(A3962,Base!$A$2:$D$460,4,0),\"\")","v":""},null,null,null,null,null,null,null,null,null,null,null,null,null,0]
[null,{"$f":"IFERROR(VLOOKUP(A3963,Base!$A$2:$D$460,2,0),\"\")","v":""},{"$f":"IFERROR(VLOOKUP(A3963,Base!$A$2:$D$460,3,0),\"\")","v":""},{"$f":"IFERROR(VLOOKUP(A3963,Base!$A$2:$D$460,4,0),\"\")","v":""},null,null,null,null,null,null,null,null,null,null,null,null,null,0]
[null,{"$f":"IFERROR(VLOOKUP(A3964,Base!$A$2:$D$460,2,0),\"\")","v":""},{"$f":"IFERROR(VLOOKUP(A3964,Base!$A$2:$D$460,3,0),\"\")","v":""},{"$f":"IFERROR(VLOOKUP(A3964,Base!$A$2:$D$460,4,0),\"\")","v":""},null,null,null,null,null,null,null,null,null,null,null,null,null,0]
[null,{"$f":"IFERROR(VLOOKUP(A3965,Base!$A$2:$D$460,2,0),\"\")","v":""},{"$f":"IFERROR(VLOOKUP(A3965,Base!$A$2:$D$460,3,0),\"\")","v":""},{"$f":"IFERROR(VLOOKUP(A3965,Base!$A$2:$D$460,4,0),\"\")","v":""},null,null,null,null,null,null,null,null,null,null,null,null,null,0]
[null,{"$f":"IFERROR(VLOOKUP(A3966,Base!$A$2:$D$460,2,0),\"\")","v":""},{"$f":"IFERROR(VLOOKUP(A3966,Base!$A$2:$D$460,3,0),\"\")","v":""},{"$f":"IFERROR(VLOOKUP(A3966,Base!$A$2:$D$460,4,0),\"\")","v":""},null,null,null,null,null,null,null,null,null,null,null,null,null,0]
[null,{"$f":"IFERROR(VLOOKUP(A3967,Base!$A$2:$D$460,2,0),\"\")","v":""},{"$f":"IFERROR(VLOOKUP(A3967,Base!$A$2:$D$460,3,0),\"\")","v":""},{"$f":"IFERROR(VLOOKUP(A3967,Base!$A$2:$D$460,4,0),\"\")","v":""},null,null,null,null,null,null,null,null,null,null,null,null,null,0]
[null,{"$f":"IFERROR(VLOOKUP(A3968,Base!$A$2:$D$460,2,0),\"\")","v":""},{"$f":"IFERROR(VLOOKUP(A3968,Base!$A$2:$D$460,3,0),\"\")","v":""},{"$f":"IFERROR(VLOOKUP(A3968,Base!$A$2:$D$460,4,0),\"\")","v":""},null,null,null,null,null,null,null,null,null,null,null,null,null,0]
[null,{"$f":"IFERROR(VLOOKUP(A3969,Base!$A$2:$D$460,2,0),\"\")","v":""},{"$f":"IFERROR(VLOOKUP(A3969,Base!$A$2:$D$460,3,0),\"\")","v":""},{"$f":"IFERROR(VLOOKUP(A3969,Base!$A$2:$D$460,4,0),\"\")","v":""},null,null,null,null,null,null,null,null,null,null,null,null,null,0]
[null,{"$f":"IFERROR(VLOOKUP(A3970,Base!$A$2:$D$460,2,0),\"\")","v":""},{"$f":"IFERROR(VLOOKUP(A3970,Base!$A$2:$D$460,3,0),\"\")","v":""},{"$f":"IFERROR(VLOOKUP(A3970,Base!$A$2:$D$460,4,0),\"\")","v":""},null,null,null,null,null,null,null,null,null,null,null,null,null,0]
[null,{"$f":"IFERROR(VLOOKUP(A3971,Base!$A$2:$D$460,2,0),\"\")","v":""},{"$f":"IFERROR(VLOOKUP(A3971,Base!$A$2:$D$460,3,0),\"\")","v":""},{"$f":"IFERROR(VLOOKUP(A3971,Base!$A$2:$D$460,4,0),\"\")","v":""},null,null,null,null,null,null,null,null,null,null,null,null,null,0]
[null,{"$f":"IFERROR(VLOOKUP(A3972,Base!$A$2:$D$460,2,0),\"\")","v":""},{"$f":"IFERROR(VLOOKUP(A3972,Base!$A$2:$D$460,3,0),\"\")","v":""},{"$f":"IFERROR(VLOOKUP(A3972,Base!$A$2:$D$460,4,0),\"\")","v":""},null,null,null,null,null,null,null,null,null,null,null,null,null,0]
[null,{"$f":"IFERROR(VLOOKUP(A3973,Base!$A$2:$D$460,2,0),\"\")","v":""},{"$f":"IFERROR(VLOOKUP(A3973,Base!$A$2:$D$460,3,0),\"\")","v":""},{"$f":"IFERROR(VLOOKUP(A3973,Base!$A$2:$D$460,4,0),\"\")","v":""},null,null,null,null,null,null,null,null,null,null,null,null,null,0]
[null,{"$f":"IFERROR(VLOOKUP(A3974,Base!$A$2:$D$460,2,0),\"\")","v":""},{"$f":"IFERROR(VLOOKUP(A3974,Base!$A$2:$D$460,3,0),\"\")","v":""},{"$f":"IFERROR(VLOOKUP(A3974,Base!$A$2:$D$460,4,0),\"\")","v":""},null,null,null,null,null,null,null,null,null,null,null,null,null,0]
[null,{"$f":"IFERROR(VLOOKUP(A3975,Base!$A$2:$D$460,2,0),\"\")","v":""},{"$f":"IFERROR(VLOOKUP(A3975,Base!$A$2:$D$460,3,0),\"\")","v":""},{"$f":"IFERROR(VLOOKUP(A3975,Base!$A$2:$D$460,4,0),\"\")","v":""},null,null,null,null,null,null,null,null,null,null,null,null,null,0]
[null,{"$f":"IFERROR(VLOOKUP(A3976,Base!$A$2:$D$460,2,0),\"\")","v":""},{"$f":"IFERROR(VLOOKUP(A3976,Base!$A$2:$D$460,3,0),\"\")","v":""},{"$f":"IFERROR(VLOOKUP(A3976,Base!$A$2:$D$460,4,0),\"\")","v":""},null,null,null,null,null,null,null,null,null,null,null,null,null,0]
[null,{"$f":"IFERROR(VLOOKUP(A3977,Base!$A$2:$D$460,2,0),\"\")","v":""},{"$f":"IFERROR(VLOOKUP(A3977,Base!$A$2:$D$460,3,0),\"\")","v":""},{"$f":"IFERROR(VLOOKUP(A3977,Base!$A$2:$D$460,4,0),\"\")","v":""},null,null,null,null,null,null,null,null,null,null,null,null,null,0]
[null,{"$f":"IFERROR(VLOOKUP(A3978,Base!$A$2:$D$460,2,0),\"\")","v":""},{"$f":"IFERROR(VLOOKUP(A3978,Base!$A$2:$D$460,3,0),\"\")","v":""},{"$f":"IFERROR(VLOOKUP(A3978,Base!$A$2:$D$460,4,0),\"\")","v":""},null,null,null,null,null,null,null,null,null,null,null,null,null,0]
[null,{"$f":"IFERROR(VLOOKUP(A3979,Base!$A$2:$D$460,2,0),\"\")","v":""},{"$f":"IFERROR(VLOOKUP(A3979,Base!$A$2:$D$460,3,0),\"\")","v":""},{"$f":"IFERROR(VLOOKUP(A3979,Base!$A$2:$D$460,4,0),\"\")","v":""},null,null,null,null,null,null,null,null,null,null,null,null,null,0]
[null,{"$f":"IFERROR(VLOOKUP(A3980,Base!$A$2:$D$460,2,0),\"\")","v":""},{"$f":"IFERROR(VLOOKUP(A3980,Base!$A$2:$D$460,3,0),\"\")","v":""},{"$f":"IFERROR(VLOOKUP(A3980,Base!$A$2:$D$460,4,0),\"\")","v":""},null,null,null,null,null,null,null,null,null,null,null,null,null,0]
[null,{"$f":"IFERROR(VLOOKUP(A3981,Base!$A$2:$D$460,2,0),\"\")","v":""},{"$f":"IFERROR(VLOOKUP(A3981,Base!$A$2:$D$460,3,0),\"\")","v":""},{"$f":"IFERROR(VLOOKUP(A3981,Base!$A$2:$D$460,4,0),\"\")","v":""},null,null,null,null,null,null,null,null,null,null,null,null,null,0]
[null,{"$f":"IFERROR(VLOOKUP(A3982,Base!$A$2:$D$460,2,0),\"\")","v":""},{"$f":"IFERROR(VLOOKUP(A3982,Base!$A$2:$D$460,3,0),\"\")","v":""},{"$f":"IFERROR(VLOOKUP(A3982,Base!$A$2:$D$460,4,0),\"\")","v":""},null,null,null,null,null,null,null,null,null,null,null,null,null,0]
[null,{"$f":"IFERROR(VLOOKUP(A3983,Base!$A$2:$D$460,2,0),\"\")","v":""},{"$f":"IFERROR(VLOOKUP(A3983,Base!$A$2:$D$460,3,0),\"\")","v":""},{"$f":"IFERROR(VLOOKUP(A3983,Base!$A$2:$D$460,4,0),\"\")","v":""},null,null,null,null,null,null,null,null,null,null,null,null,null,0]
[null,{"$f":"IFERROR(VLOOKUP(A3984,Base!$A$2:$D$460,2,0),\"\")","v":""},{"$f":"IFERROR(VLOOKUP(A3984,Base!$A$2:$D$460,3,0),\"\")","v":""},{"$f":"IFERROR(VLOOKUP(A3984,Base!$A$2:$D$460,4,0),\"\")","v":""},null,null,null,null,null,null,null,null,null,null,null,null,null,0]
[null,{"$f":"IFERROR(VLOOKUP(A3985,Base!$A$2:$D$460,2,0),\"\")","v":""},{"$f":"IFERROR(VLOOKUP(A3985,Base!$A$2:$D$460,3,0),\"\")","v":""},{"$f":"IFERROR(VLOOKUP(A3985,Base!$A$2:$D$460,4,0),\"\")","v":""},null,null,null,null,null,null,null,null,null,null,null,null,null,0]
[null,{"$f":"IFERROR(VLOOKUP(A3986,Base!$A$2:$D$460,2,0),\"\")","v":""},{"$f":"IFERROR(VLOOKUP(A3986,Base!$A$2:$D$460,3,0),\"\")","v":""},{"$f":"IFERROR(VLOOKUP(A3986,Base!$A$2:$D$460,4,0),\"\")","v":""},null,null,null,null,null,null,null,null,null,null,null,null,null,0]
[null,{"$f":"IFERROR(VLOOKUP(A3987,Base!$A$2:$D$460,2,0),\"\")","v":""},{"$f":"IFERROR(VLOOKUP(A3987,Base!$A$2:$D$460,3,0),\"\")","v":""},{"$f":"IFERROR(VLOOKUP(A3987,Base!$A$2:$D$460,4,0),\"\")","v":""},null,null,null,null,null,null,null,null,null,null,null,null,null,0]
[null,{"$f":"IFERROR(VLOOKUP(A3988,Base!$A$2:$D$460,2,0),\"\")","v":""},{"$f":"IFERROR(VLOOKUP(A3988,Base!$A$2:$D$460,3,0),\"\")","v":""},{"$f":"IFERROR(VLOOKUP(A3988,Base!$A$2:$D$460,4,0),\"\")","v":""},null,null,null,null,null,null,null,null,null,null,null,null,null,0]
[null,{"$f":"IFERROR(VLOOKUP(A3989,Base!$A$2:$D$460,2,0),\"\")","v":""},{"$f":"IFERROR(VLOOKUP(A3989,Base!$A$2:$D$460,3,0),\"\")","v":""},{"$f":"IFERROR(VLOOKUP(A3989,Base!$A$2:$D$460,4,0),\"\")","v":""},null,null,null,null,null,null,null,null,null,null,null,null,null,0]
[null,{"$f":"IFERROR(VLOOKUP(A3990,Base!$A$2:$D$460,2,0),\"\")","v":""},{"$f":"IFERROR(VLOOKUP(A3990,Base!$A$2:$D$460,3,0),\"\")","v":""},{"$f":"IFERROR(VLOOKUP(A3990,Base!$A$2:$D$460,4,0),\"\")","v":""},null,null,null,null,null,null,null,null,null,null,null,null,null,0]
[null,{"$f":"IFERROR(VLOOKUP(A3991,Base!$A$2:$D$460,2,0),\"\")","v":""},{"$f":"IFERROR(VLOOKUP(A3991,Base!$A$2:$D$460,3,0),\"\")","v":""},{"$f":"IFERROR(VLOOKUP(A3991,Base!$A$2:$D$460,4,0),\"\")","v":""},null,null,null,null,null,null,null,null,null,null,null,null,null,0]
[null,{"$f":"IFERROR(VLOOKUP(A3992,Base!$A$2:$D$460,2,0),\"\")","v":""},{"$f":"IFERROR(VLOOKUP(A3992,Base!$A$2:$D$460,3,0),\"\")","v":""},{"$f":"IFERROR(VLOOKUP(A3992,Base!$A$2:$D$460,4,0),\"\")","v":""},null,null,null,null,null,null,null,null,null,null,null,null,null,0]
[null,{"$f":"IFERROR(VLOOKUP(A3993,Base!$A$2:$D$460,2,0),\"\")","v":""},{"$f":"IFERROR(VLOOKUP(A3993,Base!$A$2:$D$460,3,0),\"\")","v":""},{"$f":"IFERROR(VLOOKUP(A3993,Base!$A$2:$D$460,4,0),\"\")","v":""},null,null,null,null,null,null,null,null,null,null,null,null,null,0]
[null,{"$f":"IFERROR(VLOOKUP(A3994,Base!$A$2:$D$460,2,0),\"\")","v":""},{"$f":"IFERROR(VLOOKUP(A3994,Base!$A$2:$D$460,3,0),\"\")","v":""},{"$f":"IFERROR(VLOOKUP(A3994,Base!$A$2:$D$460,4,0),\"\")","v":""},null,null,null,null,null,null,null,null,null,null,null,null,null,0]
[null,{"$f":"IFERROR(VLOOKUP(A3995,Base!$A$2:$D$460,2,0),\"\")","v":""},{"$f":"IFERROR(VLOOKUP(A3995,Base!$A$2:$D$460,3,0),\"\")","v":""},{"$f":"IFERROR(VLOOKUP(A3995,Base!$A$2:$D$460,4,0),\"\")","v":""},null,null,null,null,null,null,null,null,null,null,null,null,null,0]
[null,{"$f":"IFERROR(VLOOKUP(A3996,Base!$A$2:$D$460,2,0),\"\")","v":""},{"$f":"IFERROR(VLOOKUP(A3996,Base!$A$2:$D$460,3,0),\"\")","v":""},{"$f":"IFERROR(VLOOKUP(A3996,Base!$A$2:$D$460,4,0),\"\")","v":""},null,null,null,null,null,null,null,null,null,null,null,null,null,0]
[null,{"$f":"IFERROR(VLOOKUP(A3997,Base!$A$2:$D$460,2,0),\"\")","v":""},{"$f":"IFERROR(VLOOKUP(A3997,Base!$A$2:$D$460,3,0),\"\")","v":""},{"$f":"IFERROR(VLOOKUP(A3997,Base!$A$2:$D$460,4,0),\"\")","v":""},null,null,null,null,null,null,null,null,null,null,null,null,null,0]
[null,{"$f":"IFERROR(VLOOKUP(A3998,Base!$A$2:$D$460,2,0),\"\")","v":""},{"$f":"IFERROR(VLOOKUP(A3998,Base!$A$2:$D$460,3,0),\"\")","v":""},{"$f":"IFERROR(VLOOKUP(A3998,Base!$A$2:$D$460,4,0),\"\")","v":""},null,null,null,null,null,null,null,null,null,null,null,null,null,0]
[null,{"$f":"IFERROR(VLOOKUP(A3999,Base!$A$2:$D$460,2,0),\"\")","v":""},{"$f":"IFERROR(VLOOKUP(A3999,Base!$A$2:$D$460,3,0),\"\")","v":""},{"$f":"IFERROR(VLOOKUP(A3999,Base!$A$2:$D$460,4,0),\"\")","v":""},null,null,null,null,null,null,null,null,null,null,null,null,null,0]
[null,{"$f":"IFERROR(VLOOKUP(A4000,Base!$A$2:$D$460,2,0),\"\")","v":""},{"$f":"IFERROR(VLOOKUP(A4000,Base!$A$2:$D$460,3,0),\"\")","v":""},{"$f":"IFERROR(VLOOKUP(A4000,Base!$A$2:$D$460,4,0),\"\")","v":""},null,null,null,null,null,null,null,null,null,null,null,null,null,0]
[null,{"$f":"IFERROR(VLOOKUP(A4001,Base!$A$2:$D$460,2,0),\"\")","v":""},{"$f":"IFERROR(VLOOKUP(A4001,Base!$A$2:$D$460,3,0),\"\")","v":""},{"$f":"IFERROR(VLOOKUP(A4001,Base!$A$2:$D$460,4,0),\"\")","v":""},null,null,null,null,null,null,null,null,null,null,null,null,null,0]
[null,{"$f":"IFERROR(VLOOKUP(A4002,Base!$A$2:$D$460,2,0),\"\")","v":""},{"$f":"IFERROR(VLOOKUP(A4002,Base!$A$2:$D$460,3,0),\"\")","v":""},{"$f":"IFERROR(VLOOKUP(A4002,Base!$A$2:$D$460,4,0),\"\")","v":""},null,null,null,null,null,null,null,null,null,null,null,null,null,0]
[null,{"$f":"IFERROR(VLOOKUP(A4003,Base!$A$2:$D$460,2,0),\"\")","v":""},{"$f":"IFERROR(VLOOKUP(A4003,Base!$A$2:$D$460,3,0),\"\")","v":""},{"$f":"IFERROR(VLOOKUP(A4003,Base!$A$2:$D$460,4,0),\"\")","v":""},null,null,null,null,null,null,null,null,null,null,null,null,null,0]
[null,{"$f":"IFERROR(VLOOKUP(A4004,Base!$A$2:$D$460,2,0),\"\")","v":""},{"$f":"IFERROR(VLOOKUP(A4004,Base!$A$2:$D$460,3,0),\"\")","v":""},{"$f":"IFERROR(VLOOKUP(A4004,Base!$A$2:$D$460,4,0),\"\")","v":""},null,null,null,null,null,null,null,null,null,null,null,null,null,0]
[null,{"$f":"IFERROR(VLOOKUP(A4005,Base!$A$2:$D$460,2,0),\"\")","v":""},{"$f":"IFERROR(VLOOKUP(A4005,Base!$A$2:$D$460,3,0),\"\")","v":""},{"$f":"IFERROR(VLOOKUP(A4005,Base!$A$2:$D$460,4,0),\"\")","v":""},null,null,null,null,null,null,null,null,null,null,null,null,null,0]
[null,{"$f":"IFERROR(VLOOKUP(A4006,Base!$A$2:$D$460,2,0),\"\")","v":""},{"$f":"IFERROR(VLOOKUP(A4006,Base!$A$2:$D$460,3,0),\"\")","v":""},{"$f":"IFERROR(VLOOKUP(A4006,Base!$A$2:$D$460,4,0),\"\")","v":""},null,null,null,null,null,null,null,null,null,null,null,null,null,0]
[null,{"$f":"IFERROR(VLOOKUP(A4007,Base!$A$2:$D$460,2,0),\"\")","v":""},{"$f":"IFERROR(VLOOKUP(A4007,Base!$A$2:$D$460,3,0),\"\")","v":""},{"$f":"IFERROR(VLOOKUP(A4007,Base!$A$2:$D$460,4,0),\"\")","v":""},null,null,null,null,null,null,null,null,null,null,null,null,null,{"$f":"SUM(N4007:Q4007)/4","v":0}]
[null,{"$f":"IFERROR(VLOOKUP(A4008,Base!$A$2:$D$460,2,0),\"\")","v":""},{"$f":"IFERROR(VLOOKUP(A4008,Base!$A$2:$D$460,3,0),\"\")","v":""},{"$f":"IFERROR(VLOOKUP(A4008,Base!$A$2:$D$460,4,0),\"\")","v":""},null,null,null,null,null,null,null,null,null,null,null,null,null,0]
[null,{"$f":"IFERROR(VLOOKUP(A4009,Base!$A$2:$D$460,2,0),\"\")","v":""},{"$f":"IFERROR(VLOOKUP(A4009,Base!$A$2:$D$460,3,0),\"\")","v":""},{"$f":"IFERROR(VLOOKUP(A4009,Base!$A$2:$D$460,4,0),\"\")","v":""},null,null,null,null,null,null,null,null,null,null,null,null,null,0]
[null,{"$f":"IFERROR(VLOOKUP(A4010,Base!$A$2:$D$460,2,0),\"\")","v":""},{"$f":"IFERROR(VLOOKUP(A4010,Base!$A$2:$D$460,3,0),\"\")","v":""},{"$f":"IFERROR(VLOOKUP(A4010,Base!$A$2:$D$460,4,0),\"\")","v":""},null,null,null,null,null,null,null,null,null,null,null,null,null,0]
[null,{"$f":"IFERROR(VLOOKUP(A4011,Base!$A$2:$D$460,2,0),\"\")","v":""},{"$f":"IFERROR(VLOOKUP(A4011,Base!$A$2:$D$460,3,0),\"\")","v":""},{"$f":"IFERROR(VLOOKUP(A4011,Base!$A$2:$D$460,4,0),\"\")","v":""},null,null,null,null,null,null,null,null,null,null,null,null,null,0]
[null,{"$f":"IFERROR(VLOOKUP(A4012,Base!$A$2:$D$460,2,0),\"\")","v":""},{"$f":"IFERROR(VLOOKUP(A4012,Base!$A$2:$D$460,3,0),\"\")","v":""},{"$f":"IFERROR(VLOOKUP(A4012,Base!$A$2:$D$460,4,0),\"\")","v":""},null,null,null,null,null,null,null,null,null,null,null,null,null,0]
[null,{"$f":"IFERROR(VLOOKUP(A4013,Base!$A$2:$D$460,2,0),\"\")","v":""},{"$f":"IFERROR(VLOOKUP(A4013,Base!$A$2:$D$460,3,0),\"\")","v":""},{"$f":"IFERROR(VLOOKUP(A4013,Base!$A$2:$D$460,4,0),\"\")","v":""},null,null,null,null,null,null,null,null,null,null,null,null,null,0]
[null,{"$f":"IFERROR(VLOOKUP(A4014,Base!$A$2:$D$460,2,0),\"\")","v":""},{"$f":"IFERROR(VLOOKUP(A4014,Base!$A$2:$D$460,3,0),\"\")","v":""},{"$f":"IFERROR(VLOOKUP(A4014,Base!$A$2:$D$460,4,0),\"\")","v":""},null,null,null,null,null,null,null,null,null,null,null,null,null,0]
[null,{"$f":"IFERROR(VLOOKUP(A4015,Base!$A$2:$D$460,2,0),\"\")","v":""},{"$f":"IFERROR(VLOOKUP(A4015,Base!$A$2:$D$460,3,0),\"\")","v":""},{"$f":"IFERROR(VLOOKUP(A4015,Base!$A$2:$D$460,4,0),\"\")","v":""},null,null,null,null,null,null,null,null,null,null,null,null,null,0]
[null,{"$f":"IFERROR(VLOOKUP(A4016,Base!$A$2:$D$460,2,0),\"\")","v":""},{"$f":"IFERROR(VLOOKUP(A4016,Base!$A$2:$D$460,3,0),\"\")","v":""},{"$f":"IFERROR(VLOOKUP(A4016,Base!$A$2:$D$460,4,0),\"\")","v":""},null,null,null,null,null,null,null,null,null,null,null,null,null,0]
[null,{"$f":"IFERROR(VLOOKUP(A4017,Base!$A$2:$D$460,2,0),\"\")","v":""},{"$f":"IFERROR(VLOOKUP(A4017,Base!$A$2:$D$460,3,0),\"\")","v":""},{"$f":"IFERROR(VLOOKUP(A4017,Base!$A$2:$D$460,4,0),\"\")","v":""},null,null,null,null,null,null,null,null,null,null,null,null,null,0]
[null,{"$f":"IFERROR(VLOOKUP(A4018,Base!$A$2:$D$460,2,0),\"\")","v":""},{"$f":"IFERROR(VLOOKUP(A4018,Base!$A$2:$D$460,3,0),\"\")","v":""},{"$f":"IFERROR(VLOOKUP(A4018,Base!$A$2:$D$460,4,0),\"\")","v":""},null,null,null,null,null,null,null,null,null,null,null,null,null,0]
[null,{"$f":"IFERROR(VLOOKUP(A4019,Base!$A$2:$D$460,2,0),\"\")","v":""},{"$f":"IFERROR(VLOOKUP(A4019,Base!$A$2:$D$460,3,0),\"\")","v":""},{"$f":"IFERROR(VLOOKUP(A4019,Base!$A$2:$D$460,4,0),\"\")","v":""},null,null,null,null,null,null,null,null,null,null,null,null,null,0]
[null,{"$f":"IFERROR(VLOOKUP(A4020,Base!$A$2:$D$460,2,0),\"\")","v":""},{"$f":"IFERROR(VLOOKUP(A4020,Base!$A$2:$D$460,3,0),\"\")","v":""},{"$f":"IFERROR(VLOOKUP(A4020,Base!$A$2:$D$460,4,0),\"\")","v":""},null,null,null,null,null,null,null,null,null,null,null,null,null,0]
[null,{"$f":"IFERROR(VLOOKUP(A4021,Base!$A$2:$D$460,2,0),\"\")","v":""},{"$f":"IFERROR(VLOOKUP(A4021,Base!$A$2:$D$460,3,0),\"\")","v":""},{"$f":"IFERROR(VLOOKUP(A4021,Base!$A$2:$D$460,4,0),\"\")","v":""},null,null,null,null,null,null,null,null,null,null,null,null,null,0]
[null,{"$f":"IFERROR(VLOOKUP(A4022,Base!$A$2:$D$460,2,0),\"\")","v":""},{"$f":"IFERROR(VLOOKUP(A4022,Base!$A$2:$D$460,3,0),\"\")","v":""},{"$f":"IFERROR(VLOOKUP(A4022,Base!$A$2:$D$460,4,0),\"\")","v":""},null,null,null,null,null,null,null,null,null,null,null,null,null,0]
[null,{"$f":"IFERROR(VLOOKUP(A4023,Base!$A$2:$D$460,2,0),\"\")","v":""},{"$f":"IFERROR(VLOOKUP(A4023,Base!$A$2:$D$460,3,0),\"\")","v":""},{"$f":"IFERROR(VLOOKUP(A4023,Base!$A$2:$D$460,4,0),\"\")","v":""},null,null,null,null,null,null,null,null,null,null,null,null,null,0]
[null,{"$f":"IFERROR(VLOOKUP(A4024,Base!$A$2:$D$460,2,0),\"\")","v":""},{"$f":"IFERROR(VLOOKUP(A4024,Base!$A$2:$D$460,3,0),\"\")","v":""},{"$f":"IFERROR(VLOOKUP(A4024,Base!$A$2:$D$460,4,0),\"\")","v":""},null,null,null,null,null,null,null,null,null,null,null,null,null,0]
[null,{"$f":"IFERROR(VLOOKUP(A4025,Base!$A$2:$D$460,2,0),\"\")","v":""},{"$f":"IFERROR(VLOOKUP(A4025,Base!$A$2:$D$460,3,0),\"\")","v":""},{"$f":"IFERROR(VLOOKUP(A4025,Base!$A$2:$D$460,4,0),\"\")","v":""},null,null,null,null,null,null,null,null,null,null,null,null,null,0]
[null,{"$f":"IFERROR(VLOOKUP(A4026,Base!$A$2:$D$460,2,0),\"\")","v":""},{"$f":"IFERROR(VLOOKUP(A4026,Base!$A$2:$D$460,3,0),\"\")","v":""},{"$f":"IFERROR(VLOOKUP(A4026,Base!$A$2:$D$460,4,0),\"\")","v":""},null,null,null,null,null,null,null,null,null,null,null,null,null,0]
[null,{"$f":"IFERROR(VLOOKUP(A4027,Base!$A$2:$D$460,2,0),\"\")","v":""},{"$f":"IFERROR(VLOOKUP(A4027,Base!$A$2:$D$460,3,0),\"\")","v":""},{"$f":"IFERROR(VLOOKUP(A4027,Base!$A$2:$D$460,4,0),\"\")","v":""},null,null,null,null,null,null,null,null,null,null,null,null,null,0]
[null,{"$f":"IFERROR(VLOOKUP(A4028,Base!$A$2:$D$460,2,0),\"\")","v":""},{"$f":"IFERROR(VLOOKUP(A4028,Base!$A$2:$D$460,3,0),\"\")","v":""},{"$f":"IFERROR(VLOOKUP(A4028,Base!$A$2:$D$460,4,0),\"\")","v":""},null,null,null,null,null,null,null,null,null,null,null,null,null,0]
[null,{"$f":"IFERROR(VLOOKUP(A4029,Base!$A$2:$D$460,2,0),\"\")","v":""},{"$f":"IFERROR(VLOOKUP(A4029,Base!$A$2:$D$460,3,0),\"\")","v":""},{"$f":"IFERROR(VLOOKUP(A4029,Base!$A$2:$D$460,4,0),\"\")","v":""},null,null,null,null,null,null,null,null,null,null,null,null,null,0]
[null,{"$f":"IFERROR(VLOOKUP(A4030,Base!$A$2:$D$460,2,0),\"\")","v":""},{"$f":"IFERROR(VLOOKUP(A4030,Base!$A$2:$D$460,3,0),\"\")","v":""},{"$f":"IFERROR(VLOOKUP(A4030,Base!$A$2:$D$460,4,0),\"\")","v":""},null,null,null,null,null,null,null,null,null,null,null,null,null,0]
[null,{"$f":"IFERROR(VLOOKUP(A4031,Base!$A$2:$D$460,2,0),\"\")","v":""},{"$f":"IFERROR(VLOOKUP(A4031,Base!$A$2:$D$460,3,0),\"\")","v":""},{"$f":"IFERROR(VLOOKUP(A4031,Base!$A$2:$D$460,4,0),\"\")","v":""},null,null,null,null,null,null,null,null,null,null,null,null,null,0]
[null,{"$f":"IFERROR(VLOOKUP(A4032,Base!$A$2:$D$460,2,0),\"\")","v":""},{"$f":"IFERROR(VLOOKUP(A4032,Base!$A$2:$D$460,3,0),\"\")","v":""},{"$f":"IFERROR(VLOOKUP(A4032,Base!$A$2:$D$460,4,0),\"\")","v":""},null,null,null,null,null,null,null,null,null,null,null,null,null,0]
[null,{"$f":"IFERROR(VLOOKUP(A4033,Base!$A$2:$D$460,2,0),\"\")","v":""},{"$f":"IFERROR(VLOOKUP(A4033,Base!$A$2:$D$460,3,0),\"\")","v":""},{"$f":"IFERROR(VLOOKUP(A4033,Base!$A$2:$D$460,4,0),\"\")","v":""},null,null,null,null,null,null,null,null,null,null,null,null,null,0]
[null,{"$f":"IFERROR(VLOOKUP(A4034,Base!$A$2:$D$460,2,0),\"\")","v":""},{"$f":"IFERROR(VLOOKUP(A4034,Base!$A$2:$D$460,3,0),\"\")","v":""},{"$f":"IFERROR(VLOOKUP(A4034,Base!$A$2:$D$460,4,0),\"\")","v":""},null,null,null,null,null,null,null,null,null,null,null,null,null,0]
[null,{"$f":"IFERROR(VLOOKUP(A4035,Base!$A$2:$D$460,2,0),\"\")","v":""},{"$f":"IFERROR(VLOOKUP(A4035,Base!$A$2:$D$460,3,0),\"\")","v":""},{"$f":"IFERROR(VLOOKUP(A4035,Base!$A$2:$D$460,4,0),\"\")","v":""},null,null,null,null,null,null,null,null,null,null,null,null,null,0]
[null,{"$f":"IFERROR(VLOOKUP(A4036,Base!$A$2:$D$460,2,0),\"\")","v":""},{"$f":"IFERROR(VLOOKUP(A4036,Base!$A$2:$D$460,3,0),\"\")","v":""},{"$f":"IFERROR(VLOOKUP(A4036,Base!$A$2:$D$460,4,0),\"\")","v":""},null,null,null,null,null,null,null,null,null,null,null,null,null,0]
[null,{"$f":"IFERROR(VLOOKUP(A4037,Base!$A$2:$D$460,2,0),\"\")","v":""},{"$f":"IFERROR(VLOOKUP(A4037,Base!$A$2:$D$460,3,0),\"\")","v":""},{"$f":"IFERROR(VLOOKUP(A4037,Base!$A$2:$D$460,4,0),\"\")","v":""},null,null,null,null,null,null,null,null,null,null,null,null,null,0]
[null,{"$f":"IFERROR(VLOOKUP(A4038,Base!$A$2:$D$460,2,0),\"\")","v":""},{"$f":"IFERROR(VLOOKUP(A4038,Base!$A$2:$D$460,3,0),\"\")","v":""},{"$f":"IFERROR(VLOOKUP(A4038,Base!$A$2:$D$460,4,0),\"\")","v":""},null,null,null,null,null,null,null,null,null,null,null,null,null,0]
[null,{"$f":"IFERROR(VLOOKUP(A4039,Base!$A$2:$D$460,2,0),\"\")","v":""},{"$f":"IFERROR(VLOOKUP(A4039,Base!$A$2:$D$460,3,0),\"\")","v":""},{"$f":"IFERROR(VLOOKUP(A4039,Base!$A$2:$D$460,4,0),\"\")","v":""},null,null,null,null,null,null,null,null,null,null,null,null,null,0]
[null,{"$f":"IFERROR(VLOOKUP(A4040,Base!$A$2:$D$460,2,0),\"\")","v":""},{"$f":"IFERROR(VLOOKUP(A4040,Base!$A$2:$D$460,3,0),\"\")","v":""},{"$f":"IFERROR(VLOOKUP(A4040,Base!$A$2:$D$460,4,0),\"\")","v":""},null,null,null,null,null,null,null,null,null,null,null,null,null,0]
[null,{"$f":"IFERROR(VLOOKUP(A4041,Base!$A$2:$D$460,2,0),\"\")","v":""},{"$f":"IFERROR(VLOOKUP(A4041,Base!$A$2:$D$460,3,0),\"\")","v":""},{"$f":"IFERROR(VLOOKUP(A4041,Base!$A$2:$D$460,4,0),\"\")","v":""},null,null,null,null,null,null,null,null,null,null,null,null,null,0]
[null,{"$f":"IFERROR(VLOOKUP(A4042,Base!$A$2:$D$460,2,0),\"\")","v":""},{"$f":"IFERROR(VLOOKUP(A4042,Base!$A$2:$D$460,3,0),\"\")","v":""},{"$f":"IFERROR(VLOOKUP(A4042,Base!$A$2:$D$460,4,0),\"\")","v":""},null,null,null,null,null,null,null,null,null,null,null,null,null,0]
[null,{"$f":"IFERROR(VLOOKUP(A4043,Base!$A$2:$D$460,2,0),\"\")","v":""},{"$f":"IFERROR(VLOOKUP(A4043,Base!$A$2:$D$460,3,0),\"\")","v":""},{"$f":"IFERROR(VLOOKUP(A4043,Base!$A$2:$D$460,4,0),\"\")","v":""},null,null,null,null,null,null,null,null,null,null,null,null,null,0]
[null,{"$f":"IFERROR(VLOOKUP(A4044,Base!$A$2:$D$460,2,0),\"\")","v":""},{"$f":"IFERROR(VLOOKUP(A4044,Base!$A$2:$D$460,3,0),\"\")","v":""},{"$f":"IFERROR(VLOOKUP(A4044,Base!$A$2:$D$460,4,0),\"\")","v":""},null,null,null,null,null,null,null,null,null,null,null,null,null,0]
[null,{"$f":"IFERROR(VLOOKUP(A4045,Base!$A$2:$D$460,2,0),\"\")","v":""},{"$f":"IFERROR(VLOOKUP(A4045,Base!$A$2:$D$460,3,0),\"\")","v":""},{"$f":"IFERROR(VLOOKUP(A4045,Base!$A$2:$D$460,4,0),\"\")","v":""},null,null,null,null,null,null,null,null,null,null,null,null,null,0]
[null,{"$f":"IFERROR(VLOOKUP(A4046,Base!$A$2:$D$460,2,0),\"\")","v":""},{"$f":"IFERROR(VLOOKUP(A4046,Base!$A$2:$D$460,3,0),\"\")","v":""},{"$f":"IFERROR(VLOOKUP(A4046,Base!$A$2:$D$460,4,0),\"\")","v":""},null,null,null,null,null,null,null,null,null,null,null,null,null,0]
[null,{"$f":"IFERROR(VLOOKUP(A4047,Base!$A$2:$D$460,2,0),\"\")","v":""},{"$f":"IFERROR(VLOOKUP(A4047,Base!$A$2:$D$460,3,0),\"\")","v":""},{"$f":"IFERROR(VLOOKUP(A4047,Base!$A$2:$D$460,4,0),\"\")","v":""},null,null,null,null,null,null,null,null,null,null,null,null,null,0]
[null,{"$f":"IFERROR(VLOOKUP(A4048,Base!$A$2:$D$460,2,0),\"\")","v":""},{"$f":"IFERROR(VLOOKUP(A4048,Base!$A$2:$D$460,3,0),\"\")","v":""},{"$f":"IFERROR(VLOOKUP(A4048,Base!$A$2:$D$460,4,0),\"\")","v":""},null,null,null,null,null,null,null,null,null,null,null,null,null,0]
[null,{"$f":"IFERROR(VLOOKUP(A4049,Base!$A$2:$D$460,2,0),\"\")","v":""},{"$f":"IFERROR(VLOOKUP(A4049,Base!$A$2:$D$460,3,0),\"\")","v":""},{"$f":"IFERROR(VLOOKUP(A4049,Base!$A$2:$D$460,4,0),\"\")","v":""},null,null,null,null,null,null,null,null,null,null,null,null,null,0]
[null,{"$f":"IFERROR(VLOOKUP(A4050,Base!$A$2:$D$460,2,0),\"\")","v":""},{"$f":"IFERROR(VLOOKUP(A4050,Base!$A$2:$D$460,3,0),\"\")","v":""},{"$f":"IFERROR(VLOOKUP(A4050,Base!$A$2:$D$460,4,0),\"\")","v":""},null,null,null,null,null,null,null,null,null,null,null,null,null,0]
[null,{"$f":"IFERROR(VLOOKUP(A4051,Base!$A$2:$D$460,2,0),\"\")","v":""},{"$f":"IFERROR(VLOOKUP(A4051,Base!$A$2:$D$460,3,0),\"\")","v":""},{"$f":"IFERROR(VLOOKUP(A4051,Base!$A$2:$D$460,4,0),\"\")","v":""},null,null,null,null,null,null,null,null,null,null,null,null,null,0]
[null,{"$f":"IFERROR(VLOOKUP(A4052,Base!$A$2:$D$460,2,0),\"\")","v":""},{"$f":"IFERROR(VLOOKUP(A4052,Base!$A$2:$D$460,3,0),\"\")","v":""},{"$f":"IFERROR(VLOOKUP(A4052,Base!$A$2:$D$460,4,0),\"\")","v":""},null,null,null,null,null,null,null,null,null,null,null,null,null,0]
[null,{"$f":"IFERROR(VLOOKUP(A4053,Base!$A$2:$D$460,2,0),\"\")","v":""},{"$f":"IFERROR(VLOOKUP(A4053,Base!$A$2:$D$460,3,0),\"\")","v":""},{"$f":"IFERROR(VLOOKUP(A4053,Base!$A$2:$D$460,4,0),\"\")","v":""},null,null,null,null,null,null,null,null,null,null,null,null,null,0]
[null,{"$f":"IFERROR(VLOOKUP(A4054,Base!$A$2:$D$460,2,0),\"\")","v":""},{"$f":"IFERROR(VLOOKUP(A4054,Base!$A$2:$D$460,3,0),\"\")","v":""},{"$f":"IFERROR(VLOOKUP(A4054,Base!$A$2:$D$460,4,0),\"\")","v":""},null,null,null,null,null,null,null,null,null,null,null,null,null,0]
[null,{"$f":"IFERROR(VLOOKUP(A4055,Base!$A$2:$D$460,2,0),\"\")","v":""},{"$f":"IFERROR(VLOOKUP(A4055,Base!$A$2:$D$460,3,0),\"\")","v":""},{"$f":"IFERROR(VLOOKUP(A4055,Base!$A$2:$D$460,4,0),\"\")","v":""},null,null,null,null,null,null,null,null,null,null,null,null,null,0]
[null,{"$f":"IFERROR(VLOOKUP(A4056,Base!$A$2:$D$460,2,0),\"\")","v":""},{"$f":"IFERROR(VLOOKUP(A4056,Base!$A$2:$D$460,3,0),\"\")","v":""},{"$f":"IFERROR(VLOOKUP(A4056,Base!$A$2:$D$460,4,0),\"\")","v":""},null,null,null,null,null,null,null,null,null,null,null,null,null,0]
[null,{"$f":"IFERROR(VLOOKUP(A4057,Base!$A$2:$D$460,2,0),\"\")","v":""},{"$f":"IFERROR(VLOOKUP(A4057,Base!$A$2:$D$460,3,0),\"\")","v":""},{"$f":"IFERROR(VLOOKUP(A4057,Base!$A$2:$D$460,4,0),\"\")","v":""},null,null,null,null,null,null,null,null,null,null,null,null,null,0]
[null,{"$f":"IFERROR(VLOOKUP(A4058,Base!$A$2:$D$460,2,0),\"\")","v":""},{"$f":"IFERROR(VLOOKUP(A4058,Base!$A$2:$D$460,3,0),\"\")","v":""},{"$f":"IFERROR(VLOOKUP(A4058,Base!$A$2:$D$460,4,0),\"\")","v":""},null,null,null,null,null,null,null,null,null,null,null,null,null,0]
[null,{"$f":"IFERROR(VLOOKUP(A4059,Base!$A$2:$D$460,2,0),\"\")","v":""},{"$f":"IFERROR(VLOOKUP(A4059,Base!$A$2:$D$460,3,0),\"\")","v":""},{"$f":"IFERROR(VLOOKUP(A4059,Base!$A$2:$D$460,4,0),\"\")","v":""},null,null,null,null,null,null,null,null,null,null,null,null,null,0]
[null,{"$f":"IFERROR(VLOOKUP(A4060,Base!$A$2:$D$460,2,0),\"\")","v":""},{"$f":"IFERROR(VLOOKUP(A4060,Base!$A$2:$D$460,3,0),\"\")","v":""},{"$f":"IFERROR(VLOOKUP(A4060,Base!$A$2:$D$460,4,0),\"\")","v":""},null,null,null,null,null,null,null,null,null,null,null,null,null,0]
[null,{"$f":"IFERROR(VLOOKUP(A4061,Base!$A$2:$D$460,2,0),\"\")","v":""},{"$f":"IFERROR(VLOOKUP(A4061,Base!$A$2:$D$460,3,0),\"\")","v":""},{"$f":"IFERROR(VLOOKUP(A4061,Base!$A$2:$D$460,4,0),\"\")","v":""},null,null,null,null,null,null,null,null,null,null,null,null,null,0]
[null,{"$f":"IFERROR(VLOOKUP(A4062,Base!$A$2:$D$460,2,0),\"\")","v":""},{"$f":"IFERROR(VLOOKUP(A4062,Base!$A$2:$D$460,3,0),\"\")","v":""},{"$f":"IFERROR(VLOOKUP(A4062,Base!$A$2:$D$460,4,0),\"\")","v":""},null,null,null,null,null,null,null,null,null,null,null,null,null,0]
[null,{"$f":"IFERROR(VLOOKUP(A4063,Base!$A$2:$D$460,2,0),\"\")","v":""},{"$f":"IFERROR(VLOOKUP(A4063,Base!$A$2:$D$460,3,0),\"\")","v":""},{"$f":"IFERROR(VLOOKUP(A4063,Base!$A$2:$D$460,4,0),\"\")","v":""},null,null,null,null,null,null,null,null,null,null,null,null,null,0]
[null,{"$f":"IFERROR(VLOOKUP(A4064,Base!$A$2:$D$460,2,0),\"\")","v":""},{"$f":"IFERROR(VLOOKUP(A4064,Base!$A$2:$D$460,3,0),\"\")","v":""},{"$f":"IFERROR(VLOOKUP(A4064,Base!$A$2:$D$460,4,0),\"\")","v":""},null,null,null,null,null,null,null,null,null,null,null,null,null,0]
[null,{"$f":"IFERROR(VLOOKUP(A4065,Base!$A$2:$D$460,2,0),\"\")","v":""},{"$f":"IFERROR(VLOOKUP(A4065,Base!$A$2:$D$460,3,0),\"\")","v":""},{"$f":"IFERROR(VLOOKUP(A4065,Base!$A$2:$D$460,4,0),\"\")","v":""},null,null,null,null,null,null,null,null,null,null,null,null,null,0]
[null,{"$f":"IFERROR(VLOOKUP(A4066,Base!$A$2:$D$460,2,0),\"\")","v":""},{"$f":"IFERROR(VLOOKUP(A4066,Base!$A$2:$D$460,3,0),\"\")","v":""},{"$f":"IFERROR(VLOOKUP(A4066,Base!$A$2:$D$460,4,0),\"\")","v":""},null,null,null,null,null,null,null,null,null,null,null,null,null,0]
[null,{"$f":"IFERROR(VLOOKUP(A4067,Base!$A$2:$D$460,2,0),\"\")","v":""},{"$f":"IFERROR(VLOOKUP(A4067,Base!$A$2:$D$460,3,0),\"\")","v":""},{"$f":"IFERROR(VLOOKUP(A4067,Base!$A$2:$D$460,4,0),\"\")","v":""},null,null,null,null,null,null,null,null,null,null,null,null,null,0]
[null,{"$f":"IFERROR(VLOOKUP(A4068,Base!$A$2:$D$460,2,0),\"\")","v":""},{"$f":"IFERROR(VLOOKUP(A4068,Base!$A$2:$D$460,3,0),\"\")","v":""},{"$f":"IFERROR(VLOOKUP(A4068,Base!$A$2:$D$460,4,0),\"\")","v":""},null,null,null,null,null,null,null,null,null,null,null,null,null,0]
[null,{"$f":"IFERROR(VLOOKUP(A4069,Base!$A$2:$D$460,2,0),\"\")","v":""},{"$f":"IFERROR(VLOOKUP(A4069,Base!$A$2:$D$460,3,0),\"\")","v":""},{"$f":"IFERROR(VLOOKUP(A4069,Base!$A$2:$D$460,4,0),\"\")","v":""},null,null,null,null,null,null,null,null,null,null,null,null,null,0]
[null,{"$f":"IFERROR(VLOOKUP(A4070,Base!$A$2:$D$460,2,0),\"\")","v":""},{"$f":"IFERROR(VLOOKUP(A4070,Base!$A$2:$D$460,3,0),\"\")","v":""},{"$f":"IFERROR(VLOOKUP(A4070,Base!$A$2:$D$460,4,0),\"\")","v":""},null,null,null,null,null,null,null,null,null,null,null,null,null,0]
[null,{"$f":"IFERROR(VLOOKUP(A4071,Base!$A$2:$D$460,2,0),\"\")","v":""},{"$f":"IFERROR(VLOOKUP(A4071,Base!$A$2:$D$460,3,0),\"\")","v":""},{"$f":"IFERROR(VLOOKUP(A4071,Base!$A$2:$D$460,4,0),\"\")","v":""},null,null,null,null,null,null,null,null,null,null,null,null,null,{"$f":"SUM(N4071:Q4071)/4","v":0}]
[null,{"$f":"IFERROR(VLOOKUP(A4072,Base!$A$2:$D$460,2,0),\"\")","v":""},{"$f":"IFERROR(VLOOKUP(A4072,Base!$A$2:$D$460,3,0),\"\")","v":""},{"$f":"IFERROR(VLOOKUP(A4072,Base!$A$2:$D$460,4,0),\"\")","v":""},null,null,null,null,null,null,null,null,null,null,null,null,null,0]
[null,{"$f":"IFERROR(VLOOKUP(A4073,Base!$A$2:$D$460,2,0),\"\")","v":""},{"$f":"IFERROR(VLOOKUP(A4073,Base!$A$2:$D$460,3,0),\"\")","v":""},{"$f":"IFERROR(VLOOKUP(A4073,Base!$A$2:$D$460,4,0),\"\")","v":""},null,null,null,null,null,null,null,null,null,null,null,null,null,0]
[null,{"$f":"IFERROR(VLOOKUP(A4074,Base!$A$2:$D$460,2,0),\"\")","v":""},{"$f":"IFERROR(VLOOKUP(A4074,Base!$A$2:$D$460,3,0),\"\")","v":""},{"$f":"IFERROR(VLOOKUP(A4074,Base!$A$2:$D$460,4,0),\"\")","v":""},null,null,null,null,null,null,null,null,null,null,null,null,null,0]
[null,{"$f":"IFERROR(VLOOKUP(A4075,Base!$A$2:$D$460,2,0),\"\")","v":""},{"$f":"IFERROR(VLOOKUP(A4075,Base!$A$2:$D$460,3,0),\"\")","v":""},{"$f":"IFERROR(VLOOKUP(A4075,Base!$A$2:$D$460,4,0),\"\")","v":""},null,null,null,null,null,null,null,null,null,null,null,null,null,0]
[null,{"$f":"IFERROR(VLOOKUP(A4076,Base!$A$2:$D$460,2,0),\"\")","v":""},{"$f":"IFERROR(VLOOKUP(A4076,Base!$A$2:$D$460,3,0),\"\")","v":""},{"$f":"IFERROR(VLOOKUP(A4076,Base!$A$2:$D$460,4,0),\"\")","v":""},null,null,null,null,null,null,null,null,null,null,null,null,null,0]
[null,{"$f":"IFERROR(VLOOKUP(A4077,Base!$A$2:$D$460,2,0),\"\")","v":""},{"$f":"IFERROR(VLOOKUP(A4077,Base!$A$2:$D$460,3,0),\"\")","v":""},{"$f":"IFERROR(VLOOKUP(A4077,Base!$A$2:$D$460,4,0),\"\")","v":""},null,null,null,null,null,null,null,null,null,null,null,null,null,0]
[null,{"$f":"IFERROR(VLOOKUP(A4078,Base!$A$2:$D$460,2,0),\"\")","v":""},{"$f":"IFERROR(VLOOKUP(A4078,Base!$A$2:$D$460,3,0),\"\")","v":""},{"$f":"IFERROR(VLOOKUP(A4078,Base!$A$2:$D$460,4,0),\"\")","v":""},null,null,null,null,null,null,null,null,null,null,null,null,null,0]
[null,{"$f":"IFERROR(VLOOKUP(A4079,Base!$A$2:$D$460,2,0),\"\")","v":""},{"$f":"IFERROR(VLOOKUP(A4079,Base!$A$2:$D$460,3,0),\"\")","v":""},{"$f":"IFERROR(VLOOKUP(A4079,Base!$A$2:$D$460,4,0),\"\")","v":""},null,null,null,null,null,null,null,null,null,null,null,null,null,0]
[null,{"$f":"IFERROR(VLOOKUP(A4080,Base!$A$2:$D$460,2,0),\"\")","v":""},{"$f":"IFERROR(VLOOKUP(A4080,Base!$A$2:$D$460,3,0),\"\")","v":""},{"$f":"IFERROR(VLOOKUP(A4080,Base!$A$2:$D$460,4,0),\"\")","v":""},null,null,null,null,null,null,null,null,null,null,null,null,null,0]
[null,{"$f":"IFERROR(VLOOKUP(A4081,Base!$A$2:$D$460,2,0),\"\")","v":""},{"$f":"IFERROR(VLOOKUP(A4081,Base!$A$2:$D$460,3,0),\"\")","v":""},{"$f":"IFERROR(VLOOKUP(A4081,Base!$A$2:$D$460,4,0),\"\")","v":""},null,null,null,null,null,null,null,null,null,null,null,null,null,0]
[null,{"$f":"IFERROR(VLOOKUP(A4082,Base!$A$2:$D$460,2,0),\"\")","v":""},{"$f":"IFERROR(VLOOKUP(A4082,Base!$A$2:$D$460,3,0),\"\")","v":""},{"$f":"IFERROR(VLOOKUP(A4082,Base!$A$2:$D$460,4,0),\"\")","v":""},null,null,null,null,null,null,null,null,null,null,null,null,null,0]
[null,{"$f":"IFERROR(VLOOKUP(A4083,Base!$A$2:$D$460,2,0),\"\")","v":""},{"$f":"IFERROR(VLOOKUP(A4083,Base!$A$2:$D$460,3,0),\"\")","v":""},{"$f":"IFERROR(VLOOKUP(A4083,Base!$A$2:$D$460,4,0),\"\")","v":""},null,null,null,null,null,null,null,null,null,null,null,null,null,0]
[null,{"$f":"IFERROR(VLOOKUP(A4084,Base!$A$2:$D$460,2,0),\"\")","v":""},{"$f":"IFERROR(VLOOKUP(A4084,Base!$A$2:$D$460,3,0),\"\")","v":""},{"$f":"IFERROR(VLOOKUP(A4084,Base!$A$2:$D$460,4,0),\"\")","v":""},null,null,null,null,null,null,null,null,null,null,null,null,null,0]
[null,{"$f":"IFERROR(VLOOKUP(A4085,Base!$A$2:$D$460,2,0),\"\")","v":""},{"$f":"IFERROR(VLOOKUP(A4085,Base!$A$2:$D$460,3,0),\"\")","v":""},{"$f":"IFERROR(VLOOKUP(A4085,Base!$A$2:$D$460,4,0),\"\")","v":""},null,null,null,null,null,null,null,null,null,null,null,null,null,0]
[null,{"$f":"IFERROR(VLOOKUP(A4086,Base!$A$2:$D$460,2,0),\"\")","v":""},{"$f":"IFERROR(VLOOKUP(A4086,Base!$A$2:$D$460,3,0),\"\")","v":""},{"$f":"IFERROR(VLOOKUP(A4086,Base!$A$2:$D$460,4,0),\"\")","v":""},null,null,null,null,null,null,null,null,null,null,null,null,null,0]
[null,{"$f":"IFERROR(VLOOKUP(A4087,Base!$A$2:$D$460,2,0),\"\")","v":""},{"$f":"IFERROR(VLOOKUP(A4087,Base!$A$2:$D$460,3,0),\"\")","v":""},{"$f":"IFERROR(VLOOKUP(A4087,Base!$A$2:$D$460,4,0),\"\")","v":""},null,null,null,null,null,null,null,null,null,null,null,null,null,0]
[null,{"$f":"IFERROR(VLOOKUP(A4088,Base!$A$2:$D$460,2,0),\"\")","v":""},{"$f":"IFERROR(VLOOKUP(A4088,Base!$A$2:$D$460,3,0),\"\")","v":""},{"$f":"IFERROR(VLOOKUP(A4088,Base!$A$2:$D$460,4,0),\"\")","v":""},null,null,null,null,null,null,null,null,null,null,null,null,null,0]
[null,{"$f":"IFERROR(VLOOKUP(A4089,Base!$A$2:$D$460,2,0),\"\")","v":""},{"$f":"IFERROR(VLOOKUP(A4089,Base!$A$2:$D$460,3,0),\"\")","v":""},{"$f":"IFERROR(VLOOKUP(A4089,Base!$A$2:$D$460,4,0),\"\")","v":""},null,null,null,null,null,null,null,null,null,null,null,null,null,0]
[null,{"$f":"IFERROR(VLOOKUP(A4090,Base!$A$2:$D$460,2,0),\"\")","v":""},{"$f":"IFERROR(VLOOKUP(A4090,Base!$A$2:$D$460,3,0),\"\")","v":""},{"$f":"IFERROR(VLOOKUP(A4090,Base!$A$2:$D$460,4,0),\"\")","v":""},null,null,null,null,null,null,null,null,null,null,null,null,null,0]
[null,{"$f":"IFERROR(VLOOKUP(A4091,Base!$A$2:$D$460,2,0),\"\")","v":""},{"$f":"IFERROR(VLOOKUP(A4091,Base!$A$2:$D$460,3,0),\"\")","v":""},{"$f":"IFERROR(VLOOKUP(A4091,Base!$A$2:$D$460,4,0),\"\")","v":""},null,null,null,null,null,null,null,null,null,null,null,null,null,0]
[null,{"$f":"IFERROR(VLOOKUP(A4092,Base!$A$2:$D$460,2,0),\"\")","v":""},{"$f":"IFERROR(VLOOKUP(A4092,Base!$A$2:$D$460,3,0),\"\")","v":""},{"$f":"IFERROR(VLOOKUP(A4092,Base!$A$2:$D$460,4,0),\"\")","v":""},null,null,null,null,null,null,null,null,null,null,null,null,null,0]
[null,{"$f":"IFERROR(VLOOKUP(A4093,Base!$A$2:$D$460,2,0),\"\")","v":""},{"$f":"IFERROR(VLOOKUP(A4093,Base!$A$2:$D$460,3,0),\"\")","v":""},{"$f":"IFERROR(VLOOKUP(A4093,Base!$A$2:$D$460,4,0),\"\")","v":""},null,null,null,null,null,null,null,null,null,null,null,null,null,0]
[null,{"$f":"IFERROR(VLOOKUP(A4094,Base!$A$2:$D$460,2,0),\"\")","v":""},{"$f":"IFERROR(VLOOKUP(A4094,Base!$A$2:$D$460,3,0),\"\")","v":""},{"$f":"IFERROR(VLOOKUP(A4094,Base!$A$2:$D$460,4,0),\"\")","v":""},null,null,null,null,null,null,null,null,null,null,null,null,null,0]
[null,{"$f":"IFERROR(VLOOKUP(A4095,Base!$A$2:$D$460,2,0),\"\")","v":""},{"$f":"IFERROR(VLOOKUP(A4095,Base!$A$2:$D$460,3,0),\"\")","v":""},{"$f":"IFERROR(VLOOKUP(A4095,Base!$A$2:$D$460,4,0),\"\")","v":""},null,null,null,null,null,null,null,null,null,null,null,null,null,0]
[null,{"$f":"IFERROR(VLOOKUP(A4096,Base!$A$2:$D$460,2,0),\"\")","v":""},{"$f":"IFERROR(VLOOKUP(A4096,Base!$A$2:$D$460,3,0),\"\")","v":""},{"$f":"IFERROR(VLOOKUP(A4096,Base!$A$2:$D$460,4,0),\"\")","v":""},null,null,null,null,null,null,null,null,null,null,null,null,null,0]
[null,{"$f":"IFERROR(VLOOKUP(A4097,Base!$A$2:$D$460,2,0),\"\")","v":""},{"$f":"IFERROR(VLOOKUP(A4097,Base!$A$2:$D$460,3,0),\"\")","v":""},{"$f":"IFERROR(VLOOKUP(A4097,Base!$A$2:$D$460,4,0),\"\")","v":""},null,null,null,null,null,null,null,null,null,null,null,null,null,0]
[null,{"$f":"IFERROR(VLOOKUP(A4098,Base!$A$2:$D$460,2,0),\"\")","v":""},{"$f":"IFERROR(VLOOKUP(A4098,Base!$A$2:$D$460,3,0),\"\")","v":""},{"$f":"IFERROR(VLOOKUP(A4098,Base!$A$2:$D$460,4,0),\"\")","v":""},null,null,null,null,null,null,null,null,null,null,null,null,null,0]
[null,{"$f":"IFERROR(VLOOKUP(A4099,Base!$A$2:$D$460,2,0),\"\")","v":""},{"$f":"IFERROR(VLOOKUP(A4099,Base!$A$2:$D$460,3,0),\"\")","v":""},{"$f":"IFERROR(VLOOKUP(A4099,Base!$A$2:$D$460,4,0),\"\")","v":""},null,null,null,null,null,null,null,null,null,null,null,null,null,0]
[null,{"$f":"IFERROR(VLOOKUP(A4100,Base!$A$2:$D$460,2,0),\"\")","v":""},{"$f":"IFERROR(VLOOKUP(A4100,Base!$A$2:$D$460,3,0),\"\")","v":""},{"$f":"IFERROR(VLOOKUP(A4100,Base!$A$2:$D$460,4,0),\"\")","v":""},null,null,null,null,null,null,null,null,null,null,null,null,null,0]
[null,{"$f":"IFERROR(VLOOKUP(A4101,Base!$A$2:$D$460,2,0),\"\")","v":""},{"$f":"IFERROR(VLOOKUP(A4101,Base!$A$2:$D$460,3,0),\"\")","v":""},{"$f":"IFERROR(VLOOKUP(A4101,Base!$A$2:$D$460,4,0),\"\")","v":""},null,null,null,null,null,null,null,null,null,null,null,null,null,0]
[null,{"$f":"IFERROR(VLOOKUP(A4102,Base!$A$2:$D$460,2,0),\"\")","v":""},{"$f":"IFERROR(VLOOKUP(A4102,Base!$A$2:$D$460,3,0),\"\")","v":""},{"$f":"IFERROR(VLOOKUP(A4102,Base!$A$2:$D$460,4,0),\"\")","v":""},null,null,null,null,null,null,null,null,null,null,null,null,null,0]
[null,{"$f":"IFERROR(VLOOKUP(A4103,Base!$A$2:$D$460,2,0),\"\")","v":""},{"$f":"IFERROR(VLOOKUP(A4103,Base!$A$2:$D$460,3,0),\"\")","v":""},{"$f":"IFERROR(VLOOKUP(A4103,Base!$A$2:$D$460,4,0),\"\")","v":""},null,null,null,null,null,null,null,null,null,null,null,null,null,0]
[null,{"$f":"IFERROR(VLOOKUP(A4104,Base!$A$2:$D$460,2,0),\"\")","v":""},{"$f":"IFERROR(VLOOKUP(A4104,Base!$A$2:$D$460,3,0),\"\")","v":""},{"$f":"IFERROR(VLOOKUP(A4104,Base!$A$2:$D$460,4,0),\"\")","v":""},null,null,null,null,null,null,null,null,null,null,null,null,null,0]
[null,{"$f":"IFERROR(VLOOKUP(A4105,Base!$A$2:$D$460,2,0),\"\")","v":""},{"$f":"IFERROR(VLOOKUP(A4105,Base!$A$2:$D$460,3,0),\"\")","v":""},{"$f":"IFERROR(VLOOKUP(A4105,Base!$A$2:$D$460,4,0),\"\")","v":""},null,null,null,null,null,null,null,null,null,null,null,null,null,0]
[null,{"$f":"IFERROR(VLOOKUP(A4106,Base!$A$2:$D$460,2,0),\"\")","v":""},{"$f":"IFERROR(VLOOKUP(A4106,Base!$A$2:$D$460,3,0),\"\")","v":""},{"$f":"IFERROR(VLOOKUP(A4106,Base!$A$2:$D$460,4,0),\"\")","v":""},null,null,null,null,null,null,null,null,null,null,null,null,null,0]
[null,{"$f":"IFERROR(VLOOKUP(A4107,Base!$A$2:$D$460,2,0),\"\")","v":""},{"$f":"IFERROR(VLOOKUP(A4107,Base!$A$2:$D$460,3,0),\"\")","v":""},{"$f":"IFERROR(VLOOKUP(A4107,Base!$A$2:$D$460,4,0),\"\")","v":""},null,null,null,null,null,null,null,null,null,null,null,null,null,0]
[null,{"$f":"IFERROR(VLOOKUP(A4108,Base!$A$2:$D$460,2,0),\"\")","v":""},{"$f":"IFERROR(VLOOKUP(A4108,Base!$A$2:$D$460,3,0),\"\")","v":""},{"$f":"IFERROR(VLOOKUP(A4108,Base!$A$2:$D$460,4,0),\"\")","v":""},null,null,null,null,null,null,null,null,null,null,null,null,null,0]
[null,{"$f":"IFERROR(VLOOKUP(A4109,Base!$A$2:$D$460,2,0),\"\")","v":""},{"$f":"IFERROR(VLOOKUP(A4109,Base!$A$2:$D$460,3,0),\"\")","v":""},{"$f":"IFERROR(VLOOKUP(A4109,Base!$A$2:$D$460,4,0),\"\")","v":""},null,null,null,null,null,null,null,null,null,null,null,null,null,0]
[null,{"$f":"IFERROR(VLOOKUP(A4110,Base!$A$2:$D$460,2,0),\"\")","v":""},{"$f":"IFERROR(VLOOKUP(A4110,Base!$A$2:$D$460,3,0),\"\")","v":""},{"$f":"IFERROR(VLOOKUP(A4110,Base!$A$2:$D$460,4,0),\"\")","v":""},null,null,null,null,null,null,null,null,null,null,null,null,null,0]
[null,{"$f":"IFERROR(VLOOKUP(A4111,Base!$A$2:$D$460,2,0),\"\")","v":""},{"$f":"IFERROR(VLOOKUP(A4111,Base!$A$2:$D$460,3,0),\"\")","v":""},{"$f":"IFERROR(VLOOKUP(A4111,Base!$A$2:$D$460,4,0),\"\")","v":""},null,null,null,null,null,null,null,null,null,null,null,null,null,0]
[null,{"$f":"IFERROR(VLOOKUP(A4112,Base!$A$2:$D$460,2,0),\"\")","v":""},{"$f":"IFERROR(VLOOKUP(A4112,Base!$A$2:$D$460,3,0),\"\")","v":""},{"$f":"IFERROR(VLOOKUP(A4112,Base!$A$2:$D$460,4,0),\"\")","v":""},null,null,null,null,null,null,null,null,null,null,null,null,null,0]
[null,{"$f":"IFERROR(VLOOKUP(A4113,Base!$A$2:$D$460,2,0),\"\")","v":""},{"$f":"IFERROR(VLOOKUP(A4113,Base!$A$2:$D$460,3,0),\"\")","v":""},{"$f":"IFERROR(VLOOKUP(A4113,Base!$A$2:$D$460,4,0),\"\")","v":""},null,null,null,null,null,null,null,null,null,null,null,null,null,0]
[null,{"$f":"IFERROR(VLOOKUP(A4114,Base!$A$2:$D$460,2,0),\"\")","v":""},{"$f":"IFERROR(VLOOKUP(A4114,Base!$A$2:$D$460,3,0),\"\")","v":""},{"$f":"IFERROR(VLOOKUP(A4114,Base!$A$2:$D$460,4,0),\"\")","v":""},null,null,null,null,null,null,null,null,null,null,null,null,null,0]
[null,{"$f":"IFERROR(VLOOKUP(A4115,Base!$A$2:$D$460,2,0),\"\")","v":""},{"$f":"IFERROR(VLOOKUP(A4115,Base!$A$2:$D$460,3,0),\"\")","v":""},{"$f":"IFERROR(VLOOKUP(A4115,Base!$A$2:$D$460,4,0),\"\")","v":""},null,null,null,null,null,null,null,null,null,null,null,null,null,0]
[null,{"$f":"IFERROR(VLOOKUP(A4116,Base!$A$2:$D$460,2,0),\"\")","v":""},{"$f":"IFERROR(VLOOKUP(A4116,Base!$A$2:$D$460,3,0),\"\")","v":""},{"$f":"IFERROR(VLOOKUP(A4116,Base!$A$2:$D$460,4,0),\"\")","v":""},null,null,null,null,null,null,null,null,null,null,null,null,null,0]
[null,{"$f":"IFERROR(VLOOKUP(A4117,Base!$A$2:$D$460,2,0),\"\")","v":""},{"$f":"IFERROR(VLOOKUP(A4117,Base!$A$2:$D$460,3,0),\"\")","v":""},{"$f":"IFERROR(VLOOKUP(A4117,Base!$A$2:$D$460,4,0),\"\")","v":""},null,null,null,null,null,null,null,null,null,null,null,null,null,0]
[null,{"$f":"IFERROR(VLOOKUP(A4118,Base!$A$2:$D$460,2,0),\"\")","v":""},{"$f":"IFERROR(VLOOKUP(A4118,Base!$A$2:$D$460,3,0),\"\")","v":""},{"$f":"IFERROR(VLOOKUP(A4118,Base!$A$2:$D$460,4,0),\"\")","v":""},null,null,null,null,null,null,null,null,null,null,null,null,null,0]
[null,{"$f":"IFERROR(VLOOKUP(A4119,Base!$A$2:$D$460,2,0),\"\")","v":""},{"$f":"IFERROR(VLOOKUP(A4119,Base!$A$2:$D$460,3,0),\"\")","v":""},{"$f":"IFERROR(VLOOKUP(A4119,Base!$A$2:$D$460,4,0),\"\")","v":""},null,null,null,null,null,null,null,null,null,null,null,null,null,0]
[null,{"$f":"IFERROR(VLOOKUP(A4120,Base!$A$2:$D$460,2,0),\"\")","v":""},{"$f":"IFERROR(VLOOKUP(A4120,Base!$A$2:$D$460,3,0),\"\")","v":""},{"$f":"IFERROR(VLOOKUP(A4120,Base!$A$2:$D$460,4,0),\"\")","v":""},null,null,null,null,null,null,null,null,null,null,null,null,null,0]
[null,{"$f":"IFERROR(VLOOKUP(A4121,Base!$A$2:$D$460,2,0),\"\")","v":""},{"$f":"IFERROR(VLOOKUP(A4121,Base!$A$2:$D$460,3,0),\"\")","v":""},{"$f":"IFERROR(VLOOKUP(A4121,Base!$A$2:$D$460,4,0),\"\")","v":""},null,null,null,null,null,null,null,null,null,null,null,null,null,0]
[null,{"$f":"IFERROR(VLOOKUP(A4122,Base!$A$2:$D$460,2,0),\"\")","v":""},{"$f":"IFERROR(VLOOKUP(A4122,Base!$A$2:$D$460,3,0),\"\")","v":""},{"$f":"IFERROR(VLOOKUP(A4122,Base!$A$2:$D$460,4,0),\"\")","v":""},null,null,null,null,null,null,null,null,null,null,null,null,null,0]
[null,{"$f":"IFERROR(VLOOKUP(A4123,Base!$A$2:$D$460,2,0),\"\")","v":""},{"$f":"IFERROR(VLOOKUP(A4123,Base!$A$2:$D$460,3,0),\"\")","v":""},{"$f":"IFERROR(VLOOKUP(A4123,Base!$A$2:$D$460,4,0),\"\")","v":""},null,null,null,null,null,null,null,null,null,null,null,null,null,0]
[null,{"$f":"IFERROR(VLOOKUP(A4124,Base!$A$2:$D$460,2,0),\"\")","v":""},{"$f":"IFERROR(VLOOKUP(A4124,Base!$A$2:$D$460,3,0),\"\")","v":""},{"$f":"IFERROR(VLOOKUP(A4124,Base!$A$2:$D$460,4,0),\"\")","v":""},null,null,null,null,null,null,null,null,null,null,null,null,null,0]
[null,{"$f":"IFERROR(VLOOKUP(A4125,Base!$A$2:$D$460,2,0),\"\")","v":""},{"$f":"IFERROR(VLOOKUP(A4125,Base!$A$2:$D$460,3,0),\"\")","v":""},{"$f":"IFERROR(VLOOKUP(A4125,Base!$A$2:$D$460,4,0),\"\")","v":""},null,null,null,null,null,null,null,null,null,null,null,null,null,0]
[null,{"$f":"IFERROR(VLOOKUP(A4126,Base!$A$2:$D$460,2,0),\"\")","v":""},{"$f":"IFERROR(VLOOKUP(A4126,Base!$A$2:$D$460,3,0),\"\")","v":""},{"$f":"IFERROR(VLOOKUP(A4126,Base!$A$2:$D$460,4,0),\"\")","v":""},null,null,null,null,null,null,null,null,null,null,null,null,null,0]
[null,{"$f":"IFERROR(VLOOKUP(A4127,Base!$A$2:$D$460,2,0),\"\")","v":""},{"$f":"IFERROR(VLOOKUP(A4127,Base!$A$2:$D$460,3,0),\"\")","v":""},{"$f":"IFERROR(VLOOKUP(A4127,Base!$A$2:$D$460,4,0),\"\")","v":""},null,null,null,null,null,null,null,null,null,null,null,null,null,0]
[null,{"$f":"IFERROR(VLOOKUP(A4128,Base!$A$2:$D$460,2,0),\"\")","v":""},{"$f":"IFERROR(VLOOKUP(A4128,Base!$A$2:$D$460,3,0),\"\")","v":""},{"$f":"IFERROR(VLOOKUP(A4128,Base!$A$2:$D$460,4,0),\"\")","v":""},null,null,null,null,null,null,null,null,null,null,null,null,null,0]
[null,{"$f":"IFERROR(VLOOKUP(A4129,Base!$A$2:$D$460,2,0),\"\")","v":""},{"$f":"IFERROR(VLOOKUP(A4129,Base!$A$2:$D$460,3,0),\"\")","v":""},{"$f":"IFERROR(VLOOKUP(A4129,Base!$A$2:$D$460,4,0),\"\")","v":""},null,null,null,null,null,null,null,null,null,null,null,null,null,0]
[null,{"$f":"IFERROR(VLOOKUP(A4130,Base!$A$2:$D$460,2,0),\"\")","v":""},{"$f":"IFERROR(VLOOKUP(A4130,Base!$A$2:$D$460,3,0),\"\")","v":""},{"$f":"IFERROR(VLOOKUP(A4130,Base!$A$2:$D$460,4,0),\"\")","v":""},null,null,null,null,null,null,null,null,null,null,null,null,null,0]
[null,{"$f":"IFERROR(VLOOKUP(A4131,Base!$A$2:$D$460,2,0),\"\")","v":""},{"$f":"IFERROR(VLOOKUP(A4131,Base!$A$2:$D$460,3,0),\"\")","v":""},{"$f":"IFERROR(VLOOKUP(A4131,Base!$A$2:$D$460,4,0),\"\")","v":""},null,null,null,null,null,null,null,null,null,null,null,null,null,0]
[null,{"$f":"IFERROR(VLOOKUP(A4132,Base!$A$2:$D$460,2,0),\"\")","v":""},{"$f":"IFERROR(VLOOKUP(A4132,Base!$A$2:$D$460,3,0),\"\")","v":""},{"$f":"IFERROR(VLOOKUP(A4132,Base!$A$2:$D$460,4,0),\"\")","v":""},null,null,null,null,null,null,null,null,null,null,null,null,null,0]
[null,{"$f":"IFERROR(VLOOKUP(A4133,Base!$A$2:$D$460,2,0),\"\")","v":""},{"$f":"IFERROR(VLOOKUP(A4133,Base!$A$2:$D$460,3,0),\"\")","v":""},{"$f":"IFERROR(VLOOKUP(A4133,Base!$A$2:$D$460,4,0),\"\")","v":""},null,null,null,null,null,null,null,null,null,null,null,null,null,0]
[null,{"$f":"IFERROR(VLOOKUP(A4134,Base!$A$2:$D$460,2,0),\"\")","v":""},{"$f":"IFERROR(VLOOKUP(A4134,Base!$A$2:$D$460,3,0),\"\")","v":""},{"$f":"IFERROR(VLOOKUP(A4134,Base!$A$2:$D$460,4,0),\"\")","v":""},null,null,null,null,null,null,null,null,null,null,null,null,null,0]
[null,{"$f":"IFERROR(VLOOKUP(A4135,Base!$A$2:$D$460,2,0),\"\")","v":""},{"$f":"IFERROR(VLOOKUP(A4135,Base!$A$2:$D$460,3,0),\"\")","v":""},{"$f":"IFERROR(VLOOKUP(A4135,Base!$A$2:$D$460,4,0),\"\")","v":""},null,null,null,null,null,null,null,null,null,null,null,null,null,{"$f":"SUM(N4135:Q4135)/4","v":0}]
[null,{"$f":"IFERROR(VLOOKUP(A4136,Base!$A$2:$D$460,2,0),\"\")","v":""},{"$f":"IFERROR(VLOOKUP(A4136,Base!$A$2:$D$460,3,0),\"\")","v":""},{"$f":"IFERROR(VLOOKUP(A4136,Base!$A$2:$D$460,4,0),\"\")","v":""},null,null,null,null,null,null,null,null,null,null,null,null,null,0]
[null,{"$f":"IFERROR(VLOOKUP(A4137,Base!$A$2:$D$460,2,0),\"\")","v":""},{"$f":"IFERROR(VLOOKUP(A4137,Base!$A$2:$D$460,3,0),\"\")","v":""},{"$f":"IFERROR(VLOOKUP(A4137,Base!$A$2:$D$460,4,0),\"\")","v":""},null,null,null,null,null,null,null,null,null,null,null,null,null,0]
[null,{"$f":"IFERROR(VLOOKUP(A4138,Base!$A$2:$D$460,2,0),\"\")","v":""},{"$f":"IFERROR(VLOOKUP(A4138,Base!$A$2:$D$460,3,0),\"\")","v":""},{"$f":"IFERROR(VLOOKUP(A4138,Base!$A$2:$D$460,4,0),\"\")","v":""},null,null,null,null,null,null,null,null,null,null,null,null,null,0]
[null,{"$f":"IFERROR(VLOOKUP(A4139,Base!$A$2:$D$460,2,0),\"\")","v":""},{"$f":"IFERROR(VLOOKUP(A4139,Base!$A$2:$D$460,3,0),\"\")","v":""},{"$f":"IFERROR(VLOOKUP(A4139,Base!$A$2:$D$460,4,0),\"\")","v":""},null,null,null,null,null,null,null,null,null,null,null,null,null,0]
[null,{"$f":"IFERROR(VLOOKUP(A4140,Base!$A$2:$D$460,2,0),\"\")","v":""},{"$f":"IFERROR(VLOOKUP(A4140,Base!$A$2:$D$460,3,0),\"\")","v":""},{"$f":"IFERROR(VLOOKUP(A4140,Base!$A$2:$D$460,4,0),\"\")","v":""},null,null,null,null,null,null,null,null,null,null,null,null,null,0]
[null,{"$f":"IFERROR(VLOOKUP(A4141,Base!$A$2:$D$460,2,0),\"\")","v":""},{"$f":"IFERROR(VLOOKUP(A4141,Base!$A$2:$D$460,3,0),\"\")","v":""},{"$f":"IFERROR(VLOOKUP(A4141,Base!$A$2:$D$460,4,0),\"\")","v":""},null,null,null,null,null,null,null,null,null,null,null,null,null,0]
[null,{"$f":"IFERROR(VLOOKUP(A4142,Base!$A$2:$D$460,2,0),\"\")","v":""},{"$f":"IFERROR(VLOOKUP(A4142,Base!$A$2:$D$460,3,0),\"\")","v":""},{"$f":"IFERROR(VLOOKUP(A4142,Base!$A$2:$D$460,4,0),\"\")","v":""},null,null,null,null,null,null,null,null,null,null,null,null,null,0]
[null,{"$f":"IFERROR(VLOOKUP(A4143,Base!$A$2:$D$460,2,0),\"\")","v":""},{"$f":"IFERROR(VLOOKUP(A4143,Base!$A$2:$D$460,3,0),\"\")","v":""},{"$f":"IFERROR(VLOOKUP(A4143,Base!$A$2:$D$460,4,0),\"\")","v":""},null,null,null,null,null,null,null,null,null,null,null,null,null,0]
[null,{"$f":"IFERROR(VLOOKUP(A4144,Base!$A$2:$D$460,2,0),\"\")","v":""},{"$f":"IFERROR(VLOOKUP(A4144,Base!$A$2:$D$460,3,0),\"\")","v":""},{"$f":"IFERROR(VLOOKUP(A4144,Base!$A$2:$D$460,4,0),\"\")","v":""},null,null,null,null,null,null,null,null,null,null,null,null,null,0]
[null,{"$f":"IFERROR(VLOOKUP(A4145,Base!$A$2:$D$460,2,0),\"\")","v":""},{"$f":"IFERROR(VLOOKUP(A4145,Base!$A$2:$D$460,3,0),\"\")","v":""},{"$f":"IFERROR(VLOOKUP(A4145,Base!$A$2:$D$460,4,0),\"\")","v":""},null,null,null,null,null,null,null,null,null,null,null,null,null,0]
[null,{"$f":"IFERROR(VLOOKUP(A4146,Base!$A$2:$D$460,2,0),\"\")","v":""},{"$f":"IFERROR(VLOOKUP(A4146,Base!$A$2:$D$460,3,0),\"\")","v":""},{"$f":"IFERROR(VLOOKUP(A4146,Base!$A$2:$D$460,4,0),\"\")","v":""},null,null,null,null,null,null,null,null,null,null,null,null,null,0]
[null,{"$f":"IFERROR(VLOOKUP(A4147,Base!$A$2:$D$460,2,0),\"\")","v":""},{"$f":"IFERROR(VLOOKUP(A4147,Base!$A$2:$D$460,3,0),\"\")","v":""},{"$f":"IFERROR(VLOOKUP(A4147,Base!$A$2:$D$460,4,0),\"\")","v":""},null,null,null,null,null,null,null,null,null,null,null,null,null,0]
[null,{"$f":"IFERROR(VLOOKUP(A4148,Base!$A$2:$D$460,2,0),\"\")","v":""},{"$f":"IFERROR(VLOOKUP(A4148,Base!$A$2:$D$460,3,0),\"\")","v":""},{"$f":"IFERROR(VLOOKUP(A4148,Base!$A$2:$D$460,4,0),\"\")","v":""},null,null,null,null,null,null,null,null,null,null,null,null,null,0]
[null,{"$f":"IFERROR(VLOOKUP(A4149,Base!$A$2:$D$460,2,0),\"\")","v":""},{"$f":"IFERROR(VLOOKUP(A4149,Base!$A$2:$D$460,3,0),\"\")","v":""},{"$f":"IFERROR(VLOOKUP(A4149,Base!$A$2:$D$460,4,0),\"\")","v":""},null,null,null,null,null,null,null,null,null,null,null,null,null,0]
[null,{"$f":"IFERROR(VLOOKUP(A4150,Base!$A$2:$D$460,2,0),\"\")","v":""},{"$f":"IFERROR(VLOOKUP(A4150,Base!$A$2:$D$460,3,0),\"\")","v":""},{"$f":"IFERROR(VLOOKUP(A4150,Base!$A$2:$D$460,4,0),\"\")","v":""},null,null,null,null,null,null,null,null,null,null,null,null,null,0]
[null,{"$f":"IFERROR(VLOOKUP(A4151,Base!$A$2:$D$460,2,0),\"\")","v":""},{"$f":"IFERROR(VLOOKUP(A4151,Base!$A$2:$D$460,3,0),\"\")","v":""},{"$f":"IFERROR(VLOOKUP(A4151,Base!$A$2:$D$460,4,0),\"\")","v":""},null,null,null,null,null,null,null,null,null,null,null,null,null,0]
[null,{"$f":"IFERROR(VLOOKUP(A4152,Base!$A$2:$D$460,2,0),\"\")","v":""},{"$f":"IFERROR(VLOOKUP(A4152,Base!$A$2:$D$460,3,0),\"\")","v":""},{"$f":"IFERROR(VLOOKUP(A4152,Base!$A$2:$D$460,4,0),\"\")","v":""},null,null,null,null,null,null,null,null,null,null,null,null,null,0]
[null,{"$f":"IFERROR(VLOOKUP(A4153,Base!$A$2:$D$460,2,0),\"\")","v":""},{"$f":"IFERROR(VLOOKUP(A4153,Base!$A$2:$D$460,3,0),\"\")","v":""},{"$f":"IFERROR(VLOOKUP(A4153,Base!$A$2:$D$460,4,0),\"\")","v":""},null,null,null,null,null,null,null,null,null,null,null,null,null,0]
[null,{"$f":"IFERROR(VLOOKUP(A4154,Base!$A$2:$D$460,2,0),\"\")","v":""},{"$f":"IFERROR(VLOOKUP(A4154,Base!$A$2:$D$460,3,0),\"\")","v":""},{"$f":"IFERROR(VLOOKUP(A4154,Base!$A$2:$D$460,4,0),\"\")","v":""},null,null,null,null,null,null,null,null,null,null,null,null,null,0]
[null,{"$f":"IFERROR(VLOOKUP(A4155,Base!$A$2:$D$460,2,0),\"\")","v":""},{"$f":"IFERROR(VLOOKUP(A4155,Base!$A$2:$D$460,3,0),\"\")","v":""},{"$f":"IFERROR(VLOOKUP(A4155,Base!$A$2:$D$460,4,0),\"\")","v":""},null,null,null,null,null,null,null,null,null,null,null,null,null,0]
[null,{"$f":"IFERROR(VLOOKUP(A4156,Base!$A$2:$D$460,2,0),\"\")","v":""},{"$f":"IFERROR(VLOOKUP(A4156,Base!$A$2:$D$460,3,0),\"\")","v":""},{"$f":"IFERROR(VLOOKUP(A4156,Base!$A$2:$D$460,4,0),\"\")","v":""},null,null,null,null,null,null,null,null,null,null,null,null,null,0]
[null,{"$f":"IFERROR(VLOOKUP(A4157,Base!$A$2:$D$460,2,0),\"\")","v":""},{"$f":"IFERROR(VLOOKUP(A4157,Base!$A$2:$D$460,3,0),\"\")","v":""},{"$f":"IFERROR(VLOOKUP(A4157,Base!$A$2:$D$460,4,0),\"\")","v":""},null,null,null,null,null,null,null,null,null,null,null,null,null,0]
[null,{"$f":"IFERROR(VLOOKUP(A4158,Base!$A$2:$D$460,2,0),\"\")","v":""},{"$f":"IFERROR(VLOOKUP(A4158,Base!$A$2:$D$460,3,0),\"\")","v":""},{"$f":"IFERROR(VLOOKUP(A4158,Base!$A$2:$D$460,4,0),\"\")","v":""},null,null,null,null,null,null,null,null,null,null,null,null,null,0]
[null,{"$f":"IFERROR(VLOOKUP(A4159,Base!$A$2:$D$460,2,0),\"\")","v":""},{"$f":"IFERROR(VLOOKUP(A4159,Base!$A$2:$D$460,3,0),\"\")","v":""},{"$f":"IFERROR(VLOOKUP(A4159,Base!$A$2:$D$460,4,0),\"\")","v":""},null,null,null,null,null,null,null,null,null,null,null,null,null,0]
[null,{"$f":"IFERROR(VLOOKUP(A4160,Base!$A$2:$D$460,2,0),\"\")","v":""},{"$f":"IFERROR(VLOOKUP(A4160,Base!$A$2:$D$460,3,0),\"\")","v":""},{"$f":"IFERROR(VLOOKUP(A4160,Base!$A$2:$D$460,4,0),\"\")","v":""},null,null,null,null,null,null,null,null,null,null,null,null,null,0]
[null,{"$f":"IFERROR(VLOOKUP(A4161,Base!$A$2:$D$460,2,0),\"\")","v":""},{"$f":"IFERROR(VLOOKUP(A4161,Base!$A$2:$D$460,3,0),\"\")","v":""},{"$f":"IFERROR(VLOOKUP(A4161,Base!$A$2:$D$460,4,0),\"\")","v":""},null,null,null,null,null,null,null,null,null,null,null,null,null,0]
[null,{"$f":"IFERROR(VLOOKUP(A4162,Base!$A$2:$D$460,2,0),\"\")","v":""},{"$f":"IFERROR(VLOOKUP(A4162,Base!$A$2:$D$460,3,0),\"\")","v":""},{"$f":"IFERROR(VLOOKUP(A4162,Base!$A$2:$D$460,4,0),\"\")","v":""},null,null,null,null,null,null,null,null,null,null,null,null,null,0]
[null,{"$f":"IFERROR(VLOOKUP(A4163,Base!$A$2:$D$460,2,0),\"\")","v":""},{"$f":"IFERROR(VLOOKUP(A4163,Base!$A$2:$D$460,3,0),\"\")","v":""},{"$f":"IFERROR(VLOOKUP(A4163,Base!$A$2:$D$460,4,0),\"\")","v":""},null,null,null,null,null,null,null,null,null,null,null,null,null,0]
[null,{"$f":"IFERROR(VLOOKUP(A4164,Base!$A$2:$D$460,2,0),\"\")","v":""},{"$f":"IFERROR(VLOOKUP(A4164,Base!$A$2:$D$460,3,0),\"\")","v":""},{"$f":"IFERROR(VLOOKUP(A4164,Base!$A$2:$D$460,4,0),\"\")","v":""},null,null,null,null,null,null,null,null,null,null,null,null,null,0]
[null,{"$f":"IFERROR(VLOOKUP(A4165,Base!$A$2:$D$460,2,0),\"\")","v":""},{"$f":"IFERROR(VLOOKUP(A4165,Base!$A$2:$D$460,3,0),\"\")","v":""},{"$f":"IFERROR(VLOOKUP(A4165,Base!$A$2:$D$460,4,0),\"\")","v":""},null,null,null,null,null,null,null,null,null,null,null,null,null,0]
[null,{"$f":"IFERROR(VLOOKUP(A4166,Base!$A$2:$D$460,2,0),\"\")","v":""},{"$f":"IFERROR(VLOOKUP(A4166,Base!$A$2:$D$460,3,0),\"\")","v":""},{"$f":"IFERROR(VLOOKUP(A4166,Base!$A$2:$D$460,4,0),\"\")","v":""},null,null,null,null,null,null,null,null,null,null,null,null,null,0]
[null,{"$f":"IFERROR(VLOOKUP(A4167,Base!$A$2:$D$460,2,0),\"\")","v":""},{"$f":"IFERROR(VLOOKUP(A4167,Base!$A$2:$D$460,3,0),\"\")","v":""},{"$f":"IFERROR(VLOOKUP(A4167,Base!$A$2:$D$460,4,0),\"\")","v":""},null,null,null,null,null,null,null,null,null,null,null,null,null,0]
[null,{"$f":"IFERROR(VLOOKUP(A4168,Base!$A$2:$D$460,2,0),\"\")","v":""},{"$f":"IFERROR(VLOOKUP(A4168,Base!$A$2:$D$460,3,0),\"\")","v":""},{"$f":"IFERROR(VLOOKUP(A4168,Base!$A$2:$D$460,4,0),\"\")","v":""},null,null,null,null,null,null,null,null,null,null,null,null,null,0]
[null,{"$f":"IFERROR(VLOOKUP(A4169,Base!$A$2:$D$460,2,0),\"\")","v":""},{"$f":"IFERROR(VLOOKUP(A4169,Base!$A$2:$D$460,3,0),\"\")","v":""},{"$f":"IFERROR(VLOOKUP(A4169,Base!$A$2:$D$460,4,0),\"\")","v":""},null,null,null,null,null,null,null,null,null,null,null,null,null,0]
[null,{"$f":"IFERROR(VLOOKUP(A4170,Base!$A$2:$D$460,2,0),\"\")","v":""},{"$f":"IFERROR(VLOOKUP(A4170,Base!$A$2:$D$460,3,0),\"\")","v":""},{"$f":"IFERROR(VLOOKUP(A4170,Base!$A$2:$D$460,4,0),\"\")","v":""},null,null,null,null,null,null,null,null,null,null,null,null,null,0]
[null,{"$f":"IFERROR(VLOOKUP(A4171,Base!$A$2:$D$460,2,0),\"\")","v":""},{"$f":"IFERROR(VLOOKUP(A4171,Base!$A$2:$D$460,3,0),\"\")","v":""},{"$f":"IFERROR(VLOOKUP(A4171,Base!$A$2:$D$460,4,0),\"\")","v":""},null,null,null,null,null,null,null,null,null,null,null,null,null,0]
[null,{"$f":"IFERROR(VLOOKUP(A4172,Base!$A$2:$D$460,2,0),\"\")","v":""},{"$f":"IFERROR(VLOOKUP(A4172,Base!$A$2:$D$460,3,0),\"\")","v":""},{"$f":"IFERROR(VLOOKUP(A4172,Base!$A$2:$D$460,4,0),\"\")","v":""},null,null,null,null,null,null,null,null,null,null,null,null,null,0]
[null,{"$f":"IFERROR(VLOOKUP(A4173,Base!$A$2:$D$460,2,0),\"\")","v":""},{"$f":"IFERROR(VLOOKUP(A4173,Base!$A$2:$D$460,3,0),\"\")","v":""},{"$f":"IFERROR(VLOOKUP(A4173,Base!$A$2:$D$460,4,0),\"\")","v":""},null,null,null,null,null,null,null,null,null,null,null,null,null,0]
[null,{"$f":"IFERROR(VLOOKUP(A4174,Base!$A$2:$D$460,2,0),\"\")","v":""},{"$f":"IFERROR(VLOOKUP(A4174,Base!$A$2:$D$460,3,0),\"\")","v":""},{"$f":"IFERROR(VLOOKUP(A4174,Base!$A$2:$D$460,4,0),\"\")","v":""},null,null,null,null,null,null,null,null,null,null,null,null,null,0]
[null,{"$f":"IFERROR(VLOOKUP(A4175,Base!$A$2:$D$460,2,0),\"\")","v":""},{"$f":"IFERROR(VLOOKUP(A4175,Base!$A$2:$D$460,3,0),\"\")","v":""},{"$f":"IFERROR(VLOOKUP(A4175,Base!$A$2:$D$460,4,0),\"\")","v":""},null,null,null,null,null,null,null,null,null,null,null,null,null,0]
[null,{"$f":"IFERROR(VLOOKUP(A4176,Base!$A$2:$D$460,2,0),\"\")","v":""},{"$f":"IFERROR(VLOOKUP(A4176,Base!$A$2:$D$460,3,0),\"\")","v":""},{"$f":"IFERROR(VLOOKUP(A4176,Base!$A$2:$D$460,4,0),\"\")","v":""},null,null,null,null,null,null,null,null,null,null,null,null,null,0]
[null,{"$f":"IFERROR(VLOOKUP(A4177,Base!$A$2:$D$460,2,0),\"\")","v":""},{"$f":"IFERROR(VLOOKUP(A4177,Base!$A$2:$D$460,3,0),\"\")","v":""},{"$f":"IFERROR(VLOOKUP(A4177,Base!$A$2:$D$460,4,0),\"\")","v":""},null,null,null,null,null,null,null,null,null,null,null,null,null,0]
[null,{"$f":"IFERROR(VLOOKUP(A4178,Base!$A$2:$D$460,2,0),\"\")","v":""},{"$f":"IFERROR(VLOOKUP(A4178,Base!$A$2:$D$460,3,0),\"\")","v":""},{"$f":"IFERROR(VLOOKUP(A4178,Base!$A$2:$D$460,4,0),\"\")","v":""},null,null,null,null,null,null,null,null,null,null,null,null,null,0]
[null,{"$f":"IFERROR(VLOOKUP(A4179,Base!$A$2:$D$460,2,0),\"\")","v":""},{"$f":"IFERROR(VLOOKUP(A4179,Base!$A$2:$D$460,3,0),\"\")","v":""},{"$f":"IFERROR(VLOOKUP(A4179,Base!$A$2:$D$460,4,0),\"\")","v":""},null,null,null,null,null,null,null,null,null,null,null,null,null,0]
[null,{"$f":"IFERROR(VLOOKUP(A4180,Base!$A$2:$D$460,2,0),\"\")","v":""},{"$f":"IFERROR(VLOOKUP(A4180,Base!$A$2:$D$460,3,0),\"\")","v":""},{"$f":"IFERROR(VLOOKUP(A4180,Base!$A$2:$D$460,4,0),\"\")","v":""},null,null,null,null,null,null,null,null,null,null,null,null,null,0]
[null,{"$f":"IFERROR(VLOOKUP(A4181,Base!$A$2:$D$460,2,0),\"\")","v":""},{"$f":"IFERROR(VLOOKUP(A4181,Base!$A$2:$D$460,3,0),\"\")","v":""},{"$f":"IFERROR(VLOOKUP(A4181,Base!$A$2:$D$460,4,0),\"\")","v":""},null,null,null,null,null,null,null,null,null,null,null,null,null,0]
[null,{"$f":"IFERROR(VLOOKUP(A4182,Base!$A$2:$D$460,2,0),\"\")","v":""},{"$f":"IFERROR(VLOOKUP(A4182,Base!$A$2:$D$460,3,0),\"\")","v":""},{"$f":"IFERROR(VLOOKUP(A4182,Base!$A$2:$D$460,4,0),\"\")","v":""},null,null,null,null,null,null,null,null,null,null,null,null,null,0]
[null,{"$f":"IFERROR(VLOOKUP(A4183,Base!$A$2:$D$460,2,0),\"\")","v":""},{"$f":"IFERROR(VLOOKUP(A4183,Base!$A$2:$D$460,3,0),\"\")","v":""},{"$f":"IFERROR(VLOOKUP(A4183,Base!$A$2:$D$460,4,0),\"\")","v":""},null,null,null,null,null,null,null,null,null,null,null,null,null,0]
[null,{"$f":"IFERROR(VLOOKUP(A4184,Base!$A$2:$D$460,2,0),\"\")","v":""},{"$f":"IFERROR(VLOOKUP(A4184,Base!$A$2:$D$460,3,0),\"\")","v":""},{"$f":"IFERROR(VLOOKUP(A4184,Base!$A$2:$D$460,4,0),\"\")","v":""},null,null,null,null,null,null,null,null,null,null,null,null,null,0]
[null,{"$f":"IFERROR(VLOOKUP(A4185,Base!$A$2:$D$460,2,0),\"\")","v":""},{"$f":"IFERROR(VLOOKUP(A4185,Base!$A$2:$D$460,3,0),\"\")","v":""},{"$f":"IFERROR(VLOOKUP(A4185,Base!$A$2:$D$460,4,0),\"\")","v":""},null,null,null,null,null,null,null,null,null,null,null,null,null,0]
[null,{"$f":"IFERROR(VLOOKUP(A4186,Base!$A$2:$D$460,2,0),\"\")","v":""},{"$f":"IFERROR(VLOOKUP(A4186,Base!$A$2:$D$460,3,0),\"\")","v":""},{"$f":"IFERROR(VLOOKUP(A4186,Base!$A$2:$D$460,4,0),\"\")","v":""},null,null,null,null,null,null,null,null,null,null,null,null,null,0]
[null,{"$f":"IFERROR(VLOOKUP(A4187,Base!$A$2:$D$460,2,0),\"\")","v":""},{"$f":"IFERROR(VLOOKUP(A4187,Base!$A$2:$D$460,3,0),\"\")","v":""},{"$f":"IFERROR(VLOOKUP(A4187,Base!$A$2:$D$460,4,0),\"\")","v":""},null,null,null,null,null,null,null,null,null,null,null,null,null,0]
[null,{"$f":"IFERROR(VLOOKUP(A4188,Base!$A$2:$D$460,2,0),\"\")","v":""},{"$f":"IFERROR(VLOOKUP(A4188,Base!$A$2:$D$460,3,0),\"\")","v":""},{"$f":"IFERROR(VLOOKUP(A4188,Base!$A$2:$D$460,4,0),\"\")","v":""},null,null,null,null,null,null,null,null,null,null,null,null,null,0]
[null,{"$f":"IFERROR(VLOOKUP(A4189,Base!$A$2:$D$460,2,0),\"\")","v":""},{"$f":"IFERROR(VLOOKUP(A4189,Base!$A$2:$D$460,3,0),\"\")","v":""},{"$f":"IFERROR(VLOOKUP(A4189,Base!$A$2:$D$460,4,0),\"\")","v":""},null,null,null,null,null,null,null,null,null,null,null,null,null,0]
[null,{"$f":"IFERROR(VLOOKUP(A4190,Base!$A$2:$D$460,2,0),\"\")","v":""},{"$f":"IFERROR(VLOOKUP(A4190,Base!$A$2:$D$460,3,0),\"\")","v":""},{"$f":"IFERROR(VLOOKUP(A4190,Base!$A$2:$D$460,4,0),\"\")","v":""},null,null,null,null,null,null,null,null,null,null,null,null,null,0]
[null,{"$f":"IFERROR(VLOOKUP(A4191,Base!$A$2:$D$460,2,0),\"\")","v":""},{"$f":"IFERROR(VLOOKUP(A4191,Base!$A$2:$D$460,3,0),\"\")","v":""},{"$f":"IFERROR(VLOOKUP(A4191,Base!$A$2:$D$460,4,0),\"\")","v":""},null,null,null,null,null,null,null,null,null,null,null,null,null,0]
[null,{"$f":"IFERROR(VLOOKUP(A4192,Base!$A$2:$D$460,2,0),\"\")","v":""},{"$f":"IFERROR(VLOOKUP(A4192,Base!$A$2:$D$460,3,0),\"\")","v":""},{"$f":"IFERROR(VLOOKUP(A4192,Base!$A$2:$D$460,4,0),\"\")","v":""},null,null,null,null,null,null,null,null,null,null,null,null,null,0]
[null,{"$f":"IFERROR(VLOOKUP(A4193,Base!$A$2:$D$460,2,0),\"\")","v":""},{"$f":"IFERROR(VLOOKUP(A4193,Base!$A$2:$D$460,3,0),\"\")","v":""},{"$f":"IFERROR(VLOOKUP(A4193,Base!$A$2:$D$460,4,0),\"\")","v":""},null,null,null,null,null,null,null,null,null,null,null,null,null,0]
[null,{"$f":"IFERROR(VLOOKUP(A4194,Base!$A$2:$D$460,2,0),\"\")","v":""},{"$f":"IFERROR(VLOOKUP(A4194,Base!$A$2:$D$460,3,0),\"\")","v":""},{"$f":"IFERROR(VLOOKUP(A4194,Base!$A$2:$D$460,4,0),\"\")","v":""},null,null,null,null,null,null,null,null,null,null,null,null,null,0]
[null,{"$f":"IFERROR(VLOOKUP(A4195,Base!$A$2:$D$460,2,0),\"\")","v":""},{"$f":"IFERROR(VLOOKUP(A4195,Base!$A$2:$D$460,3,0),\"\")","v":""},{"$f":"IFERROR(VLOOKUP(A4195,Base!$A$2:$D$460,4,0),\"\")","v":""},null,null,null,null,null,null,null,null,null,null,null,null,null,0]
[null,{"$f":"IFERROR(VLOOKUP(A4196,Base!$A$2:$D$460,2,0),\"\")","v":""},{"$f":"IFERROR(VLOOKUP(A4196,Base!$A$2:$D$460,3,0),\"\")","v":""},{"$f":"IFERROR(VLOOKUP(A4196,Base!$A$2:$D$460,4,0),\"\")","v":""},null,null,null,null,null,null,null,null,null,null,null,null,null,0]
[null,{"$f":"IFERROR(VLOOKUP(A4197,Base!$A$2:$D$460,2,0),\"\")","v":""},{"$f":"IFERROR(VLOOKUP(A4197,Base!$A$2:$D$460,3,0),\"\")","v":""},{"$f":"IFERROR(VLOOKUP(A4197,Base!$A$2:$D$460,4,0),\"\")","v":""},null,null,null,null,null,null,null,null,null,null,null,null,null,0]
[null,{"$f":"IFERROR(VLOOKUP(A4198,Base!$A$2:$D$460,2,0),\"\")","v":""},{"$f":"IFERROR(VLOOKUP(A4198,Base!$A$2:$D$460,3,0),\"\")","v":""},{"$f":"IFERROR(VLOOKUP(A4198,Base!$A$2:$D$460,4,0),\"\")","v":""},null,null,null,null,null,null,null,null,null,null,null,null,null,0]
[null,{"$f":"IFERROR(VLOOKUP(A4199,Base!$A$2:$D$460,2,0),\"\")","v":""},{"$f":"IFERROR(VLOOKUP(A4199,Base!$A$2:$D$460,3,0),\"\")","v":""},{"$f":"IFERROR(VLOOKUP(A4199,Base!$A$2:$D$460,4,0),\"\")","v":""},null,null,null,null,null,null,null,null,null,null,null,null,null,{"$f":"SUM(N4199:Q4199)/4","v":0}]
[null,{"$f":"IFERROR(VLOOKUP(A4200,Base!$A$2:$D$460,2,0),\"\")","v":""},{"$f":"IFERROR(VLOOKUP(A4200,Base!$A$2:$D$460,3,0),\"\")","v":""},{"$f":"IFERROR(VLOOKUP(A4200,Base!$A$2:$D$460,4,0),\"\")","v":""},null,null,null,null,null,null,null,null,null,null,null,null,null,0]
[null,{"$f":"IFERROR(VLOOKUP(A4201,Base!$A$2:$D$460,2,0),\"\")","v":""},{"$f":"IFERROR(VLOOKUP(A4201,Base!$A$2:$D$460,3,0),\"\")","v":""},{"$f":"IFERROR(VLOOKUP(A4201,Base!$A$2:$D$460,4,0),\"\")","v":""},null,null,null,null,null,null,null,null,null,null,null,null,null,0]
[null,{"$f":"IFERROR(VLOOKUP(A4202,Base!$A$2:$D$460,2,0),\"\")","v":""},{"$f":"IFERROR(VLOOKUP(A4202,Base!$A$2:$D$460,3,0),\"\")","v":""},{"$f":"IFERROR(VLOOKUP(A4202,Base!$A$2:$D$460,4,0),\"\")","v":""},null,null,null,null,null,null,null,null,null,null,null,null,null,0]
[null,{"$f":"IFERROR(VLOOKUP(A4203,Base!$A$2:$D$460,2,0),\"\")","v":""},{"$f":"IFERROR(VLOOKUP(A4203,Base!$A$2:$D$460,3,0),\"\")","v":""},{"$f":"IFERROR(VLOOKUP(A4203,Base!$A$2:$D$460,4,0),\"\")","v":""},null,null,null,null,null,null,null,null,null,null,null,null,null,0]
[null,{"$f":"IFERROR(VLOOKUP(A4204,Base!$A$2:$D$460,2,0),\"\")","v":""},{"$f":"IFERROR(VLOOKUP(A4204,Base!$A$2:$D$460,3,0),\"\")","v":""},{"$f":"IFERROR(VLOOKUP(A4204,Base!$A$2:$D$460,4,0),\"\")","v":""},null,null,null,null,null,null,null,null,null,null,null,null,null,0]
[null,{"$f":"IFERROR(VLOOKUP(A4205,Base!$A$2:$D$460,2,0),\"\")","v":""},{"$f":"IFERROR(VLOOKUP(A4205,Base!$A$2:$D$460,3,0),\"\")","v":""},{"$f":"IFERROR(VLOOKUP(A4205,Base!$A$2:$D$460,4,0),\"\")","v":""},null,null,null,null,null,null,null,null,null,null,null,null,null,0]
[null,{"$f":"IFERROR(VLOOKUP(A4206,Base!$A$2:$D$460,2,0),\"\")","v":""},{"$f":"IFERROR(VLOOKUP(A4206,Base!$A$2:$D$460,3,0),\"\")","v":""},{"$f":"IFERROR(VLOOKUP(A4206,Base!$A$2:$D$460,4,0),\"\")","v":""},null,null,null,null,null,null,null,null,null,null,null,null,null,0]
[null,{"$f":"IFERROR(VLOOKUP(A4207,Base!$A$2:$D$460,2,0),\"\")","v":""},{"$f":"IFERROR(VLOOKUP(A4207,Base!$A$2:$D$460,3,0),\"\")","v":""},{"$f":"IFERROR(VLOOKUP(A4207,Base!$A$2:$D$460,4,0),\"\")","v":""},null,null,null,null,null,null,null,null,null,null,null,null,null,0]
[null,{"$f":"IFERROR(VLOOKUP(A4208,Base!$A$2:$D$460,2,0),\"\")","v":""},{"$f":"IFERROR(VLOOKUP(A4208,Base!$A$2:$D$460,3,0),\"\")","v":""},{"$f":"IFERROR(VLOOKUP(A4208,Base!$A$2:$D$460,4,0),\"\")","v":""},null,null,null,null,null,null,null,null,null,null,null,null,null,0]
[null,{"$f":"IFERROR(VLOOKUP(A4209,Base!$A$2:$D$460,2,0),\"\")","v":""},{"$f":"IFERROR(VLOOKUP(A4209,Base!$A$2:$D$460,3,0),\"\")","v":""},{"$f":"IFERROR(VLOOKUP(A4209,Base!$A$2:$D$460,4,0),\"\")","v":""},null,null,null,null,null,null,null,null,null,null,null,null,null,0]
[null,{"$f":"IFERROR(VLOOKUP(A4210,Base!$A$2:$D$460,2,0),\"\")","v":""},{"$f":"IFERROR(VLOOKUP(A4210,Base!$A$2:$D$460,3,0),\"\")","v":""},{"$f":"IFERROR(VLOOKUP(A4210,Base!$A$2:$D$460,4,0),\"\")","v":""},null,null,null,null,null,null,null,null,null,null,null,null,null,0]
[null,{"$f":"IFERROR(VLOOKUP(A4211,Base!$A$2:$D$460,2,0),\"\")","v":""},{"$f":"IFERROR(VLOOKUP(A4211,Base!$A$2:$D$460,3,0),\"\")","v":""},{"$f":"IFERROR(VLOOKUP(A4211,Base!$A$2:$D$460,4,0),\"\")","v":""},null,null,null,null,null,null,null,null,null,null,null,null,null,0]
[null,{"$f":"IFERROR(VLOOKUP(A4212,Base!$A$2:$D$460,2,0),\"\")","v":""},{"$f":"IFERROR(VLOOKUP(A4212,Base!$A$2:$D$460,3,0),\"\")","v":""},{"$f":"IFERROR(VLOOKUP(A4212,Base!$A$2:$D$460,4,0),\"\")","v":""},null,null,null,null,null,null,null,null,null,null,null,null,null,0]
[null,{"$f":"IFERROR(VLOOKUP(A4213,Base!$A$2:$D$460,2,0),\"\")","v":""},{"$f":"IFERROR(VLOOKUP(A4213,Base!$A$2:$D$460,3,0),\"\")","v":""},{"$f":"IFERROR(VLOOKUP(A4213,Base!$A$2:$D$460,4,0),\"\")","v":""},null,null,null,null,null,null,null,null,null,null,null,null,null,0]
[null,{"$f":"IFERROR(VLOOKUP(A4214,Base!$A$2:$D$460,2,0),\"\")","v":""},{"$f":"IFERROR(VLOOKUP(A4214,Base!$A$2:$D$460,3,0),\"\")","v":""},{"$f":"IFERROR(VLOOKUP(A4214,Base!$A$2:$D$460,4,0),\"\")","v":""},null,null,null,null,null,null,null,null,null,null,null,null,null,0]
[null,{"$f":"IFERROR(VLOOKUP(A4215,Base!$A$2:$D$460,2,0),\"\")","v":""},{"$f":"IFERROR(VLOOKUP(A4215,Base!$A$2:$D$460,3,0),\"\")","v":""},{"$f":"IFERROR(VLOOKUP(A4215,Base!$A$2:$D$460,4,0),\"\")","v":""},null,null,null,null,null,null,null,null,null,null,null,null,null,0]
[null,{"$f":"IFERROR(VLOOKUP(A4216,Base!$A$2:$D$460,2,0),\"\")","v":""},{"$f":"IFERROR(VLOOKUP(A4216,Base!$A$2:$D$460,3,0),\"\")","v":""},{"$f":"IFERROR(VLOOKUP(A4216,Base!$A$2:$D$460,4,0),\"\")","v":""},null,null,null,null,null,null,null,null,null,null,null,null,null,0]
[null,{"$f":"IFERROR(VLOOKUP(A4217,Base!$A$2:$D$460,2,0),\"\")","v":""},{"$f":"IFERROR(VLOOKUP(A4217,Base!$A$2:$D$460,3,0),\"\")","v":""},{"$f":"IFERROR(VLOOKUP(A4217,Base!$A$2:$D$460,4,0),\"\")","v":""},null,null,null,null,null,null,null,null,null,null,null,null,null,0]
[null,{"$f":"IFERROR(VLOOKUP(A4218,Base!$A$2:$D$460,2,0),\"\")","v":""},{"$f":"IFERROR(VLOOKUP(A4218,Base!$A$2:$D$460,3,0),\"\")","v":""},{"$f":"IFERROR(VLOOKUP(A4218,Base!$A$2:$D$460,4,0),\"\")","v":""},null,null,null,null,null,null,null,null,null,null,null,null,null,0]
[null,{"$f":"IFERROR(VLOOKUP(A4219,Base!$A$2:$D$460,2,0),\"\")","v":""},{"$f":"IFERROR(VLOOKUP(A4219,Base!$A$2:$D$460,3,0),\"\")","v":""},{"$f":"IFERROR(VLOOKUP(A4219,Base!$A$2:$D$460,4,0),\"\")","v":""},null,null,null,null,null,null,null,null,null,null,null,null,null,0]
[null,{"$f":"IFERROR(VLOOKUP(A4220,Base!$A$2:$D$460,2,0),\"\")","v":""},{"$f":"IFERROR(VLOOKUP(A4220,Base!$A$2:$D$460,3,0),\"\")","v":""},{"$f":"IFERROR(VLOOKUP(A4220,Base!$A$2:$D$460,4,0),\"\")","v":""},null,null,null,null,null,null,null,null,null,null,null,null,null,0]
[null,{"$f":"IFERROR(VLOOKUP(A4221,Base!$A$2:$D$460,2,0),\"\")","v":""},{"$f":"IFERROR(VLOOKUP(A4221,Base!$A$2:$D$460,3,0),\"\")","v":""},{"$f":"IFERROR(VLOOKUP(A4221,Base!$A$2:$D$460,4,0),\"\")","v":""},null,null,null,null,null,null,null,null,null,null,null,null,null,0]
[null,{"$f":"IFERROR(VLOOKUP(A4222,Base!$A$2:$D$460,2,0),\"\")","v":""},{"$f":"IFERROR(VLOOKUP(A4222,Base!$A$2:$D$460,3,0),\"\")","v":""},{"$f":"IFERROR(VLOOKUP(A4222,Base!$A$2:$D$460,4,0),\"\")","v":""},null,null,null,null,null,null,null,null,null,null,null,null,null,0]
[null,{"$f":"IFERROR(VLOOKUP(A4223,Base!$A$2:$D$460,2,0),\"\")","v":""},{"$f":"IFERROR(VLOOKUP(A4223,Base!$A$2:$D$460,3,0),\"\")","v":""},{"$f":"IFERROR(VLOOKUP(A4223,Base!$A$2:$D$460,4,0),\"\")","v":""},null,null,null,null,null,null,null,null,null,null,null,null,null,0]
[null,{"$f":"IFERROR(VLOOKUP(A4224,Base!$A$2:$D$460,2,0),\"\")","v":""},{"$f":"IFERROR(VLOOKUP(A4224,Base!$A$2:$D$460,3,0),\"\")","v":""},{"$f":"IFERROR(VLOOKUP(A4224,Base!$A$2:$D$460,4,0),\"\")","v":""},null,null,null,null,null,null,null,null,null,null,null,null,null,0]
[null,{"$f":"IFERROR(VLOOKUP(A4225,Base!$A$2:$D$460,2,0),\"\")","v":""},{"$f":"IFERROR(VLOOKUP(A4225,Base!$A$2:$D$460,3,0),\"\")","v":""},{"$f":"IFERROR(VLOOKUP(A4225,Base!$A$2:$D$460,4,0),\"\")","v":""},null,null,null,null,null,null,null,null,null,null,null,null,null,0]
[null,{"$f":"IFERROR(VLOOKUP(A4226,Base!$A$2:$D$460,2,0),\"\")","v":""},{"$f":"IFERROR(VLOOKUP(A4226,Base!$A$2:$D$460,3,0),\"\")","v":""},{"$f":"IFERROR(VLOOKUP(A4226,Base!$A$2:$D$460,4,0),\"\")","v":""},null,null,null,null,null,null,null,null,null,null,null,null,null,0]
[null,{"$f":"IFERROR(VLOOKUP(A4227,Base!$A$2:$D$460,2,0),\"\")","v":""},{"$f":"IFERROR(VLOOKUP(A4227,Base!$A$2:$D$460,3,0),\"\")","v":""},{"$f":"IFERROR(VLOOKUP(A4227,Base!$A$2:$D$460,4,0),\"\")","v":""},null,null,null,null,null,null,null,null,null,null,null,null,null,0]
[null,{"$f":"IFERROR(VLOOKUP(A4228,Base!$A$2:$D$460,2,0),\"\")","v":""},{"$f":"IFERROR(VLOOKUP(A4228,Base!$A$2:$D$460,3,0),\"\")","v":""},{"$f":"IFERROR(VLOOKUP(A4228,Base!$A$2:$D$460,4,0),\"\")","v":""},null,null,null,null,null,null,null,null,null,null,null,null,null,0]
[null,{"$f":"IFERROR(VLOOKUP(A4229,Base!$A$2:$D$460,2,0),\"\")","v":""},{"$f":"IFERROR(VLOOKUP(A4229,Base!$A$2:$D$460,3,0),\"\")","v":""},{"$f":"IFERROR(VLOOKUP(A4229,Base!$A$2:$D$460,4,0),\"\")","v":""},null,null,null,null,null,null,null,null,null,null,null,null,null,0]
[null,{"$f":"IFERROR(VLOOKUP(A4230,Base!$A$2:$D$460,2,0),\"\")","v":""},{"$f":"IFERROR(VLOOKUP(A4230,Base!$A$2:$D$460,3,0),\"\")","v":""},{"$f":"IFERROR(VLOOKUP(A4230,Base!$A$2:$D$460,4,0),\"\")","v":""},null,null,null,null,null,null,null,null,null,null,null,null,null,0]
[null,{"$f":"IFERROR(VLOOKUP(A4231,Base!$A$2:$D$460,2,0),\"\")","v":""},{"$f":"IFERROR(VLOOKUP(A4231,Base!$A$2:$D$460,3,0),\"\")","v":""},{"$f":"IFERROR(VLOOKUP(A4231,Base!$A$2:$D$460,4,0),\"\")","v":""},null,null,null,null,null,null,null,null,null,null,null,null,null,0]
[null,{"$f":"IFERROR(VLOOKUP(A4232,Base!$A$2:$D$460,2,0),\"\")","v":""},{"$f":"IFERROR(VLOOKUP(A4232,Base!$A$2:$D$460,3,0),\"\")","v":""},{"$f":"IFERROR(VLOOKUP(A4232,Base!$A$2:$D$460,4,0),\"\")","v":""},null,null,null,null,null,null,null,null,null,null,null,null,null,0]
[null,{"$f":"IFERROR(VLOOKUP(A4233,Base!$A$2:$D$460,2,0),\"\")","v":""},{"$f":"IFERROR(VLOOKUP(A4233,Base!$A$2:$D$460,3,0),\"\")","v":""},{"$f":"IFERROR(VLOOKUP(A4233,Base!$A$2:$D$460,4,0),\"\")","v":""},null,null,null,null,null,null,null,null,null,null,null,null,null,0]
[null,{"$f":"IFERROR(VLOOKUP(A4234,Base!$A$2:$D$460,2,0),\"\")","v":""},{"$f":"IFERROR(VLOOKUP(A4234,Base!$A$2:$D$460,3,0),\"\")","v":""},{"$f":"IFERROR(VLOOKUP(A4234,Base!$A$2:$D$460,4,0),\"\")","v":""},null,null,null,null,null,null,null,null,null,null,null,null,null,0]
[null,{"$f":"IFERROR(VLOOKUP(A4235,Base!$A$2:$D$460,2,0),\"\")","v":""},{"$f":"IFERROR(VLOOKUP(A4235,Base!$A$2:$D$460,3,0),\"\")","v":""},{"$f":"IFERROR(VLOOKUP(A4235,Base!$A$2:$D$460,4,0),\"\")","v":""},null,null,null,null,null,null,null,null,null,null,null,null,null,0]
[null,{"$f":"IFERROR(VLOOKUP(A4236,Base!$A$2:$D$460,2,0),\"\")","v":""},{"$f":"IFERROR(VLOOKUP(A4236,Base!$A$2:$D$460,3,0),\"\")","v":""},{"$f":"IFERROR(VLOOKUP(A4236,Base!$A$2:$D$460,4,0),\"\")","v":""},null,null,null,null,null,null,null,null,null,null,null,null,null,0]
[null,{"$f":"IFERROR(VLOOKUP(A4237,Base!$A$2:$D$460,2,0),\"\")","v":""},{"$f":"IFERROR(VLOOKUP(A4237,Base!$A$2:$D$460,3,0),\"\")","v":""},{"$f":"IFERROR(VLOOKUP(A4237,Base!$A$2:$D$460,4,0),\"\")","v":""},null,null,null,null,null,null,null,null,null,null,null,null,null,0]
[null,{"$f":"IFERROR(VLOOKUP(A4238,Base!$A$2:$D$460,2,0),\"\")","v":""},{"$f":"IFERROR(VLOOKUP(A4238,Base!$A$2:$D$460,3,0),\"\")","v":""},{"$f":"IFERROR(VLOOKUP(A4238,Base!$A$2:$D$460,4,0),\"\")","v":""},null,null,null,null,null,null,null,null,null,null,null,null,null,0]
[null,{"$f":"IFERROR(VLOOKUP(A4239,Base!$A$2:$D$460,2,0),\"\")","v":""},{"$f":"IFERROR(VLOOKUP(A4239,Base!$A$2:$D$460,3,0),\"\")","v":""},{"$f":"IFERROR(VLOOKUP(A4239,Base!$A$2:$D$460,4,0),\"\")","v":""},null,null,null,null,null,null,null,null,null,null,null,null,null,0]
[null,{"$f":"IFERROR(VLOOKUP(A4240,Base!$A$2:$D$460,2,0),\"\")","v":""},{"$f":"IFERROR(VLOOKUP(A4240,Base!$A$2:$D$460,3,0),\"\")","v":""},{"$f":"IFERROR(VLOOKUP(A4240,Base!$A$2:$D$460,4,0),\"\")","v":""},null,null,null,null,null,null,null,null,null,null,null,null,null,0]
[null,{"$f":"IFERROR(VLOOKUP(A4241,Base!$A$2:$D$460,2,0),\"\")","v":""},{"$f":"IFERROR(VLOOKUP(A4241,Base!$A$2:$D$460,3,0),\"\")","v":""},{"$f":"IFERROR(VLOOKUP(A4241,Base!$A$2:$D$460,4,0),\"\")","v":""},null,null,null,null,null,null,null,null,null,null,null,null,null,0]
[null,{"$f":"IFERROR(VLOOKUP(A4242,Base!$A$2:$D$460,2,0),\"\")","v":""},{"$f":"IFERROR(VLOOKUP(A4242,Base!$A$2:$D$460,3,0),\"\")","v":""},{"$f":"IFERROR(VLOOKUP(A4242,Base!$A$2:$D$460,4,0),\"\")","v":""},null,null,null,null,null,null,null,null,null,null,null,null,null,0]
[null,{"$f":"IFERROR(VLOOKUP(A4243,Base!$A$2:$D$460,2,0),\"\")","v":""},{"$f":"IFERROR(VLOOKUP(A4243,Base!$A$2:$D$460,3,0),\"\")","v":""},{"$f":"IFERROR(VLOOKUP(A4243,Base!$A$2:$D$460,4,0),\"\")","v":""},null,null,null,null,null,null,null,null,null,null,null,null,null,0]
[null,{"$f":"IFERROR(VLOOKUP(A4244,Base!$A$2:$D$460,2,0),\"\")","v":""},{"$f":"IFERROR(VLOOKUP(A4244,Base!$A$2:$D$460,3,0),\"\")","v":""},{"$f":"IFERROR(VLOOKUP(A4244,Base!$A$2:$D$460,4,0),\"\")","v":""},null,null,null,null,null,null,null,null,null,null,null,null,null,0]
[null,{"$f":"IFERROR(VLOOKUP(A4245,Base!$A$2:$D$460,2,0),\"\")","v":""},{"$f":"IFERROR(VLOOKUP(A4245,Base!$A$2:$D$460,3,0),\"\")","v":""},{"$f":"IFERROR(VLOOKUP(A4245,Base!$A$2:$D$460,4,0),\"\")","v":""},null,null,null,null,null,null,null,null,null,null,null,null,null,0]
[null,{"$f":"IFERROR(VLOOKUP(A4246,Base!$A$2:$D$460,2,0),\"\")","v":""},{"$f":"IFERROR(VLOOKUP(A4246,Base!$A$2:$D$460,3,0),\"\")","v":""},{"$f":"IFERROR(VLOOKUP(A4246,Base!$A$2:$D$460,4,0),\"\")","v":""},null,null,null,null,null,null,null,null,null,null,null,null,null,0]
[null,{"$f":"IFERROR(VLOOKUP(A4247,Base!$A$2:$D$460,2,0),\"\")","v":""},{"$f":"IFERROR(VLOOKUP(A4247,Base!$A$2:$D$460,3,0),\"\")","v":""},{"$f":"IFERROR(VLOOKUP(A4247,Base!$A$2:$D$460,4,0),\"\")","v":""},null,null,null,null,null,null,null,null,null,null,null,null,null,0]
[null,{"$f":"IFERROR(VLOOKUP(A4248,Base!$A$2:$D$460,2,0),\"\")","v":""},{"$f":"IFERROR(VLOOKUP(A4248,Base!$A$2:$D$460,3,0),\"\")","v":""},{"$f":"IFERROR(VLOOKUP(A4248,Base!$A$2:$D$460,4,0),\"\")","v":""},null,null,null,null,null,null,null,null,null,null,null,null,null,0]
[null,{"$f":"IFERROR(VLOOKUP(A4249,Base!$A$2:$D$460,2,0),\"\")","v":""},{"$f":"IFERROR(VLOOKUP(A4249,Base!$A$2:$D$460,3,0),\"\")","v":""},{"$f":"IFERROR(VLOOKUP(A4249,Base!$A$2:$D$460,4,0),\"\")","v":""},null,null,null,null,null,null,null,null,null,null,null,null,null,0]
[null,{"$f":"IFERROR(VLOOKUP(A4250,Base!$A$2:$D$460,2,0),\"\")","v":""},{"$f":"IFERROR(VLOOKUP(A4250,Base!$A$2:$D$460,3,0),\"\")","v":""},{"$f":"IFERROR(VLOOKUP(A4250,Base!$A$2:$D$460,4,0),\"\")","v":""},null,null,null,null,null,null,null,null,null,null,null,null,null,0]
[null,{"$f":"IFERROR(VLOOKUP(A4251,Base!$A$2:$D$460,2,0),\"\")","v":""},{"$f":"IFERROR(VLOOKUP(A4251,Base!$A$2:$D$460,3,0),\"\")","v":""},{"$f":"IFERROR(VLOOKUP(A4251,Base!$A$2:$D$460,4,0),\"\")","v":""},null,null,null,null,null,null,null,null,null,null,null,null,null,0]
[null,{"$f":"IFERROR(VLOOKUP(A4252,Base!$A$2:$D$460,2,0),\"\")","v":""},{"$f":"IFERROR(VLOOKUP(A4252,Base!$A$2:$D$460,3,0),\"\")","v":""},{"$f":"IFERROR(VLOOKUP(A4252,Base!$A$2:$D$460,4,0),\"\")","v":""},null,null,null,null,null,null,null,null,null,null,null,null,null,0]
[null,{"$f":"IFERROR(VLOOKUP(A4253,Base!$A$2:$D$460,2,0),\"\")","v":""},{"$f":"IFERROR(VLOOKUP(A4253,Base!$A$2:$D$460,3,0),\"\")","v":""},{"$f":"IFERROR(VLOOKUP(A4253,Base!$A$2:$D$460,4,0),\"\")","v":""},null,null,null,null,null,null,null,null,null,null,null,null,null,0]
[null,{"$f":"IFERROR(VLOOKUP(A4254,Base!$A$2:$D$460,2,0),\"\")","v":""},{"$f":"IFERROR(VLOOKUP(A4254,Base!$A$2:$D$460,3,0),\"\")","v":""},{"$f":"IFERROR(VLOOKUP(A4254,Base!$A$2:$D$460,4,0),\"\")","v":""},null,null,null,null,null,null,null,null,null,null,null,null,null,0]
[null,{"$f":"IFERROR(VLOOKUP(A4255,Base!$A$2:$D$460,2,0),\"\")","v":""},{"$f":"IFERROR(VLOOKUP(A4255,Base!$A$2:$D$460,3,0),\"\")","v":""},{"$f":"IFERROR(VLOOKUP(A4255,Base!$A$2:$D$460,4,0),\"\")","v":""},null,null,null,null,null,null,null,null,null,null,null,null,null,0]
[null,{"$f":"IFERROR(VLOOKUP(A4256,Base!$A$2:$D$460,2,0),\"\")","v":""},{"$f":"IFERROR(VLOOKUP(A4256,Base!$A$2:$D$460,3,0),\"\")","v":""},{"$f":"IFERROR(VLOOKUP(A4256,Base!$A$2:$D$460,4,0),\"\")","v":""},null,null,null,null,null,null,null,null,null,null,null,null,null,0]
[null,{"$f":"IFERROR(VLOOKUP(A4257,Base!$A$2:$D$460,2,0),\"\")","v":""},{"$f":"IFERROR(VLOOKUP(A4257,Base!$A$2:$D$460,3,0),\"\")","v":""},{"$f":"IFERROR(VLOOKUP(A4257,Base!$A$2:$D$460,4,0),\"\")","v":""},null,null,null,null,null,null,null,null,null,null,null,null,null,0]
[null,{"$f":"IFERROR(VLOOKUP(A4258,Base!$A$2:$D$460,2,0),\"\")","v":""},{"$f":"IFERROR(VLOOKUP(A4258,Base!$A$2:$D$460,3,0),\"\")","v":""},{"$f":"IFERROR(VLOOKUP(A4258,Base!$A$2:$D$460,4,0),\"\")","v":""},null,null,null,null,null,null,null,null,null,null,null,null,null,0]
[null,{"$f":"IFERROR(VLOOKUP(A4259,Base!$A$2:$D$460,2,0),\"\")","v":""},{"$f":"IFERROR(VLOOKUP(A4259,Base!$A$2:$D$460,3,0),\"\")","v":""},{"$f":"IFERROR(VLOOKUP(A4259,Base!$A$2:$D$460,4,0),\"\")","v":""},null,null,null,null,null,null,null,null,null,null,null,null,null,0]
[null,{"$f":"IFERROR(VLOOKUP(A4260,Base!$A$2:$D$460,2,0),\"\")","v":""},{"$f":"IFERROR(VLOOKUP(A4260,Base!$A$2:$D$460,3,0),\"\")","v":""},{"$f":"IFERROR(VLOOKUP(A4260,Base!$A$2:$D$460,4,0),\"\")","v":""},null,null,null,null,null,null,null,null,null,null,null,null,null,0]
[null,{"$f":"IFERROR(VLOOKUP(A4261,Base!$A$2:$D$460,2,0),\"\")","v":""},{"$f":"IFERROR(VLOOKUP(A4261,Base!$A$2:$D$460,3,0),\"\")","v":""},{"$f":"IFERROR(VLOOKUP(A4261,Base!$A$2:$D$460,4,0),\"\")","v":""},null,null,null,null,null,null,null,null,null,null,null,null,null,0]
[null,{"$f":"IFERROR(VLOOKUP(A4262,Base!$A$2:$D$460,2,0),\"\")","v":""},{"$f":"IFERROR(VLOOKUP(A4262,Base!$A$2:$D$460,3,0),\"\")","v":""},{"$f":"IFERROR(VLOOKUP(A4262,Base!$A$2:$D$460,4,0),\"\")","v":""},null,null,null,null,null,null,null,null,null,null,null,null,null,0]
[null,{"$f":"IFERROR(VLOOKUP(A4263,Base!$A$2:$D$460,2,0),\"\")","v":""},{"$f":"IFERROR(VLOOKUP(A4263,Base!$A$2:$D$460,3,0),\"\")","v":""},{"$f":"IFERROR(VLOOKUP(A4263,Base!$A$2:$D$460,4,0),\"\")","v":""},null,null,null,null,null,null,null,null,null,null,null,null,null,{"$f":"SUM(N4263:Q4263)/4","v":0}]
[null,{"$f":"IFERROR(VLOOKUP(A4264,Base!$A$2:$D$460,2,0),\"\")","v":""},{"$f":"IFERROR(VLOOKUP(A4264,Base!$A$2:$D$460,3,0),\"\")","v":""},{"$f":"IFERROR(VLOOKUP(A4264,Base!$A$2:$D$460,4,0),\"\")","v":""},null,null,null,null,null,null,null,null,null,null,null,null,null,0]
[null,{"$f":"IFERROR(VLOOKUP(A4265,Base!$A$2:$D$460,2,0),\"\")","v":""},{"$f":"IFERROR(VLOOKUP(A4265,Base!$A$2:$D$460,3,0),\"\")","v":""},{"$f":"IFERROR(VLOOKUP(A4265,Base!$A$2:$D$460,4,0),\"\")","v":""},null,null,null,null,null,null,null,null,null,null,null,null,null,0]
[null,{"$f":"IFERROR(VLOOKUP(A4266,Base!$A$2:$D$460,2,0),\"\")","v":""},{"$f":"IFERROR(VLOOKUP(A4266,Base!$A$2:$D$460,3,0),\"\")","v":""},{"$f":"IFERROR(VLOOKUP(A4266,Base!$A$2:$D$460,4,0),\"\")","v":""},null,null,null,null,null,null,null,null,null,null,null,null,null,0]
[null,{"$f":"IFERROR(VLOOKUP(A4267,Base!$A$2:$D$460,2,0),\"\")","v":""},{"$f":"IFERROR(VLOOKUP(A4267,Base!$A$2:$D$460,3,0),\"\")","v":""},{"$f":"IFERROR(VLOOKUP(A4267,Base!$A$2:$D$460,4,0),\"\")","v":""},null,null,null,null,null,null,null,null,null,null,null,null,null,0]
[null,{"$f":"IFERROR(VLOOKUP(A4268,Base!$A$2:$D$460,2,0),\"\")","v":""},{"$f":"IFERROR(VLOOKUP(A4268,Base!$A$2:$D$460,3,0),\"\")","v":""},{"$f":"IFERROR(VLOOKUP(A4268,Base!$A$2:$D$460,4,0),\"\")","v":""},null,null,null,null,null,null,null,null,null,null,null,null,null,0]
[null,{"$f":"IFERROR(VLOOKUP(A4269,Base!$A$2:$D$460,2,0),\"\")","v":""},{"$f":"IFERROR(VLOOKUP(A4269,Base!$A$2:$D$460,3,0),\"\")","v":""},{"$f":"IFERROR(VLOOKUP(A4269,Base!$A$2:$D$460,4,0),\"\")","v":""},null,null,null,null,null,null,null,null,null,null,null,null,null,0]
[null,{"$f":"IFERROR(VLOOKUP(A4270,Base!$A$2:$D$460,2,0),\"\")","v":""},{"$f":"IFERROR(VLOOKUP(A4270,Base!$A$2:$D$460,3,0),\"\")","v":""},{"$f":"IFERROR(VLOOKUP(A4270,Base!$A$2:$D$460,4,0),\"\")","v":""},null,null,null,null,null,null,null,null,null,null,null,null,null,0]
[null,{"$f":"IFERROR(VLOOKUP(A4271,Base!$A$2:$D$460,2,0),\"\")","v":""},{"$f":"IFERROR(VLOOKUP(A4271,Base!$A$2:$D$460,3,0),\"\")","v":""},{"$f":"IFERROR(VLOOKUP(A4271,Base!$A$2:$D$460,4,0),\"\")","v":""},null,null,null,null,null,null,null,null,null,null,null,null,null,0]
[null,{"$f":"IFERROR(VLOOKUP(A4272,Base!$A$2:$D$460,2,0),\"\")","v":""},{"$f":"IFERROR(VLOOKUP(A4272,Base!$A$2:$D$460,3,0),\"\")","v":""},{"$f":"IFERROR(VLOOKUP(A4272,Base!$A$2:$D$460,4,0),\"\")","v":""},null,null,null,null,null,null,null,null,null,null,null,null,null,0]
[null,{"$f":"IFERROR(VLOOKUP(A4273,Base!$A$2:$D$460,2,0),\"\")","v":""},{"$f":"IFERROR(VLOOKUP(A4273,Base!$A$2:$D$460,3,0),\"\")","v":""},{"$f":"IFERROR(VLOOKUP(A4273,Base!$A$2:$D$460,4,0),\"\")","v":""},null,null,null,null,null,null,null,null,null,null,null,null,null,0]
[null,{"$f":"IFERROR(VLOOKUP(A4274,Base!$A$2:$D$460,2,0),\"\")","v":""},{"$f":"IFERROR(VLOOKUP(A4274,Base!$A$2:$D$460,3,0),\"\")","v":""},{"$f":"IFERROR(VLOOKUP(A4274,Base!$A$2:$D$460,4,0),\"\")","v":""},null,null,null,null,null,null,null,null,null,null,null,null,null,0]
[null,{"$f":"IFERROR(VLOOKUP(A4275,Base!$A$2:$D$460,2,0),\"\")","v":""},{"$f":"IFERROR(VLOOKUP(A4275,Base!$A$2:$D$460,3,0),\"\")","v":""},{"$f":"IFERROR(VLOOKUP(A4275,Base!$A$2:$D$460,4,0),\"\")","v":""},null,null,null,null,null,null,null,null,null,null,null,null,null,0]
[null,{"$f":"IFERROR(VLOOKUP(A4276,Base!$A$2:$D$460,2,0),\"\")","v":""},{"$f":"IFERROR(VLOOKUP(A4276,Base!$A$2:$D$460,3,0),\"\")","v":""},{"$f":"IFERROR(VLOOKUP(A4276,Base!$A$2:$D$460,4,0),\"\")","v":""},null,null,null,null,null,null,null,null,null,null,null,null,null,0]
[null,{"$f":"IFERROR(VLOOKUP(A4277,Base!$A$2:$D$460,2,0),\"\")","v":""},{"$f":"IFERROR(VLOOKUP(A4277,Base!$A$2:$D$460,3,0),\"\")","v":""},{"$f":"IFERROR(VLOOKUP(A4277,Base!$A$2:$D$460,4,0),\"\")","v":""},null,null,null,null,null,null,null,null,null,null,null,null,null,0]
[null,{"$f":"IFERROR(VLOOKUP(A4278,Base!$A$2:$D$460,2,0),\"\")","v":""},{"$f":"IFERROR(VLOOKUP(A4278,Base!$A$2:$D$460,3,0),\"\")","v":""},{"$f":"IFERROR(VLOOKUP(A4278,Base!$A$2:$D$460,4,0),\"\")","v":""},null,null,null,null,null,null,null,null,null,null,null,null,null,0]
[null,{"$f":"IFERROR(VLOOKUP(A4279,Base!$A$2:$D$460,2,0),\"\")","v":""},{"$f":"IFERROR(VLOOKUP(A4279,Base!$A$2:$D$460,3,0),\"\")","v":""},{"$f":"IFERROR(VLOOKUP(A4279,Base!$A$2:$D$460,4,0),\"\")","v":""},null,null,null,null,null,null,null,null,null,null,null,null,null,0]
[null,{"$f":"IFERROR(VLOOKUP(A4280,Base!$A$2:$D$460,2,0),\"\")","v":""},{"$f":"IFERROR(VLOOKUP(A4280,Base!$A$2:$D$460,3,0),\"\")","v":""},{"$f":"IFERROR(VLOOKUP(A4280,Base!$A$2:$D$460,4,0),\"\")","v":""},null,null,null,null,null,null,null,null,null,null,null,null,null,0]
[null,{"$f":"IFERROR(VLOOKUP(A4281,Base!$A$2:$D$460,2,0),\"\")","v":""},{"$f":"IFERROR(VLOOKUP(A4281,Base!$A$2:$D$460,3,0),\"\")","v":""},{"$f":"IFERROR(VLOOKUP(A4281,Base!$A$2:$D$460,4,0),\"\")","v":""},null,null,null,null,null,null,null,null,null,null,null,null,null,0]
[null,{"$f":"IFERROR(VLOOKUP(A4282,Base!$A$2:$D$460,2,0),\"\")","v":""},{"$f":"IFERROR(VLOOKUP(A4282,Base!$A$2:$D$460,3,0),\"\")","v":""},{"$f":"IFERROR(VLOOKUP(A4282,Base!$A$2:$D$460,4,0),\"\")","v":""},null,null,null,null,null,null,null,null,null,null,null,null,null,0]
[null,{"$f":"IFERROR(VLOOKUP(A4283,Base!$A$2:$D$460,2,0),\"\")","v":""},{"$f":"IFERROR(VLOOKUP(A4283,Base!$A$2:$D$460,3,0),\"\")","v":""},{"$f":"IFERROR(VLOOKUP(A4283,Base!$A$2:$D$460,4,0),\"\")","v":""},null,null,null,null,null,null,null,null,null,null,null,null,null,0]
[null,{"$f":"IFERROR(VLOOKUP(A4284,Base!$A$2:$D$460,2,0),\"\")","v":""},{"$f":"IFERROR(VLOOKUP(A4284,Base!$A$2:$D$460,3,0),\"\")","v":""},{"$f":"IFERROR(VLOOKUP(A4284,Base!$A$2:$D$460,4,0),\"\")","v":""},null,null,null,null,null,null,null,null,null,null,null,null,null,0]
[null,{"$f":"IFERROR(VLOOKUP(A4285,Base!$A$2:$D$460,2,0),\"\")","v":""},{"$f":"IFERROR(VLOOKUP(A4285,Base!$A$2:$D$460,3,0),\"\")","v":""},{"$f":"IFERROR(VLOOKUP(A4285,Base!$A$2:$D$460,4,0),\"\")","v":""},null,null,null,null,null,null,null,null,null,null,null,null,null,0]
[null,{"$f":"IFERROR(VLOOKUP(A4286,Base!$A$2:$D$460,2,0),\"\")","v":""},{"$f":"IFERROR(VLOOKUP(A4286,Base!$A$2:$D$460,3,0),\"\")","v":""},{"$f":"IFERROR(VLOOKUP(A4286,Base!$A$2:$D$460,4,0),\"\")","v":""},null,null,null,null,null,null,null,null,null,null,null,null,null,0]
[null,{"$f":"IFERROR(VLOOKUP(A4287,Base!$A$2:$D$460,2,0),\"\")","v":""},{"$f":"IFERROR(VLOOKUP(A4287,Base!$A$2:$D$460,3,0),\"\")","v":""},{"$f":"IFERROR(VLOOKUP(A4287,Base!$A$2:$D$460,4,0),\"\")","v":""},null,null,null,null,null,null,null,null,null,null,null,null,null,0]
[null,{"$f":"IFERROR(VLOOKUP(A4288,Base!$A$2:$D$460,2,0),\"\")","v":""},{"$f":"IFERROR(VLOOKUP(A4288,Base!$A$2:$D$460,3,0),\"\")","v":""},{"$f":"IFERROR(VLOOKUP(A4288,Base!$A$2:$D$460,4,0),\"\")","v":""},null,null,null,null,null,null,null,null,null,null,null,null,null,0]
[null,{"$f":"IFERROR(VLOOKUP(A4289,Base!$A$2:$D$460,2,0),\"\")","v":""},{"$f":"IFERROR(VLOOKUP(A4289,Base!$A$2:$D$460,3,0),\"\")","v":""},{"$f":"IFERROR(VLOOKUP(A4289,Base!$A$2:$D$460,4,0),\"\")","v":""},null,null,null,null,null,null,null,null,null,null,null,null,null,0]
[null,{"$f":"IFERROR(VLOOKUP(A4290,Base!$A$2:$D$460,2,0),\"\")","v":""},{"$f":"IFERROR(VLOOKUP(A4290,Base!$A$2:$D$460,3,0),\"\")","v":""},{"$f":"IFERROR(VLOOKUP(A4290,Base!$A$2:$D$460,4,0),\"\")","v":""},null,null,null,null,null,null,null,null,null,null,null,null,null,0]
[null,{"$f":"IFERROR(VLOOKUP(A4291,Base!$A$2:$D$460,2,0),\"\")","v":""},{"$f":"IFERROR(VLOOKUP(A4291,Base!$A$2:$D$460,3,0),\"\")","v":""},{"$f":"IFERROR(VLOOKUP(A4291,Base!$A$2:$D$460,4,0),\"\")","v":""},null,null,null,null,null,null,null,null,null,null,null,null,null,0]
[null,{"$f":"IFERROR(VLOOKUP(A4292,Base!$A$2:$D$460,2,0),\"\")","v":""},{"$f":"IFERROR(VLOOKUP(A4292,Base!$A$2:$D$460,3,0),\"\")","v":""},{"$f":"IFERROR(VLOOKUP(A4292,Base!$A$2:$D$460,4,0),\"\")","v":""},null,null,null,null,null,null,null,null,null,null,null,null,null,0]
[null,{"$f":"IFERROR(VLOOKUP(A4293,Base!$A$2:$D$460,2,0),\"\")","v":""},{"$f":"IFERROR(VLOOKUP(A4293,Base!$A$2:$D$460,3,0),\"\")","v":""},{"$f":"IFERROR(VLOOKUP(A4293,Base!$A$2:$D$460,4,0),\"\")","v":""},null,null,null,null,null,null,null,null,null,null,null,null,null,0]
[null,{"$f":"IFERROR(VLOOKUP(A4294,Base!$A$2:$D$460,2,0),\"\")","v":""},{"$f":"IFERROR(VLOOKUP(A4294,Base!$A$2:$D$460,3,0),\"\")","v":""},{"$f":"IFERROR(VLOOKUP(A4294,Base!$A$2:$D$460,4,0),\"\")","v":""},null,null,null,null,null,null,null,null,null,null,null,null,null,0]
[null,{"$f":"IFERROR(VLOOKUP(A4295,Base!$A$2:$D$460,2,0),\"\")","v":""},{"$f":"IFERROR(VLOOKUP(A4295,Base!$A$2:$D$460,3,0),\"\")","v":""},{"$f":"IFERROR(VLOOKUP(A4295,Base!$A$2:$D$460,4,0),\"\")","v":""},null,null,null,null,null,null,null,null,null,null,null,null,null,0]
[null,{"$f":"IFERROR(VLOOKUP(A4296,Base!$A$2:$D$460,2,0),\"\")","v":""},{"$f":"IFERROR(VLOOKUP(A4296,Base!$A$2:$D$460,3,0),\"\")","v":""},{"$f":"IFERROR(VLOOKUP(A4296,Base!$A$2:$D$460,4,0),\"\")","v":""},null,null,null,null,null,null,null,null,null,null,null,null,null,0]
[null,{"$f":"IFERROR(VLOOKUP(A4297,Base!$A$2:$D$460,2,0),\"\")","v":""},{"$f":"IFERROR(VLOOKUP(A4297,Base!$A$2:$D$460,3,0),\"\")","v":""},{"$f":"IFERROR(VLOOKUP(A4297,Base!$A$2:$D$460,4,0),\"\")","v":""},null,null,null,null,null,null,null,null,null,null,null,null,null,0]
[null,{"$f":"IFERROR(VLOOKUP(A4298,Base!$A$2:$D$460,2,0),\"\")","v":""},{"$f":"IFERROR(VLOOKUP(A4298,Base!$A$2:$D$460,3,0),\"\")","v":""},{"$f":"IFERROR(VLOOKUP(A4298,Base!$A$2:$D$460,4,0),\"\")","v":""},null,null,null,null,null,null,null,null,null,null,null,null,null,0]
[null,{"$f":"IFERROR(VLOOKUP(A4299,Base!$A$2:$D$460,2,0),\"\")","v":""},{"$f":"IFERROR(VLOOKUP(A4299,Base!$A$2:$D$460,3,0),\"\")","v":""},{"$f":"IFERROR(VLOOKUP(A4299,Base!$A$2:$D$460,4,0),\"\")","v":""},null,null,null,null,null,null,null,null,null,null,null,null,null,0]
[null,{"$f":"IFERROR(VLOOKUP(A4300,Base!$A$2:$D$460,2,0),\"\")","v":""},{"$f":"IFERROR(VLOOKUP(A4300,Base!$A$2:$D$460,3,0),\"\")","v":""},{"$f":"IFERROR(VLOOKUP(A4300,Base!$A$2:$D$460,4,0),\"\")","v":""},null,null,null,null,null,null,null,null,null,null,null,null,null,0]
[null,{"$f":"IFERROR(VLOOKUP(A4301,Base!$A$2:$D$460,2,0),\"\")","v":""},{"$f":"IFERROR(VLOOKUP(A4301,Base!$A$2:$D$460,3,0),\"\")","v":""},{"$f":"IFERROR(VLOOKUP(A4301,Base!$A$2:$D$460,4,0),\"\")","v":""},null,null,null,null,null,null,null,null,null,null,null,null,null,0]
[null,{"$f":"IFERROR(VLOOKUP(A4302,Base!$A$2:$D$460,2,0),\"\")","v":""},{"$f":"IFERROR(VLOOKUP(A4302,Base!$A$2:$D$460,3,0),\"\")","v":""},{"$f":"IFERROR(VLOOKUP(A4302,Base!$A$2:$D$460,4,0),\"\")","v":""},null,null,null,null,null,null,null,null,null,null,null,null,null,0]
[null,{"$f":"IFERROR(VLOOKUP(A4303,Base!$A$2:$D$460,2,0),\"\")","v":""},{"$f":"IFERROR(VLOOKUP(A4303,Base!$A$2:$D$460,3,0),\"\")","v":""},{"$f":"IFERROR(VLOOKUP(A4303,Base!$A$2:$D$460,4,0),\"\")","v":""},null,null,null,null,null,null,null,null,null,null,null,null,null,0]
[null,{"$f":"IFERROR(VLOOKUP(A4304,Base!$A$2:$D$460,2,0),\"\")","v":""},{"$f":"IFERROR(VLOOKUP(A4304,Base!$A$2:$D$460,3,0),\"\")","v":""},{"$f":"IFERROR(VLOOKUP(A4304,Base!$A$2:$D$460,4,0),\"\")","v":""},null,null,null,null,null,null,null,null,null,null,null,null,null,0]
[null,{"$f":"IFERROR(VLOOKUP(A4305,Base!$A$2:$D$460,2,0),\"\")","v":""},{"$f":"IFERROR(VLOOKUP(A4305,Base!$A$2:$D$460,3,0),\"\")","v":""},{"$f":"IFERROR(VLOOKUP(A4305,Base!$A$2:$D$460,4,0),\"\")","v":""},null,null,null,null,null,null,null,null,null,null,null,null,null,0]
[null,{"$f":"IFERROR(VLOOKUP(A4306,Base!$A$2:$D$460,2,0),\"\")","v":""},{"$f":"IFERROR(VLOOKUP(A4306,Base!$A$2:$D$460,3,0),\"\")","v":""},{"$f":"IFERROR(VLOOKUP(A4306,Base!$A$2:$D$460,4,0),\"\")","v":""},null,null,null,null,null,null,null,null,null,null,null,null,null,0]
[null,{"$f":"IFERROR(VLOOKUP(A4307,Base!$A$2:$D$460,2,0),\"\")","v":""},{"$f":"IFERROR(VLOOKUP(A4307,Base!$A$2:$D$460,3,0),\"\")","v":""},{"$f":"IFERROR(VLOOKUP(A4307,Base!$A$2:$D$460,4,0),\"\")","v":""},null,null,null,null,null,null,null,null,null,null,null,null,null,0]
[null,{"$f":"IFERROR(VLOOKUP(A4308,Base!$A$2:$D$460,2,0),\"\")","v":""},{"$f":"IFERROR(VLOOKUP(A4308,Base!$A$2:$D$460,3,0),\"\")","v":""},{"$f":"IFERROR(VLOOKUP(A4308,Base!$A$2:$D$460,4,0),\"\")","v":""},null,null,null,null,null,null,null,null,null,null,null,null,null,0]
[null,{"$f":"IFERROR(VLOOKUP(A4309,Base!$A$2:$D$460,2,0),\"\")","v":""},{"$f":"IFERROR(VLOOKUP(A4309,Base!$A$2:$D$460,3,0),\"\")","v":""},{"$f":"IFERROR(VLOOKUP(A4309,Base!$A$2:$D$460,4,0),\"\")","v":""},null,null,null,null,null,null,null,null,null,null,null,null,null,0]
[null,{"$f":"IFERROR(VLOOKUP(A4310,Base!$A$2:$D$460,2,0),\"\")","v":""},{"$f":"IFERROR(VLOOKUP(A4310,Base!$A$2:$D$460,3,0),\"\")","v":""},{"$f":"IFERROR(VLOOKUP(A4310,Base!$A$2:$D$460,4,0),\"\")","v":""},null,null,null,null,null,null,null,null,null,null,null,null,null,0]
[null,{"$f":"IFERROR(VLOOKUP(A4311,Base!$A$2:$D$460,2,0),\"\")","v":""},{"$f":"IFERROR(VLOOKUP(A4311,Base!$A$2:$D$460,3,0),\"\")","v":""},{"$f":"IFERROR(VLOOKUP(A4311,Base!$A$2:$D$460,4,0),\"\")","v":""},null,null,null,null,null,null,null,null,null,null,null,null,null,0]
[null,{"$f":"IFERROR(VLOOKUP(A4312,Base!$A$2:$D$460,2,0),\"\")","v":""},{"$f":"IFERROR(VLOOKUP(A4312,Base!$A$2:$D$460,3,0),\"\")","v":""},{"$f":"IFERROR(VLOOKUP(A4312,Base!$A$2:$D$460,4,0),\"\")","v":""},null,null,null,null,null,null,null,null,null,null,null,null,null,0]
[null,{"$f":"IFERROR(VLOOKUP(A4313,Base!$A$2:$D$460,2,0),\"\")","v":""},{"$f":"IFERROR(VLOOKUP(A4313,Base!$A$2:$D$460,3,0),\"\")","v":""},{"$f":"IFERROR(VLOOKUP(A4313,Base!$A$2:$D$460,4,0),\"\")","v":""},null,null,null,null,null,null,null,null,null,null,null,null,null,0]
[null,{"$f":"IFERROR(VLOOKUP(A4314,Base!$A$2:$D$460,2,0),\"\")","v":""},{"$f":"IFERROR(VLOOKUP(A4314,Base!$A$2:$D$460,3,0),\"\")","v":""},{"$f":"IFERROR(VLOOKUP(A4314,Base!$A$2:$D$460,4,0),\"\")","v":""},null,null,null,null,null,null,null,null,null,null,null,null,null,0]
[null,{"$f":"IFERROR(VLOOKUP(A4315,Base!$A$2:$D$460,2,0),\"\")","v":""},{"$f":"IFERROR(VLOOKUP(A4315,Base!$A$2:$D$460,3,0),\"\")","v":""},{"$f":"IFERROR(VLOOKUP(A4315,Base!$A$2:$D$460,4,0),\"\")","v":""},null,null,null,null,null,null,null,null,null,null,null,null,null,0]
[null,{"$f":"IFERROR(VLOOKUP(A4316,Base!$A$2:$D$460,2,0),\"\")","v":""},{"$f":"IFERROR(VLOOKUP(A4316,Base!$A$2:$D$460,3,0),\"\")","v":""},{"$f":"IFERROR(VLOOKUP(A4316,Base!$A$2:$D$460,4,0),\"\")","v":""},null,null,null,null,null,null,null,null,null,null,null,null,null,0]
[null,{"$f":"IFERROR(VLOOKUP(A4317,Base!$A$2:$D$460,2,0),\"\")","v":""},{"$f":"IFERROR(VLOOKUP(A4317,Base!$A$2:$D$460,3,0),\"\")","v":""},{"$f":"IFERROR(VLOOKUP(A4317,Base!$A$2:$D$460,4,0),\"\")","v":""},null,null,null,null,null,null,null,null,null,null,null,null,null,0]
[null,{"$f":"IFERROR(VLOOKUP(A4318,Base!$A$2:$D$460,2,0),\"\")","v":""},{"$f":"IFERROR(VLOOKUP(A4318,Base!$A$2:$D$460,3,0),\"\")","v":""},{"$f":"IFERROR(VLOOKUP(A4318,Base!$A$2:$D$460,4,0),\"\")","v":""},null,null,null,null,null,null,null,null,null,null,null,null,null,0]
[null,{"$f":"IFERROR(VLOOKUP(A4319,Base!$A$2:$D$460,2,0),\"\")","v":""},{"$f":"IFERROR(VLOOKUP(A4319,Base!$A$2:$D$460,3,0),\"\")","v":""},{"$f":"IFERROR(VLOOKUP(A4319,Base!$A$2:$D$460,4,0),\"\")","v":""},null,null,null,null,null,null,null,null,null,null,null,null,null,0]
[null,{"$f":"IFERROR(VLOOKUP(A4320,Base!$A$2:$D$460,2,0),\"\")","v":""},{"$f":"IFERROR(VLOOKUP(A4320,Base!$A$2:$D$460,3,0),\"\")","v":""},{"$f":"IFERROR(VLOOKUP(A4320,Base!$A$2:$D$460,4,0),\"\")","v":""},null,null,null,null,null,null,null,null,null,null,null,null,null,0]
[null,{"$f":"IFERROR(VLOOKUP(A4321,Base!$A$2:$D$460,2,0),\"\")","v":""},{"$f":"IFERROR(VLOOKUP(A4321,Base!$A$2:$D$460,3,0),\"\")","v":""},{"$f":"IFERROR(VLOOKUP(A4321,Base!$A$2:$D$460,4,0),\"\")","v":""},null,null,null,null,null,null,null,null,null,null,null,null,null,0]
[null,{"$f":"IFERROR(VLOOKUP(A4322,Base!$A$2:$D$460,2,0),\"\")","v":""},{"$f":"IFERROR(VLOOKUP(A4322,Base!$A$2:$D$460,3,0),\"\")","v":""},{"$f":"IFERROR(VLOOKUP(A4322,Base!$A$2:$D$460,4,0),\"\")","v":""},null,null,null,null,null,null,null,null,null,null,null,null,null,0]
[null,{"$f":"IFERROR(VLOOKUP(A4323,Base!$A$2:$D$460,2,0),\"\")","v":""},{"$f":"IFERROR(VLOOKUP(A4323,Base!$A$2:$D$460,3,0),\"\")","v":""},{"$f":"IFERROR(VLOOKUP(A4323,Base!$A$2:$D$460,4,0),\"\")","v":""},null,null,null,null,null,null,null,null,null,null,null,null,null,0]
[null,{"$f":"IFERROR(VLOOKUP(A4324,Base!$A$2:$D$460,2,0),\"\")","v":""},{"$f":"IFERROR(VLOOKUP(A4324,Base!$A$2:$D$460,3,0),\"\")","v":""},{"$f":"IFERROR(VLOOKUP(A4324,Base!$A$2:$D$460,4,0),\"\")","v":""},null,null,null,null,null,null,null,null,null,null,null,null,null,0]
[null,{"$f":"IFERROR(VLOOKUP(A4325,Base!$A$2:$D$460,2,0),\"\")","v":""},{"$f":"IFERROR(VLOOKUP(A4325,Base!$A$2:$D$460,3,0),\"\")","v":""},{"$f":"IFERROR(VLOOKUP(A4325,Base!$A$2:$D$460,4,0),\"\")","v":""},null,null,null,null,null,null,null,null,null,null,null,null,null,0]
[null,{"$f":"IFERROR(VLOOKUP(A4326,Base!$A$2:$D$460,2,0),\"\")","v":""},{"$f":"IFERROR(VLOOKUP(A4326,Base!$A$2:$D$460,3,0),\"\")","v":""},{"$f":"IFERROR(VLOOKUP(A4326,Base!$A$2:$D$460,4,0),\"\")","v":""},null,null,null,null,null,null,null,null,null,null,null,null,null,0]
[null,{"$f":"IFERROR(VLOOKUP(A4327,Base!$A$2:$D$460,2,0),\"\")","v":""},{"$f":"IFERROR(VLOOKUP(A4327,Base!$A$2:$D$460,3,0),\"\")","v":""},{"$f":"IFERROR(VLOOKUP(A4327,Base!$A$2:$D$460,4,0),\"\")","v":""},null,null,null,null,null,null,null,null,null,null,null,null,null,{"$f":"SUM(N4327:Q4327)/4","v":0}]
[null,{"$f":"IFERROR(VLOOKUP(A4328,Base!$A$2:$D$460,2,0),\"\")","v":""},{"$f":"IFERROR(VLOOKUP(A4328,Base!$A$2:$D$460,3,0),\"\")","v":""},{"$f":"IFERROR(VLOOKUP(A4328,Base!$A$2:$D$460,4,0),\"\")","v":""},null,null,null,null,null,null,null,null,null,null,null,null,null,0]
[null,{"$f":"IFERROR(VLOOKUP(A4329,Base!$A$2:$D$460,2,0),\"\")","v":""},{"$f":"IFERROR(VLOOKUP(A4329,Base!$A$2:$D$460,3,0),\"\")","v":""},{"$f":"IFERROR(VLOOKUP(A4329,Base!$A$2:$D$460,4,0),\"\")","v":""},null,null,null,null,null,null,null,null,null,null,null,null,null,0]
[null,{"$f":"IFERROR(VLOOKUP(A4330,Base!$A$2:$D$460,2,0),\"\")","v":""},{"$f":"IFERROR(VLOOKUP(A4330,Base!$A$2:$D$460,3,0),\"\")","v":""},{"$f":"IFERROR(VLOOKUP(A4330,Base!$A$2:$D$460,4,0),\"\")","v":""},null,null,null,null,null,null,null,null,null,null,null,null,null,0]
[null,{"$f":"IFERROR(VLOOKUP(A4331,Base!$A$2:$D$460,2,0),\"\")","v":""},{"$f":"IFERROR(VLOOKUP(A4331,Base!$A$2:$D$460,3,0),\"\")","v":""},{"$f":"IFERROR(VLOOKUP(A4331,Base!$A$2:$D$460,4,0),\"\")","v":""},null,null,null,null,null,null,null,null,null,null,null,null,null,0]
[null,{"$f":"IFERROR(VLOOKUP(A4332,Base!$A$2:$D$460,2,0),\"\")","v":""},{"$f":"IFERROR(VLOOKUP(A4332,Base!$A$2:$D$460,3,0),\"\")","v":""},{"$f":"IFERROR(VLOOKUP(A4332,Base!$A$2:$D$460,4,0),\"\")","v":""},null,null,null,null,null,null,null,null,null,null,null,null,null,0]
[null,{"$f":"IFERROR(VLOOKUP(A4333,Base!$A$2:$D$460,2,0),\"\")","v":""},{"$f":"IFERROR(VLOOKUP(A4333,Base!$A$2:$D$460,3,0),\"\")","v":""},{"$f":"IFERROR(VLOOKUP(A4333,Base!$A$2:$D$460,4,0),\"\")","v":""},null,null,null,null,null,null,null,null,null,null,null,null,null,0]
[null,{"$f":"IFERROR(VLOOKUP(A4334,Base!$A$2:$D$460,2,0),\"\")","v":""},{"$f":"IFERROR(VLOOKUP(A4334,Base!$A$2:$D$460,3,0),\"\")","v":""},{"$f":"IFERROR(VLOOKUP(A4334,Base!$A$2:$D$460,4,0),\"\")","v":""},null,null,null,null,null,null,null,null,null,null,null,null,null,0]
[null,{"$f":"IFERROR(VLOOKUP(A4335,Base!$A$2:$D$460,2,0),\"\")","v":""},{"$f":"IFERROR(VLOOKUP(A4335,Base!$A$2:$D$460,3,0),\"\")","v":""},{"$f":"IFERROR(VLOOKUP(A4335,Base!$A$2:$D$460,4,0),\"\")","v":""},null,null,null,null,null,null,null,null,null,null,null,null,null,0]
[null,{"$f":"IFERROR(VLOOKUP(A4336,Base!$A$2:$D$460,2,0),\"\")","v":""},{"$f":"IFERROR(VLOOKUP(A4336,Base!$A$2:$D$460,3,0),\"\")","v":""},{"$f":"IFERROR(VLOOKUP(A4336,Base!$A$2:$D$460,4,0),\"\")","v":""},null,null,null,null,null,null,null,null,null,null,null,null,null,0]
[null,{"$f":"IFERROR(VLOOKUP(A4337,Base!$A$2:$D$460,2,0),\"\")","v":""},{"$f":"IFERROR(VLOOKUP(A4337,Base!$A$2:$D$460,3,0),\"\")","v":""},{"$f":"IFERROR(VLOOKUP(A4337,Base!$A$2:$D$460,4,0),\"\")","v":""},null,null,null,null,null,null,null,null,null,null,null,null,null,0]
[null,{"$f":"IFERROR(VLOOKUP(A4338,Base!$A$2:$D$460,2,0),\"\")","v":""},{"$f":"IFERROR(VLOOKUP(A4338,Base!$A$2:$D$460,3,0),\"\")","v":""},{"$f":"IFERROR(VLOOKUP(A4338,Base!$A$2:$D$460,4,0),\"\")","v":""},null,null,null,null,null,null,null,null,null,null,null,null,null,0]
[null,{"$f":"IFERROR(VLOOKUP(A4339,Base!$A$2:$D$460,2,0),\"\")","v":""},{"$f":"IFERROR(VLOOKUP(A4339,Base!$A$2:$D$460,3,0),\"\")","v":""},{"$f":"IFERROR(VLOOKUP(A4339,Base!$A$2:$D$460,4,0),\"\")","v":""},null,null,null,null,null,null,null,null,null,null,null,null,null,0]
[null,{"$f":"IFERROR(VLOOKUP(A4340,Base!$A$2:$D$460,2,0),\"\")","v":""},{"$f":"IFERROR(VLOOKUP(A4340,Base!$A$2:$D$460,3,0),\"\")","v":""},{"$f":"IFERROR(VLOOKUP(A4340,Base!$A$2:$D$460,4,0),\"\")","v":""},null,null,null,null,null,null,null,null,null,null,null,null,null,0]
[null,{"$f":"IFERROR(VLOOKUP(A4341,Base!$A$2:$D$460,2,0),\"\")","v":""},{"$f":"IFERROR(VLOOKUP(A4341,Base!$A$2:$D$460,3,0),\"\")","v":""},{"$f":"IFERROR(VLOOKUP(A4341,Base!$A$2:$D$460,4,0),\"\")","v":""},null,null,null,null,null,null,null,null,null,null,null,null,null,0]
[null,{"$f":"IFERROR(VLOOKUP(A4342,Base!$A$2:$D$460,2,0),\"\")","v":""},{"$f":"IFERROR(VLOOKUP(A4342,Base!$A$2:$D$460,3,0),\"\")","v":""},{"$f":"IFERROR(VLOOKUP(A4342,Base!$A$2:$D$460,4,0),\"\")","v":""},null,null,null,null,null,null,null,null,null,null,null,null,null,0]
[null,{"$f":"IFERROR(VLOOKUP(A4343,Base!$A$2:$D$460,2,0),\"\")","v":""},{"$f":"IFERROR(VLOOKUP(A4343,Base!$A$2:$D$460,3,0),\"\")","v":""},{"$f":"IFERROR(VLOOKUP(A4343,Base!$A$2:$D$460,4,0),\"\")","v":""},null,null,null,null,null,null,null,null,null,null,null,null,null,0]
[null,{"$f":"IFERROR(VLOOKUP(A4344,Base!$A$2:$D$460,2,0),\"\")","v":""},{"$f":"IFERROR(VLOOKUP(A4344,Base!$A$2:$D$460,3,0),\"\")","v":""},{"$f":"IFERROR(VLOOKUP(A4344,Base!$A$2:$D$460,4,0),\"\")","v":""},null,null,null,null,null,null,null,null,null,null,null,null,null,0]
[null,{"$f":"IFERROR(VLOOKUP(A4345,Base!$A$2:$D$460,2,0),\"\")","v":""},{"$f":"IFERROR(VLOOKUP(A4345,Base!$A$2:$D$460,3,0),\"\")","v":""},{"$f":"IFERROR(VLOOKUP(A4345,Base!$A$2:$D$460,4,0),\"\")","v":""},null,null,null,null,null,null,null,null,null,null,null,null,null,0]
[null,{"$f":"IFERROR(VLOOKUP(A4346,Base!$A$2:$D$460,2,0),\"\")","v":""},{"$f":"IFERROR(VLOOKUP(A4346,Base!$A$2:$D$460,3,0),\"\")","v":""},{"$f":"IFERROR(VLOOKUP(A4346,Base!$A$2:$D$460,4,0),\"\")","v":""},null,null,null,null,null,null,null,null,null,null,null,null,null,0]
[null,{"$f":"IFERROR(VLOOKUP(A4347,Base!$A$2:$D$460,2,0),\"\")","v":""},{"$f":"IFERROR(VLOOKUP(A4347,Base!$A$2:$D$460,3,0),\"\")","v":""},{"$f":"IFERROR(VLOOKUP(A4347,Base!$A$2:$D$460,4,0),\"\")","v":""},null,null,null,null,null,null,null,null,null,null,null,null,null,0]
[null,{"$f":"IFERROR(VLOOKUP(A4348,Base!$A$2:$D$460,2,0),\"\")","v":""},{"$f":"IFERROR(VLOOKUP(A4348,Base!$A$2:$D$460,3,0),\"\")","v":""},{"$f":"IFERROR(VLOOKUP(A4348,Base!$A$2:$D$460,4,0),\"\")","v":""},null,null,null,null,null,null,null,null,null,null,null,null,null,0]
[null,{"$f":"IFERROR(VLOOKUP(A4349,Base!$A$2:$D$460,2,0),\"\")","v":""},{"$f":"IFERROR(VLOOKUP(A4349,Base!$A$2:$D$460,3,0),\"\")","v":""},{"$f":"IFERROR(VLOOKUP(A4349,Base!$A$2:$D$460,4,0),\"\")","v":""},null,null,null,null,null,null,null,null,null,null,null,null,null,0]
[null,{"$f":"IFERROR(VLOOKUP(A4350,Base!$A$2:$D$460,2,0),\"\")","v":""},{"$f":"IFERROR(VLOOKUP(A4350,Base!$A$2:$D$460,3,0),\"\")","v":""},{"$f":"IFERROR(VLOOKUP(A4350,Base!$A$2:$D$460,4,0),\"\")","v":""},null,null,null,null,null,null,null,null,null,null,null,null,null,0]
[null,{"$f":"IFERROR(VLOOKUP(A4351,Base!$A$2:$D$460,2,0),\"\")","v":""},{"$f":"IFERROR(VLOOKUP(A4351,Base!$A$2:$D$460,3,0),\"\")","v":""},{"$f":"IFERROR(VLOOKUP(A4351,Base!$A$2:$D$460,4,0),\"\")","v":""},null,null,null,null,null,null,null,null,null,null,null,null,null,0]
[null,{"$f":"IFERROR(VLOOKUP(A4352,Base!$A$2:$D$460,2,0),\"\")","v":""},{"$f":"IFERROR(VLOOKUP(A4352,Base!$A$2:$D$460,3,0),\"\")","v":""},{"$f":"IFERROR(VLOOKUP(A4352,Base!$A$2:$D$460,4,0),\"\")","v":""},null,null,null,null,null,null,null,null,null,null,null,null,null,0]
[null,{"$f":"IFERROR(VLOOKUP(A4353,Base!$A$2:$D$460,2,0),\"\")","v":""},{"$f":"IFERROR(VLOOKUP(A4353,Base!$A$2:$D$460,3,0),\"\")","v":""},{"$f":"IFERROR(VLOOKUP(A4353,Base!$A$2:$D$460,4,0),\"\")","v":""},null,null,null,null,null,null,null,null,null,null,null,null,null,0]
[null,{"$f":"IFERROR(VLOOKUP(A4354,Base!$A$2:$D$460,2,0),\"\")","v":""},{"$f":"IFERROR(VLOOKUP(A4354,Base!$A$2:$D$460,3,0),\"\")","v":""},{"$f":"IFERROR(VLOOKUP(A4354,Base!$A$2:$D$460,4,0),\"\")","v":""},null,null,null,null,null,null,null,null,null,null,null,null,null,0]
[null,{"$f":"IFERROR(VLOOKUP(A4355,Base!$A$2:$D$460,2,0),\"\")","v":""},{"$f":"IFERROR(VLOOKUP(A4355,Base!$A$2:$D$460,3,0),\"\")","v":""},{"$f":"IFERROR(VLOOKUP(A4355,Base!$A$2:$D$460,4,0),\"\")","v":""},null,null,null,null,null,null,null,null,null,null,null,null,null,0]
[null,{"$f":"IFERROR(VLOOKUP(A4356,Base!$A$2:$D$460,2,0),\"\")","v":""},{"$f":"IFERROR(VLOOKUP(A4356,Base!$A$2:$D$460,3,0),\"\")","v":""},{"$f":"IFERROR(VLOOKUP(A4356,Base!$A$2:$D$460,4,0),\"\")","v":""},null,null,null,null,null,null,null,null,null,null,null,null,null,0]
[null,{"$f":"IFERROR(VLOOKUP(A4357,Base!$A$2:$D$460,2,0),\"\")","v":""},{"$f":"IFERROR(VLOOKUP(A4357,Base!$A$2:$D$460,3,0),\"\")","v":""},{"$f":"IFERROR(VLOOKUP(A4357,Base!$A$2:$D$460,4,0),\"\")","v":""},null,null,null,null,null,null,null,null,null,null,null,null,null,0]
[null,{"$f":"IFERROR(VLOOKUP(A4358,Base!$A$2:$D$460,2,0),\"\")","v":""},{"$f":"IFERROR(VLOOKUP(A4358,Base!$A$2:$D$460,3,0),\"\")","v":""},{"$f":"IFERROR(VLOOKUP(A4358,Base!$A$2:$D$460,4,0),\"\")","v":""},null,null,null,null,null,null,null,null,null,null,null,null,null,0]
[null,{"$f":"IFERROR(VLOOKUP(A4359,Base!$A$2:$D$460,2,0),\"\")","v":""},{"$f":"IFERROR(VLOOKUP(A4359,Base!$A$2:$D$460,3,0),\"\")","v":""},{"$f":"IFERROR(VLOOKUP(A4359,Base!$A$2:$D$460,4,0),\"\")","v":""},null,null,null,null,null,null,null,null,null,null,null,null,null,0]
[null,{"$f":"IFERROR(VLOOKUP(A4360,Base!$A$2:$D$460,2,0),\"\")","v":""},{"$f":"IFERROR(VLOOKUP(A4360,Base!$A$2:$D$460,3,0),\"\")","v":""},{"$f":"IFERROR(VLOOKUP(A4360,Base!$A$2:$D$460,4,0),\"\")","v":""},null,null,null,null,null,null,null,null,null,null,null,null,null,0]
[null,{"$f":"IFERROR(VLOOKUP(A4361,Base!$A$2:$D$460,2,0),\"\")","v":""},{"$f":"IFERROR(VLOOKUP(A4361,Base!$A$2:$D$460,3,0),\"\")","v":""},{"$f":"IFERROR(VLOOKUP(A4361,Base!$A$2:$D$460,4,0),\"\")","v":""},null,null,null,null,null,null,null,null,null,null,null,null,null,0]
[null,{"$f":"IFERROR(VLOOKUP(A4362,Base!$A$2:$D$460,2,0),\"\")","v":""},{"$f":"IFERROR(VLOOKUP(A4362,Base!$A$2:$D$460,3,0),\"\")","v":""},{"$f":"IFERROR(VLOOKUP(A4362,Base!$A$2:$D$460,4,0),\"\")","v":""},null,null,null,null,null,null,null,null,null,null,null,null,null,0]
[null,{"$f":"IFERROR(VLOOKUP(A4363,Base!$A$2:$D$460,2,0),\"\")","v":""},{"$f":"IFERROR(VLOOKUP(A4363,Base!$A$2:$D$460,3,0),\"\")","v":""},{"$f":"IFERROR(VLOOKUP(A4363,Base!$A$2:$D$460,4,0),\"\")","v":""},null,null,null,null,null,null,null,null,null,null,null,null,null,0]
[null,{"$f":"IFERROR(VLOOKUP(A4364,Base!$A$2:$D$460,2,0),\"\")","v":""},{"$f":"IFERROR(VLOOKUP(A4364,Base!$A$2:$D$460,3,0),\"\")","v":""},{"$f":"IFERROR(VLOOKUP(A4364,Base!$A$2:$D$460,4,0),\"\")","v":""},null,null,null,null,null,null,null,null,null,null,null,null,null,0]
[null,{"$f":"IFERROR(VLOOKUP(A4365,Base!$A$2:$D$460,2,0),\"\")","v":""},{"$f":"IFERROR(VLOOKUP(A4365,Base!$A$2:$D$460,3,0),\"\")","v":""},{"$f":"IFERROR(VLOOKUP(A4365,Base!$A$2:$D$460,4,0),\"\")","v":""},null,null,null,null,null,null,null,null,null,null,null,null,null,0]
[null,{"$f":"IFERROR(VLOOKUP(A4366,Base!$A$2:$D$460,2,0),\"\")","v":""},{"$f":"IFERROR(VLOOKUP(A4366,Base!$A$2:$D$460,3,0),\"\")","v":""},{"$f":"IFERROR(VLOOKUP(A4366,Base!$A$2:$D$460,4,0),\"\")","v":""},null,null,null,null,null,null,null,null,null,null,null,null,null,0]
[null,{"$f":"IFERROR(VLOOKUP(A4367,Base!$A$2:$D$460,2,0),\"\")","v":""},{"$f":"IFERROR(VLOOKUP(A4367,Base!$A$2:$D$460,3,0),\"\")","v":""},{"$f":"IFERROR(VLOOKUP(A4367,Base!$A$2:$D$460,4,0),\"\")","v":""},null,null,null,null,null,null,null,null,null,null,null,null,null,0]
[null,{"$f":"IFERROR(VLOOKUP(A4368,Base!$A$2:$D$460,2,0),\"\")","v":""},{"$f":"IFERROR(VLOOKUP(A4368,Base!$A$2:$D$460,3,0),\"\")","v":""},{"$f":"IFERROR(VLOOKUP(A4368,Base!$A$2:$D$460,4,0),\"\")","v":""},null,null,null,null,null,null,null,null,null,null,null,null,null,0]
[null,{"$f":"IFERROR(VLOOKUP(A4369,Base!$A$2:$D$460,2,0),\"\")","v":""},{"$f":"IFERROR(VLOOKUP(A4369,Base!$A$2:$D$460,3,0),\"\")","v":""},{"$f":"IFERROR(VLOOKUP(A4369,Base!$A$2:$D$460,4,0),\"\")","v":""},null,null,null,null,null,null,null,null,null,null,null,null,null,0]
[null,{"$f":"IFERROR(VLOOKUP(A4370,Base!$A$2:$D$460,2,0),\"\")","v":""},{"$f":"IFERROR(VLOOKUP(A4370,Base!$A$2:$D$460,3,0),\"\")","v":""},{"$f":"IFERROR(VLOOKUP(A4370,Base!$A$2:$D$460,4,0),\"\")","v":""},null,null,null,null,null,null,null,null,null,null,null,null,null,0]
[null,{"$f":"IFERROR(VLOOKUP(A4371,Base!$A$2:$D$460,2,0),\"\")","v":""},{"$f":"IFERROR(VLOOKUP(A4371,Base!$A$2:$D$460,3,0),\"\")","v":""},{"$f":"IFERROR(VLOOKUP(A4371,Base!$A$2:$D$460,4,0),\"\")","v":""},null,null,null,null,null,null,null,null,null,null,null,null,null,0]
[null,{"$f":"IFERROR(VLOOKUP(A4372,Base!$A$2:$D$460,2,0),\"\")","v":""},{"$f":"IFERROR(VLOOKUP(A4372,Base!$A$2:$D$460,3,0),\"\")","v":""},{"$f":"IFERROR(VLOOKUP(A4372,Base!$A$2:$D$460,4,0),\"\")","v":""},null,null,null,null,null,null,null,null,null,null,null,null,null,0]
[null,{"$f":"IFERROR(VLOOKUP(A4373,Base!$A$2:$D$460,2,0),\"\")","v":""},{"$f":"IFERROR(VLOOKUP(A4373,Base!$A$2:$D$460,3,0),\"\")","v":""},{"$f":"IFERROR(VLOOKUP(A4373,Base!$A$2:$D$460,4,0),\"\")","v":""},null,null,null,null,null,null,null,null,null,null,null,null,null,0]
[null,{"$f":"IFERROR(VLOOKUP(A4374,Base!$A$2:$D$460,2,0),\"\")","v":""},{"$f":"IFERROR(VLOOKUP(A4374,Base!$A$2:$D$460,3,0),\"\")","v":""},{"$f":"IFERROR(VLOOKUP(A4374,Base!$A$2:$D$460,4,0),\"\")","v":""},null,null,null,null,null,null,null,null,null,null,null,null,null,0]
[null,{"$f":"IFERROR(VLOOKUP(A4375,Base!$A$2:$D$460,2,0),\"\")","v":""},{"$f":"IFERROR(VLOOKUP(A4375,Base!$A$2:$D$460,3,0),\"\")","v":""},{"$f":"IFERROR(VLOOKUP(A4375,Base!$A$2:$D$460,4,0),\"\")","v":""},null,null,null,null,null,null,null,null,null,null,null,null,null,0]
[null,{"$f":"IFERROR(VLOOKUP(A4376,Base!$A$2:$D$460,2,0),\"\")","v":""},{"$f":"IFERROR(VLOOKUP(A4376,Base!$A$2:$D$460,3,0),\"\")","v":""},{"$f":"IFERROR(VLOOKUP(A4376,Base!$A$2:$D$460,4,0),\"\")","v":""},null,null,null,null,null,null,null,null,null,null,null,null,null,0]
[null,{"$f":"IFERROR(VLOOKUP(A4377,Base!$A$2:$D$460,2,0),\"\")","v":""},{"$f":"IFERROR(VLOOKUP(A4377,Base!$A$2:$D$460,3,0),\"\")","v":""},{"$f":"IFERROR(VLOOKUP(A4377,Base!$A$2:$D$460,4,0),\"\")","v":""},null,null,null,null,null,null,null,null,null,null,null,null,null,0]
[null,{"$f":"IFERROR(VLOOKUP(A4378,Base!$A$2:$D$460,2,0),\"\")","v":""},{"$f":"IFERROR(VLOOKUP(A4378,Base!$A$2:$D$460,3,0),\"\")","v":""},{"$f":"IFERROR(VLOOKUP(A4378,Base!$A$2:$D$460,4,0),\"\")","v":""},null,null,null,null,null,null,null,null,null,null,null,null,null,0]
[null,{"$f":"IFERROR(VLOOKUP(A4379,Base!$A$2:$D$460,2,0),\"\")","v":""},{"$f":"IFERROR(VLOOKUP(A4379,Base!$A$2:$D$460,3,0),\"\")","v":""},{"$f":"IFERROR(VLOOKUP(A4379,Base!$A$2:$D$460,4,0),\"\")","v":""},null,null,null,null,null,null,null,null,null,null,null,null,null,0]
[null,{"$f":"IFERROR(VLOOKUP(A4380,Base!$A$2:$D$460,2,0),\"\")","v":""},{"$f":"IFERROR(VLOOKUP(A4380,Base!$A$2:$D$460,3,0),\"\")","v":""},{"$f":"IFERROR(VLOOKUP(A4380,Base!$A$2:$D$460,4,0),\"\")","v":""},null,null,null,null,null,null,null,null,null,null,null,null,null,0]
[null,{"$f":"IFERROR(VLOOKUP(A4381,Base!$A$2:$D$460,2,0),\"\")","v":""},{"$f":"IFERROR(VLOOKUP(A4381,Base!$A$2:$D$460,3,0),\"\")","v":""},{"$f":"IFERROR(VLOOKUP(A4381,Base!$A$2:$D$460,4,0),\"\")","v":""},null,null,null,null,null,null,null,null,null,null,null,null,null,0]
[null,{"$f":"IFERROR(VLOOKUP(A4382,Base!$A$2:$D$460,2,0),\"\")","v":""},{"$f":"IFERROR(VLOOKUP(A4382,Base!$A$2:$D$460,3,0),\"\")","v":""},{"$f":"IFERROR(VLOOKUP(A4382,Base!$A$2:$D$460,4,0),\"\")","v":""},null,null,null,null,null,null,null,null,null,null,null,null,null,0]
[null,{"$f":"IFERROR(VLOOKUP(A4383,Base!$A$2:$D$460,2,0),\"\")","v":""},{"$f":"IFERROR(VLOOKUP(A4383,Base!$A$2:$D$460,3,0),\"\")","v":""},{"$f":"IFERROR(VLOOKUP(A4383,Base!$A$2:$D$460,4,0),\"\")","v":""},null,null,null,null,null,null,null,null,null,null,null,null,null,0]
[null,{"$f":"IFERROR(VLOOKUP(A4384,Base!$A$2:$D$460,2,0),\"\")","v":""},{"$f":"IFERROR(VLOOKUP(A4384,Base!$A$2:$D$460,3,0),\"\")","v":""},{"$f":"IFERROR(VLOOKUP(A4384,Base!$A$2:$D$460,4,0),\"\")","v":""},null,null,null,null,null,null,null,null,null,null,null,null,null,0]
[null,{"$f":"IFERROR(VLOOKUP(A4385,Base!$A$2:$D$460,2,0),\"\")","v":""},{"$f":"IFERROR(VLOOKUP(A4385,Base!$A$2:$D$460,3,0),\"\")","v":""},{"$f":"IFERROR(VLOOKUP(A4385,Base!$A$2:$D$460,4,0),\"\")","v":""},null,null,null,null,null,null,null,null,null,null,null,null,null,0]
[null,{"$f":"IFERROR(VLOOKUP(A4386,Base!$A$2:$D$460,2,0),\"\")","v":""},{"$f":"IFERROR(VLOOKUP(A4386,Base!$A$2:$D$460,3,0),\"\")","v":""},{"$f":"IFERROR(VLOOKUP(A4386,Base!$A$2:$D$460,4,0),\"\")","v":""},null,null,null,null,null,null,null,null,null,null,null,null,null,0]
[null,{"$f":"IFERROR(VLOOKUP(A4387,Base!$A$2:$D$460,2,0),\"\")","v":""},{"$f":"IFERROR(VLOOKUP(A4387,Base!$A$2:$D$460,3,0),\"\")","v":""},{"$f":"IFERROR(VLOOKUP(A4387,Base!$A$2:$D$460,4,0),\"\")","v":""},null,null,null,null,null,null,null,null,null,null,null,null,null,0]
[null,{"$f":"IFERROR(VLOOKUP(A4388,Base!$A$2:$D$460,2,0),\"\")","v":""},{"$f":"IFERROR(VLOOKUP(A4388,Base!$A$2:$D$460,3,0),\"\")","v":""},{"$f":"IFERROR(VLOOKUP(A4388,Base!$A$2:$D$460,4,0),\"\")","v":""},null,null,null,null,null,null,null,null,null,null,null,null,null,0]
[null,{"$f":"IFERROR(VLOOKUP(A4389,Base!$A$2:$D$460,2,0),\"\")","v":""},{"$f":"IFERROR(VLOOKUP(A4389,Base!$A$2:$D$460,3,0),\"\")","v":""},{"$f":"IFERROR(VLOOKUP(A4389,Base!$A$2:$D$460,4,0),\"\")","v":""},null,null,null,null,null,null,null,null,null,null,null,null,null,0]
[null,{"$f":"IFERROR(VLOOKUP(A4390,Base!$A$2:$D$460,2,0),\"\")","v":""},{"$f":"IFERROR(VLOOKUP(A4390,Base!$A$2:$D$460,3,0),\"\")","v":""},{"$f":"IFERROR(VLOOKUP(A4390,Base!$A$2:$D$460,4,0),\"\")","v":""},null,null,null,null,null,null,null,null,null,null,null,null,null,0]
[null,{"$f":"IFERROR(VLOOKUP(A4391,Base!$A$2:$D$460,2,0),\"\")","v":""},{"$f":"IFERROR(VLOOKUP(A4391,Base!$A$2:$D$460,3,0),\"\")","v":""},{"$f":"IFERROR(VLOOKUP(A4391,Base!$A$2:$D$460,4,0),\"\")","v":""},null,null,null,null,null,null,null,null,null,null,null,null,null,{"$f":"SUM(N4391:Q4391)/4","v":0}]
[null,{"$f":"IFERROR(VLOOKUP(A4392,Base!$A$2:$D$460,2,0),\"\")","v":""},{"$f":"IFERROR(VLOOKUP(A4392,Base!$A$2:$D$460,3,0),\"\")","v":""},{"$f":"IFERROR(VLOOKUP(A4392,Base!$A$2:$D$460,4,0),\"\")","v":""},null,null,null,null,null,null,null,null,null,null,null,null,null,0]
[null,{"$f":"IFERROR(VLOOKUP(A4393,Base!$A$2:$D$460,2,0),\"\")","v":""},{"$f":"IFERROR(VLOOKUP(A4393,Base!$A$2:$D$460,3,0),\"\")","v":""},{"$f":"IFERROR(VLOOKUP(A4393,Base!$A$2:$D$460,4,0),\"\")","v":""},null,null,null,null,null,null,null,null,null,null,null,null,null,0]
[null,{"$f":"IFERROR(VLOOKUP(A4394,Base!$A$2:$D$460,2,0),\"\")","v":""},{"$f":"IFERROR(VLOOKUP(A4394,Base!$A$2:$D$460,3,0),\"\")","v":""},{"$f":"IFERROR(VLOOKUP(A4394,Base!$A$2:$D$460,4,0),\"\")","v":""},null,null,null,null,null,null,null,null,null,null,null,null,null,0]
[null,{"$f":"IFERROR(VLOOKUP(A4395,Base!$A$2:$D$460,2,0),\"\")","v":""},{"$f":"IFERROR(VLOOKUP(A4395,Base!$A$2:$D$460,3,0),\"\")","v":""},{"$f":"IFERROR(VLOOKUP(A4395,Base!$A$2:$D$460,4,0),\"\")","v":""},null,null,null,null,null,null,null,null,null,null,null,null,null,0]
[null,{"$f":"IFERROR(VLOOKUP(A4396,Base!$A$2:$D$460,2,0),\"\")","v":""},{"$f":"IFERROR(VLOOKUP(A4396,Base!$A$2:$D$460,3,0),\"\")","v":""},{"$f":"IFERROR(VLOOKUP(A4396,Base!$A$2:$D$460,4,0),\"\")","v":""},null,null,null,null,null,null,null,null,null,null,null,null,null,0]
[null,{"$f":"IFERROR(VLOOKUP(A4397,Base!$A$2:$D$460,2,0),\"\")","v":""},{"$f":"IFERROR(VLOOKUP(A4397,Base!$A$2:$D$460,3,0),\"\")","v":""},{"$f":"IFERROR(VLOOKUP(A4397,Base!$A$2:$D$460,4,0),\"\")","v":""},null,null,null,null,null,null,null,null,null,null,null,null,null,0]
[null,{"$f":"IFERROR(VLOOKUP(A4398,Base!$A$2:$D$460,2,0),\"\")","v":""},{"$f":"IFERROR(VLOOKUP(A4398,Base!$A$2:$D$460,3,0),\"\")","v":""},{"$f":"IFERROR(VLOOKUP(A4398,Base!$A$2:$D$460,4,0),\"\")","v":""},null,null,null,null,null,null,null,null,null,null,null,null,null,0]
[null,{"$f":"IFERROR(VLOOKUP(A4399,Base!$A$2:$D$460,2,0),\"\")","v":""},{"$f":"IFERROR(VLOOKUP(A4399,Base!$A$2:$D$460,3,0),\"\")","v":""},{"$f":"IFERROR(VLOOKUP(A4399,Base!$A$2:$D$460,4,0),\"\")","v":""},null,null,null,null,null,null,null,null,null,null,null,null,null,0]
[null,{"$f":"IFERROR(VLOOKUP(A4400,Base!$A$2:$D$460,2,0),\"\")","v":""},{"$f":"IFERROR(VLOOKUP(A4400,Base!$A$2:$D$460,3,0),\"\")","v":""},{"$f":"IFERROR(VLOOKUP(A4400,Base!$A$2:$D$460,4,0),\"\")","v":""},null,null,null,null,null,null,null,null,null,null,null,null,null,0]
[null,{"$f":"IFERROR(VLOOKUP(A4401,Base!$A$2:$D$460,2,0),\"\")","v":""},{"$f":"IFERROR(VLOOKUP(A4401,Base!$A$2:$D$460,3,0),\"\")","v":""},{"$f":"IFERROR(VLOOKUP(A4401,Base!$A$2:$D$460,4,0),\"\")","v":""},null,null,null,null,null,null,null,null,null,null,null,null,null,0]
[null,{"$f":"IFERROR(VLOOKUP(A4402,Base!$A$2:$D$460,2,0),\"\")","v":""},{"$f":"IFERROR(VLOOKUP(A4402,Base!$A$2:$D$460,3,0),\"\")","v":""},{"$f":"IFERROR(VLOOKUP(A4402,Base!$A$2:$D$460,4,0),\"\")","v":""},null,null,null,null,null,null,null,null,null,null,null,null,null,0]
[null,{"$f":"IFERROR(VLOOKUP(A4403,Base!$A$2:$D$460,2,0),\"\")","v":""},{"$f":"IFERROR(VLOOKUP(A4403,Base!$A$2:$D$460,3,0),\"\")","v":""},{"$f":"IFERROR(VLOOKUP(A4403,Base!$A$2:$D$460,4,0),\"\")","v":""},null,null,null,null,null,null,null,null,null,null,null,null,null,0]
[null,{"$f":"IFERROR(VLOOKUP(A4404,Base!$A$2:$D$460,2,0),\"\")","v":""},{"$f":"IFERROR(VLOOKUP(A4404,Base!$A$2:$D$460,3,0),\"\")","v":""},{"$f":"IFERROR(VLOOKUP(A4404,Base!$A$2:$D$460,4,0),\"\")","v":""},null,null,null,null,null,null,null,null,null,null,null,null,null,0]
[null,{"$f":"IFERROR(VLOOKUP(A4405,Base!$A$2:$D$460,2,0),\"\")","v":""},{"$f":"IFERROR(VLOOKUP(A4405,Base!$A$2:$D$460,3,0),\"\")","v":""},{"$f":"IFERROR(VLOOKUP(A4405,Base!$A$2:$D$460,4,0),\"\")","v":""},null,null,null,null,null,null,null,null,null,null,null,null,null,0]
[null,{"$f":"IFERROR(VLOOKUP(A4406,Base!$A$2:$D$460,2,0),\"\")","v":""},{"$f":"IFERROR(VLOOKUP(A4406,Base!$A$2:$D$460,3,0),\"\")","v":""},{"$f":"IFERROR(VLOOKUP(A4406,Base!$A$2:$D$460,4,0),\"\")","v":""},null,null,null,null,null,null,null,null,null,null,null,null,null,0]
[null,{"$f":"IFERROR(VLOOKUP(A4407,Base!$A$2:$D$460,2,0),\"\")","v":""},{"$f":"IFERROR(VLOOKUP(A4407,Base!$A$2:$D$460,3,0),\"\")","v":""},{"$f":"IFERROR(VLOOKUP(A4407,Base!$A$2:$D$460,4,0),\"\")","v":""},null,null,null,null,null,null,null,null,null,null,null,null,null,0]
[null,{"$f":"IFERROR(VLOOKUP(A4408,Base!$A$2:$D$460,2,0),\"\")","v":""},{"$f":"IFERROR(VLOOKUP(A4408,Base!$A$2:$D$460,3,0),\"\")","v":""},{"$f":"IFERROR(VLOOKUP(A4408,Base!$A$2:$D$460,4,0),\"\")","v":""},null,null,null,null,null,null,null,null,null,null,null,null,null,0]
[null,{"$f":"IFERROR(VLOOKUP(A4409,Base!$A$2:$D$460,2,0),\"\")","v":""},{"$f":"IFERROR(VLOOKUP(A4409,Base!$A$2:$D$460,3,0),\"\")","v":""},{"$f":"IFERROR(VLOOKUP(A4409,Base!$A$2:$D$460,4,0),\"\")","v":""},null,null,null,null,null,null,null,null,null,null,null,null,null,0]
[null,{"$f":"IFERROR(VLOOKUP(A4410,Base!$A$2:$D$460,2,0),\"\")","v":""},{"$f":"IFERROR(VLOOKUP(A4410,Base!$A$2:$D$460,3,0),\"\")","v":""},{"$f":"IFERROR(VLOOKUP(A4410,Base!$A$2:$D$460,4,0),\"\")","v":""},null,null,null,null,null,null,null,null,null,null,null,null,null,0]
[null,{"$f":"IFERROR(VLOOKUP(A4411,Base!$A$2:$D$460,2,0),\"\")","v":""},{"$f":"IFERROR(VLOOKUP(A4411,Base!$A$2:$D$460,3,0),\"\")","v":""},{"$f":"IFERROR(VLOOKUP(A4411,Base!$A$2:$D$460,4,0),\"\")","v":""},null,null,null,null,null,null,null,null,null,null,null,null,null,0]
[null,{"$f":"IFERROR(VLOOKUP(A4412,Base!$A$2:$D$460,2,0),\"\")","v":""},{"$f":"IFERROR(VLOOKUP(A4412,Base!$A$2:$D$460,3,0),\"\")","v":""},{"$f":"IFERROR(VLOOKUP(A4412,Base!$A$2:$D$460,4,0),\"\")","v":""},null,null,null,null,null,null,null,null,null,null,null,null,null,0]
[null,{"$f":"IFERROR(VLOOKUP(A4413,Base!$A$2:$D$460,2,0),\"\")","v":""},{"$f":"IFERROR(VLOOKUP(A4413,Base!$A$2:$D$460,3,0),\"\")","v":""},{"$f":"IFERROR(VLOOKUP(A4413,Base!$A$2:$D$460,4,0),\"\")","v":""},null,null,null,null,null,null,null,null,null,null,null,null,null,0]
[null,{"$f":"IFERROR(VLOOKUP(A4414,Base!$A$2:$D$460,2,0),\"\")","v":""},{"$f":"IFERROR(VLOOKUP(A4414,Base!$A$2:$D$460,3,0),\"\")","v":""},{"$f":"IFERROR(VLOOKUP(A4414,Base!$A$2:$D$460,4,0),\"\")","v":""},null,null,null,null,null,null,null,null,null,null,null,null,null,0]
[null,{"$f":"IFERROR(VLOOKUP(A4415,Base!$A$2:$D$460,2,0),\"\")","v":""},{"$f":"IFERROR(VLOOKUP(A4415,Base!$A$2:$D$460,3,0),\"\")","v":""},{"$f":"IFERROR(VLOOKUP(A4415,Base!$A$2:$D$460,4,0),\"\")","v":""},null,null,null,null,null,null,null,null,null,null,null,null,null,0]
[null,{"$f":"IFERROR(VLOOKUP(A4416,Base!$A$2:$D$460,2,0),\"\")","v":""},{"$f":"IFERROR(VLOOKUP(A4416,Base!$A$2:$D$460,3,0),\"\")","v":""},{"$f":"IFERROR(VLOOKUP(A4416,Base!$A$2:$D$460,4,0),\"\")","v":""},null,null,null,null,null,null,null,null,null,null,null,null,null,0]
[null,{"$f":"IFERROR(VLOOKUP(A4417,Base!$A$2:$D$460,2,0),\"\")","v":""},{"$f":"IFERROR(VLOOKUP(A4417,Base!$A$2:$D$460,3,0),\"\")","v":""},{"$f":"IFERROR(VLOOKUP(A4417,Base!$A$2:$D$460,4,0),\"\")","v":""},null,null,null,null,null,null,null,null,null,null,null,null,null,0]
[null,{"$f":"IFERROR(VLOOKUP(A4418,Base!$A$2:$D$460,2,0),\"\")","v":""},{"$f":"IFERROR(VLOOKUP(A4418,Base!$A$2:$D$460,3,0),\"\")","v":""},{"$f":"IFERROR(VLOOKUP(A4418,Base!$A$2:$D$460,4,0),\"\")","v":""},null,null,null,null,null,null,null,null,null,null,null,null,null,0]
[null,{"$f":"IFERROR(VLOOKUP(A4419,Base!$A$2:$D$460,2,0),\"\")","v":""},{"$f":"IFERROR(VLOOKUP(A4419,Base!$A$2:$D$460,3,0),\"\")","v":""},{"$f":"IFERROR(VLOOKUP(A4419,Base!$A$2:$D$460,4,0),\"\")","v":""},null,null,null,null,null,null,null,null,null,null,null,null,null,0]
[null,{"$f":"IFERROR(VLOOKUP(A4420,Base!$A$2:$D$460,2,0),\"\")","v":""},{"$f":"IFERROR(VLOOKUP(A4420,Base!$A$2:$D$460,3,0),\"\")","v":""},{"$f":"IFERROR(VLOOKUP(A4420,Base!$A$2:$D$460,4,0),\"\")","v":""},null,null,null,null,null,null,null,null,null,null,null,null,null,0]
[null,{"$f":"IFERROR(VLOOKUP(A4421,Base!$A$2:$D$460,2,0),\"\")","v":""},{"$f":"IFERROR(VLOOKUP(A4421,Base!$A$2:$D$460,3,0),\"\")","v":""},{"$f":"IFERROR(VLOOKUP(A4421,Base!$A$2:$D$460,4,0),\"\")","v":""},null,null,null,null,null,null,null,null,null,null,null,null,null,0]
[null,{"$f":"IFERROR(VLOOKUP(A4422,Base!$A$2:$D$460,2,0),\"\")","v":""},{"$f":"IFERROR(VLOOKUP(A4422,Base!$A$2:$D$460,3,0),\"\")","v":""},{"$f":"IFERROR(VLOOKUP(A4422,Base!$A$2:$D$460,4,0),\"\")","v":""},null,null,null,null,null,null,null,null,null,null,null,null,null,0]
[null,{"$f":"IFERROR(VLOOKUP(A4423,Base!$A$2:$D$460,2,0),\"\")","v":""},{"$f":"IFERROR(VLOOKUP(A4423,Base!$A$2:$D$460,3,0),\"\")","v":""},{"$f":"IFERROR(VLOOKUP(A4423,Base!$A$2:$D$460,4,0),\"\")","v":""},null,null,null,null,null,null,null,null,null,null,null,null,null,0]
[null,{"$f":"IFERROR(VLOOKUP(A4424,Base!$A$2:$D$460,2,0),\"\")","v":""},{"$f":"IFERROR(VLOOKUP(A4424,Base!$A$2:$D$460,3,0),\"\")","v":""},{"$f":"IFERROR(VLOOKUP(A4424,Base!$A$2:$D$460,4,0),\"\")","v":""},null,null,null,null,null,null,null,null,null,null,null,null,null,0]
[null,{"$f":"IFERROR(VLOOKUP(A4425,Base!$A$2:$D$460,2,0),\"\")","v":""},{"$f":"IFERROR(VLOOKUP(A4425,Base!$A$2:$D$460,3,0),\"\")","v":""},{"$f":"IFERROR(VLOOKUP(A4425,Base!$A$2:$D$460,4,0),\"\")","v":""},null,null,null,null,null,null,null,null,null,null,null,null,null,0]
[null,{"$f":"IFERROR(VLOOKUP(A4426,Base!$A$2:$D$460,2,0),\"\")","v":""},{"$f":"IFERROR(VLOOKUP(A4426,Base!$A$2:$D$460,3,0),\"\")","v":""},{"$f":"IFERROR(VLOOKUP(A4426,Base!$A$2:$D$460,4,0),\"\")","v":""},null,null,null,null,null,null,null,null,null,null,null,null,null,0]
[null,{"$f":"IFERROR(VLOOKUP(A4427,Base!$A$2:$D$460,2,0),\"\")","v":""},{"$f":"IFERROR(VLOOKUP(A4427,Base!$A$2:$D$460,3,0),\"\")","v":""},{"$f":"IFERROR(VLOOKUP(A4427,Base!$A$2:$D$460,4,0),\"\")","v":""},null,null,null,null,null,null,null,null,null,null,null,null,null,0]
[null,{"$f":"IFERROR(VLOOKUP(A4428,Base!$A$2:$D$460,2,0),\"\")","v":""},{"$f":"IFERROR(VLOOKUP(A4428,Base!$A$2:$D$460,3,0),\"\")","v":""},{"$f":"IFERROR(VLOOKUP(A4428,Base!$A$2:$D$460,4,0),\"\")","v":""},null,null,null,null,null,null,null,null,null,null,null,null,null,0]
[null,{"$f":"IFERROR(VLOOKUP(A4429,Base!$A$2:$D$460,2,0),\"\")","v":""},{"$f":"IFERROR(VLOOKUP(A4429,Base!$A$2:$D$460,3,0),\"\")","v":""},{"$f":"IFERROR(VLOOKUP(A4429,Base!$A$2:$D$460,4,0),\"\")","v":""},null,null,null,null,null,null,null,null,null,null,null,null,null,0]
[null,{"$f":"IFERROR(VLOOKUP(A4430,Base!$A$2:$D$460,2,0),\"\")","v":""},{"$f":"IFERROR(VLOOKUP(A4430,Base!$A$2:$D$460,3,0),\"\")","v":""},{"$f":"IFERROR(VLOOKUP(A4430,Base!$A$2:$D$460,4,0),\"\")","v":""},null,null,null,null,null,null,null,null,null,null,null,null,null,0]
[null,{"$f":"IFERROR(VLOOKUP(A4431,Base!$A$2:$D$460,2,0),\"\")","v":""},{"$f":"IFERROR(VLOOKUP(A4431,Base!$A$2:$D$460,3,0),\"\")","v":""},{"$f":"IFERROR(VLOOKUP(A4431,Base!$A$2:$D$460,4,0),\"\")","v":""},null,null,null,null,null,null,null,null,null,null,null,null,null,0]
[null,{"$f":"IFERROR(VLOOKUP(A4432,Base!$A$2:$D$460,2,0),\"\")","v":""},{"$f":"IFERROR(VLOOKUP(A4432,Base!$A$2:$D$460,3,0),\"\")","v":""},{"$f":"IFERROR(VLOOKUP(A4432,Base!$A$2:$D$460,4,0),\"\")","v":""},null,null,null,null,null,null,null,null,null,null,null,null,null,0]
[null,{"$f":"IFERROR(VLOOKUP(A4433,Base!$A$2:$D$460,2,0),\"\")","v":""},{"$f":"IFERROR(VLOOKUP(A4433,Base!$A$2:$D$460,3,0),\"\")","v":""},{"$f":"IFERROR(VLOOKUP(A4433,Base!$A$2:$D$460,4,0),\"\")","v":""},null,null,null,null,null,null,null,null,null,null,null,null,null,0]
[null,{"$f":"IFERROR(VLOOKUP(A4434,Base!$A$2:$D$460,2,0),\"\")","v":""},{"$f":"IFERROR(VLOOKUP(A4434,Base!$A$2:$D$460,3,0),\"\")","v":""},{"$f":"IFERROR(VLOOKUP(A4434,Base!$A$2:$D$460,4,0),\"\")","v":""},null,null,null,null,null,null,null,null,null,null,null,null,null,0]
[null,{"$f":"IFERROR(VLOOKUP(A4435,Base!$A$2:$D$460,2,0),\"\")","v":""},{"$f":"IFERROR(VLOOKUP(A4435,Base!$A$2:$D$460,3,0),\"\")","v":""},{"$f":"IFERROR(VLOOKUP(A4435,Base!$A$2:$D$460,4,0),\"\")","v":""},null,null,null,null,null,null,null,null,null,null,null,null,null,0]
[null,{"$f":"IFERROR(VLOOKUP(A4436,Base!$A$2:$D$460,2,0),\"\")","v":""},{"$f":"IFERROR(VLOOKUP(A4436,Base!$A$2:$D$460,3,0),\"\")","v":""},{"$f":"IFERROR(VLOOKUP(A4436,Base!$A$2:$D$460,4,0),\"\")","v":""},null,null,null,null,null,null,null,null,null,null,null,null,null,0]
[null,{"$f":"IFERROR(VLOOKUP(A4437,Base!$A$2:$D$460,2,0),\"\")","v":""},{"$f":"IFERROR(VLOOKUP(A4437,Base!$A$2:$D$460,3,0),\"\")","v":""},{"$f":"IFERROR(VLOOKUP(A4437,Base!$A$2:$D$460,4,0),\"\")","v":""},null,null,null,null,null,null,null,null,null,null,null,null,null,0]
[null,{"$f":"IFERROR(VLOOKUP(A4438,Base!$A$2:$D$460,2,0),\"\")","v":""},{"$f":"IFERROR(VLOOKUP(A4438,Base!$A$2:$D$460,3,0),\"\")","v":""},{"$f":"IFERROR(VLOOKUP(A4438,Base!$A$2:$D$460,4,0),\"\")","v":""},null,null,null,null,null,null,null,null,null,null,null,null,null,0]
[null,{"$f":"IFERROR(VLOOKUP(A4439,Base!$A$2:$D$460,2,0),\"\")","v":""},{"$f":"IFERROR(VLOOKUP(A4439,Base!$A$2:$D$460,3,0),\"\")","v":""},{"$f":"IFERROR(VLOOKUP(A4439,Base!$A$2:$D$460,4,0),\"\")","v":""},null,null,null,null,null,null,null,null,null,null,null,null,null,0]
[null,{"$f":"IFERROR(VLOOKUP(A4440,Base!$A$2:$D$460,2,0),\"\")","v":""},{"$f":"IFERROR(VLOOKUP(A4440,Base!$A$2:$D$460,3,0),\"\")","v":""},{"$f":"IFERROR(VLOOKUP(A4440,Base!$A$2:$D$460,4,0),\"\")","v":""},null,null,null,null,null,null,null,null,null,null,null,null,null,0]
[null,{"$f":"IFERROR(VLOOKUP(A4441,Base!$A$2:$D$460,2,0),\"\")","v":""},{"$f":"IFERROR(VLOOKUP(A4441,Base!$A$2:$D$460,3,0),\"\")","v":""},{"$f":"IFERROR(VLOOKUP(A4441,Base!$A$2:$D$460,4,0),\"\")","v":""},null,null,null,null,null,null,null,null,null,null,null,null,null,0]
[null,{"$f":"IFERROR(VLOOKUP(A4442,Base!$A$2:$D$460,2,0),\"\")","v":""},{"$f":"IFERROR(VLOOKUP(A4442,Base!$A$2:$D$460,3,0),\"\")","v":""},{"$f":"IFERROR(VLOOKUP(A4442,Base!$A$2:$D$460,4,0),\"\")","v":""},null,null,null,null,null,null,null,null,null,null,null,null,null,0]
[null,{"$f":"IFERROR(VLOOKUP(A4443,Base!$A$2:$D$460,2,0),\"\")","v":""},{"$f":"IFERROR(VLOOKUP(A4443,Base!$A$2:$D$460,3,0),\"\")","v":""},{"$f":"IFERROR(VLOOKUP(A4443,Base!$A$2:$D$460,4,0),\"\")","v":""},null,null,null,null,null,null,null,null,null,null,null,null,null,0]
[null,{"$f":"IFERROR(VLOOKUP(A4444,Base!$A$2:$D$460,2,0),\"\")","v":""},{"$f":"IFERROR(VLOOKUP(A4444,Base!$A$2:$D$460,3,0),\"\")","v":""},{"$f":"IFERROR(VLOOKUP(A4444,Base!$A$2:$D$460,4,0),\"\")","v":""},null,null,null,null,null,null,null,null,null,null,null,null,null,0]
[null,{"$f":"IFERROR(VLOOKUP(A4445,Base!$A$2:$D$460,2,0),\"\")","v":""},{"$f":"IFERROR(VLOOKUP(A4445,Base!$A$2:$D$460,3,0),\"\")","v":""},{"$f":"IFERROR(VLOOKUP(A4445,Base!$A$2:$D$460,4,0),\"\")","v":""},null,null,null,null,null,null,null,null,null,null,null,null,null,0]
[null,{"$f":"IFERROR(VLOOKUP(A4446,Base!$A$2:$D$460,2,0),\"\")","v":""},{"$f":"IFERROR(VLOOKUP(A4446,Base!$A$2:$D$460,3,0),\"\")","v":""},{"$f":"IFERROR(VLOOKUP(A4446,Base!$A$2:$D$460,4,0),\"\")","v":""},null,null,null,null,null,null,null,null,null,null,null,null,null,0]
[null,{"$f":"IFERROR(VLOOKUP(A4447,Base!$A$2:$D$460,2,0),\"\")","v":""},{"$f":"IFERROR(VLOOKUP(A4447,Base!$A$2:$D$460,3,0),\"\")","v":""},{"$f":"IFERROR(VLOOKUP(A4447,Base!$A$2:$D$460,4,0),\"\")","v":""},null,null,null,null,null,null,null,null,null,null,null,null,null,0]
[null,{"$f":"IFERROR(VLOOKUP(A4448,Base!$A$2:$D$460,2,0),\"\")","v":""},{"$f":"IFERROR(VLOOKUP(A4448,Base!$A$2:$D$460,3,0),\"\")","v":""},{"$f":"IFERROR(VLOOKUP(A4448,Base!$A$2:$D$460,4,0),\"\")","v":""},null,null,null,null,null,null,null,null,null,null,null,null,null,0]
[null,{"$f":"IFERROR(VLOOKUP(A4449,Base!$A$2:$D$460,2,0),\"\")","v":""},{"$f":"IFERROR(VLOOKUP(A4449,Base!$A$2:$D$460,3,0),\"\")","v":""},{"$f":"IFERROR(VLOOKUP(A4449,Base!$A$2:$D$460,4,0),\"\")","v":""},null,null,null,null,null,null,null,null,null,null,null,null,null,0]
[null,{"$f":"IFERROR(VLOOKUP(A4450,Base!$A$2:$D$460,2,0),\"\")","v":""},{"$f":"IFERROR(VLOOKUP(A4450,Base!$A$2:$D$460,3,0),\"\")","v":""},{"$f":"IFERROR(VLOOKUP(A4450,Base!$A$2:$D$460,4,0),\"\")","v":""},null,null,null,null,null,null,null,null,null,null,null,null,null,0]
[null,{"$f":"IFERROR(VLOOKUP(A4451,Base!$A$2:$D$460,2,0),\"\")","v":""},{"$f":"IFERROR(VLOOKUP(A4451,Base!$A$2:$D$460,3,0),\"\")","v":""},{"$f":"IFERROR(VLOOKUP(A4451,Base!$A$2:$D$460,4,0),\"\")","v":""},null,null,null,null,null,null,null,null,null,null,null,null,null,0]
[null,{"$f":"IFERROR(VLOOKUP(A4452,Base!$A$2:$D$460,2,0),\"\")","v":""},{"$f":"IFERROR(VLOOKUP(A4452,Base!$A$2:$D$460,3,0),\"\")","v":""},{"$f":"IFERROR(VLOOKUP(A4452,Base!$A$2:$D$460,4,0),\"\")","v":""},null,null,null,null,null,null,null,null,null,null,null,null,null,0]
[null,{"$f":"IFERROR(VLOOKUP(A4453,Base!$A$2:$D$460,2,0),\"\")","v":""},{"$f":"IFERROR(VLOOKUP(A4453,Base!$A$2:$D$460,3,0),\"\")","v":""},{"$f":"IFERROR(VLOOKUP(A4453,Base!$A$2:$D$460,4,0),\"\")","v":""},null,null,null,null,null,null,null,null,null,null,null,null,null,0]
[null,{"$f":"IFERROR(VLOOKUP(A4454,Base!$A$2:$D$460,2,0),\"\")","v":""},{"$f":"IFERROR(VLOOKUP(A4454,Base!$A$2:$D$460,3,0),\"\")","v":""},{"$f":"IFERROR(VLOOKUP(A4454,Base!$A$2:$D$460,4,0),\"\")","v":""},null,null,null,null,null,null,null,null,null,null,null,null,null,0]
[null,{"$f":"IFERROR(VLOOKUP(A4455,Base!$A$2:$D$460,2,0),\"\")","v":""},{"$f":"IFERROR(VLOOKUP(A4455,Base!$A$2:$D$460,3,0),\"\")","v":""},{"$f":"IFERROR(VLOOKUP(A4455,Base!$A$2:$D$460,4,0),\"\")","v":""},null,null,null,null,null,null,null,null,null,null,null,null,null,{"$f":"SUM(N4455:Q4455)/4","v":0}]
[null,{"$f":"IFERROR(VLOOKUP(A4456,Base!$A$2:$D$460,2,0),\"\")","v":""},{"$f":"IFERROR(VLOOKUP(A4456,Base!$A$2:$D$460,3,0),\"\")","v":""},{"$f":"IFERROR(VLOOKUP(A4456,Base!$A$2:$D$460,4,0),\"\")","v":""},null,null,null,null,null,null,null,null,null,null,null,null,null,0]
[null,{"$f":"IFERROR(VLOOKUP(A4457,Base!$A$2:$D$460,2,0),\"\")","v":""},{"$f":"IFERROR(VLOOKUP(A4457,Base!$A$2:$D$460,3,0),\"\")","v":""},{"$f":"IFERROR(VLOOKUP(A4457,Base!$A$2:$D$460,4,0),\"\")","v":""},null,null,null,null,null,null,null,null,null,null,null,null,null,0]
[null,{"$f":"IFERROR(VLOOKUP(A4458,Base!$A$2:$D$460,2,0),\"\")","v":""},{"$f":"IFERROR(VLOOKUP(A4458,Base!$A$2:$D$460,3,0),\"\")","v":""},{"$f":"IFERROR(VLOOKUP(A4458,Base!$A$2:$D$460,4,0),\"\")","v":""},null,null,null,null,null,null,null,null,null,null,null,null,null,0]
[null,{"$f":"IFERROR(VLOOKUP(A4459,Base!$A$2:$D$460,2,0),\"\")","v":""},{"$f":"IFERROR(VLOOKUP(A4459,Base!$A$2:$D$460,3,0),\"\")","v":""},{"$f":"IFERROR(VLOOKUP(A4459,Base!$A$2:$D$460,4,0),\"\")","v":""},null,null,null,null,null,null,null,null,null,null,null,null,null,0]
[null,{"$f":"IFERROR(VLOOKUP(A4460,Base!$A$2:$D$460,2,0),\"\")","v":""},{"$f":"IFERROR(VLOOKUP(A4460,Base!$A$2:$D$460,3,0),\"\")","v":""},{"$f":"IFERROR(VLOOKUP(A4460,Base!$A$2:$D$460,4,0),\"\")","v":""},null,null,null,null,null,null,null,null,null,null,null,null,null,0]
[null,{"$f":"IFERROR(VLOOKUP(A4461,Base!$A$2:$D$460,2,0),\"\")","v":""},{"$f":"IFERROR(VLOOKUP(A4461,Base!$A$2:$D$460,3,0),\"\")","v":""},{"$f":"IFERROR(VLOOKUP(A4461,Base!$A$2:$D$460,4,0),\"\")","v":""},null,null,null,null,null,null,null,null,null,null,null,null,null,0]
[null,{"$f":"IFERROR(VLOOKUP(A4462,Base!$A$2:$D$460,2,0),\"\")","v":""},{"$f":"IFERROR(VLOOKUP(A4462,Base!$A$2:$D$460,3,0),\"\")","v":""},{"$f":"IFERROR(VLOOKUP(A4462,Base!$A$2:$D$460,4,0),\"\")","v":""},null,null,null,null,null,null,null,null,null,null,null,null,null,0]
[null,{"$f":"IFERROR(VLOOKUP(A4463,Base!$A$2:$D$460,2,0),\"\")","v":""},{"$f":"IFERROR(VLOOKUP(A4463,Base!$A$2:$D$460,3,0),\"\")","v":""},{"$f":"IFERROR(VLOOKUP(A4463,Base!$A$2:$D$460,4,0),\"\")","v":""},null,null,null,null,null,null,null,null,null,null,null,null,null,0]
[null,{"$f":"IFERROR(VLOOKUP(A4464,Base!$A$2:$D$460,2,0),\"\")","v":""},{"$f":"IFERROR(VLOOKUP(A4464,Base!$A$2:$D$460,3,0),\"\")","v":""},{"$f":"IFERROR(VLOOKUP(A4464,Base!$A$2:$D$460,4,0),\"\")","v":""},null,null,null,null,null,null,null,null,null,null,null,null,null,0]
[null,{"$f":"IFERROR(VLOOKUP(A4465,Base!$A$2:$D$460,2,0),\"\")","v":""},{"$f":"IFERROR(VLOOKUP(A4465,Base!$A$2:$D$460,3,0),\"\")","v":""},{"$f":"IFERROR(VLOOKUP(A4465,Base!$A$2:$D$460,4,0),\"\")","v":""},null,null,null,null,null,null,null,null,null,null,null,null,null,0]
[null,{"$f":"IFERROR(VLOOKUP(A4466,Base!$A$2:$D$460,2,0),\"\")","v":""},{"$f":"IFERROR(VLOOKUP(A4466,Base!$A$2:$D$460,3,0),\"\")","v":""},{"$f":"IFERROR(VLOOKUP(A4466,Base!$A$2:$D$460,4,0),\"\")","v":""},null,null,null,null,null,null,null,null,null,null,null,null,null,0]
[null,{"$f":"IFERROR(VLOOKUP(A4467,Base!$A$2:$D$460,2,0),\"\")","v":""},{"$f":"IFERROR(VLOOKUP(A4467,Base!$A$2:$D$460,3,0),\"\")","v":""},{"$f":"IFERROR(VLOOKUP(A4467,Base!$A$2:$D$460,4,0),\"\")","v":""},null,null,null,null,null,null,null,null,null,null,null,null,null,0]
[null,{"$f":"IFERROR(VLOOKUP(A4468,Base!$A$2:$D$460,2,0),\"\")","v":""},{"$f":"IFERROR(VLOOKUP(A4468,Base!$A$2:$D$460,3,0),\"\")","v":""},{"$f":"IFERROR(VLOOKUP(A4468,Base!$A$2:$D$460,4,0),\"\")","v":""},null,null,null,null,null,null,null,null,null,null,null,null,null,0]
[null,{"$f":"IFERROR(VLOOKUP(A4469,Base!$A$2:$D$460,2,0),\"\")","v":""},{"$f":"IFERROR(VLOOKUP(A4469,Base!$A$2:$D$460,3,0),\"\")","v":""},{"$f":"IFERROR(VLOOKUP(A4469,Base!$A$2:$D$460,4,0),\"\")","v":""},null,null,null,null,null,null,null,null,null,null,null,null,null,0]
[null,{"$f":"IFERROR(VLOOKUP(A4470,Base!$A$2:$D$460,2,0),\"\")","v":""},{"$f":"IFERROR(VLOOKUP(A4470,Base!$A$2:$D$460,3,0),\"\")","v":""},{"$f":"IFERROR(VLOOKUP(A4470,Base!$A$2:$D$460,4,0),\"\")","v":""},null,null,null,null,null,null,null,null,null,null,null,null,null,0]
[null,{"$f":"IFERROR(VLOOKUP(A4471,Base!$A$2:$D$460,2,0),\"\")","v":""},{"$f":"IFERROR(VLOOKUP(A4471,Base!$A$2:$D$460,3,0),\"\")","v":""},{"$f":"IFERROR(VLOOKUP(A4471,Base!$A$2:$D$460,4,0),\"\")","v":""},null,null,null,null,null,null,null,null,null,null,null,null,null,0]
[null,{"$f":"IFERROR(VLOOKUP(A4472,Base!$A$2:$D$460,2,0),\"\")","v":""},{"$f":"IFERROR(VLOOKUP(A4472,Base!$A$2:$D$460,3,0),\"\")","v":""},{"$f":"IFERROR(VLOOKUP(A4472,Base!$A$2:$D$460,4,0),\"\")","v":""},null,null,null,null,null,null,null,null,null,null,null,null,null,0]
[null,{"$f":"IFERROR(VLOOKUP(A4473,Base!$A$2:$D$460,2,0),\"\")","v":""},{"$f":"IFERROR(VLOOKUP(A4473,Base!$A$2:$D$460,3,0),\"\")","v":""},{"$f":"IFERROR(VLOOKUP(A4473,Base!$A$2:$D$460,4,0),\"\")","v":""},null,null,null,null,null,null,null,null,null,null,null,null,null,0]
[null,{"$f":"IFERROR(VLOOKUP(A4474,Base!$A$2:$D$460,2,0),\"\")","v":""},{"$f":"IFERROR(VLOOKUP(A4474,Base!$A$2:$D$460,3,0),\"\")","v":""},{"$f":"IFERROR(VLOOKUP(A4474,Base!$A$2:$D$460,4,0),\"\")","v":""},null,null,null,null,null,null,null,null,null,null,null,null,null,0]
[null,{"$f":"IFERROR(VLOOKUP(A4475,Base!$A$2:$D$460,2,0),\"\")","v":""},{"$f":"IFERROR(VLOOKUP(A4475,Base!$A$2:$D$460,3,0),\"\")","v":""},{"$f":"IFERROR(VLOOKUP(A4475,Base!$A$2:$D$460,4,0),\"\")","v":""},null,null,null,null,null,null,null,null,null,null,null,null,null,0]
[null,{"$f":"IFERROR(VLOOKUP(A4476,Base!$A$2:$D$460,2,0),\"\")","v":""},{"$f":"IFERROR(VLOOKUP(A4476,Base!$A$2:$D$460,3,0),\"\")","v":""},{"$f":"IFERROR(VLOOKUP(A4476,Base!$A$2:$D$460,4,0),\"\")","v":""},null,null,null,null,null,null,null,null,null,null,null,null,null,0]
[null,{"$f":"IFERROR(VLOOKUP(A4477,Base!$A$2:$D$460,2,0),\"\")","v":""},{"$f":"IFERROR(VLOOKUP(A4477,Base!$A$2:$D$460,3,0),\"\")","v":""},{"$f":"IFERROR(VLOOKUP(A4477,Base!$A$2:$D$460,4,0),\"\")","v":""},null,null,null,null,null,null,null,null,null,null,null,null,null,0]
[null,{"$f":"IFERROR(VLOOKUP(A4478,Base!$A$2:$D$460,2,0),\"\")","v":""},{"$f":"IFERROR(VLOOKUP(A4478,Base!$A$2:$D$460,3,0),\"\")","v":""},{"$f":"IFERROR(VLOOKUP(A4478,Base!$A$2:$D$460,4,0),\"\")","v":""},null,null,null,null,null,null,null,null,null,null,null,null,null,0]
[null,{"$f":"IFERROR(VLOOKUP(A4479,Base!$A$2:$D$460,2,0),\"\")","v":""},{"$f":"IFERROR(VLOOKUP(A4479,Base!$A$2:$D$460,3,0),\"\")","v":""},{"$f":"IFERROR(VLOOKUP(A4479,Base!$A$2:$D$460,4,0),\"\")","v":""},null,null,null,null,null,null,null,null,null,null,null,null,null,0]
[null,{"$f":"IFERROR(VLOOKUP(A4480,Base!$A$2:$D$460,2,0),\"\")","v":""},{"$f":"IFERROR(VLOOKUP(A4480,Base!$A$2:$D$460,3,0),\"\")","v":""},{"$f":"IFERROR(VLOOKUP(A4480,Base!$A$2:$D$460,4,0),\"\")","v":""},null,null,null,null,null,null,null,null,null,null,null,null,null,0]
[null,{"$f":"IFERROR(VLOOKUP(A4481,Base!$A$2:$D$460,2,0),\"\")","v":""},{"$f":"IFERROR(VLOOKUP(A4481,Base!$A$2:$D$460,3,0),\"\")","v":""},{"$f":"IFERROR(VLOOKUP(A4481,Base!$A$2:$D$460,4,0),\"\")","v":""},null,null,null,null,null,null,null,null,null,null,null,null,null,0]
[null,{"$f":"IFERROR(VLOOKUP(A4482,Base!$A$2:$D$460,2,0),\"\")","v":""},{"$f":"IFERROR(VLOOKUP(A4482,Base!$A$2:$D$460,3,0),\"\")","v":""},{"$f":"IFERROR(VLOOKUP(A4482,Base!$A$2:$D$460,4,0),\"\")","v":""},null,null,null,null,null,null,null,null,null,null,null,null,null,0]
[null,{"$f":"IFERROR(VLOOKUP(A4483,Base!$A$2:$D$460,2,0),\"\")","v":""},{"$f":"IFERROR(VLOOKUP(A4483,Base!$A$2:$D$460,3,0),\"\")","v":""},{"$f":"IFERROR(VLOOKUP(A4483,Base!$A$2:$D$460,4,0),\"\")","v":""},null,null,null,null,null,null,null,null,null,null,null,null,null,0]
[null,{"$f":"IFERROR(VLOOKUP(A4484,Base!$A$2:$D$460,2,0),\"\")","v":""},{"$f":"IFERROR(VLOOKUP(A4484,Base!$A$2:$D$460,3,0),\"\")","v":""},{"$f":"IFERROR(VLOOKUP(A4484,Base!$A$2:$D$460,4,0),\"\")","v":""},null,null,null,null,null,null,null,null,null,null,null,null,null,0]
[null,{"$f":"IFERROR(VLOOKUP(A4485,Base!$A$2:$D$460,2,0),\"\")","v":""},{"$f":"IFERROR(VLOOKUP(A4485,Base!$A$2:$D$460,3,0),\"\")","v":""},{"$f":"IFERROR(VLOOKUP(A4485,Base!$A$2:$D$460,4,0),\"\")","v":""},null,null,null,null,null,null,null,null,null,null,null,null,null,0]
[null,{"$f":"IFERROR(VLOOKUP(A4486,Base!$A$2:$D$460,2,0),\"\")","v":""},{"$f":"IFERROR(VLOOKUP(A4486,Base!$A$2:$D$460,3,0),\"\")","v":""},{"$f":"IFERROR(VLOOKUP(A4486,Base!$A$2:$D$460,4,0),\"\")","v":""},null,null,null,null,null,null,null,null,null,null,null,null,null,0]
[null,{"$f":"IFERROR(VLOOKUP(A4487,Base!$A$2:$D$460,2,0),\"\")","v":""},{"$f":"IFERROR(VLOOKUP(A4487,Base!$A$2:$D$460,3,0),\"\")","v":""},{"$f":"IFERROR(VLOOKUP(A4487,Base!$A$2:$D$460,4,0),\"\")","v":""},null,null,null,null,null,null,null,null,null,null,null,null,null,0]
[null,{"$f":"IFERROR(VLOOKUP(A4488,Base!$A$2:$D$460,2,0),\"\")","v":""},{"$f":"IFERROR(VLOOKUP(A4488,Base!$A$2:$D$460,3,0),\"\")","v":""},{"$f":"IFERROR(VLOOKUP(A4488,Base!$A$2:$D$460,4,0),\"\")","v":""},null,null,null,null,null,null,null,null,null,null,null,null,null,0]
[null,{"$f":"IFERROR(VLOOKUP(A4489,Base!$A$2:$D$460,2,0),\"\")","v":""},{"$f":"IFERROR(VLOOKUP(A4489,Base!$A$2:$D$460,3,0),\"\")","v":""},{"$f":"IFERROR(VLOOKUP(A4489,Base!$A$2:$D$460,4,0),\"\")","v":""},null,null,null,null,null,null,null,null,null,null,null,null,null,0]
[null,{"$f":"IFERROR(VLOOKUP(A4490,Base!$A$2:$D$460,2,0),\"\")","v":""},{"$f":"IFERROR(VLOOKUP(A4490,Base!$A$2:$D$460,3,0),\"\")","v":""},{"$f":"IFERROR(VLOOKUP(A4490,Base!$A$2:$D$460,4,0),\"\")","v":""},null,null,null,null,null,null,null,null,null,null,null,null,null,0]
[null,{"$f":"IFERROR(VLOOKUP(A4491,Base!$A$2:$D$460,2,0),\"\")","v":""},{"$f":"IFERROR(VLOOKUP(A4491,Base!$A$2:$D$460,3,0),\"\")","v":""},{"$f":"IFERROR(VLOOKUP(A4491,Base!$A$2:$D$460,4,0),\"\")","v":""},null,null,null,null,null,null,null,null,null,null,null,null,null,0]
[null,{"$f":"IFERROR(VLOOKUP(A4492,Base!$A$2:$D$460,2,0),\"\")","v":""},{"$f":"IFERROR(VLOOKUP(A4492,Base!$A$2:$D$460,3,0),\"\")","v":""},{"$f":"IFERROR(VLOOKUP(A4492,Base!$A$2:$D$460,4,0),\"\")","v":""},null,null,null,null,null,null,null,null,null,null,null,null,null,0]
[null,{"$f":"IFERROR(VLOOKUP(A4493,Base!$A$2:$D$460,2,0),\"\")","v":""},{"$f":"IFERROR(VLOOKUP(A4493,Base!$A$2:$D$460,3,0),\"\")","v":""},{"$f":"IFERROR(VLOOKUP(A4493,Base!$A$2:$D$460,4,0),\"\")","v":""},null,null,null,null,null,null,null,null,null,null,null,null,null,0]
[null,{"$f":"IFERROR(VLOOKUP(A4494,Base!$A$2:$D$460,2,0),\"\")","v":""},{"$f":"IFERROR(VLOOKUP(A4494,Base!$A$2:$D$460,3,0),\"\")","v":""},{"$f":"IFERROR(VLOOKUP(A4494,Base!$A$2:$D$460,4,0),\"\")","v":""},null,null,null,null,null,null,null,null,null,null,null,null,null,0]
[null,{"$f":"IFERROR(VLOOKUP(A4495,Base!$A$2:$D$460,2,0),\"\")","v":""},{"$f":"IFERROR(VLOOKUP(A4495,Base!$A$2:$D$460,3,0),\"\")","v":""},{"$f":"IFERROR(VLOOKUP(A4495,Base!$A$2:$D$460,4,0),\"\")","v":""},null,null,null,null,null,null,null,null,null,null,null,null,null,0]
[null,{"$f":"IFERROR(VLOOKUP(A4496,Base!$A$2:$D$460,2,0),\"\")","v":""},{"$f":"IFERROR(VLOOKUP(A4496,Base!$A$2:$D$460,3,0),\"\")","v":""},{"$f":"IFERROR(VLOOKUP(A4496,Base!$A$2:$D$460,4,0),\"\")","v":""},null,null,null,null,null,null,null,null,null,null,null,null,null,0]
[null,{"$f":"IFERROR(VLOOKUP(A4497,Base!$A$2:$D$460,2,0),\"\")","v":""},{"$f":"IFERROR(VLOOKUP(A4497,Base!$A$2:$D$460,3,0),\"\")","v":""},{"$f":"IFERROR(VLOOKUP(A4497,Base!$A$2:$D$460,4,0),\"\")","v":""},null,null,null,null,null,null,null,null,null,null,null,null,null,0]
[null,{"$f":"IFERROR(VLOOKUP(A4498,Base!$A$2:$D$460,2,0),\"\")","v":""},{"$f":"IFERROR(VLOOKUP(A4498,Base!$A$2:$D$460,3,0),\"\")","v":""},{"$f":"IFERROR(VLOOKUP(A4498,Base!$A$2:$D$460,4,0),\"\")","v":""},null,null,null,null,null,null,null,null,null,null,null,null,null,0]
[null,{"$f":"IFERROR(VLOOKUP(A4499,Base!$A$2:$D$460,2,0),\"\")","v":""},{"$f":"IFERROR(VLOOKUP(A4499,Base!$A$2:$D$460,3,0),\"\")","v":""},{"$f":"IFERROR(VLOOKUP(A4499,Base!$A$2:$D$460,4,0),\"\")","v":""},null,null,null,null,null,null,null,null,null,null,null,null,null,0]
[null,{"$f":"IFERROR(VLOOKUP(A4500,Base!$A$2:$D$460,2,0),\"\")","v":""},{"$f":"IFERROR(VLOOKUP(A4500,Base!$A$2:$D$460,3,0),\"\")","v":""},{"$f":"IFERROR(VLOOKUP(A4500,Base!$A$2:$D$460,4,0),\"\")","v":""},null,null,null,null,null,null,null,null,null,null,null,null,null,0]
[null,{"$f":"IFERROR(VLOOKUP(A4501,Base!$A$2:$D$460,2,0),\"\")","v":""},{"$f":"IFERROR(VLOOKUP(A4501,Base!$A$2:$D$460,3,0),\"\")","v":""},{"$f":"IFERROR(VLOOKUP(A4501,Base!$A$2:$D$460,4,0),\"\")","v":""},null,null,null,null,null,null,null,null,null,null,null,null,null,0]
[null,{"$f":"IFERROR(VLOOKUP(A4502,Base!$A$2:$D$460,2,0),\"\")","v":""},{"$f":"IFERROR(VLOOKUP(A4502,Base!$A$2:$D$460,3,0),\"\")","v":""},{"$f":"IFERROR(VLOOKUP(A4502,Base!$A$2:$D$460,4,0),\"\")","v":""},null,null,null,null,null,null,null,null,null,null,null,null,null,0]
[null,{"$f":"IFERROR(VLOOKUP(A4503,Base!$A$2:$D$460,2,0),\"\")","v":""},{"$f":"IFERROR(VLOOKUP(A4503,Base!$A$2:$D$460,3,0),\"\")","v":""},{"$f":"IFERROR(VLOOKUP(A4503,Base!$A$2:$D$460,4,0),\"\")","v":""},null,null,null,null,null,null,null,null,null,null,null,null,null,0]
[null,{"$f":"IFERROR(VLOOKUP(A4504,Base!$A$2:$D$460,2,0),\"\")","v":""},{"$f":"IFERROR(VLOOKUP(A4504,Base!$A$2:$D$460,3,0),\"\")","v":""},{"$f":"IFERROR(VLOOKUP(A4504,Base!$A$2:$D$460,4,0),\"\")","v":""},null,null,null,null,null,null,null,null,null,null,null,null,null,0]
[null,{"$f":"IFERROR(VLOOKUP(A4505,Base!$A$2:$D$460,2,0),\"\")","v":""},{"$f":"IFERROR(VLOOKUP(A4505,Base!$A$2:$D$460,3,0),\"\")","v":""},{"$f":"IFERROR(VLOOKUP(A4505,Base!$A$2:$D$460,4,0),\"\")","v":""},null,null,null,null,null,null,null,null,null,null,null,null,null,0]
[null,{"$f":"IFERROR(VLOOKUP(A4506,Base!$A$2:$D$460,2,0),\"\")","v":""},{"$f":"IFERROR(VLOOKUP(A4506,Base!$A$2:$D$460,3,0),\"\")","v":""},{"$f":"IFERROR(VLOOKUP(A4506,Base!$A$2:$D$460,4,0),\"\")","v":""},null,null,null,null,null,null,null,null,null,null,null,null,null,0]
[null,{"$f":"IFERROR(VLOOKUP(A4507,Base!$A$2:$D$460,2,0),\"\")","v":""},{"$f":"IFERROR(VLOOKUP(A4507,Base!$A$2:$D$460,3,0),\"\")","v":""},{"$f":"IFERROR(VLOOKUP(A4507,Base!$A$2:$D$460,4,0),\"\")","v":""},null,null,null,null,null,null,null,null,null,null,null,null,null,0]
[null,{"$f":"IFERROR(VLOOKUP(A4508,Base!$A$2:$D$460,2,0),\"\")","v":""},{"$f":"IFERROR(VLOOKUP(A4508,Base!$A$2:$D$460,3,0),\"\")","v":""},{"$f":"IFERROR(VLOOKUP(A4508,Base!$A$2:$D$460,4,0),\"\")","v":""},null,null,null,null,null,null,null,null,null,null,null,null,null,0]
[null,{"$f":"IFERROR(VLOOKUP(A4509,Base!$A$2:$D$460,2,0),\"\")","v":""},{"$f":"IFERROR(VLOOKUP(A4509,Base!$A$2:$D$460,3,0),\"\")","v":""},{"$f":"IFERROR(VLOOKUP(A4509,Base!$A$2:$D$460,4,0),\"\")","v":""},null,null,null,null,null,null,null,null,null,null,null,null,null,0]
[null,{"$f":"IFERROR(VLOOKUP(A4510,Base!$A$2:$D$460,2,0),\"\")","v":""},{"$f":"IFERROR(VLOOKUP(A4510,Base!$A$2:$D$460,3,0),\"\")","v":""},{"$f":"IFERROR(VLOOKUP(A4510,Base!$A$2:$D$460,4,0),\"\")","v":""},null,null,null,null,null,null,null,null,null,null,null,null,null,0]
[null,{"$f":"IFERROR(VLOOKUP(A4511,Base!$A$2:$D$460,2,0),\"\")","v":""},{"$f":"IFERROR(VLOOKUP(A4511,Base!$A$2:$D$460,3,0),\"\")","v":""},{"$f":"IFERROR(VLOOKUP(A4511,Base!$A$2:$D$460,4,0),\"\")","v":""},null,null,null,null,null,null,null,null,null,null,null,null,null,0]
[null,{"$f":"IFERROR(VLOOKUP(A4512,Base!$A$2:$D$460,2,0),\"\")","v":""},{"$f":"IFERROR(VLOOKUP(A4512,Base!$A$2:$D$460,3,0),\"\")","v":""},{"$f":"IFERROR(VLOOKUP(A4512,Base!$A$2:$D$460,4,0),\"\")","v":""},null,null,null,null,null,null,null,null,null,null,null,null,null,0]
[null,{"$f":"IFERROR(VLOOKUP(A4513,Base!$A$2:$D$460,2,0),\"\")","v":""},{"$f":"IFERROR(VLOOKUP(A4513,Base!$A$2:$D$460,3,0),\"\")","v":""},{"$f":"IFERROR(VLOOKUP(A4513,Base!$A$2:$D$460,4,0),\"\")","v":""},null,null,null,null,null,null,null,null,null,null,null,null,null,0]
[null,{"$f":"IFERROR(VLOOKUP(A4514,Base!$A$2:$D$460,2,0),\"\")","v":""},{"$f":"IFERROR(VLOOKUP(A4514,Base!$A$2:$D$460,3,0),\"\")","v":""},{"$f":"IFERROR(VLOOKUP(A4514,Base!$A$2:$D$460,4,0),\"\")","v":""},null,null,null,null,null,null,null,null,null,null,null,null,null,0]
[null,{"$f":"IFERROR(VLOOKUP(A4515,Base!$A$2:$D$460,2,0),\"\")","v":""},{"$f":"IFERROR(VLOOKUP(A4515,Base!$A$2:$D$460,3,0),\"\")","v":""},{"$f":"IFERROR(VLOOKUP(A4515,Base!$A$2:$D$460,4,0),\"\")","v":""},null,null,null,null,null,null,null,null,null,null,null,null,null,0]
[null,{"$f":"IFERROR(VLOOKUP(A4516,Base!$A$2:$D$460,2,0),\"\")","v":""},{"$f":"IFERROR(VLOOKUP(A4516,Base!$A$2:$D$460,3,0),\"\")","v":""},{"$f":"IFERROR(VLOOKUP(A4516,Base!$A$2:$D$460,4,0),\"\")","v":""},null,null,null,null,null,null,null,null,null,null,null,null,null,0]
[null,{"$f":"IFERROR(VLOOKUP(A4517,Base!$A$2:$D$460,2,0),\"\")","v":""},{"$f":"IFERROR(VLOOKUP(A4517,Base!$A$2:$D$460,3,0),\"\")","v":""},{"$f":"IFERROR(VLOOKUP(A4517,Base!$A$2:$D$460,4,0),\"\")","v":""},null,null,null,null,null,null,null,null,null,null,null,null,null,0]
[null,{"$f":"IFERROR(VLOOKUP(A4518,Base!$A$2:$D$460,2,0),\"\")","v":""},{"$f":"IFERROR(VLOOKUP(A4518,Base!$A$2:$D$460,3,0),\"\")","v":""},{"$f":"IFERROR(VLOOKUP(A4518,Base!$A$2:$D$460,4,0),\"\")","v":""},null,null,null,null,null,null,null,null,null,null,null,null,null,0]
[null,{"$f":"IFERROR(VLOOKUP(A4519,Base!$A$2:$D$460,2,0),\"\")","v":""},{"$f":"IFERROR(VLOOKUP(A4519,Base!$A$2:$D$460,3,0),\"\")","v":""},{"$f":"IFERROR(VLOOKUP(A4519,Base!$A$2:$D$460,4,0),\"\")","v":""},null,null,null,null,null,null,null,null,null,null,null,null,null,{"$f":"SUM(N4519:Q4519)/4","v":0}]
[null,{"$f":"IFERROR(VLOOKUP(A4520,Base!$A$2:$D$460,2,0),\"\")","v":""},{"$f":"IFERROR(VLOOKUP(A4520,Base!$A$2:$D$460,3,0),\"\")","v":""},{"$f":"IFERROR(VLOOKUP(A4520,Base!$A$2:$D$460,4,0),\"\")","v":""},null,null,null,null,null,null,null,null,null,null,null,null,null,0]
[null,{"$f":"IFERROR(VLOOKUP(A4521,Base!$A$2:$D$460,2,0),\"\")","v":""},{"$f":"IFERROR(VLOOKUP(A4521,Base!$A$2:$D$460,3,0),\"\")","v":""},{"$f":"IFERROR(VLOOKUP(A4521,Base!$A$2:$D$460,4,0),\"\")","v":""},null,null,null,null,null,null,null,null,null,null,null,null,null,0]
[null,{"$f":"IFERROR(VLOOKUP(A4522,Base!$A$2:$D$460,2,0),\"\")","v":""},{"$f":"IFERROR(VLOOKUP(A4522,Base!$A$2:$D$460,3,0),\"\")","v":""},{"$f":"IFERROR(VLOOKUP(A4522,Base!$A$2:$D$460,4,0),\"\")","v":""},null,null,null,null,null,null,null,null,null,null,null,null,null,0]
[null,{"$f":"IFERROR(VLOOKUP(A4523,Base!$A$2:$D$460,2,0),\"\")","v":""},{"$f":"IFERROR(VLOOKUP(A4523,Base!$A$2:$D$460,3,0),\"\")","v":""},{"$f":"IFERROR(VLOOKUP(A4523,Base!$A$2:$D$460,4,0),\"\")","v":""},null,null,null,null,null,null,null,null,null,null,null,null,null,0]
[null,{"$f":"IFERROR(VLOOKUP(A4524,Base!$A$2:$D$460,2,0),\"\")","v":""},{"$f":"IFERROR(VLOOKUP(A4524,Base!$A$2:$D$460,3,0),\"\")","v":""},{"$f":"IFERROR(VLOOKUP(A4524,Base!$A$2:$D$460,4,0),\"\")","v":""},null,null,null,null,null,null,null,null,null,null,null,null,null,0]
[null,{"$f":"IFERROR(VLOOKUP(A4525,Base!$A$2:$D$460,2,0),\"\")","v":""},{"$f":"IFERROR(VLOOKUP(A4525,Base!$A$2:$D$460,3,0),\"\")","v":""},{"$f":"IFERROR(VLOOKUP(A4525,Base!$A$2:$D$460,4,0),\"\")","v":""},null,null,null,null,null,null,null,null,null,null,null,null,null,0]
[null,{"$f":"IFERROR(VLOOKUP(A4526,Base!$A$2:$D$460,2,0),\"\")","v":""},{"$f":"IFERROR(VLOOKUP(A4526,Base!$A$2:$D$460,3,0),\"\")","v":""},{"$f":"IFERROR(VLOOKUP(A4526,Base!$A$2:$D$460,4,0),\"\")","v":""},null,null,null,null,null,null,null,null,null,null,null,null,null,0]
[null,{"$f":"IFERROR(VLOOKUP(A4527,Base!$A$2:$D$460,2,0),\"\")","v":""},{"$f":"IFERROR(VLOOKUP(A4527,Base!$A$2:$D$460,3,0),\"\")","v":""},{"$f":"IFERROR(VLOOKUP(A4527,Base!$A$2:$D$460,4,0),\"\")","v":""},null,null,null,null,null,null,null,null,null,null,null,null,null,0]
[null,{"$f":"IFERROR(VLOOKUP(A4528,Base!$A$2:$D$460,2,0),\"\")","v":""},{"$f":"IFERROR(VLOOKUP(A4528,Base!$A$2:$D$460,3,0),\"\")","v":""},{"$f":"IFERROR(VLOOKUP(A4528,Base!$A$2:$D$460,4,0),\"\")","v":""},null,null,null,null,null,null,null,null,null,null,null,null,null,0]
[null,{"$f":"IFERROR(VLOOKUP(A4529,Base!$A$2:$D$460,2,0),\"\")","v":""},{"$f":"IFERROR(VLOOKUP(A4529,Base!$A$2:$D$460,3,0),\"\")","v":""},{"$f":"IFERROR(VLOOKUP(A4529,Base!$A$2:$D$460,4,0),\"\")","v":""},null,null,null,null,null,null,null,null,null,null,null,null,null,0]
[null,{"$f":"IFERROR(VLOOKUP(A4530,Base!$A$2:$D$460,2,0),\"\")","v":""},{"$f":"IFERROR(VLOOKUP(A4530,Base!$A$2:$D$460,3,0),\"\")","v":""},{"$f":"IFERROR(VLOOKUP(A4530,Base!$A$2:$D$460,4,0),\"\")","v":""},null,null,null,null,null,null,null,null,null,null,null,null,null,0]
[null,{"$f":"IFERROR(VLOOKUP(A4531,Base!$A$2:$D$460,2,0),\"\")","v":""},{"$f":"IFERROR(VLOOKUP(A4531,Base!$A$2:$D$460,3,0),\"\")","v":""},{"$f":"IFERROR(VLOOKUP(A4531,Base!$A$2:$D$460,4,0),\"\")","v":""},null,null,null,null,null,null,null,null,null,null,null,null,null,0]
[null,{"$f":"IFERROR(VLOOKUP(A4532,Base!$A$2:$D$460,2,0),\"\")","v":""},{"$f":"IFERROR(VLOOKUP(A4532,Base!$A$2:$D$460,3,0),\"\")","v":""},{"$f":"IFERROR(VLOOKUP(A4532,Base!$A$2:$D$460,4,0),\"\")","v":""},null,null,null,null,null,null,null,null,null,null,null,null,null,0]
[null,{"$f":"IFERROR(VLOOKUP(A4533,Base!$A$2:$D$460,2,0),\"\")","v":""},{"$f":"IFERROR(VLOOKUP(A4533,Base!$A$2:$D$460,3,0),\"\")","v":""},{"$f":"IFERROR(VLOOKUP(A4533,Base!$A$2:$D$460,4,0),\"\")","v":""},null,null,null,null,null,null,null,null,null,null,null,null,null,0]
[null,{"$f":"IFERROR(VLOOKUP(A4534,Base!$A$2:$D$460,2,0),\"\")","v":""},{"$f":"IFERROR(VLOOKUP(A4534,Base!$A$2:$D$460,3,0),\"\")","v":""},{"$f":"IFERROR(VLOOKUP(A4534,Base!$A$2:$D$460,4,0),\"\")","v":""},null,null,null,null,null,null,null,null,null,null,null,null,null,0]
[null,{"$f":"IFERROR(VLOOKUP(A4535,Base!$A$2:$D$460,2,0),\"\")","v":""},{"$f":"IFERROR(VLOOKUP(A4535,Base!$A$2:$D$460,3,0),\"\")","v":""},{"$f":"IFERROR(VLOOKUP(A4535,Base!$A$2:$D$460,4,0),\"\")","v":""},null,null,null,null,null,null,null,null,null,null,null,null,null,0]
[null,{"$f":"IFERROR(VLOOKUP(A4536,Base!$A$2:$D$460,2,0),\"\")","v":""},{"$f":"IFERROR(VLOOKUP(A4536,Base!$A$2:$D$460,3,0),\"\")","v":""},{"$f":"IFERROR(VLOOKUP(A4536,Base!$A$2:$D$460,4,0),\"\")","v":""},null,null,null,null,null,null,null,null,null,null,null,null,null,0]
[null,{"$f":"IFERROR(VLOOKUP(A4537,Base!$A$2:$D$460,2,0),\"\")","v":""},{"$f":"IFERROR(VLOOKUP(A4537,Base!$A$2:$D$460,3,0),\"\")","v":""},{"$f":"IFERROR(VLOOKUP(A4537,Base!$A$2:$D$460,4,0),\"\")","v":""},null,null,null,null,null,null,null,null,null,null,null,null,null,0]
[null,{"$f":"IFERROR(VLOOKUP(A4538,Base!$A$2:$D$460,2,0),\"\")","v":""},{"$f":"IFERROR(VLOOKUP(A4538,Base!$A$2:$D$460,3,0),\"\")","v":""},{"$f":"IFERROR(VLOOKUP(A4538,Base!$A$2:$D$460,4,0),\"\")","v":""},null,null,null,null,null,null,null,null,null,null,null,null,null,0]
[null,{"$f":"IFERROR(VLOOKUP(A4539,Base!$A$2:$D$460,2,0),\"\")","v":""},{"$f":"IFERROR(VLOOKUP(A4539,Base!$A$2:$D$460,3,0),\"\")","v":""},{"$f":"IFERROR(VLOOKUP(A4539,Base!$A$2:$D$460,4,0),\"\")","v":""},null,null,null,null,null,null,null,null,null,null,null,null,null,0]
[null,{"$f":"IFERROR(VLOOKUP(A4540,Base!$A$2:$D$460,2,0),\"\")","v":""},{"$f":"IFERROR(VLOOKUP(A4540,Base!$A$2:$D$460,3,0),\"\")","v":""},{"$f":"IFERROR(VLOOKUP(A4540,Base!$A$2:$D$460,4,0),\"\")","v":""},null,null,null,null,null,null,null,null,null,null,null,null,null,0]
[null,{"$f":"IFERROR(VLOOKUP(A4541,Base!$A$2:$D$460,2,0),\"\")","v":""},{"$f":"IFERROR(VLOOKUP(A4541,Base!$A$2:$D$460,3,0),\"\")","v":""},{"$f":"IFERROR(VLOOKUP(A4541,Base!$A$2:$D$460,4,0),\"\")","v":""},null,null,null,null,null,null,null,null,null,null,null,null,null,0]
[null,{"$f":"IFERROR(VLOOKUP(A4542,Base!$A$2:$D$460,2,0),\"\")","v":""},{"$f":"IFERROR(VLOOKUP(A4542,Base!$A$2:$D$460,3,0),\"\")","v":""},{"$f":"IFERROR(VLOOKUP(A4542,Base!$A$2:$D$460,4,0),\"\")","v":""},null,null,null,null,null,null,null,null,null,null,null,null,null,0]
[null,{"$f":"IFERROR(VLOOKUP(A4543,Base!$A$2:$D$460,2,0),\"\")","v":""},{"$f":"IFERROR(VLOOKUP(A4543,Base!$A$2:$D$460,3,0),\"\")","v":""},{"$f":"IFERROR(VLOOKUP(A4543,Base!$A$2:$D$460,4,0),\"\")","v":""},null,null,null,null,null,null,null,null,null,null,null,null,null,0]
[null,{"$f":"IFERROR(VLOOKUP(A4544,Base!$A$2:$D$460,2,0),\"\")","v":""},{"$f":"IFERROR(VLOOKUP(A4544,Base!$A$2:$D$460,3,0),\"\")","v":""},{"$f":"IFERROR(VLOOKUP(A4544,Base!$A$2:$D$460,4,0),\"\")","v":""},null,null,null,null,null,null,null,null,null,null,null,null,null,0]
[null,{"$f":"IFERROR(VLOOKUP(A4545,Base!$A$2:$D$460,2,0),\"\")","v":""},{"$f":"IFERROR(VLOOKUP(A4545,Base!$A$2:$D$460,3,0),\"\")","v":""},{"$f":"IFERROR(VLOOKUP(A4545,Base!$A$2:$D$460,4,0),\"\")","v":""},null,null,null,null,null,null,null,null,null,null,null,null,null,0]
[null,{"$f":"IFERROR(VLOOKUP(A4546,Base!$A$2:$D$460,2,0),\"\")","v":""},{"$f":"IFERROR(VLOOKUP(A4546,Base!$A$2:$D$460,3,0),\"\")","v":""},{"$f":"IFERROR(VLOOKUP(A4546,Base!$A$2:$D$460,4,0),\"\")","v":""},null,null,null,null,null,null,null,null,null,null,null,null,null,0]
[null,{"$f":"IFERROR(VLOOKUP(A4547,Base!$A$2:$D$460,2,0),\"\")","v":""},{"$f":"IFERROR(VLOOKUP(A4547,Base!$A$2:$D$460,3,0),\"\")","v":""},{"$f":"IFERROR(VLOOKUP(A4547,Base!$A$2:$D$460,4,0),\"\")","v":""},null,null,null,null,null,null,null,null,null,null,null,null,null,0]
[null,{"$f":"IFERROR(VLOOKUP(A4548,Base!$A$2:$D$460,2,0),\"\")","v":""},{"$f":"IFERROR(VLOOKUP(A4548,Base!$A$2:$D$460,3,0),\"\")","v":""},{"$f":"IFERROR(VLOOKUP(A4548,Base!$A$2:$D$460,4,0),\"\")","v":""},null,null,null,null,null,null,null,null,null,null,null,null,null,0]
[null,{"$f":"IFERROR(VLOOKUP(A4549,Base!$A$2:$D$460,2,0),\"\")","v":""},{"$f":"IFERROR(VLOOKUP(A4549,Base!$A$2:$D$460,3,0),\"\")","v":""},{"$f":"IFERROR(VLOOKUP(A4549,Base!$A$2:$D$460,4,0),\"\")","v":""},null,null,null,null,null,null,null,null,null,null,null,null,null,0]
[null,{"$f":"IFERROR(VLOOKUP(A4550,Base!$A$2:$D$460,2,0),\"\")","v":""},{"$f":"IFERROR(VLOOKUP(A4550,Base!$A$2:$D$460,3,0),\"\")","v":""},{"$f":"IFERROR(VLOOKUP(A4550,Base!$A$2:$D$460,4,0),\"\")","v":""},null,null,null,null,null,null,null,null,null,null,null,null,null,0]
[null,{"$f":"IFERROR(VLOOKUP(A4551,Base!$A$2:$D$460,2,0),\"\")","v":""},{"$f":"IFERROR(VLOOKUP(A4551,Base!$A$2:$D$460,3,0),\"\")","v":""},{"$f":"IFERROR(VLOOKUP(A4551,Base!$A$2:$D$460,4,0),\"\")","v":""},null,null,null,null,null,null,null,null,null,null,null,null,null,0]
[null,{"$f":"IFERROR(VLOOKUP(A4552,Base!$A$2:$D$460,2,0),\"\")","v":""},{"$f":"IFERROR(VLOOKUP(A4552,Base!$A$2:$D$460,3,0),\"\")","v":""},{"$f":"IFERROR(VLOOKUP(A4552,Base!$A$2:$D$460,4,0),\"\")","v":""},null,null,null,null,null,null,null,null,null,null,null,null,null,0]
[null,{"$f":"IFERROR(VLOOKUP(A4553,Base!$A$2:$D$460,2,0),\"\")","v":""},{"$f":"IFERROR(VLOOKUP(A4553,Base!$A$2:$D$460,3,0),\"\")","v":""},{"$f":"IFERROR(VLOOKUP(A4553,Base!$A$2:$D$460,4,0),\"\")","v":""},null,null,null,null,null,null,null,null,null,null,null,null,null,0]
[null,{"$f":"IFERROR(VLOOKUP(A4554,Base!$A$2:$D$460,2,0),\"\")","v":""},{"$f":"IFERROR(VLOOKUP(A4554,Base!$A$2:$D$460,3,0),\"\")","v":""},{"$f":"IFERROR(VLOOKUP(A4554,Base!$A$2:$D$460,4,0),\"\")","v":""},null,null,null,null,null,null,null,null,null,null,null,null,null,0]
[null,{"$f":"IFERROR(VLOOKUP(A4555,Base!$A$2:$D$460,2,0),\"\")","v":""},{"$f":"IFERROR(VLOOKUP(A4555,Base!$A$2:$D$460,3,0),\"\")","v":""},{"$f":"IFERROR(VLOOKUP(A4555,Base!$A$2:$D$460,4,0),\"\")","v":""},null,null,null,null,null,null,null,null,null,null,null,null,null,0]
[null,{"$f":"IFERROR(VLOOKUP(A4556,Base!$A$2:$D$460,2,0),\"\")","v":""},{"$f":"IFERROR(VLOOKUP(A4556,Base!$A$2:$D$460,3,0),\"\")","v":""},{"$f":"IFERROR(VLOOKUP(A4556,Base!$A$2:$D$460,4,0),\"\")","v":""},null,null,null,null,null,null,null,null,null,null,null,null,null,0]
[null,{"$f":"IFERROR(VLOOKUP(A4557,Base!$A$2:$D$460,2,0),\"\")","v":""},{"$f":"IFERROR(VLOOKUP(A4557,Base!$A$2:$D$460,3,0),\"\")","v":""},{"$f":"IFERROR(VLOOKUP(A4557,Base!$A$2:$D$460,4,0),\"\")","v":""},null,null,null,null,null,null,null,null,null,null,null,null,null,0]
[null,{"$f":"IFERROR(VLOOKUP(A4558,Base!$A$2:$D$460,2,0),\"\")","v":""},{"$f":"IFERROR(VLOOKUP(A4558,Base!$A$2:$D$460,3,0),\"\")","v":""},{"$f":"IFERROR(VLOOKUP(A4558,Base!$A$2:$D$460,4,0),\"\")","v":""},null,null,null,null,null,null,null,null,null,null,null,null,null,0]
[null,{"$f":"IFERROR(VLOOKUP(A4559,Base!$A$2:$D$460,2,0),\"\")","v":""},{"$f":"IFERROR(VLOOKUP(A4559,Base!$A$2:$D$460,3,0),\"\")","v":""},{"$f":"IFERROR(VLOOKUP(A4559,Base!$A$2:$D$460,4,0),\"\")","v":""},null,null,null,null,null,null,null,null,null,null,null,null,null,0]
[null,{"$f":"IFERROR(VLOOKUP(A4560,Base!$A$2:$D$460,2,0),\"\")","v":""},{"$f":"IFERROR(VLOOKUP(A4560,Base!$A$2:$D$460,3,0),\"\")","v":""},{"$f":"IFERROR(VLOOKUP(A4560,Base!$A$2:$D$460,4,0),\"\")","v":""},null,null,null,null,null,null,null,null,null,null,null,null,null,0]
[null,{"$f":"IFERROR(VLOOKUP(A4561,Base!$A$2:$D$460,2,0),\"\")","v":""},{"$f":"IFERROR(VLOOKUP(A4561,Base!$A$2:$D$460,3,0),\"\")","v":""},{"$f":"IFERROR(VLOOKUP(A4561,Base!$A$2:$D$460,4,0),\"\")","v":""},null,null,null,null,null,null,null,null,null,null,null,null,null,0]
[null,{"$f":"IFERROR(VLOOKUP(A4562,Base!$A$2:$D$460,2,0),\"\")","v":""},{"$f":"IFERROR(VLOOKUP(A4562,Base!$A$2:$D$460,3,0),\"\")","v":""},{"$f":"IFERROR(VLOOKUP(A4562,Base!$A$2:$D$460,4,0),\"\")","v":""},null,null,null,null,null,null,null,null,null,null,null,null,null,0]
[null,{"$f":"IFERROR(VLOOKUP(A4563,Base!$A$2:$D$460,2,0),\"\")","v":""},{"$f":"IFERROR(VLOOKUP(A4563,Base!$A$2:$D$460,3,0),\"\")","v":""},{"$f":"IFERROR(VLOOKUP(A4563,Base!$A$2:$D$460,4,0),\"\")","v":""},null,null,null,null,null,null,null,null,null,null,null,null,null,0]
[null,{"$f":"IFERROR(VLOOKUP(A4564,Base!$A$2:$D$460,2,0),\"\")","v":""},{"$f":"IFERROR(VLOOKUP(A4564,Base!$A$2:$D$460,3,0),\"\")","v":""},{"$f":"IFERROR(VLOOKUP(A4564,Base!$A$2:$D$460,4,0),\"\")","v":""},null,null,null,null,null,null,null,null,null,null,null,null,null,0]
[null,{"$f":"IFERROR(VLOOKUP(A4565,Base!$A$2:$D$460,2,0),\"\")","v":""},{"$f":"IFERROR(VLOOKUP(A4565,Base!$A$2:$D$460,3,0),\"\")","v":""},{"$f":"IFERROR(VLOOKUP(A4565,Base!$A$2:$D$460,4,0),\"\")","v":""},null,null,null,null,null,null,null,null,null,null,null,null,null,0]
[null,{"$f":"IFERROR(VLOOKUP(A4566,Base!$A$2:$D$460,2,0),\"\")","v":""},{"$f":"IFERROR(VLOOKUP(A4566,Base!$A$2:$D$460,3,0),\"\")","v":""},{"$f":"IFERROR(VLOOKUP(A4566,Base!$A$2:$D$460,4,0),\"\")","v":""},null,null,null,null,null,null,null,null,null,null,null,null,null,0]
[null,{"$f":"IFERROR(VLOOKUP(A4567,Base!$A$2:$D$460,2,0),\"\")","v":""},{"$f":"IFERROR(VLOOKUP(A4567,Base!$A$2:$D$460,3,0),\"\")","v":""},{"$f":"IFERROR(VLOOKUP(A4567,Base!$A$2:$D$460,4,0),\"\")","v":""},null,null,null,null,null,null,null,null,null,null,null,null,null,0]
[null,{"$f":"IFERROR(VLOOKUP(A4568,Base!$A$2:$D$460,2,0),\"\")","v":""},{"$f":"IFERROR(VLOOKUP(A4568,Base!$A$2:$D$460,3,0),\"\")","v":""},{"$f":"IFERROR(VLOOKUP(A4568,Base!$A$2:$D$460,4,0),\"\")","v":""},null,null,null,null,null,null,null,null,null,null,null,null,null,0]
[null,{"$f":"IFERROR(VLOOKUP(A4569,Base!$A$2:$D$460,2,0),\"\")","v":""},{"$f":"IFERROR(VLOOKUP(A4569,Base!$A$2:$D$460,3,0),\"\")","v":""},{"$f":"IFERROR(VLOOKUP(A4569,Base!$A$2:$D$460,4,0),\"\")","v":""},null,null,null,null,null,null,null,null,null,null,null,null,null,0]
[null,{"$f":"IFERROR(VLOOKUP(A4570,Base!$A$2:$D$460,2,0),\"\")","v":""},{"$f":"IFERROR(VLOOKUP(A4570,Base!$A$2:$D$460,3,0),\"\")","v":""},{"$f":"IFERROR(VLOOKUP(A4570,Base!$A$2:$D$460,4,0),\"\")","v":""},null,null,null,null,null,null,null,null,null,null,null,null,null,0]
[null,{"$f":"IFERROR(VLOOKUP(A4571,Base!$A$2:$D$460,2,0),\"\")","v":""},{"$f":"IFERROR(VLOOKUP(A4571,Base!$A$2:$D$460,3,0),\"\")","v":""},{"$f":"IFERROR(VLOOKUP(A4571,Base!$A$2:$D$460,4,0),\"\")","v":""},null,null,null,null,null,null,null,null,null,null,null,null,null,0]
[null,{"$f":"IFERROR(VLOOKUP(A4572,Base!$A$2:$D$460,2,0),\"\")","v":""},{"$f":"IFERROR(VLOOKUP(A4572,Base!$A$2:$D$460,3,0),\"\")","v":""},{"$f":"IFERROR(VLOOKUP(A4572,Base!$A$2:$D$460,4,0),\"\")","v":""},null,null,null,null,null,null,null,null,null,null,null,null,null,0]
[null,{"$f":"IFERROR(VLOOKUP(A4573,Base!$A$2:$D$460,2,0),\"\")","v":""},{"$f":"IFERROR(VLOOKUP(A4573,Base!$A$2:$D$460,3,0),\"\")","v":""},{"$f":"IFERROR(VLOOKUP(A4573,Base!$A$2:$D$460,4,0),\"\")","v":""},null,null,null,null,null,null,null,null,null,null,null,null,null,0]
[null,{"$f":"IFERROR(VLOOKUP(A4574,Base!$A$2:$D$460,2,0),\"\")","v":""},{"$f":"IFERROR(VLOOKUP(A4574,Base!$A$2:$D$460,3,0),\"\")","v":""},{"$f":"IFERROR(VLOOKUP(A4574,Base!$A$2:$D$460,4,0),\"\")","v":""},null,null,null,null,null,null,null,null,null,null,null,null,null,0]
[null,{"$f":"IFERROR(VLOOKUP(A4575,Base!$A$2:$D$460,2,0),\"\")","v":""},{"$f":"IFERROR(VLOOKUP(A4575,Base!$A$2:$D$460,3,0),\"\")","v":""},{"$f":"IFERROR(VLOOKUP(A4575,Base!$A$2:$D$460,4,0),\"\")","v":""},null,null,null,null,null,null,null,null,null,null,null,null,null,0]
[null,{"$f":"IFERROR(VLOOKUP(A4576,Base!$A$2:$D$460,2,0),\"\")","v":""},{"$f":"IFERROR(VLOOKUP(A4576,Base!$A$2:$D$460,3,0),\"\")","v":""},{"$f":"IFERROR(VLOOKUP(A4576,Base!$A$2:$D$460,4,0),\"\")","v":""},null,null,null,null,null,null,null,null,null,null,null,null,null,0]
[null,{"$f":"IFERROR(VLOOKUP(A4577,Base!$A$2:$D$460,2,0),\"\")","v":""},{"$f":"IFERROR(VLOOKUP(A4577,Base!$A$2:$D$460,3,0),\"\")","v":""},{"$f":"IFERROR(VLOOKUP(A4577,Base!$A$2:$D$460,4,0),\"\")","v":""},null,null,null,null,null,null,null,null,null,null,null,null,null,0]
[null,{"$f":"IFERROR(VLOOKUP(A4578,Base!$A$2:$D$460,2,0),\"\")","v":""},{"$f":"IFERROR(VLOOKUP(A4578,Base!$A$2:$D$460,3,0),\"\")","v":""},{"$f":"IFERROR(VLOOKUP(A4578,Base!$A$2:$D$460,4,0),\"\")","v":""},null,null,null,null,null,null,null,null,null,null,null,null,null,0]
[null,{"$f":"IFERROR(VLOOKUP(A4579,Base!$A$2:$D$460,2,0),\"\")","v":""},{"$f":"IFERROR(VLOOKUP(A4579,Base!$A$2:$D$460,3,0),\"\")","v":""},{"$f":"IFERROR(VLOOKUP(A4579,Base!$A$2:$D$460,4,0),\"\")","v":""},null,null,null,null,null,null,null,null,null,null,null,null,null,0]
[null,{"$f":"IFERROR(VLOOKUP(A4580,Base!$A$2:$D$460,2,0),\"\")","v":""},{"$f":"IFERROR(VLOOKUP(A4580,Base!$A$2:$D$460,3,0),\"\")","v":""},{"$f":"IFERROR(VLOOKUP(A4580,Base!$A$2:$D$460,4,0),\"\")","v":""},null,null,null,null,null,null,null,null,null,null,null,null,null,0]
[null,{"$f":"IFERROR(VLOOKUP(A4581,Base!$A$2:$D$460,2,0),\"\")","v":""},{"$f":"IFERROR(VLOOKUP(A4581,Base!$A$2:$D$460,3,0),\"\")","v":""},{"$f":"IFERROR(VLOOKUP(A4581,Base!$A$2:$D$460,4,0),\"\")","v":""},null,null,null,null,null,null,null,null,null,null,null,null,null,0]
[null,{"$f":"IFERROR(VLOOKUP(A4582,Base!$A$2:$D$460,2,0),\"\")","v":""},{"$f":"IFERROR(VLOOKUP(A4582,Base!$A$2:$D$460,3,0),\"\")","v":""},{"$f":"IFERROR(VLOOKUP(A4582,Base!$A$2:$D$460,4,0),\"\")","v":""},null,null,null,null,null,null,null,null,null,null,null,null,null,0]
[null,{"$f":"IFERROR(VLOOKUP(A4583,Base!$A$2:$D$460,2,0),\"\")","v":""},{"$f":"IFERROR(VLOOKUP(A4583,Base!$A$2:$D$460,3,0),\"\")","v":""},{"$f":"IFERROR(VLOOKUP(A4583,Base!$A$2:$D$460,4,0),\"\")","v":""},null,null,null,null,null,null,null,null,null,null,null,null,null,{"$f":"SUM(N4583:Q4583)/4","v":0}]
[null,{"$f":"IFERROR(VLOOKUP(A4584,Base!$A$2:$D$460,2,0),\"\")","v":""},{"$f":"IFERROR(VLOOKUP(A4584,Base!$A$2:$D$460,3,0),\"\")","v":""},{"$f":"IFERROR(VLOOKUP(A4584,Base!$A$2:$D$460,4,0),\"\")","v":""},null,null,null,null,null,null,null,null,null,null,null,null,null,0]
[null,{"$f":"IFERROR(VLOOKUP(A4585,Base!$A$2:$D$460,2,0),\"\")","v":""},{"$f":"IFERROR(VLOOKUP(A4585,Base!$A$2:$D$460,3,0),\"\")","v":""},{"$f":"IFERROR(VLOOKUP(A4585,Base!$A$2:$D$460,4,0),\"\")","v":""},null,null,null,null,null,null,null,null,null,null,null,null,null,0]
[null,{"$f":"IFERROR(VLOOKUP(A4586,Base!$A$2:$D$460,2,0),\"\")","v":""},{"$f":"IFERROR(VLOOKUP(A4586,Base!$A$2:$D$460,3,0),\"\")","v":""},{"$f":"IFERROR(VLOOKUP(A4586,Base!$A$2:$D$460,4,0),\"\")","v":""},null,null,null,null,null,null,null,null,null,null,null,null,null,0]
[null,{"$f":"IFERROR(VLOOKUP(A4587,Base!$A$2:$D$460,2,0),\"\")","v":""},{"$f":"IFERROR(VLOOKUP(A4587,Base!$A$2:$D$460,3,0),\"\")","v":""},{"$f":"IFERROR(VLOOKUP(A4587,Base!$A$2:$D$460,4,0),\"\")","v":""},null,null,null,null,null,null,null,null,null,null,null,null,null,0]
[null,{"$f":"IFERROR(VLOOKUP(A4588,Base!$A$2:$D$460,2,0),\"\")","v":""},{"$f":"IFERROR(VLOOKUP(A4588,Base!$A$2:$D$460,3,0),\"\")","v":""},{"$f":"IFERROR(VLOOKUP(A4588,Base!$A$2:$D$460,4,0),\"\")","v":""},null,null,null,null,null,null,null,null,null,null,null,null,null,0]
[null,{"$f":"IFERROR(VLOOKUP(A4589,Base!$A$2:$D$460,2,0),\"\")","v":""},{"$f":"IFERROR(VLOOKUP(A4589,Base!$A$2:$D$460,3,0),\"\")","v":""},{"$f":"IFERROR(VLOOKUP(A4589,Base!$A$2:$D$460,4,0),\"\")","v":""},null,null,null,null,null,null,null,null,null,null,null,null,null,0]
[null,{"$f":"IFERROR(VLOOKUP(A4590,Base!$A$2:$D$460,2,0),\"\")","v":""},{"$f":"IFERROR(VLOOKUP(A4590,Base!$A$2:$D$460,3,0),\"\")","v":""},{"$f":"IFERROR(VLOOKUP(A4590,Base!$A$2:$D$460,4,0),\"\")","v":""},null,null,null,null,null,null,null,null,null,null,null,null,null,0]
[null,{"$f":"IFERROR(VLOOKUP(A4591,Base!$A$2:$D$460,2,0),\"\")","v":""},{"$f":"IFERROR(VLOOKUP(A4591,Base!$A$2:$D$460,3,0),\"\")","v":""},{"$f":"IFERROR(VLOOKUP(A4591,Base!$A$2:$D$460,4,0),\"\")","v":""},null,null,null,null,null,null,null,null,null,null,null,null,null,0]
[null,{"$f":"IFERROR(VLOOKUP(A4592,Base!$A$2:$D$460,2,0),\"\")","v":""},{"$f":"IFERROR(VLOOKUP(A4592,Base!$A$2:$D$460,3,0),\"\")","v":""},{"$f":"IFERROR(VLOOKUP(A4592,Base!$A$2:$D$460,4,0),\"\")","v":""},null,null,null,null,null,null,null,null,null,null,null,null,null,0]
[null,{"$f":"IFERROR(VLOOKUP(A4593,Base!$A$2:$D$460,2,0),\"\")","v":""},{"$f":"IFERROR(VLOOKUP(A4593,Base!$A$2:$D$460,3,0),\"\")","v":""},{"$f":"IFERROR(VLOOKUP(A4593,Base!$A$2:$D$460,4,0),\"\")","v":""},null,null,null,null,null,null,null,null,null,null,null,null,null,0]
[null,{"$f":"IFERROR(VLOOKUP(A4594,Base!$A$2:$D$460,2,0),\"\")","v":""},{"$f":"IFERROR(VLOOKUP(A4594,Base!$A$2:$D$460,3,0),\"\")","v":""},{"$f":"IFERROR(VLOOKUP(A4594,Base!$A$2:$D$460,4,0),\"\")","v":""},null,null,null,null,null,null,null,null,null,null,null,null,null,0]
[null,{"$f":"IFERROR(VLOOKUP(A4595,Base!$A$2:$D$460,2,0),\"\")","v":""},{"$f":"IFERROR(VLOOKUP(A4595,Base!$A$2:$D$460,3,0),\"\")","v":""},{"$f":"IFERROR(VLOOKUP(A4595,Base!$A$2:$D$460,4,0),\"\")","v":""},null,null,null,null,null,null,null,null,null,null,null,null,null,0]
[null,{"$f":"IFERROR(VLOOKUP(A4596,Base!$A$2:$D$460,2,0),\"\")","v":""},{"$f":"IFERROR(VLOOKUP(A4596,Base!$A$2:$D$460,3,0),\"\")","v":""},{"$f":"IFERROR(VLOOKUP(A4596,Base!$A$2:$D$460,4,0),\"\")","v":""},null,null,null,null,null,null,null,null,null,null,null,null,null,0]
[null,{"$f":"IFERROR(VLOOKUP(A4597,Base!$A$2:$D$460,2,0),\"\")","v":""},{"$f":"IFERROR(VLOOKUP(A4597,Base!$A$2:$D$460,3,0),\"\")","v":""},{"$f":"IFERROR(VLOOKUP(A4597,Base!$A$2:$D$460,4,0),\"\")","v":""},null,null,null,null,null,null,null,null,null,null,null,null,null,0]
[null,{"$f":"IFERROR(VLOOKUP(A4598,Base!$A$2:$D$460,2,0),\"\")","v":""},{"$f":"IFERROR(VLOOKUP(A4598,Base!$A$2:$D$460,3,0),\"\")","v":""},{"$f":"IFERROR(VLOOKUP(A4598,Base!$A$2:$D$460,4,0),\"\")","v":""},null,null,null,null,null,null,null,null,null,null,null,null,null,0]
[null,{"$f":"IFERROR(VLOOKUP(A4599,Base!$A$2:$D$460,2,0),\"\")","v":""},{"$f":"IFERROR(VLOOKUP(A4599,Base!$A$2:$D$460,3,0),\"\")","v":""},{"$f":"IFERROR(VLOOKUP(A4599,Base!$A$2:$D$460,4,0),\"\")","v":""},null,null,null,null,null,null,null,null,null,null,null,null,null,0]
[null,{"$f":"IFERROR(VLOOKUP(A4600,Base!$A$2:$D$460,2,0),\"\")","v":""},{"$f":"IFERROR(VLOOKUP(A4600,Base!$A$2:$D$460,3,0),\"\")","v":""},{"$f":"IFERROR(VLOOKUP(A4600,Base!$A$2:$D$460,4,0),\"\")","v":""},null,null,null,null,null,null,null,null,null,null,null,null,null,0]
[null,{"$f":"IFERROR(VLOOKUP(A4601,Base!$A$2:$D$460,2,0),\"\")","v":""},{"$f":"IFERROR(VLOOKUP(A4601,Base!$A$2:$D$460,3,0),\"\")","v":""},{"$f":"IFERROR(VLOOKUP(A4601,Base!$A$2:$D$460,4,0),\"\")","v":""},null,null,null,null,null,null,null,null,null,null,null,null,null,0]
[null,{"$f":"IFERROR(VLOOKUP(A4602,Base!$A$2:$D$460,2,0),\"\")","v":""},{"$f":"IFERROR(VLOOKUP(A4602,Base!$A$2:$D$460,3,0),\"\")","v":""},{"$f":"IFERROR(VLOOKUP(A4602,Base!$A$2:$D$460,4,0),\"\")","v":""},null,null,null,null,null,null,null,null,null,null,null,null,null,0]
[null,{"$f":"IFERROR(VLOOKUP(A4603,Base!$A$2:$D$460,2,0),\"\")","v":""},{"$f":"IFERROR(VLOOKUP(A4603,Base!$A$2:$D$460,3,0),\"\")","v":""},{"$f":"IFERROR(VLOOKUP(A4603,Base!$A$2:$D$460,4,0),\"\")","v":""},null,null,null,null,null,null,null,null,null,null,null,null,null,0]
[null,{"$f":"IFERROR(VLOOKUP(A4604,Base!$A$2:$D$460,2,0),\"\")","v":""},{"$f":"IFERROR(VLOOKUP(A4604,Base!$A$2:$D$460,3,0),\"\")","v":""},{"$f":"IFERROR(VLOOKUP(A4604,Base!$A$2:$D$460,4,0),\"\")","v":""},null,null,null,null,null,null,null,null,null,null,null,null,null,0]
[null,{"$f":"IFERROR(VLOOKUP(A4605,Base!$A$2:$D$460,2,0),\"\")","v":""},{"$f":"IFERROR(VLOOKUP(A4605,Base!$A$2:$D$460,3,0),\"\")","v":""},{"$f":"IFERROR(VLOOKUP(A4605,Base!$A$2:$D$460,4,0),\"\")","v":""},null,null,null,null,null,null,null,null,null,null,null,null,null,0]
[null,{"$f":"IFERROR(VLOOKUP(A4606,Base!$A$2:$D$460,2,0),\"\")","v":""},{"$f":"IFERROR(VLOOKUP(A4606,Base!$A$2:$D$460,3,0),\"\")","v":""},{"$f":"IFERROR(VLOOKUP(A4606,Base!$A$2:$D$460,4,0),\"\")","v":""},null,null,null,null,null,null,null,null,null,null,null,null,null,0]
[null,{"$f":"IFERROR(VLOOKUP(A4607,Base!$A$2:$D$460,2,0),\"\")","v":""},{"$f":"IFERROR(VLOOKUP(A4607,Base!$A$2:$D$460,3,0),\"\")","v":""},{"$f":"IFERROR(VLOOKUP(A4607,Base!$A$2:$D$460,4,0),\"\")","v":""},null,null,null,null,null,null,null,null,null,null,null,null,null,0]
[null,{"$f":"IFERROR(VLOOKUP(A4608,Base!$A$2:$D$460,2,0),\"\")","v":""},{"$f":"IFERROR(VLOOKUP(A4608,Base!$A$2:$D$460,3,0),\"\")","v":""},{"$f":"IFERROR(VLOOKUP(A4608,Base!$A$2:$D$460,4,0),\"\")","v":""},null,null,null,null,null,null,null,null,null,null,null,null,null,0]
[null,{"$f":"IFERROR(VLOOKUP(A4609,Base!$A$2:$D$460,2,0),\"\")","v":""},{"$f":"IFERROR(VLOOKUP(A4609,Base!$A$2:$D$460,3,0),\"\")","v":""},{"$f":"IFERROR(VLOOKUP(A4609,Base!$A$2:$D$460,4,0),\"\")","v":""},null,null,null,null,null,null,null,null,null,null,null,null,null,0]
[null,{"$f":"IFERROR(VLOOKUP(A4610,Base!$A$2:$D$460,2,0),\"\")","v":""},{"$f":"IFERROR(VLOOKUP(A4610,Base!$A$2:$D$460,3,0),\"\")","v":""},{"$f":"IFERROR(VLOOKUP(A4610,Base!$A$2:$D$460,4,0),\"\")","v":""},null,null,null,null,null,null,null,null,null,null,null,null,null,0]
[null,{"$f":"IFERROR(VLOOKUP(A4611,Base!$A$2:$D$460,2,0),\"\")","v":""},{"$f":"IFERROR(VLOOKUP(A4611,Base!$A$2:$D$460,3,0),\"\")","v":""},{"$f":"IFERROR(VLOOKUP(A4611,Base!$A$2:$D$460,4,0),\"\")","v":""},null,null,null,null,null,null,null,null,null,null,null,null,null,0]
[null,{"$f":"IFERROR(VLOOKUP(A4612,Base!$A$2:$D$460,2,0),\"\")","v":""},{"$f":"IFERROR(VLOOKUP(A4612,Base!$A$2:$D$460,3,0),\"\")","v":""},{"$f":"IFERROR(VLOOKUP(A4612,Base!$A$2:$D$460,4,0),\"\")","v":""},null,null,null,null,null,null,null,null,null,null,null,null,null,0]
[null,{"$f":"IFERROR(VLOOKUP(A4613,Base!$A$2:$D$460,2,0),\"\")","v":""},{"$f":"IFERROR(VLOOKUP(A4613,Base!$A$2:$D$460,3,0),\"\")","v":""},{"$f":"IFERROR(VLOOKUP(A4613,Base!$A$2:$D$460,4,0),\"\")","v":""},null,null,null,null,null,null,null,null,null,null,null,null,null,0]
[null,{"$f":"IFERROR(VLOOKUP(A4614,Base!$A$2:$D$460,2,0),\"\")","v":""},{"$f":"IFERROR(VLOOKUP(A4614,Base!$A$2:$D$460,3,0),\"\")","v":""},{"$f":"IFERROR(VLOOKUP(A4614,Base!$A$2:$D$460,4,0),\"\")","v":""},null,null,null,null,null,null,null,null,null,null,null,null,null,0]
[null,{"$f":"IFERROR(VLOOKUP(A4615,Base!$A$2:$D$460,2,0),\"\")","v":""},{"$f":"IFERROR(VLOOKUP(A4615,Base!$A$2:$D$460,3,0),\"\")","v":""},{"$f":"IFERROR(VLOOKUP(A4615,Base!$A$2:$D$460,4,0),\"\")","v":""},null,null,null,null,null,null,null,null,null,null,null,null,null,0]
[null,{"$f":"IFERROR(VLOOKUP(A4616,Base!$A$2:$D$460,2,0),\"\")","v":""},{"$f":"IFERROR(VLOOKUP(A4616,Base!$A$2:$D$460,3,0),\"\")","v":""},{"$f":"IFERROR(VLOOKUP(A4616,Base!$A$2:$D$460,4,0),\"\")","v":""},null,null,null,null,null,null,null,null,null,null,null,null,null,0]
[null,{"$f":"IFERROR(VLOOKUP(A4617,Base!$A$2:$D$460,2,0),\"\")","v":""},{"$f":"IFERROR(VLOOKUP(A4617,Base!$A$2:$D$460,3,0),\"\")","v":""},{"$f":"IFERROR(VLOOKUP(A4617,Base!$A$2:$D$460,4,0),\"\")","v":""},null,null,null,null,null,null,null,null,null,null,null,null,null,0]
[null,{"$f":"IFERROR(VLOOKUP(A4618,Base!$A$2:$D$460,2,0),\"\")","v":""},{"$f":"IFERROR(VLOOKUP(A4618,Base!$A$2:$D$460,3,0),\"\")","v":""},{"$f":"IFERROR(VLOOKUP(A4618,Base!$A$2:$D$460,4,0),\"\")","v":""},null,null,null,null,null,null,null,null,null,null,null,null,null,0]
[null,{"$f":"IFERROR(VLOOKUP(A4619,Base!$A$2:$D$460,2,0),\"\")","v":""},{"$f":"IFERROR(VLOOKUP(A4619,Base!$A$2:$D$460,3,0),\"\")","v":""},{"$f":"IFERROR(VLOOKUP(A4619,Base!$A$2:$D$460,4,0),\"\")","v":""},null,null,null,null,null,null,null,null,null,null,null,null,null,0]
[null,{"$f":"IFERROR(VLOOKUP(A4620,Base!$A$2:$D$460,2,0),\"\")","v":""},{"$f":"IFERROR(VLOOKUP(A4620,Base!$A$2:$D$460,3,0),\"\")","v":""},{"$f":"IFERROR(VLOOKUP(A4620,Base!$A$2:$D$460,4,0),\"\")","v":""},null,null,null,null,null,null,null,null,null,null,null,null,null,0]
[null,{"$f":"IFERROR(VLOOKUP(A4621,Base!$A$2:$D$460,2,0),\"\")","v":""},{"$f":"IFERROR(VLOOKUP(A4621,Base!$A$2:$D$460,3,0),\"\")","v":""},{"$f":"IFERROR(VLOOKUP(A4621,Base!$A$2:$D$460,4,0),\"\")","v":""},null,null,null,null,null,null,null,null,null,null,null,null,null,0]
[null,{"$f":"IFERROR(VLOOKUP(A4622,Base!$A$2:$D$460,2,0),\"\")","v":""},{"$f":"IFERROR(VLOOKUP(A4622,Base!$A$2:$D$460,3,0),\"\")","v":""},{"$f":"IFERROR(VLOOKUP(A4622,Base!$A$2:$D$460,4,0),\"\")","v":""},null,null,null,null,null,null,null,null,null,null,null,null,null,0]
[null,{"$f":"IFERROR(VLOOKUP(A4623,Base!$A$2:$D$460,2,0),\"\")","v":""},{"$f":"IFERROR(VLOOKUP(A4623,Base!$A$2:$D$460,3,0),\"\")","v":""},{"$f":"IFERROR(VLOOKUP(A4623,Base!$A$2:$D$460,4,0),\"\")","v":""},null,null,null,null,null,null,null,null,null,null,null,null,null,0]
[null,{"$f":"IFERROR(VLOOKUP(A4624,Base!$A$2:$D$460,2,0),\"\")","v":""},{"$f":"IFERROR(VLOOKUP(A4624,Base!$A$2:$D$460,3,0),\"\")","v":""},{"$f":"IFERROR(VLOOKUP(A4624,Base!$A$2:$D$460,4,0),\"\")","v":""},null,null,null,null,null,null,null,null,null,null,null,null,null,0]
[null,{"$f":"IFERROR(VLOOKUP(A4625,Base!$A$2:$D$460,2,0),\"\")","v":""},{"$f":"IFERROR(VLOOKUP(A4625,Base!$A$2:$D$460,3,0),\"\")","v":""},{"$f":"IFERROR(VLOOKUP(A4625,Base!$A$2:$D$460,4,0),\"\")","v":""},null,null,null,null,null,null,null,null,null,null,null,null,null,0]
[null,{"$f":"IFERROR(VLOOKUP(A4626,Base!$A$2:$D$460,2,0),\"\")","v":""},{"$f":"IFERROR(VLOOKUP(A4626,Base!$A$2:$D$460,3,0),\"\")","v":""},{"$f":"IFERROR(VLOOKUP(A4626,Base!$A$2:$D$460,4,0),\"\")","v":""},null,null,null,null,null,null,null,null,null,null,null,null,null,0]
[null,{"$f":"IFERROR(VLOOKUP(A4627,Base!$A$2:$D$460,2,0),\"\")","v":""},{"$f":"IFERROR(VLOOKUP(A4627,Base!$A$2:$D$460,3,0),\"\")","v":""},{"$f":"IFERROR(VLOOKUP(A4627,Base!$A$2:$D$460,4,0),\"\")","v":""},null,null,null,null,null,null,null,null,null,null,null,null,null,0]
[null,{"$f":"IFERROR(VLOOKUP(A4628,Base!$A$2:$D$460,2,0),\"\")","v":""},{"$f":"IFERROR(VLOOKUP(A4628,Base!$A$2:$D$460,3,0),\"\")","v":""},{"$f":"IFERROR(VLOOKUP(A4628,Base!$A$2:$D$460,4,0),\"\")","v":""},null,null,null,null,null,null,null,null,null,null,null,null,null,0]
[null,{"$f":"IFERROR(VLOOKUP(A4629,Base!$A$2:$D$460,2,0),\"\")","v":""},{"$f":"IFERROR(VLOOKUP(A4629,Base!$A$2:$D$460,3,0),\"\")","v":""},{"$f":"IFERROR(VLOOKUP(A4629,Base!$A$2:$D$460,4,0),\"\")","v":""},null,null,null,null,null,null,null,null,null,null,null,null,null,0]
[null,{"$f":"IFERROR(VLOOKUP(A4630,Base!$A$2:$D$460,2,0),\"\")","v":""},{"$f":"IFERROR(VLOOKUP(A4630,Base!$A$2:$D$460,3,0),\"\")","v":""},{"$f":"IFERROR(VLOOKUP(A4630,Base!$A$2:$D$460,4,0),\"\")","v":""},null,null,null,null,null,null,null,null,null,null,null,null,null,0]
[null,{"$f":"IFERROR(VLOOKUP(A4631,Base!$A$2:$D$460,2,0),\"\")","v":""},{"$f":"IFERROR(VLOOKUP(A4631,Base!$A$2:$D$460,3,0),\"\")","v":""},{"$f":"IFERROR(VLOOKUP(A4631,Base!$A$2:$D$460,4,0),\"\")","v":""},null,null,null,null,null,null,null,null,null,null,null,null,null,0]
[null,{"$f":"IFERROR(VLOOKUP(A4632,Base!$A$2:$D$460,2,0),\"\")","v":""},{"$f":"IFERROR(VLOOKUP(A4632,Base!$A$2:$D$460,3,0),\"\")","v":""},{"$f":"IFERROR(VLOOKUP(A4632,Base!$A$2:$D$460,4,0),\"\")","v":""},null,null,null,null,null,null,null,null,null,null,null,null,null,0]
[null,{"$f":"IFERROR(VLOOKUP(A4633,Base!$A$2:$D$460,2,0),\"\")","v":""},{"$f":"IFERROR(VLOOKUP(A4633,Base!$A$2:$D$460,3,0),\"\")","v":""},{"$f":"IFERROR(VLOOKUP(A4633,Base!$A$2:$D$460,4,0),\"\")","v":""},null,null,null,null,null,null,null,null,null,null,null,null,null,0]
[null,{"$f":"IFERROR(VLOOKUP(A4634,Base!$A$2:$D$460,2,0),\"\")","v":""},{"$f":"IFERROR(VLOOKUP(A4634,Base!$A$2:$D$460,3,0),\"\")","v":""},{"$f":"IFERROR(VLOOKUP(A4634,Base!$A$2:$D$460,4,0),\"\")","v":""},null,null,null,null,null,null,null,null,null,null,null,null,null,0]
[null,{"$f":"IFERROR(VLOOKUP(A4635,Base!$A$2:$D$460,2,0),\"\")","v":""},{"$f":"IFERROR(VLOOKUP(A4635,Base!$A$2:$D$460,3,0),\"\")","v":""},{"$f":"IFERROR(VLOOKUP(A4635,Base!$A$2:$D$460,4,0),\"\")","v":""},null,null,null,null,null,null,null,null,null,null,null,null,null,0]
[null,{"$f":"IFERROR(VLOOKUP(A4636,Base!$A$2:$D$460,2,0),\"\")","v":""},{"$f":"IFERROR(VLOOKUP(A4636,Base!$A$2:$D$460,3,0),\"\")","v":""},{"$f":"IFERROR(VLOOKUP(A4636,Base!$A$2:$D$460,4,0),\"\")","v":""},null,null,null,null,null,null,null,null,null,null,null,null,null,0]
[null,{"$f":"IFERROR(VLOOKUP(A4637,Base!$A$2:$D$460,2,0),\"\")","v":""},{"$f":"IFERROR(VLOOKUP(A4637,Base!$A$2:$D$460,3,0),\"\")","v":""},{"$f":"IFERROR(VLOOKUP(A4637,Base!$A$2:$D$460,4,0),\"\")","v":""},null,null,null,null,null,null,null,null,null,null,null,null,null,0]
[null,{"$f":"IFERROR(VLOOKUP(A4638,Base!$A$2:$D$460,2,0),\"\")","v":""},{"$f":"IFERROR(VLOOKUP(A4638,Base!$A$2:$D$460,3,0),\"\")","v":""},{"$f":"IFERROR(VLOOKUP(A4638,Base!$A$2:$D$460,4,0),\"\")","v":""},null,null,null,null,null,null,null,null,null,null,null,null,null,0]
[null,{"$f":"IFERROR(VLOOKUP(A4639,Base!$A$2:$D$460,2,0),\"\")","v":""},{"$f":"IFERROR(VLOOKUP(A4639,Base!$A$2:$D$460,3,0),\"\")","v":""},{"$f":"IFERROR(VLOOKUP(A4639,Base!$A$2:$D$460,4,0),\"\")","v":""},null,null,null,null,null,null,null,null,null,null,null,null,null,0]
[null,{"$f":"IFERROR(VLOOKUP(A4640,Base!$A$2:$D$460,2,0),\"\")","v":""},{"$f":"IFERROR(VLOOKUP(A4640,Base!$A$2:$D$460,3,0),\"\")","v":""},{"$f":"IFERROR(VLOOKUP(A4640,Base!$A$2:$D$460,4,0),\"\")","v":""},null,null,null,null,null,null,null,null,null,null,null,null,null,0]
[null,{"$f":"IFERROR(VLOOKUP(A4641,Base!$A$2:$D$460,2,0),\"\")","v":""},{"$f":"IFERROR(VLOOKUP(A4641,Base!$A$2:$D$460,3,0),\"\")","v":""},{"$f":"IFERROR(VLOOKUP(A4641,Base!$A$2:$D$460,4,0),\"\")","v":""},null,null,null,null,null,null,null,null,null,null,null,null,null,0]
[null,{"$f":"IFERROR(VLOOKUP(A4642,Base!$A$2:$D$460,2,0),\"\")","v":""},{"$f":"IFERROR(VLOOKUP(A4642,Base!$A$2:$D$460,3,0),\"\")","v":""},{"$f":"IFERROR(VLOOKUP(A4642,Base!$A$2:$D$460,4,0),\"\")","v":""},null,null,null,null,null,null,null,null,null,null,null,null,null,0]
[null,{"$f":"IFERROR(VLOOKUP(A4643,Base!$A$2:$D$460,2,0),\"\")","v":""},{"$f":"IFERROR(VLOOKUP(A4643,Base!$A$2:$D$460,3,0),\"\")","v":""},{"$f":"IFERROR(VLOOKUP(A4643,Base!$A$2:$D$460,4,0),\"\")","v":""},null,null,null,null,null,null,null,null,null,null,null,null,null,0]
[null,{"$f":"IFERROR(VLOOKUP(A4644,Base!$A$2:$D$460,2,0),\"\")","v":""},{"$f":"IFERROR(VLOOKUP(A4644,Base!$A$2:$D$460,3,0),\"\")","v":""},{"$f":"IFERROR(VLOOKUP(A4644,Base!$A$2:$D$460,4,0),\"\")","v":""},null,null,null,null,null,null,null,null,null,null,null,null,null,0]
[null,{"$f":"IFERROR(VLOOKUP(A4645,Base!$A$2:$D$460,2,0),\"\")","v":""},{"$f":"IFERROR(VLOOKUP(A4645,Base!$A$2:$D$460,3,0),\"\")","v":""},{"$f":"IFERROR(VLOOKUP(A4645,Base!$A$2:$D$460,4,0),\"\")","v":""},null,null,null,null,null,null,null,null,null,null,null,null,null,0]
[null,{"$f":"IFERROR(VLOOKUP(A4646,Base!$A$2:$D$460,2,0),\"\")","v":""},{"$f":"IFERROR(VLOOKUP(A4646,Base!$A$2:$D$460,3,0),\"\")","v":""},{"$f":"IFERROR(VLOOKUP(A4646,Base!$A$2:$D$460,4,0),\"\")","v":""},null,null,null,null,null,null,null,null,null,null,null,null,null,0]
[null,{"$f":"IFERROR(VLOOKUP(A4647,Base!$A$2:$D$460,2,0),\"\")","v":""},{"$f":"IFERROR(VLOOKUP(A4647,Base!$A$2:$D$460,3,0),\"\")","v":""},{"$f":"IFERROR(VLOOKUP(A4647,Base!$A$2:$D$460,4,0),\"\")","v":""},null,null,null,null,null,null,null,null,null,null,null,null,null,{"$f":"SUM(N4647:Q4647)/4","v":0}]
[null,{"$f":"IFERROR(VLOOKUP(A4648,Base!$A$2:$D$460,2,0),\"\")","v":""},{"$f":"IFERROR(VLOOKUP(A4648,Base!$A$2:$D$460,3,0),\"\")","v":""},{"$f":"IFERROR(VLOOKUP(A4648,Base!$A$2:$D$460,4,0),\"\")","v":""},null,null,null,null,null,null,null,null,null,null,null,null,null,0]
[null,{"$f":"IFERROR(VLOOKUP(A4649,Base!$A$2:$D$460,2,0),\"\")","v":""},{"$f":"IFERROR(VLOOKUP(A4649,Base!$A$2:$D$460,3,0),\"\")","v":""},{"$f":"IFERROR(VLOOKUP(A4649,Base!$A$2:$D$460,4,0),\"\")","v":""},null,null,null,null,null,null,null,null,null,null,null,null,null,0]
[null,{"$f":"IFERROR(VLOOKUP(A4650,Base!$A$2:$D$460,2,0),\"\")","v":""},{"$f":"IFERROR(VLOOKUP(A4650,Base!$A$2:$D$460,3,0),\"\")","v":""},{"$f":"IFERROR(VLOOKUP(A4650,Base!$A$2:$D$460,4,0),\"\")","v":""},null,null,null,null,null,null,null,null,null,null,null,null,null,0]
[null,{"$f":"IFERROR(VLOOKUP(A4651,Base!$A$2:$D$460,2,0),\"\")","v":""},{"$f":"IFERROR(VLOOKUP(A4651,Base!$A$2:$D$460,3,0),\"\")","v":""},{"$f":"IFERROR(VLOOKUP(A4651,Base!$A$2:$D$460,4,0),\"\")","v":""},null,null,null,null,null,null,null,null,null,null,null,null,null,0]
[null,{"$f":"IFERROR(VLOOKUP(A4652,Base!$A$2:$D$460,2,0),\"\")","v":""},{"$f":"IFERROR(VLOOKUP(A4652,Base!$A$2:$D$460,3,0),\"\")","v":""},{"$f":"IFERROR(VLOOKUP(A4652,Base!$A$2:$D$460,4,0),\"\")","v":""},null,null,null,null,null,null,null,null,null,null,null,null,null,0]
[null,{"$f":"IFERROR(VLOOKUP(A4653,Base!$A$2:$D$460,2,0),\"\")","v":""},{"$f":"IFERROR(VLOOKUP(A4653,Base!$A$2:$D$460,3,0),\"\")","v":""},{"$f":"IFERROR(VLOOKUP(A4653,Base!$A$2:$D$460,4,0),\"\")","v":""},null,null,null,null,null,null,null,null,null,null,null,null,null,0]
[null,{"$f":"IFERROR(VLOOKUP(A4654,Base!$A$2:$D$460,2,0),\"\")","v":""},{"$f":"IFERROR(VLOOKUP(A4654,Base!$A$2:$D$460,3,0),\"\")","v":""},{"$f":"IFERROR(VLOOKUP(A4654,Base!$A$2:$D$460,4,0),\"\")","v":""},null,null,null,null,null,null,null,null,null,null,null,null,null,0]
[null,{"$f":"IFERROR(VLOOKUP(A4655,Base!$A$2:$D$460,2,0),\"\")","v":""},{"$f":"IFERROR(VLOOKUP(A4655,Base!$A$2:$D$460,3,0),\"\")","v":""},{"$f":"IFERROR(VLOOKUP(A4655,Base!$A$2:$D$460,4,0),\"\")","v":""},null,null,null,null,null,null,null,null,null,null,null,null,null,0]
[null,{"$f":"IFERROR(VLOOKUP(A4656,Base!$A$2:$D$460,2,0),\"\")","v":""},{"$f":"IFERROR(VLOOKUP(A4656,Base!$A$2:$D$460,3,0),\"\")","v":""},{"$f":"IFERROR(VLOOKUP(A4656,Base!$A$2:$D$460,4,0),\"\")","v":""},null,null,null,null,null,null,null,null,null,null,null,null,null,0]
[null,{"$f":"IFERROR(VLOOKUP(A4657,Base!$A$2:$D$460,2,0),\"\")","v":""},{"$f":"IFERROR(VLOOKUP(A4657,Base!$A$2:$D$460,3,0),\"\")","v":""},{"$f":"IFERROR(VLOOKUP(A4657,Base!$A$2:$D$460,4,0),\"\")","v":""},null,null,null,null,null,null,null,null,null,null,null,null,null,0]
[null,{"$f":"IFERROR(VLOOKUP(A4658,Base!$A$2:$D$460,2,0),\"\")","v":""},{"$f":"IFERROR(VLOOKUP(A4658,Base!$A$2:$D$460,3,0),\"\")","v":""},{"$f":"IFERROR(VLOOKUP(A4658,Base!$A$2:$D$460,4,0),\"\")","v":""},null,null,null,null,null,null,null,null,null,null,null,null,null,0]
[null,{"$f":"IFERROR(VLOOKUP(A4659,Base!$A$2:$D$460,2,0),\"\")","v":""},{"$f":"IFERROR(VLOOKUP(A4659,Base!$A$2:$D$460,3,0),\"\")","v":""},{"$f":"IFERROR(VLOOKUP(A4659,Base!$A$2:$D$460,4,0),\"\")","v":""},null,null,null,null,null,null,null,null,null,null,null,null,null,0]
[null,{"$f":"IFERROR(VLOOKUP(A4660,Base!$A$2:$D$460,2,0),\"\")","v":""},{"$f":"IFERROR(VLOOKUP(A4660,Base!$A$2:$D$460,3,0),\"\")","v":""},{"$f":"IFERROR(VLOOKUP(A4660,Base!$A$2:$D$460,4,0),\"\")","v":""},null,null,null,null,null,null,null,null,null,null,null,null,null,0]
[null,{"$f":"IFERROR(VLOOKUP(A4661,Base!$A$2:$D$460,2,0),\"\")","v":""},{"$f":"IFERROR(VLOOKUP(A4661,Base!$A$2:$D$460,3,0),\"\")","v":""},{"$f":"IFERROR(VLOOKUP(A4661,Base!$A$2:$D$460,4,0),\"\")","v":""},null,null,null,null,null,null,null,null,null,null,null,null,null,0]
[null,{"$f":"IFERROR(VLOOKUP(A4662,Base!$A$2:$D$460,2,0),\"\")","v":""},{"$f":"IFERROR(VLOOKUP(A4662,Base!$A$2:$D$460,3,0),\"\")","v":""},{"$f":"IFERROR(VLOOKUP(A4662,Base!$A$2:$D$460,4,0),\"\")","v":""},null,null,null,null,null,null,null,null,null,null,null,null,null,0]
[null,{"$f":"IFERROR(VLOOKUP(A4663,Base!$A$2:$D$460,2,0),\"\")","v":""},{"$f":"IFERROR(VLOOKUP(A4663,Base!$A$2:$D$460,3,0),\"\")","v":""},{"$f":"IFERROR(VLOOKUP(A4663,Base!$A$2:$D$460,4,0),\"\")","v":""},null,null,null,null,null,null,null,null,null,null,null,null,null,0]
[null,{"$f":"IFERROR(VLOOKUP(A4664,Base!$A$2:$D$460,2,0),\"\")","v":""},{"$f":"IFERROR(VLOOKUP(A4664,Base!$A$2:$D$460,3,0),\"\")","v":""},{"$f":"IFERROR(VLOOKUP(A4664,Base!$A$2:$D$460,4,0),\"\")","v":""},null,null,null,null,null,null,null,null,null,null,null,null,null,0]
[null,{"$f":"IFERROR(VLOOKUP(A4665,Base!$A$2:$D$460,2,0),\"\")","v":""},{"$f":"IFERROR(VLOOKUP(A4665,Base!$A$2:$D$460,3,0),\"\")","v":""},{"$f":"IFERROR(VLOOKUP(A4665,Base!$A$2:$D$460,4,0),\"\")","v":""},null,null,null,null,null,null,null,null,null,null,null,null,null,0]
[null,{"$f":"IFERROR(VLOOKUP(A4666,Base!$A$2:$D$460,2,0),\"\")","v":""},{"$f":"IFERROR(VLOOKUP(A4666,Base!$A$2:$D$460,3,0),\"\")","v":""},{"$f":"IFERROR(VLOOKUP(A4666,Base!$A$2:$D$460,4,0),\"\")","v":""},null,null,null,null,null,null,null,null,null,null,null,null,null,0]
[null,{"$f":"IFERROR(VLOOKUP(A4667,Base!$A$2:$D$460,2,0),\"\")","v":""},{"$f":"IFERROR(VLOOKUP(A4667,Base!$A$2:$D$460,3,0),\"\")","v":""},{"$f":"IFERROR(VLOOKUP(A4667,Base!$A$2:$D$460,4,0),\"\")","v":""},null,null,null,null,null,null,null,null,null,null,null,null,null,0]
[null,{"$f":"IFERROR(VLOOKUP(A4668,Base!$A$2:$D$460,2,0),\"\")","v":""},{"$f":"IFERROR(VLOOKUP(A4668,Base!$A$2:$D$460,3,0),\"\")","v":""},{"$f":"IFERROR(VLOOKUP(A4668,Base!$A$2:$D$460,4,0),\"\")","v":""},null,null,null,null,null,null,null,null,null,null,null,null,null,0]
[null,{"$f":"IFERROR(VLOOKUP(A4669,Base!$A$2:$D$460,2,0),\"\")","v":""},{"$f":"IFERROR(VLOOKUP(A4669,Base!$A$2:$D$460,3,0),\"\")","v":""},{"$f":"IFERROR(VLOOKUP(A4669,Base!$A$2:$D$460,4,0),\"\")","v":""},null,null,null,null,null,null,null,null,null,null,null,null,null,0]
[null,{"$f":"IFERROR(VLOOKUP(A4670,Base!$A$2:$D$460,2,0),\"\")","v":""},{"$f":"IFERROR(VLOOKUP(A4670,Base!$A$2:$D$460,3,0),\"\")","v":""},{"$f":"IFERROR(VLOOKUP(A4670,Base!$A$2:$D$460,4,0),\"\")","v":""},null,null,null,null,null,null,null,null,null,null,null,null,null,0]
[null,{"$f":"IFERROR(VLOOKUP(A4671,Base!$A$2:$D$460,2,0),\"\")","v":""},{"$f":"IFERROR(VLOOKUP(A4671,Base!$A$2:$D$460,3,0),\"\")","v":""},{"$f":"IFERROR(VLOOKUP(A4671,Base!$A$2:$D$460,4,0),\"\")","v":""},null,null,null,null,null,null,null,null,null,null,null,null,null,0]
[null,{"$f":"IFERROR(VLOOKUP(A4672,Base!$A$2:$D$460,2,0),\"\")","v":""},{"$f":"IFERROR(VLOOKUP(A4672,Base!$A$2:$D$460,3,0),\"\")","v":""},{"$f":"IFERROR(VLOOKUP(A4672,Base!$A$2:$D$460,4,0),\"\")","v":""},null,null,null,null,null,null,null,null,null,null,null,null,null,0]
[null,{"$f":"IFERROR(VLOOKUP(A4673,Base!$A$2:$D$460,2,0),\"\")","v":""},{"$f":"IFERROR(VLOOKUP(A4673,Base!$A$2:$D$460,3,0),\"\")","v":""},{"$f":"IFERROR(VLOOKUP(A4673,Base!$A$2:$D$460,4,0),\"\")","v":""},null,null,null,null,null,null,null,null,null,null,null,null,null,0]
[null,{"$f":"IFERROR(VLOOKUP(A4674,Base!$A$2:$D$460,2,0),\"\")","v":""},{"$f":"IFERROR(VLOOKUP(A4674,Base!$A$2:$D$460,3,0),\"\")","v":""},{"$f":"IFERROR(VLOOKUP(A4674,Base!$A$2:$D$460,4,0),\"\")","v":""},null,null,null,null,null,null,null,null,null,null,null,null,null,0]
[null,{"$f":"IFERROR(VLOOKUP(A4675,Base!$A$2:$D$460,2,0),\"\")","v":""},{"$f":"IFERROR(VLOOKUP(A4675,Base!$A$2:$D$460,3,0),\"\")","v":""},{"$f":"IFERROR(VLOOKUP(A4675,Base!$A$2:$D$460,4,0),\"\")","v":""},null,null,null,null,null,null,null,null,null,null,null,null,null,0]
[null,{"$f":"IFERROR(VLOOKUP(A4676,Base!$A$2:$D$460,2,0),\"\")","v":""},{"$f":"IFERROR(VLOOKUP(A4676,Base!$A$2:$D$460,3,0),\"\")","v":""},{"$f":"IFERROR(VLOOKUP(A4676,Base!$A$2:$D$460,4,0),\"\")","v":""},null,null,null,null,null,null,null,null,null,null,null,null,null,0]
[null,{"$f":"IFERROR(VLOOKUP(A4677,Base!$A$2:$D$460,2,0),\"\")","v":""},{"$f":"IFERROR(VLOOKUP(A4677,Base!$A$2:$D$460,3,0),\"\")","v":""},{"$f":"IFERROR(VLOOKUP(A4677,Base!$A$2:$D$460,4,0),\"\")","v":""},null,null,null,null,null,null,null,null,null,null,null,null,null,0]
[null,{"$f":"IFERROR(VLOOKUP(A4678,Base!$A$2:$D$460,2,0),\"\")","v":""},{"$f":"IFERROR(VLOOKUP(A4678,Base!$A$2:$D$460,3,0),\"\")","v":""},{"$f":"IFERROR(VLOOKUP(A4678,Base!$A$2:$D$460,4,0),\"\")","v":""},null,null,null,null,null,null,null,null,null,null,null,null,null,0]
[null,{"$f":"IFERROR(VLOOKUP(A4679,Base!$A$2:$D$460,2,0),\"\")","v":""},{"$f":"IFERROR(VLOOKUP(A4679,Base!$A$2:$D$460,3,0),\"\")","v":""},{"$f":"IFERROR(VLOOKUP(A4679,Base!$A$2:$D$460,4,0),\"\")","v":""},null,null,null,null,null,null,null,null,null,null,null,null,null,0]
[null,{"$f":"IFERROR(VLOOKUP(A4680,Base!$A$2:$D$460,2,0),\"\")","v":""},{"$f":"IFERROR(VLOOKUP(A4680,Base!$A$2:$D$460,3,0),\"\")","v":""},{"$f":"IFERROR(VLOOKUP(A4680,Base!$A$2:$D$460,4,0),\"\")","v":""},null,null,null,null,null,null,null,null,null,null,null,null,null,0]
[null,{"$f":"IFERROR(VLOOKUP(A4681,Base!$A$2:$D$460,2,0),\"\")","v":""},{"$f":"IFERROR(VLOOKUP(A4681,Base!$A$2:$D$460,3,0),\"\")","v":""},{"$f":"IFERROR(VLOOKUP(A4681,Base!$A$2:$D$460,4,0),\"\")","v":""},null,null,null,null,null,null,null,null,null,null,null,null,null,0]
[null,{"$f":"IFERROR(VLOOKUP(A4682,Base!$A$2:$D$460,2,0),\"\")","v":""},{"$f":"IFERROR(VLOOKUP(A4682,Base!$A$2:$D$460,3,0),\"\")","v":""},{"$f":"IFERROR(VLOOKUP(A4682,Base!$A$2:$D$460,4,0),\"\")","v":""},null,null,null,null,null,null,null,null,null,null,null,null,null,0]
[null,{"$f":"IFERROR(VLOOKUP(A4683,Base!$A$2:$D$460,2,0),\"\")","v":""},{"$f":"IFERROR(VLOOKUP(A4683,Base!$A$2:$D$460,3,0),\"\")","v":""},{"$f":"IFERROR(VLOOKUP(A4683,Base!$A$2:$D$460,4,0),\"\")","v":""},null,null,null,null,null,null,null,null,null,null,null,null,null,0]
[null,{"$f":"IFERROR(VLOOKUP(A4684,Base!$A$2:$D$460,2,0),\"\")","v":""},{"$f":"IFERROR(VLOOKUP(A4684,Base!$A$2:$D$460,3,0),\"\")","v":""},{"$f":"IFERROR(VLOOKUP(A4684,Base!$A$2:$D$460,4,0),\"\")","v":""},null,null,null,null,null,null,null,null,null,null,null,null,null,0]
[null,{"$f":"IFERROR(VLOOKUP(A4685,Base!$A$2:$D$460,2,0),\"\")","v":""},{"$f":"IFERROR(VLOOKUP(A4685,Base!$A$2:$D$460,3,0),\"\")","v":""},{"$f":"IFERROR(VLOOKUP(A4685,Base!$A$2:$D$460,4,0),\"\")","v":""},null,null,null,null,null,null,null,null,null,null,null,null,null,0]
[null,{"$f":"IFERROR(VLOOKUP(A4686,Base!$A$2:$D$460,2,0),\"\")","v":""},{"$f":"IFERROR(VLOOKUP(A4686,Base!$A$2:$D$460,3,0),\"\")","v":""},{"$f":"IFERROR(VLOOKUP(A4686,Base!$A$2:$D$460,4,0),\"\")","v":""},null,null,null,null,null,null,null,null,null,null,null,null,null,0]
[null,{"$f":"IFERROR(VLOOKUP(A4687,Base!$A$2:$D$460,2,0),\"\")","v":""},{"$f":"IFERROR(VLOOKUP(A4687,Base!$A$2:$D$460,3,0),\"\")","v":""},{"$f":"IFERROR(VLOOKUP(A4687,Base!$A$2:$D$460,4,0),\"\")","v":""},null,null,null,null,null,null,null,null,null,null,null,null,null,0]
[null,{"$f":"IFERROR(VLOOKUP(A4688,Base!$A$2:$D$460,2,0),\"\")","v":""},{"$f":"IFERROR(VLOOKUP(A4688,Base!$A$2:$D$460,3,0),\"\")","v":""},{"$f":"IFERROR(VLOOKUP(A4688,Base!$A$2:$D$460,4,0),\"\")","v":""},null,null,null,null,null,null,null,null,null,null,null,null,null,0]
[null,{"$f":"IFERROR(VLOOKUP(A4689,Base!$A$2:$D$460,2,0),\"\")","v":""},{"$f":"IFERROR(VLOOKUP(A4689,Base!$A$2:$D$460,3,0),\"\")","v":""},{"$f":"IFERROR(VLOOKUP(A4689,Base!$A$2:$D$460,4,0),\"\")","v":""},null,null,null,null,null,null,null,null,null,null,null,null,null,0]
[null,{"$f":"IFERROR(VLOOKUP(A4690,Base!$A$2:$D$460,2,0),\"\")","v":""},{"$f":"IFERROR(VLOOKUP(A4690,Base!$A$2:$D$460,3,0),\"\")","v":""},{"$f":"IFERROR(VLOOKUP(A4690,Base!$A$2:$D$460,4,0),\"\")","v":""},null,null,null,null,null,null,null,null,null,null,null,null,null,0]
[null,{"$f":"IFERROR(VLOOKUP(A4691,Base!$A$2:$D$460,2,0),\"\")","v":""},{"$f":"IFERROR(VLOOKUP(A4691,Base!$A$2:$D$460,3,0),\"\")","v":""},{"$f":"IFERROR(VLOOKUP(A4691,Base!$A$2:$D$460,4,0),\"\")","v":""},null,null,null,null,null,null,null,null,null,null,null,null,null,0]
[null,{"$f":"IFERROR(VLOOKUP(A4692,Base!$A$2:$D$460,2,0),\"\")","v":""},{"$f":"IFERROR(VLOOKUP(A4692,Base!$A$2:$D$460,3,0),\"\")","v":""},{"$f":"IFERROR(VLOOKUP(A4692,Base!$A$2:$D$460,4,0),\"\")","v":""},null,null,null,null,null,null,null,null,null,null,null,null,null,0]
[null,{"$f":"IFERROR(VLOOKUP(A4693,Base!$A$2:$D$460,2,0),\"\")","v":""},{"$f":"IFERROR(VLOOKUP(A4693,Base!$A$2:$D$460,3,0),\"\")","v":""},{"$f":"IFERROR(VLOOKUP(A4693,Base!$A$2:$D$460,4,0),\"\")","v":""},null,null,null,null,null,null,null,null,null,null,null,null,null,0]
[null,{"$f":"IFERROR(VLOOKUP(A4694,Base!$A$2:$D$460,2,0),\"\")","v":""},{"$f":"IFERROR(VLOOKUP(A4694,Base!$A$2:$D$460,3,0),\"\")","v":""},{"$f":"IFERROR(VLOOKUP(A4694,Base!$A$2:$D$460,4,0),\"\")","v":""},null,null,null,null,null,null,null,null,null,null,null,null,null,0]
[null,{"$f":"IFERROR(VLOOKUP(A4695,Base!$A$2:$D$460,2,0),\"\")","v":""},{"$f":"IFERROR(VLOOKUP(A4695,Base!$A$2:$D$460,3,0),\"\")","v":""},{"$f":"IFERROR(VLOOKUP(A4695,Base!$A$2:$D$460,4,0),\"\")","v":""},null,null,null,null,null,null,null,null,null,null,null,null,null,0]
[null,{"$f":"IFERROR(VLOOKUP(A4696,Base!$A$2:$D$460,2,0),\"\")","v":""},{"$f":"IFERROR(VLOOKUP(A4696,Base!$A$2:$D$460,3,0),\"\")","v":""},{"$f":"IFERROR(VLOOKUP(A4696,Base!$A$2:$D$460,4,0),\"\")","v":""},null,null,null,null,null,null,null,null,null,null,null,null,null,0]
[null,{"$f":"IFERROR(VLOOKUP(A4697,Base!$A$2:$D$460,2,0),\"\")","v":""},{"$f":"IFERROR(VLOOKUP(A4697,Base!$A$2:$D$460,3,0),\"\")","v":""},{"$f":"IFERROR(VLOOKUP(A4697,Base!$A$2:$D$460,4,0),\"\")","v":""},null,null,null,null,null,null,null,null,null,null,null,null,null,0]
[null,{"$f":"IFERROR(VLOOKUP(A4698,Base!$A$2:$D$460,2,0),\"\")","v":""},{"$f":"IFERROR(VLOOKUP(A4698,Base!$A$2:$D$460,3,0),\"\")","v":""},{"$f":"IFERROR(VLOOKUP(A4698,Base!$A$2:$D$460,4,0),\"\")","v":""},null,null,null,null,null,null,null,null,null,null,null,null,null,0]
[null,{"$f":"IFERROR(VLOOKUP(A4699,Base!$A$2:$D$460,2,0),\"\")","v":""},{"$f":"IFERROR(VLOOKUP(A4699,Base!$A$2:$D$460,3,0),\"\")","v":""},{"$f":"IFERROR(VLOOKUP(A4699,Base!$A$2:$D$460,4,0),\"\")","v":""},null,null,null,null,null,null,null,null,null,null,null,null,null,0]
[null,{"$f":"IFERROR(VLOOKUP(A4700,Base!$A$2:$D$460,2,0),\"\")","v":""},{"$f":"IFERROR(VLOOKUP(A4700,Base!$A$2:$D$460,3,0),\"\")","v":""},{"$f":"IFERROR(VLOOKUP(A4700,Base!$A$2:$D$460,4,0),\"\")","v":""},null,null,null,null,null,null,null,null,null,null,null,null,null,0]
[null,{"$f":"IFERROR(VLOOKUP(A4701,Base!$A$2:$D$460,2,0),\"\")","v":""},{"$f":"IFERROR(VLOOKUP(A4701,Base!$A$2:$D$460,3,0),\"\")","v":""},{"$f":"IFERROR(VLOOKUP(A4701,Base!$A$2:$D$460,4,0),\"\")","v":""},null,null,null,null,null,null,null,null,null,null,null,null,null,0]
[null,{"$f":"IFERROR(VLOOKUP(A4702,Base!$A$2:$D$460,2,0),\"\")","v":""},{"$f":"IFERROR(VLOOKUP(A4702,Base!$A$2:$D$460,3,0),\"\")","v":""},{"$f":"IFERROR(VLOOKUP(A4702,Base!$A$2:$D$460,4,0),\"\")","v":""},null,null,null,null,null,null,null,null,null,null,null,null,null,0]
[null,{"$f":"IFERROR(VLOOKUP(A4703,Base!$A$2:$D$460,2,0),\"\")","v":""},{"$f":"IFERROR(VLOOKUP(A4703,Base!$A$2:$D$460,3,0),\"\")","v":""},{"$f":"IFERROR(VLOOKUP(A4703,Base!$A$2:$D$460,4,0),\"\")","v":""},null,null,null,null,null,null,null,null,null,null,null,null,null,0]
[null,{"$f":"IFERROR(VLOOKUP(A4704,Base!$A$2:$D$460,2,0),\"\")","v":""},{"$f":"IFERROR(VLOOKUP(A4704,Base!$A$2:$D$460,3,0),\"\")","v":""},{"$f":"IFERROR(VLOOKUP(A4704,Base!$A$2:$D$460,4,0),\"\")","v":""},null,null,null,null,null,null,null,null,null,null,null,null,null,0]
[null,{"$f":"IFERROR(VLOOKUP(A4705,Base!$A$2:$D$460,2,0),\"\")","v":""},{"$f":"IFERROR(VLOOKUP(A4705,Base!$A$2:$D$460,3,0),\"\")","v":""},{"$f":"IFERROR(VLOOKUP(A4705,Base!$A$2:$D$460,4,0),\"\")","v":""},null,null,null,null,null,null,null,null,null,null,null,null,null,0]
[null,{"$f":"IFERROR(VLOOKUP(A4706,Base!$A$2:$D$460,2,0),\"\")","v":""},{"$f":"IFERROR(VLOOKUP(A4706,Base!$A$2:$D$460,3,0),\"\")","v":""},{"$f":"IFERROR(VLOOKUP(A4706,Base!$A$2:$D$460,4,0),\"\")","v":""},null,null,null,null,null,null,null,null,null,null,null,null,null,0]
[null,{"$f":"IFERROR(VLOOKUP(A4707,Base!$A$2:$D$460,2,0),\"\")","v":""},{"$f":"IFERROR(VLOOKUP(A4707,Base!$A$2:$D$460,3,0),\"\")","v":""},{"$f":"IFERROR(VLOOKUP(A4707,Base!$A$2:$D$460,4,0),\"\")","v":""},null,null,null,null,null,null,null,null,null,null,null,null,null,0]
[null,{"$f":"IFERROR(VLOOKUP(A4708,Base!$A$2:$D$460,2,0),\"\")","v":""},{"$f":"IFERROR(VLOOKUP(A4708,Base!$A$2:$D$460,3,0),\"\")","v":""},{"$f":"IFERROR(VLOOKUP(A4708,Base!$A$2:$D$460,4,0),\"\")","v":""},null,null,null,null,null,null,null,null,null,null,null,null,null,0]
[null,{"$f":"IFERROR(VLOOKUP(A4709,Base!$A$2:$D$460,2,0),\"\")","v":""},{"$f":"IFERROR(VLOOKUP(A4709,Base!$A$2:$D$460,3,0),\"\")","v":""},{"$f":"IFERROR(VLOOKUP(A4709,Base!$A$2:$D$460,4,0),\"\")","v":""},null,null,null,null,null,null,null,null,null,null,null,null,null,0]
[null,{"$f":"IFERROR(VLOOKUP(A4710,Base!$A$2:$D$460,2,0),\"\")","v":""},{"$f":"IFERROR(VLOOKUP(A4710,Base!$A$2:$D$460,3,0),\"\")","v":""},{"$f":"IFERROR(VLOOKUP(A4710,Base!$A$2:$D$460,4,0),\"\")","v":""},null,null,null,null,null,null,null,null,null,null,null,null,null,0]
[null,{"$f":"IFERROR(VLOOKUP(A4711,Base!$A$2:$D$460,2,0),\"\")","v":""},{"$f":"IFERROR(VLOOKUP(A4711,Base!$A$2:$D$460,3,0),\"\")","v":""},{"$f":"IFERROR(VLOOKUP(A4711,Base!$A$2:$D$460,4,0),\"\")","v":""},null,null,null,null,null,null,null,null,null,null,null,null,null,{"$f":"SUM(N4711:Q4711)/4","v":0}]
[null,{"$f":"IFERROR(VLOOKUP(A4712,Base!$A$2:$D$460,2,0),\"\")","v":""},{"$f":"IFERROR(VLOOKUP(A4712,Base!$A$2:$D$460,3,0),\"\")","v":""},{"$f":"IFERROR(VLOOKUP(A4712,Base!$A$2:$D$460,4,0),\"\")","v":""},null,null,null,null,null,null,null,null,null,null,null,null,null,0]
[null,{"$f":"IFERROR(VLOOKUP(A4713,Base!$A$2:$D$460,2,0),\"\")","v":""},{"$f":"IFERROR(VLOOKUP(A4713,Base!$A$2:$D$460,3,0),\"\")","v":""},{"$f":"IFERROR(VLOOKUP(A4713,Base!$A$2:$D$460,4,0),\"\")","v":""},null,null,null,null,null,null,null,null,null,null,null,null,null,0]
[null,{"$f":"IFERROR(VLOOKUP(A4714,Base!$A$2:$D$460,2,0),\"\")","v":""},{"$f":"IFERROR(VLOOKUP(A4714,Base!$A$2:$D$460,3,0),\"\")","v":""},{"$f":"IFERROR(VLOOKUP(A4714,Base!$A$2:$D$460,4,0),\"\")","v":""},null,null,null,null,null,null,null,null,null,null,null,null,null,0]
[null,{"$f":"IFERROR(VLOOKUP(A4715,Base!$A$2:$D$460,2,0),\"\")","v":""},{"$f":"IFERROR(VLOOKUP(A4715,Base!$A$2:$D$460,3,0),\"\")","v":""},{"$f":"IFERROR(VLOOKUP(A4715,Base!$A$2:$D$460,4,0),\"\")","v":""},null,null,null,null,null,null,null,null,null,null,null,null,null,0]
[null,{"$f":"IFERROR(VLOOKUP(A4716,Base!$A$2:$D$460,2,0),\"\")","v":""},{"$f":"IFERROR(VLOOKUP(A4716,Base!$A$2:$D$460,3,0),\"\")","v":""},{"$f":"IFERROR(VLOOKUP(A4716,Base!$A$2:$D$460,4,0),\"\")","v":""},null,null,null,null,null,null,null,null,null,null,null,null,null,0]
[null,{"$f":"IFERROR(VLOOKUP(A4717,Base!$A$2:$D$460,2,0),\"\")","v":""},{"$f":"IFERROR(VLOOKUP(A4717,Base!$A$2:$D$460,3,0),\"\")","v":""},{"$f":"IFERROR(VLOOKUP(A4717,Base!$A$2:$D$460,4,0),\"\")","v":""},null,null,null,null,null,null,null,null,null,null,null,null,null,0]
[null,{"$f":"IFERROR(VLOOKUP(A4718,Base!$A$2:$D$460,2,0),\"\")","v":""},{"$f":"IFERROR(VLOOKUP(A4718,Base!$A$2:$D$460,3,0),\"\")","v":""},{"$f":"IFERROR(VLOOKUP(A4718,Base!$A$2:$D$460,4,0),\"\")","v":""},null,null,null,null,null,null,null,null,null,null,null,null,null,0]
[null,{"$f":"IFERROR(VLOOKUP(A4719,Base!$A$2:$D$460,2,0),\"\")","v":""},{"$f":"IFERROR(VLOOKUP(A4719,Base!$A$2:$D$460,3,0),\"\")","v":""},{"$f":"IFERROR(VLOOKUP(A4719,Base!$A$2:$D$460,4,0),\"\")","v":""},null,null,null,null,null,null,null,null,null,null,null,null,null,0]
[null,{"$f":"IFERROR(VLOOKUP(A4720,Base!$A$2:$D$460,2,0),\"\")","v":""},{"$f":"IFERROR(VLOOKUP(A4720,Base!$A$2:$D$460,3,0),\"\")","v":""},{"$f":"IFERROR(VLOOKUP(A4720,Base!$A$2:$D$460,4,0),\"\")","v":""},null,null,null,null,null,null,null,null,null,null,null,null,null,0]
[null,{"$f":"IFERROR(VLOOKUP(A4721,Base!$A$2:$D$460,2,0),\"\")","v":""},{"$f":"IFERROR(VLOOKUP(A4721,Base!$A$2:$D$460,3,0),\"\")","v":""},{"$f":"IFERROR(VLOOKUP(A4721,Base!$A$2:$D$460,4,0),\"\")","v":""},null,null,null,null,null,null,null,null,null,null,null,null,null,0]
[null,{"$f":"IFERROR(VLOOKUP(A4722,Base!$A$2:$D$460,2,0),\"\")","v":""},{"$f":"IFERROR(VLOOKUP(A4722,Base!$A$2:$D$460,3,0),\"\")","v":""},{"$f":"IFERROR(VLOOKUP(A4722,Base!$A$2:$D$460,4,0),\"\")","v":""},null,null,null,null,null,null,null,null,null,null,null,null,null,0]
[null,{"$f":"IFERROR(VLOOKUP(A4723,Base!$A$2:$D$460,2,0),\"\")","v":""},{"$f":"IFERROR(VLOOKUP(A4723,Base!$A$2:$D$460,3,0),\"\")","v":""},{"$f":"IFERROR(VLOOKUP(A4723,Base!$A$2:$D$460,4,0),\"\")","v":""},null,null,null,null,null,null,null,null,null,null,null,null,null,0]
[null,{"$f":"IFERROR(VLOOKUP(A4724,Base!$A$2:$D$460,2,0),\"\")","v":""},{"$f":"IFERROR(VLOOKUP(A4724,Base!$A$2:$D$460,3,0),\"\")","v":""},{"$f":"IFERROR(VLOOKUP(A4724,Base!$A$2:$D$460,4,0),\"\")","v":""},null,null,null,null,null,null,null,null,null,null,null,null,null,0]
[null,{"$f":"IFERROR(VLOOKUP(A4725,Base!$A$2:$D$460,2,0),\"\")","v":""},{"$f":"IFERROR(VLOOKUP(A4725,Base!$A$2:$D$460,3,0),\"\")","v":""},{"$f":"IFERROR(VLOOKUP(A4725,Base!$A$2:$D$460,4,0),\"\")","v":""},null,null,null,null,null,null,null,null,null,null,null,null,null,0]
[null,{"$f":"IFERROR(VLOOKUP(A4726,Base!$A$2:$D$460,2,0),\"\")","v":""},{"$f":"IFERROR(VLOOKUP(A4726,Base!$A$2:$D$460,3,0),\"\")","v":""},{"$f":"IFERROR(VLOOKUP(A4726,Base!$A$2:$D$460,4,0),\"\")","v":""},null,null,null,null,null,null,null,null,null,null,null,null,null,0]
[null,{"$f":"IFERROR(VLOOKUP(A4727,Base!$A$2:$D$460,2,0),\"\")","v":""},{"$f":"IFERROR(VLOOKUP(A4727,Base!$A$2:$D$460,3,0),\"\")","v":""},{"$f":"IFERROR(VLOOKUP(A4727,Base!$A$2:$D$460,4,0),\"\")","v":""},null,null,null,null,null,null,null,null,null,null,null,null,null,0]
[null,{"$f":"IFERROR(VLOOKUP(A4728,Base!$A$2:$D$460,2,0),\"\")","v":""},{"$f":"IFERROR(VLOOKUP(A4728,Base!$A$2:$D$460,3,0),\"\")","v":""},{"$f":"IFERROR(VLOOKUP(A4728,Base!$A$2:$D$460,4,0),\"\")","v":""},null,null,null,null,null,null,null,null,null,null,null,null,null,0]
[null,{"$f":"IFERROR(VLOOKUP(A4729,Base!$A$2:$D$460,2,0),\"\")","v":""},{"$f":"IFERROR(VLOOKUP(A4729,Base!$A$2:$D$460,3,0),\"\")","v":""},{"$f":"IFERROR(VLOOKUP(A4729,Base!$A$2:$D$460,4,0),\"\")","v":""},null,null,null,null,null,null,null,null,null,null,null,null,null,0]
[null,{"$f":"IFERROR(VLOOKUP(A4730,Base!$A$2:$D$460,2,0),\"\")","v":""},{"$f":"IFERROR(VLOOKUP(A4730,Base!$A$2:$D$460,3,0),\"\")","v":""},{"$f":"IFERROR(VLOOKUP(A4730,Base!$A$2:$D$460,4,0),\"\")","v":""},null,null,null,null,null,null,null,null,null,null,null,null,null,0]
[null,{"$f":"IFERROR(VLOOKUP(A4731,Base!$A$2:$D$460,2,0),\"\")","v":""},{"$f":"IFERROR(VLOOKUP(A4731,Base!$A$2:$D$460,3,0),\"\")","v":""},{"$f":"IFERROR(VLOOKUP(A4731,Base!$A$2:$D$460,4,0),\"\")","v":""},null,null,null,null,null,null,null,null,null,null,null,null,null,0]
[null,{"$f":"IFERROR(VLOOKUP(A4732,Base!$A$2:$D$460,2,0),\"\")","v":""},{"$f":"IFERROR(VLOOKUP(A4732,Base!$A$2:$D$460,3,0),\"\")","v":""},{"$f":"IFERROR(VLOOKUP(A4732,Base!$A$2:$D$460,4,0),\"\")","v":""},null,null,null,null,null,null,null,null,null,null,null,null,null,0]
[null,{"$f":"IFERROR(VLOOKUP(A4733,Base!$A$2:$D$460,2,0),\"\")","v":""},{"$f":"IFERROR(VLOOKUP(A4733,Base!$A$2:$D$460,3,0),\"\")","v":""},{"$f":"IFERROR(VLOOKUP(A4733,Base!$A$2:$D$460,4,0),\"\")","v":""},null,null,null,null,null,null,null,null,null,null,null,null,null,0]
[null,{"$f":"IFERROR(VLOOKUP(A4734,Base!$A$2:$D$460,2,0),\"\")","v":""},{"$f":"IFERROR(VLOOKUP(A4734,Base!$A$2:$D$460,3,0),\"\")","v":""},{"$f":"IFERROR(VLOOKUP(A4734,Base!$A$2:$D$460,4,0),\"\")","v":""},null,null,null,null,null,null,null,null,null,null,null,null,null,0]
[null,{"$f":"IFERROR(VLOOKUP(A4735,Base!$A$2:$D$460,2,0),\"\")","v":""},{"$f":"IFERROR(VLOOKUP(A4735,Base!$A$2:$D$460,3,0),\"\")","v":""},{"$f":"IFERROR(VLOOKUP(A4735,Base!$A$2:$D$460,4,0),\"\")","v":""},null,null,null,null,null,null,null,null,null,null,null,null,null,0]
[null,{"$f":"IFERROR(VLOOKUP(A4736,Base!$A$2:$D$460,2,0),\"\")","v":""},{"$f":"IFERROR(VLOOKUP(A4736,Base!$A$2:$D$460,3,0),\"\")","v":""},{"$f":"IFERROR(VLOOKUP(A4736,Base!$A$2:$D$460,4,0),\"\")","v":""},null,null,null,null,null,null,null,null,null,null,null,null,null,0]
[null,{"$f":"IFERROR(VLOOKUP(A4737,Base!$A$2:$D$460,2,0),\"\")","v":""},{"$f":"IFERROR(VLOOKUP(A4737,Base!$A$2:$D$460,3,0),\"\")","v":""},{"$f":"IFERROR(VLOOKUP(A4737,Base!$A$2:$D$460,4,0),\"\")","v":""},null,null,null,null,null,null,null,null,null,null,null,null,null,0]
[null,{"$f":"IFERROR(VLOOKUP(A4738,Base!$A$2:$D$460,2,0),\"\")","v":""},{"$f":"IFERROR(VLOOKUP(A4738,Base!$A$2:$D$460,3,0),\"\")","v":""},{"$f":"IFERROR(VLOOKUP(A4738,Base!$A$2:$D$460,4,0),\"\")","v":""},null,null,null,null,null,null,null,null,null,null,null,null,null,0]
[null,{"$f":"IFERROR(VLOOKUP(A4739,Base!$A$2:$D$460,2,0),\"\")","v":""},{"$f":"IFERROR(VLOOKUP(A4739,Base!$A$2:$D$460,3,0),\"\")","v":""},{"$f":"IFERROR(VLOOKUP(A4739,Base!$A$2:$D$460,4,0),\"\")","v":""},null,null,null,null,null,null,null,null,null,null,null,null,null,0]
[null,{"$f":"IFERROR(VLOOKUP(A4740,Base!$A$2:$D$460,2,0),\"\")","v":""},{"$f":"IFERROR(VLOOKUP(A4740,Base!$A$2:$D$460,3,0),\"\")","v":""},{"$f":"IFERROR(VLOOKUP(A4740,Base!$A$2:$D$460,4,0),\"\")","v":""},null,null,null,null,null,null,null,null,null,null,null,null,null,0]
[null,{"$f":"IFERROR(VLOOKUP(A4741,Base!$A$2:$D$460,2,0),\"\")","v":""},{"$f":"IFERROR(VLOOKUP(A4741,Base!$A$2:$D$460,3,0),\"\")","v":""},{"$f":"IFERROR(VLOOKUP(A4741,Base!$A$2:$D$460,4,0),\"\")","v":""},null,null,null,null,null,null,null,null,null,null,null,null,null,0]
[null,{"$f":"IFERROR(VLOOKUP(A4742,Base!$A$2:$D$460,2,0),\"\")","v":""},{"$f":"IFERROR(VLOOKUP(A4742,Base!$A$2:$D$460,3,0),\"\")","v":""},{"$f":"IFERROR(VLOOKUP(A4742,Base!$A$2:$D$460,4,0),\"\")","v":""},null,null,null,null,null,null,null,null,null,null,null,null,null,0]
[null,{"$f":"IFERROR(VLOOKUP(A4743,Base!$A$2:$D$460,2,0),\"\")","v":""},{"$f":"IFERROR(VLOOKUP(A4743,Base!$A$2:$D$460,3,0),\"\")","v":""},{"$f":"IFERROR(VLOOKUP(A4743,Base!$A$2:$D$460,4,0),\"\")","v":""},null,null,null,null,null,null,null,null,null,null,null,null,null,0]
[null,{"$f":"IFERROR(VLOOKUP(A4744,Base!$A$2:$D$460,2,0),\"\")","v":""},{"$f":"IFERROR(VLOOKUP(A4744,Base!$A$2:$D$460,3,0),\"\")","v":""},{"$f":"IFERROR(VLOOKUP(A4744,Base!$A$2:$D$460,4,0),\"\")","v":""},null,null,null,null,null,null,null,null,null,null,null,null,null,0]
[null,{"$f":"IFERROR(VLOOKUP(A4745,Base!$A$2:$D$460,2,0),\"\")","v":""},{"$f":"IFERROR(VLOOKUP(A4745,Base!$A$2:$D$460,3,0),\"\")","v":""},{"$f":"IFERROR(VLOOKUP(A4745,Base!$A$2:$D$460,4,0),\"\")","v":""},null,null,null,null,null,null,null,null,null,null,null,null,null,0]
[null,{"$f":"IFERROR(VLOOKUP(A4746,Base!$A$2:$D$460,2,0),\"\")","v":""},{"$f":"IFERROR(VLOOKUP(A4746,Base!$A$2:$D$460,3,0),\"\")","v":""},{"$f":"IFERROR(VLOOKUP(A4746,Base!$A$2:$D$460,4,0),\"\")","v":""},null,null,null,null,null,null,null,null,null,null,null,null,null,0]
[null,{"$f":"IFERROR(VLOOKUP(A4747,Base!$A$2:$D$460,2,0),\"\")","v":""},{"$f":"IFERROR(VLOOKUP(A4747,Base!$A$2:$D$460,3,0),\"\")","v":""},{"$f":"IFERROR(VLOOKUP(A4747,Base!$A$2:$D$460,4,0),\"\")","v":""},null,null,null,null,null,null,null,null,null,null,null,null,null,0]
[null,{"$f":"IFERROR(VLOOKUP(A4748,Base!$A$2:$D$460,2,0),\"\")","v":""},{"$f":"IFERROR(VLOOKUP(A4748,Base!$A$2:$D$460,3,0),\"\")","v":""},{"$f":"IFERROR(VLOOKUP(A4748,Base!$A$2:$D$460,4,0),\"\")","v":""},null,null,null,null,null,null,null,null,null,null,null,null,null,0]
[null,{"$f":"IFERROR(VLOOKUP(A4749,Base!$A$2:$D$460,2,0),\"\")","v":""},{"$f":"IFERROR(VLOOKUP(A4749,Base!$A$2:$D$460,3,0),\"\")","v":""},{"$f":"IFERROR(VLOOKUP(A4749,Base!$A$2:$D$460,4,0),\"\")","v":""},null,null,null,null,null,null,null,null,null,null,null,null,null,0]
[null,{"$f":"IFERROR(VLOOKUP(A4750,Base!$A$2:$D$460,2,0),\"\")","v":""},{"$f":"IFERROR(VLOOKUP(A4750,Base!$A$2:$D$460,3,0),\"\")","v":""},{"$f":"IFERROR(VLOOKUP(A4750,Base!$A$2:$D$460,4,0),\"\")","v":""},null,null,null,null,null,null,null,null,null,null,null,null,null,0]
[null,{"$f":"IFERROR(VLOOKUP(A4751,Base!$A$2:$D$460,2,0),\"\")","v":""},{"$f":"IFERROR(VLOOKUP(A4751,Base!$A$2:$D$460,3,0),\"\")","v":""},{"$f":"IFERROR(VLOOKUP(A4751,Base!$A$2:$D$460,4,0),\"\")","v":""},null,null,null,null,null,null,null,null,null,null,null,null,null,0]
[null,{"$f":"IFERROR(VLOOKUP(A4752,Base!$A$2:$D$460,2,0),\"\")","v":""},{"$f":"IFERROR(VLOOKUP(A4752,Base!$A$2:$D$460,3,0),\"\")","v":""},{"$f":"IFERROR(VLOOKUP(A4752,Base!$A$2:$D$460,4,0),\"\")","v":""},null,null,null,null,null,null,null,null,null,null,null,null,null,0]
[null,{"$f":"IFERROR(VLOOKUP(A4753,Base!$A$2:$D$460,2,0),\"\")","v":""},{"$f":"IFERROR(VLOOKUP(A4753,Base!$A$2:$D$460,3,0),\"\")","v":""},{"$f":"IFERROR(VLOOKUP(A4753,Base!$A$2:$D$460,4,0),\"\")","v":""},null,null,null,null,null,null,null,null,null,null,null,null,null,0]
[null,{"$f":"IFERROR(VLOOKUP(A4754,Base!$A$2:$D$460,2,0),\"\")","v":""},{"$f":"IFERROR(VLOOKUP(A4754,Base!$A$2:$D$460,3,0),\"\")","v":""},{"$f":"IFERROR(VLOOKUP(A4754,Base!$A$2:$D$460,4,0),\"\")","v":""},null,null,null,null,null,null,null,null,null,null,null,null,null,0]
[null,{"$f":"IFERROR(VLOOKUP(A4755,Base!$A$2:$D$460,2,0),\"\")","v":""},{"$f":"IFERROR(VLOOKUP(A4755,Base!$A$2:$D$460,3,0),\"\")","v":""},{"$f":"IFERROR(VLOOKUP(A4755,Base!$A$2:$D$460,4,0),\"\")","v":""},null,null,null,null,null,null,null,null,null,null,null,null,null,0]
[null,{"$f":"IFERROR(VLOOKUP(A4756,Base!$A$2:$D$460,2,0),\"\")","v":""},{"$f":"IFERROR(VLOOKUP(A4756,Base!$A$2:$D$460,3,0),\"\")","v":""},{"$f":"IFERROR(VLOOKUP(A4756,Base!$A$2:$D$460,4,0),\"\")","v":""},null,null,null,null,null,null,null,null,null,null,null,null,null,0]
[null,{"$f":"IFERROR(VLOOKUP(A4757,Base!$A$2:$D$460,2,0),\"\")","v":""},{"$f":"IFERROR(VLOOKUP(A4757,Base!$A$2:$D$460,3,0),\"\")","v":""},{"$f":"IFERROR(VLOOKUP(A4757,Base!$A$2:$D$460,4,0),\"\")","v":""},null,null,null,null,null,null,null,null,null,null,null,null,null,0]
[null,{"$f":"IFERROR(VLOOKUP(A4758,Base!$A$2:$D$460,2,0),\"\")","v":""},{"$f":"IFERROR(VLOOKUP(A4758,Base!$A$2:$D$460,3,0),\"\")","v":""},{"$f":"IFERROR(VLOOKUP(A4758,Base!$A$2:$D$460,4,0),\"\")","v":""},null,null,null,null,null,null,null,null,null,null,null,null,null,0]
[null,{"$f":"IFERROR(VLOOKUP(A4759,Base!$A$2:$D$460,2,0),\"\")","v":""},{"$f":"IFERROR(VLOOKUP(A4759,Base!$A$2:$D$460,3,0),\"\")","v":""},{"$f":"IFERROR(VLOOKUP(A4759,Base!$A$2:$D$460,4,0),\"\")","v":""},null,null,null,null,null,null,null,null,null,null,null,null,null,0]
[null,{"$f":"IFERROR(VLOOKUP(A4760,Base!$A$2:$D$460,2,0),\"\")","v":""},{"$f":"IFERROR(VLOOKUP(A4760,Base!$A$2:$D$460,3,0),\"\")","v":""},{"$f":"IFERROR(VLOOKUP(A4760,Base!$A$2:$D$460,4,0),\"\")","v":""},null,null,null,null,null,null,null,null,null,null,null,null,null,0]
[null,{"$f":"IFERROR(VLOOKUP(A4761,Base!$A$2:$D$460,2,0),\"\")","v":""},{"$f":"IFERROR(VLOOKUP(A4761,Base!$A$2:$D$460,3,0),\"\")","v":""},{"$f":"IFERROR(VLOOKUP(A4761,Base!$A$2:$D$460,4,0),\"\")","v":""},null,null,null,null,null,null,null,null,null,null,null,null,null,0]
[null,{"$f":"IFERROR(VLOOKUP(A4762,Base!$A$2:$D$460,2,0),\"\")","v":""},{"$f":"IFERROR(VLOOKUP(A4762,Base!$A$2:$D$460,3,0),\"\")","v":""},{"$f":"IFERROR(VLOOKUP(A4762,Base!$A$2:$D$460,4,0),\"\")","v":""},null,null,null,null,null,null,null,null,null,null,null,null,null,0]
[null,{"$f":"IFERROR(VLOOKUP(A4763,Base!$A$2:$D$460,2,0),\"\")","v":""},{"$f":"IFERROR(VLOOKUP(A4763,Base!$A$2:$D$460,3,0),\"\")","v":""},{"$f":"IFERROR(VLOOKUP(A4763,Base!$A$2:$D$460,4,0),\"\")","v":""},null,null,null,null,null,null,null,null,null,null,null,null,null,0]
[null,{"$f":"IFERROR(VLOOKUP(A4764,Base!$A$2:$D$460,2,0),\"\")","v":""},{"$f":"IFERROR(VLOOKUP(A4764,Base!$A$2:$D$460,3,0),\"\")","v":""},{"$f":"IFERROR(VLOOKUP(A4764,Base!$A$2:$D$460,4,0),\"\")","v":""},null,null,null,null,null,null,null,null,null,null,null,null,null,0]
[null,{"$f":"IFERROR(VLOOKUP(A4765,Base!$A$2:$D$460,2,0),\"\")","v":""},{"$f":"IFERROR(VLOOKUP(A4765,Base!$A$2:$D$460,3,0),\"\")","v":""},{"$f":"IFERROR(VLOOKUP(A4765,Base!$A$2:$D$460,4,0),\"\")","v":""},null,null,null,null,null,null,null,null,null,null,null,null,null,0]
[null,{"$f":"IFERROR(VLOOKUP(A4766,Base!$A$2:$D$460,2,0),\"\")","v":""},{"$f":"IFERROR(VLOOKUP(A4766,Base!$A$2:$D$460,3,0),\"\")","v":""},{"$f":"IFERROR(VLOOKUP(A4766,Base!$A$2:$D$460,4,0),\"\")","v":""},null,null,null,null,null,null,null,null,null,null,null,null,null,0]
[null,{"$f":"IFERROR(VLOOKUP(A4767,Base!$A$2:$D$460,2,0),\"\")","v":""},{"$f":"IFERROR(VLOOKUP(A4767,Base!$A$2:$D$460,3,0),\"\")","v":""},{"$f":"IFERROR(VLOOKUP(A4767,Base!$A$2:$D$460,4,0),\"\")","v":""},null,null,null,null,null,null,null,null,null,null,null,null,null,0]
[null,{"$f":"IFERROR(VLOOKUP(A4768,Base!$A$2:$D$460,2,0),\"\")","v":""},{"$f":"IFERROR(VLOOKUP(A4768,Base!$A$2:$D$460,3,0),\"\")","v":""},{"$f":"IFERROR(VLOOKUP(A4768,Base!$A$2:$D$460,4,0),\"\")","v":""},null,null,null,null,null,null,null,null,null,null,null,null,null,0]
[null,{"$f":"IFERROR(VLOOKUP(A4769,Base!$A$2:$D$460,2,0),\"\")","v":""},{"$f":"IFERROR(VLOOKUP(A4769,Base!$A$2:$D$460,3,0),\"\")","v":""},{"$f":"IFERROR(VLOOKUP(A4769,Base!$A$2:$D$460,4,0),\"\")","v":""},null,null,null,null,null,null,null,null,null,null,null,null,null,0]
[null,{"$f":"IFERROR(VLOOKUP(A4770,Base!$A$2:$D$460,2,0),\"\")","v":""},{"$f":"IFERROR(VLOOKUP(A4770,Base!$A$2:$D$460,3,0),\"\")","v":""},{"$f":"IFERROR(VLOOKUP(A4770,Base!$A$2:$D$460,4,0),\"\")","v":""},null,null,null,null,null,null,null,null,null,null,null,null,null,0]
[null,{"$f":"IFERROR(VLOOKUP(A4771,Base!$A$2:$D$460,2,0),\"\")","v":""},{"$f":"IFERROR(VLOOKUP(A4771,Base!$A$2:$D$460,3,0),\"\")","v":""},{"$f":"IFERROR(VLOOKUP(A4771,Base!$A$2:$D$460,4,0),\"\")","v":""},null,null,null,null,null,null,null,null,null,null,null,null,null,0]
[null,{"$f":"IFERROR(VLOOKUP(A4772,Base!$A$2:$D$460,2,0),\"\")","v":""},{"$f":"IFERROR(VLOOKUP(A4772,Base!$A$2:$D$460,3,0),\"\")","v":""},{"$f":"IFERROR(VLOOKUP(A4772,Base!$A$2:$D$460,4,0),\"\")","v":""},null,null,null,null,null,null,null,null,null,null,null,null,null,0]
[null,{"$f":"IFERROR(VLOOKUP(A4773,Base!$A$2:$D$460,2,0),\"\")","v":""},{"$f":"IFERROR(VLOOKUP(A4773,Base!$A$2:$D$460,3,0),\"\")","v":""},{"$f":"IFERROR(VLOOKUP(A4773,Base!$A$2:$D$460,4,0),\"\")","v":""},null,null,null,null,null,null,null,null,null,null,null,null,null,0]
[null,{"$f":"IFERROR(VLOOKUP(A4774,Base!$A$2:$D$460,2,0),\"\")","v":""},{"$f":"IFERROR(VLOOKUP(A4774,Base!$A$2:$D$460,3,0),\"\")","v":""},{"$f":"IFERROR(VLOOKUP(A4774,Base!$A$2:$D$460,4,0),\"\")","v":""},null,null,null,null,null,null,null,null,null,null,null,null,null,0]
[null,{"$f":"IFERROR(VLOOKUP(A4775,Base!$A$2:$D$460,2,0),\"\")","v":""},{"$f":"IFERROR(VLOOKUP(A4775,Base!$A$2:$D$460,3,0),\"\")","v":""},{"$f":"IFERROR(VLOOKUP(A4775,Base!$A$2:$D$460,4,0),\"\")","v":""},null,null,null,null,null,null,null,null,null,null,null,null,null,{"$f":"SUM(N4775:Q4775)/4","v":0}]
[null,{"$f":"IFERROR(VLOOKUP(A4776,Base!$A$2:$D$460,2,0),\"\")","v":""},{"$f":"IFERROR(VLOOKUP(A4776,Base!$A$2:$D$460,3,0),\"\")","v":""},{"$f":"IFERROR(VLOOKUP(A4776,Base!$A$2:$D$460,4,0),\"\")","v":""},null,null,null,null,null,null,null,null,null,null,null,null,null,0]
[null,{"$f":"IFERROR(VLOOKUP(A4777,Base!$A$2:$D$460,2,0),\"\")","v":""},{"$f":"IFERROR(VLOOKUP(A4777,Base!$A$2:$D$460,3,0),\"\")","v":""},{"$f":"IFERROR(VLOOKUP(A4777,Base!$A$2:$D$460,4,0),\"\")","v":""},null,null,null,null,null,null,null,null,null,null,null,null,null,0]
[null,{"$f":"IFERROR(VLOOKUP(A4778,Base!$A$2:$D$460,2,0),\"\")","v":""},{"$f":"IFERROR(VLOOKUP(A4778,Base!$A$2:$D$460,3,0),\"\")","v":""},{"$f":"IFERROR(VLOOKUP(A4778,Base!$A$2:$D$460,4,0),\"\")","v":""},null,null,null,null,null,null,null,null,null,null,null,null,null,0]
[null,{"$f":"IFERROR(VLOOKUP(A4779,Base!$A$2:$D$460,2,0),\"\")","v":""},{"$f":"IFERROR(VLOOKUP(A4779,Base!$A$2:$D$460,3,0),\"\")","v":""},{"$f":"IFERROR(VLOOKUP(A4779,Base!$A$2:$D$460,4,0),\"\")","v":""},null,null,null,null,null,null,null,null,null,null,null,null,null,0]
[null,{"$f":"IFERROR(VLOOKUP(A4780,Base!$A$2:$D$460,2,0),\"\")","v":""},{"$f":"IFERROR(VLOOKUP(A4780,Base!$A$2:$D$460,3,0),\"\")","v":""},{"$f":"IFERROR(VLOOKUP(A4780,Base!$A$2:$D$460,4,0),\"\")","v":""},null,null,null,null,null,null,null,null,null,null,null,null,null,0]
[null,{"$f":"IFERROR(VLOOKUP(A4781,Base!$A$2:$D$460,2,0),\"\")","v":""},{"$f":"IFERROR(VLOOKUP(A4781,Base!$A$2:$D$460,3,0),\"\")","v":""},{"$f":"IFERROR(VLOOKUP(A4781,Base!$A$2:$D$460,4,0),\"\")","v":""},null,null,null,null,null,null,null,null,null,null,null,null,null,0]
[null,{"$f":"IFERROR(VLOOKUP(A4782,Base!$A$2:$D$460,2,0),\"\")","v":""},{"$f":"IFERROR(VLOOKUP(A4782,Base!$A$2:$D$460,3,0),\"\")","v":""},{"$f":"IFERROR(VLOOKUP(A4782,Base!$A$2:$D$460,4,0),\"\")","v":""},null,null,null,null,null,null,null,null,null,null,null,null,null,0]
[null,{"$f":"IFERROR(VLOOKUP(A4783,Base!$A$2:$D$460,2,0),\"\")","v":""},{"$f":"IFERROR(VLOOKUP(A4783,Base!$A$2:$D$460,3,0),\"\")","v":""},{"$f":"IFERROR(VLOOKUP(A4783,Base!$A$2:$D$460,4,0),\"\")","v":""},null,null,null,null,null,null,null,null,null,null,null,null,null,0]
[null,{"$f":"IFERROR(VLOOKUP(A4784,Base!$A$2:$D$460,2,0),\"\")","v":""},{"$f":"IFERROR(VLOOKUP(A4784,Base!$A$2:$D$460,3,0),\"\")","v":""},{"$f":"IFERROR(VLOOKUP(A4784,Base!$A$2:$D$460,4,0),\"\")","v":""},null,null,null,null,null,null,null,null,null,null,null,null,null,0]
[null,{"$f":"IFERROR(VLOOKUP(A4785,Base!$A$2:$D$460,2,0),\"\")","v":""},{"$f":"IFERROR(VLOOKUP(A4785,Base!$A$2:$D$460,3,0),\"\")","v":""},{"$f":"IFERROR(VLOOKUP(A4785,Base!$A$2:$D$460,4,0),\"\")","v":""},null,null,null,null,null,null,null,null,null,null,null,null,null,0]
[null,{"$f":"IFERROR(VLOOKUP(A4786,Base!$A$2:$D$460,2,0),\"\")","v":""},{"$f":"IFERROR(VLOOKUP(A4786,Base!$A$2:$D$460,3,0),\"\")","v":""},{"$f":"IFERROR(VLOOKUP(A4786,Base!$A$2:$D$460,4,0),\"\")","v":""},null,null,null,null,null,null,null,null,null,null,null,null,null,0]
[null,{"$f":"IFERROR(VLOOKUP(A4787,Base!$A$2:$D$460,2,0),\"\")","v":""},{"$f":"IFERROR(VLOOKUP(A4787,Base!$A$2:$D$460,3,0),\"\")","v":""},{"$f":"IFERROR(VLOOKUP(A4787,Base!$A$2:$D$460,4,0),\"\")","v":""},null,null,null,null,null,null,null,null,null,null,null,null,null,0]
[null,{"$f":"IFERROR(VLOOKUP(A4788,Base!$A$2:$D$460,2,0),\"\")","v":""},{"$f":"IFERROR(VLOOKUP(A4788,Base!$A$2:$D$460,3,0),\"\")","v":""},{"$f":"IFERROR(VLOOKUP(A4788,Base!$A$2:$D$460,4,0),\"\")","v":""},null,null,null,null,null,null,null,null,null,null,null,null,null,0]
[null,{"$f":"IFERROR(VLOOKUP(A4789,Base!$A$2:$D$460,2,0),\"\")","v":""},{"$f":"IFERROR(VLOOKUP(A4789,Base!$A$2:$D$460,3,0),\"\")","v":""},{"$f":"IFERROR(VLOOKUP(A4789,Base!$A$2:$D$460,4,0),\"\")","v":""},null,null,null,null,null,null,null,null,null,null,null,null,null,0]
[null,{"$f":"IFERROR(VLOOKUP(A4790,Base!$A$2:$D$460,2,0),\"\")","v":""},{"$f":"IFERROR(VLOOKUP(A4790,Base!$A$2:$D$460,3,0),\"\")","v":""},{"$f":"IFERROR(VLOOKUP(A4790,Base!$A$2:$D$460,4,0),\"\")","v":""},null,null,null,null,null,null,null,null,null,null,null,null,null,0]
[null,{"$f":"IFERROR(VLOOKUP(A4791,Base!$A$2:$D$460,2,0),\"\")","v":""},{"$f":"IFERROR(VLOOKUP(A4791,Base!$A$2:$D$460,3,0),\"\")","v":""},{"$f":"IFERROR(VLOOKUP(A4791,Base!$A$2:$D$460,4,0),\"\")","v":""},null,null,null,null,null,null,null,null,null,null,null,null,null,0]
[null,{"$f":"IFERROR(VLOOKUP(A4792,Base!$A$2:$D$460,2,0),\"\")","v":""},{"$f":"IFERROR(VLOOKUP(A4792,Base!$A$2:$D$460,3,0),\"\")","v":""},{"$f":"IFERROR(VLOOKUP(A4792,Base!$A$2:$D$460,4,0),\"\")","v":""},null,null,null,null,null,null,null,null,null,null,null,null,null,0]
[null,{"$f":"IFERROR(VLOOKUP(A4793,Base!$A$2:$D$460,2,0),\"\")","v":""},{"$f":"IFERROR(VLOOKUP(A4793,Base!$A$2:$D$460,3,0),\"\")","v":""},{"$f":"IFERROR(VLOOKUP(A4793,Base!$A$2:$D$460,4,0),\"\")","v":""},null,null,null,null,null,null,null,null,null,null,null,null,null,0]
[null,{"$f":"IFERROR(VLOOKUP(A4794,Base!$A$2:$D$460,2,0),\"\")","v":""},{"$f":"IFERROR(VLOOKUP(A4794,Base!$A$2:$D$460,3,0),\"\")","v":""},{"$f":"IFERROR(VLOOKUP(A4794,Base!$A$2:$D$460,4,0),\"\")","v":""},null,null,null,null,null,null,null,null,null,null,null,null,null,0]
[null,{"$f":"IFERROR(VLOOKUP(A4795,Base!$A$2:$D$460,2,0),\"\")","v":""},{"$f":"IFERROR(VLOOKUP(A4795,Base!$A$2:$D$460,3,0),\"\")","v":""},{"$f":"IFERROR(VLOOKUP(A4795,Base!$A$2:$D$460,4,0),\"\")","v":""},null,null,null,null,null,null,null,null,null,null,null,null,null,0]
[null,{"$f":"IFERROR(VLOOKUP(A4796,Base!$A$2:$D$460,2,0),\"\")","v":""},{"$f":"IFERROR(VLOOKUP(A4796,Base!$A$2:$D$460,3,0),\"\")","v":""},{"$f":"IFERROR(VLOOKUP(A4796,Base!$A$2:$D$460,4,0),\"\")","v":""},null,null,null,null,null,null,null,null,null,null,null,null,null,0]
[null,{"$f":"IFERROR(VLOOKUP(A4797,Base!$A$2:$D$460,2,0),\"\")","v":""},{"$f":"IFERROR(VLOOKUP(A4797,Base!$A$2:$D$460,3,0),\"\")","v":""},{"$f":"IFERROR(VLOOKUP(A4797,Base!$A$2:$D$460,4,0),\"\")","v":""},null,null,null,null,null,null,null,null,null,null,null,null,null,0]
[null,{"$f":"IFERROR(VLOOKUP(A4798,Base!$A$2:$D$460,2,0),\"\")","v":""},{"$f":"IFERROR(VLOOKUP(A4798,Base!$A$2:$D$460,3,0),\"\")","v":""},{"$f":"IFERROR(VLOOKUP(A4798,Base!$A$2:$D$460,4,0),\"\")","v":""},null,null,null,null,null,null,null,null,null,null,null,null,null,0]
[null,{"$f":"IFERROR(VLOOKUP(A4799,Base!$A$2:$D$460,2,0),\"\")","v":""},{"$f":"IFERROR(VLOOKUP(A4799,Base!$A$2:$D$460,3,0),\"\")","v":""},{"$f":"IFERROR(VLOOKUP(A4799,Base!$A$2:$D$460,4,0),\"\")","v":""},null,null,null,null,null,null,null,null,null,null,null,null,null,0]
[null,{"$f":"IFERROR(VLOOKUP(A4800,Base!$A$2:$D$460,2,0),\"\")","v":""},{"$f":"IFERROR(VLOOKUP(A4800,Base!$A$2:$D$460,3,0),\"\")","v":""},{"$f":"IFERROR(VLOOKUP(A4800,Base!$A$2:$D$460,4,0),\"\")","v":""},null,null,null,null,null,null,null,null,null,null,null,null,null,0]
[null,{"$f":"IFERROR(VLOOKUP(A4801,Base!$A$2:$D$460,2,0),\"\")","v":""},{"$f":"IFERROR(VLOOKUP(A4801,Base!$A$2:$D$460,3,0),\"\")","v":""},{"$f":"IFERROR(VLOOKUP(A4801,Base!$A$2:$D$460,4,0),\"\")","v":""},null,null,null,null,null,null,null,null,null,null,null,null,null,0]
[null,{"$f":"IFERROR(VLOOKUP(A4802,Base!$A$2:$D$460,2,0),\"\")","v":""},{"$f":"IFERROR(VLOOKUP(A4802,Base!$A$2:$D$460,3,0),\"\")","v":""},{"$f":"IFERROR(VLOOKUP(A4802,Base!$A$2:$D$460,4,0),\"\")","v":""},null,null,null,null,null,null,null,null,null,null,null,null,null,0]
[null,{"$f":"IFERROR(VLOOKUP(A4803,Base!$A$2:$D$460,2,0),\"\")","v":""},{"$f":"IFERROR(VLOOKUP(A4803,Base!$A$2:$D$460,3,0),\"\")","v":""},{"$f":"IFERROR(VLOOKUP(A4803,Base!$A$2:$D$460,4,0),\"\")","v":""},null,null,null,null,null,null,null,null,null,null,null,null,null,0]
[null,{"$f":"IFERROR(VLOOKUP(A4804,Base!$A$2:$D$460,2,0),\"\")","v":""},{"$f":"IFERROR(VLOOKUP(A4804,Base!$A$2:$D$460,3,0),\"\")","v":""},{"$f":"IFERROR(VLOOKUP(A4804,Base!$A$2:$D$460,4,0),\"\")","v":""},null,null,null,null,null,null,null,null,null,null,null,null,null,0]
[null,{"$f":"IFERROR(VLOOKUP(A4805,Base!$A$2:$D$460,2,0),\"\")","v":""},{"$f":"IFERROR(VLOOKUP(A4805,Base!$A$2:$D$460,3,0),\"\")","v":""},{"$f":"IFERROR(VLOOKUP(A4805,Base!$A$2:$D$460,4,0),\"\")","v":""},null,null,null,null,null,null,null,null,null,null,null,null,null,0]
[null,{"$f":"IFERROR(VLOOKUP(A4806,Base!$A$2:$D$460,2,0),\"\")","v":""},{"$f":"IFERROR(VLOOKUP(A4806,Base!$A$2:$D$460,3,0),\"\")","v":""},{"$f":"IFERROR(VLOOKUP(A4806,Base!$A$2:$D$460,4,0),\"\")","v":""},null,null,null,null,null,null,null,null,null,null,null,null,null,0]
[null,{"$f":"IFERROR(VLOOKUP(A4807,Base!$A$2:$D$460,2,0),\"\")","v":""},{"$f":"IFERROR(VLOOKUP(A4807,Base!$A$2:$D$460,3,0),\"\")","v":""},{"$f":"IFERROR(VLOOKUP(A4807,Base!$A$2:$D$460,4,0),\"\")","v":""},null,null,null,null,null,null,null,null,null,null,null,null,null,0]
[null,{"$f":"IFERROR(VLOOKUP(A4808,Base!$A$2:$D$460,2,0),\"\")","v":""},{"$f":"IFERROR(VLOOKUP(A4808,Base!$A$2:$D$460,3,0),\"\")","v":""},{"$f":"IFERROR(VLOOKUP(A4808,Base!$A$2:$D$460,4,0),\"\")","v":""},null,null,null,null,null,null,null,null,null,null,null,null,null,0]
[null,{"$f":"IFERROR(VLOOKUP(A4809,Base!$A$2:$D$460,2,0),\"\")","v":""},{"$f":"IFERROR(VLOOKUP(A4809,Base!$A$2:$D$460,3,0),\"\")","v":""},{"$f":"IFERROR(VLOOKUP(A4809,Base!$A$2:$D$460,4,0),\"\")","v":""},null,null,null,null,null,null,null,null,null,null,null,null,null,0]
[null,{"$f":"IFERROR(VLOOKUP(A4810,Base!$A$2:$D$460,2,0),\"\")","v":""},{"$f":"IFERROR(VLOOKUP(A4810,Base!$A$2:$D$460,3,0),\"\")","v":""},{"$f":"IFERROR(VLOOKUP(A4810,Base!$A$2:$D$460,4,0),\"\")","v":""},null,null,null,null,null,null,null,null,null,null,null,null,null,0]
[null,{"$f":"IFERROR(VLOOKUP(A4811,Base!$A$2:$D$460,2,0),\"\")","v":""},{"$f":"IFERROR(VLOOKUP(A4811,Base!$A$2:$D$460,3,0),\"\")","v":""},{"$f":"IFERROR(VLOOKUP(A4811,Base!$A$2:$D$460,4,0),\"\")","v":""},null,null,null,null,null,null,null,null,null,null,null,null,null,0]
[null,{"$f":"IFERROR(VLOOKUP(A4812,Base!$A$2:$D$460,2,0),\"\")","v":""},{"$f":"IFERROR(VLOOKUP(A4812,Base!$A$2:$D$460,3,0),\"\")","v":""},{"$f":"IFERROR(VLOOKUP(A4812,Base!$A$2:$D$460,4,0),\"\")","v":""},null,null,null,null,null,null,null,null,null,null,null,null,null,0]
[null,{"$f":"IFERROR(VLOOKUP(A4813,Base!$A$2:$D$460,2,0),\"\")","v":""},{"$f":"IFERROR(VLOOKUP(A4813,Base!$A$2:$D$460,3,0),\"\")","v":""},{"$f":"IFERROR(VLOOKUP(A4813,Base!$A$2:$D$460,4,0),\"\")","v":""},null,null,null,null,null,null,null,null,null,null,null,null,null,0]
[null,{"$f":"IFERROR(VLOOKUP(A4814,Base!$A$2:$D$460,2,0),\"\")","v":""},{"$f":"IFERROR(VLOOKUP(A4814,Base!$A$2:$D$460,3,0),\"\")","v":""},{"$f":"IFERROR(VLOOKUP(A4814,Base!$A$2:$D$460,4,0),\"\")","v":""},null,null,null,null,null,null,null,null,null,null,null,null,null,0]
[null,{"$f":"IFERROR(VLOOKUP(A4815,Base!$A$2:$D$460,2,0),\"\")","v":""},{"$f":"IFERROR(VLOOKUP(A4815,Base!$A$2:$D$460,3,0),\"\")","v":""},{"$f":"IFERROR(VLOOKUP(A4815,Base!$A$2:$D$460,4,0),\"\")","v":""},null,null,null,null,null,null,null,null,null,null,null,null,null,0]
[null,{"$f":"IFERROR(VLOOKUP(A4816,Base!$A$2:$D$460,2,0),\"\")","v":""},{"$f":"IFERROR(VLOOKUP(A4816,Base!$A$2:$D$460,3,0),\"\")","v":""},{"$f":"IFERROR(VLOOKUP(A4816,Base!$A$2:$D$460,4,0),\"\")","v":""},null,null,null,null,null,null,null,null,null,null,null,null,null,0]
[null,{"$f":"IFERROR(VLOOKUP(A4817,Base!$A$2:$D$460,2,0),\"\")","v":""},{"$f":"IFERROR(VLOOKUP(A4817,Base!$A$2:$D$460,3,0),\"\")","v":""},{"$f":"IFERROR(VLOOKUP(A4817,Base!$A$2:$D$460,4,0),\"\")","v":""},null,null,null,null,null,null,null,null,null,null,null,null,null,0]
[null,{"$f":"IFERROR(VLOOKUP(A4818,Base!$A$2:$D$460,2,0),\"\")","v":""},{"$f":"IFERROR(VLOOKUP(A4818,Base!$A$2:$D$460,3,0),\"\")","v":""},{"$f":"IFERROR(VLOOKUP(A4818,Base!$A$2:$D$460,4,0),\"\")","v":""},null,null,null,null,null,null,null,null,null,null,null,null,null,0]
[null,{"$f":"IFERROR(VLOOKUP(A4819,Base!$A$2:$D$460,2,0),\"\")","v":""},{"$f":"IFERROR(VLOOKUP(A4819,Base!$A$2:$D$460,3,0),\"\")","v":""},{"$f":"IFERROR(VLOOKUP(A4819,Base!$A$2:$D$460,4,0),\"\")","v":""},null,null,null,null,null,null,null,null,null,null,null,null,null,0]
[null,{"$f":"IFERROR(VLOOKUP(A4820,Base!$A$2:$D$460,2,0),\"\")","v":""},{"$f":"IFERROR(VLOOKUP(A4820,Base!$A$2:$D$460,3,0),\"\")","v":""},{"$f":"IFERROR(VLOOKUP(A4820,Base!$A$2:$D$460,4,0),\"\")","v":""},null,null,null,null,null,null,null,null,null,null,null,null,null,0]
[null,{"$f":"IFERROR(VLOOKUP(A4821,Base!$A$2:$D$460,2,0),\"\")","v":""},{"$f":"IFERROR(VLOOKUP(A4821,Base!$A$2:$D$460,3,0),\"\")","v":""},{"$f":"IFERROR(VLOOKUP(A4821,Base!$A$2:$D$460,4,0),\"\")","v":""},null,null,null,null,null,null,null,null,null,null,null,null,null,0]
[null,{"$f":"IFERROR(VLOOKUP(A4822,Base!$A$2:$D$460,2,0),\"\")","v":""},{"$f":"IFERROR(VLOOKUP(A4822,Base!$A$2:$D$460,3,0),\"\")","v":""},{"$f":"IFERROR(VLOOKUP(A4822,Base!$A$2:$D$460,4,0),\"\")","v":""},null,null,null,null,null,null,null,null,null,null,null,null,null,0]
[null,{"$f":"IFERROR(VLOOKUP(A4823,Base!$A$2:$D$460,2,0),\"\")","v":""},{"$f":"IFERROR(VLOOKUP(A4823,Base!$A$2:$D$460,3,0),\"\")","v":""},{"$f":"IFERROR(VLOOKUP(A4823,Base!$A$2:$D$460,4,0),\"\")","v":""},null,null,null,null,null,null,null,null,null,null,null,null,null,0]
[null,{"$f":"IFERROR(VLOOKUP(A4824,Base!$A$2:$D$460,2,0),\"\")","v":""},{"$f":"IFERROR(VLOOKUP(A4824,Base!$A$2:$D$460,3,0),\"\")","v":""},{"$f":"IFERROR(VLOOKUP(A4824,Base!$A$2:$D$460,4,0),\"\")","v":""},null,null,null,null,null,null,null,null,null,null,null,null,null,0]
[null,{"$f":"IFERROR(VLOOKUP(A4825,Base!$A$2:$D$460,2,0),\"\")","v":""},{"$f":"IFERROR(VLOOKUP(A4825,Base!$A$2:$D$460,3,0),\"\")","v":""},{"$f":"IFERROR(VLOOKUP(A4825,Base!$A$2:$D$460,4,0),\"\")","v":""},null,null,null,null,null,null,null,null,null,null,null,null,null,0]
[null,{"$f":"IFERROR(VLOOKUP(A4826,Base!$A$2:$D$460,2,0),\"\")","v":""},{"$f":"IFERROR(VLOOKUP(A4826,Base!$A$2:$D$460,3,0),\"\")","v":""},{"$f":"IFERROR(VLOOKUP(A4826,Base!$A$2:$D$460,4,0),\"\")","v":""},null,null,null,null,null,null,null,null,null,null,null,null,null,0]
[null,{"$f":"IFERROR(VLOOKUP(A4827,Base!$A$2:$D$460,2,0),\"\")","v":""},{"$f":"IFERROR(VLOOKUP(A4827,Base!$A$2:$D$460,3,0),\"\")","v":""},{"$f":"IFERROR(VLOOKUP(A4827,Base!$A$2:$D$460,4,0),\"\")","v":""},null,null,null,null,null,null,null,null,null,null,null,null,null,0]
[null,{"$f":"IFERROR(VLOOKUP(A4828,Base!$A$2:$D$460,2,0),\"\")","v":""},{"$f":"IFERROR(VLOOKUP(A4828,Base!$A$2:$D$460,3,0),\"\")","v":""},{"$f":"IFERROR(VLOOKUP(A4828,Base!$A$2:$D$460,4,0),\"\")","v":""},null,null,null,null,null,null,null,null,null,null,null,null,null,0]
[null,{"$f":"IFERROR(VLOOKUP(A4829,Base!$A$2:$D$460,2,0),\"\")","v":""},{"$f":"IFERROR(VLOOKUP(A4829,Base!$A$2:$D$460,3,0),\"\")","v":""},{"$f":"IFERROR(VLOOKUP(A4829,Base!$A$2:$D$460,4,0),\"\")","v":""},null,null,null,null,null,null,null,null,null,null,null,null,null,0]
[null,{"$f":"IFERROR(VLOOKUP(A4830,Base!$A$2:$D$460,2,0),\"\")","v":""},{"$f":"IFERROR(VLOOKUP(A4830,Base!$A$2:$D$460,3,0),\"\")","v":""},{"$f":"IFERROR(VLOOKUP(A4830,Base!$A$2:$D$460,4,0),\"\")","v":""},null,null,null,null,null,null,null,null,null,null,null,null,null,0]
[null,{"$f":"IFERROR(VLOOKUP(A4831,Base!$A$2:$D$460,2,0),\"\")","v":""},{"$f":"IFERROR(VLOOKUP(A4831,Base!$A$2:$D$460,3,0),\"\")","v":""},{"$f":"IFERROR(VLOOKUP(A4831,Base!$A$2:$D$460,4,0),\"\")","v":""},null,null,null,null,null,null,null,null,null,null,null,null,null,0]
[null,{"$f":"IFERROR(VLOOKUP(A4832,Base!$A$2:$D$460,2,0),\"\")","v":""},{"$f":"IFERROR(VLOOKUP(A4832,Base!$A$2:$D$460,3,0),\"\")","v":""},{"$f":"IFERROR(VLOOKUP(A4832,Base!$A$2:$D$460,4,0),\"\")","v":""},null,null,null,null,null,null,null,null,null,null,null,null,null,0]
[null,{"$f":"IFERROR(VLOOKUP(A4833,Base!$A$2:$D$460,2,0),\"\")","v":""},{"$f":"IFERROR(VLOOKUP(A4833,Base!$A$2:$D$460,3,0),\"\")","v":""},{"$f":"IFERROR(VLOOKUP(A4833,Base!$A$2:$D$460,4,0),\"\")","v":""},null,null,null,null,null,null,null,null,null,null,null,null,null,0]
[null,{"$f":"IFERROR(VLOOKUP(A4834,Base!$A$2:$D$460,2,0),\"\")","v":""},{"$f":"IFERROR(VLOOKUP(A4834,Base!$A$2:$D$460,3,0),\"\")","v":""},{"$f":"IFERROR(VLOOKUP(A4834,Base!$A$2:$D$460,4,0),\"\")","v":""},null,null,null,null,null,null,null,null,null,null,null,null,null,0]
[null,{"$f":"IFERROR(VLOOKUP(A4835,Base!$A$2:$D$460,2,0),\"\")","v":""},{"$f":"IFERROR(VLOOKUP(A4835,Base!$A$2:$D$460,3,0),\"\")","v":""},{"$f":"IFERROR(VLOOKUP(A4835,Base!$A$2:$D$460,4,0),\"\")","v":""},null,null,null,null,null,null,null,null,null,null,null,null,null,0]
[null,{"$f":"IFERROR(VLOOKUP(A4836,Base!$A$2:$D$460,2,0),\"\")","v":""},{"$f":"IFERROR(VLOOKUP(A4836,Base!$A$2:$D$460,3,0),\"\")","v":""},{"$f":"IFERROR(VLOOKUP(A4836,Base!$A$2:$D$460,4,0),\"\")","v":""},null,null,null,null,null,null,null,null,null,null,null,null,null,0]
[null,{"$f":"IFERROR(VLOOKUP(A4837,Base!$A$2:$D$460,2,0),\"\")","v":""},{"$f":"IFERROR(VLOOKUP(A4837,Base!$A$2:$D$460,3,0),\"\")","v":""},{"$f":"IFERROR(VLOOKUP(A4837,Base!$A$2:$D$460,4,0),\"\")","v":""},null,null,null,null,null,null,null,null,null,null,null,null,null,0]
[null,{"$f":"IFERROR(VLOOKUP(A4838,Base!$A$2:$D$460,2,0),\"\")","v":""},{"$f":"IFERROR(VLOOKUP(A4838,Base!$A$2:$D$460,3,0),\"\")","v":""},{"$f":"IFERROR(VLOOKUP(A4838,Base!$A$2:$D$460,4,0),\"\")","v":""},null,null,null,null,null,null,null,null,null,null,null,null,null,0]
[null,{"$f":"IFERROR(VLOOKUP(A4839,Base!$A$2:$D$460,2,0),\"\")","v":""},{"$f":"IFERROR(VLOOKUP(A4839,Base!$A$2:$D$460,3,0),\"\")","v":""},{"$f":"IFERROR(VLOOKUP(A4839,Base!$A$2:$D$460,4,0),\"\")","v":""},null,null,null,null,null,null,null,null,null,null,null,null,null,{"$f":"SUM(N4839:Q4839)/4","v":0}]
[null,{"$f":"IFERROR(VLOOKUP(A4840,Base!$A$2:$D$460,2,0),\"\")","v":""},{"$f":"IFERROR(VLOOKUP(A4840,Base!$A$2:$D$460,3,0),\"\")","v":""},{"$f":"IFERROR(VLOOKUP(A4840,Base!$A$2:$D$460,4,0),\"\")","v":""},null,null,null,null,null,null,null,null,null,null,null,null,null,0]
[null,{"$f":"IFERROR(VLOOKUP(A4841,Base!$A$2:$D$460,2,0),\"\")","v":""},{"$f":"IFERROR(VLOOKUP(A4841,Base!$A$2:$D$460,3,0),\"\")","v":""},{"$f":"IFERROR(VLOOKUP(A4841,Base!$A$2:$D$460,4,0),\"\")","v":""},null,null,null,null,null,null,null,null,null,null,null,null,null,0]
[null,{"$f":"IFERROR(VLOOKUP(A4842,Base!$A$2:$D$460,2,0),\"\")","v":""},{"$f":"IFERROR(VLOOKUP(A4842,Base!$A$2:$D$460,3,0),\"\")","v":""},{"$f":"IFERROR(VLOOKUP(A4842,Base!$A$2:$D$460,4,0),\"\")","v":""},null,null,null,null,null,null,null,null,null,null,null,null,null,0]
[null,{"$f":"IFERROR(VLOOKUP(A4843,Base!$A$2:$D$460,2,0),\"\")","v":""},{"$f":"IFERROR(VLOOKUP(A4843,Base!$A$2:$D$460,3,0),\"\")","v":""},{"$f":"IFERROR(VLOOKUP(A4843,Base!$A$2:$D$460,4,0),\"\")","v":""},null,null,null,null,null,null,null,null,null,null,null,null,null,0]
[null,{"$f":"IFERROR(VLOOKUP(A4844,Base!$A$2:$D$460,2,0),\"\")","v":""},{"$f":"IFERROR(VLOOKUP(A4844,Base!$A$2:$D$460,3,0),\"\")","v":""},{"$f":"IFERROR(VLOOKUP(A4844,Base!$A$2:$D$460,4,0),\"\")","v":""},null,null,null,null,null,null,null,null,null,null,null,null,null,0]
[null,{"$f":"IFERROR(VLOOKUP(A4845,Base!$A$2:$D$460,2,0),\"\")","v":""},{"$f":"IFERROR(VLOOKUP(A4845,Base!$A$2:$D$460,3,0),\"\")","v":""},{"$f":"IFERROR(VLOOKUP(A4845,Base!$A$2:$D$460,4,0),\"\")","v":""},null,null,null,null,null,null,null,null,null,null,null,null,null,0]
[null,{"$f":"IFERROR(VLOOKUP(A4846,Base!$A$2:$D$460,2,0),\"\")","v":""},{"$f":"IFERROR(VLOOKUP(A4846,Base!$A$2:$D$460,3,0),\"\")","v":""},{"$f":"IFERROR(VLOOKUP(A4846,Base!$A$2:$D$460,4,0),\"\")","v":""},null,null,null,null,null,null,null,null,null,null,null,null,null,0]
[null,{"$f":"IFERROR(VLOOKUP(A4847,Base!$A$2:$D$460,2,0),\"\")","v":""},{"$f":"IFERROR(VLOOKUP(A4847,Base!$A$2:$D$460,3,0),\"\")","v":""},{"$f":"IFERROR(VLOOKUP(A4847,Base!$A$2:$D$460,4,0),\"\")","v":""},null,null,null,null,null,null,null,null,null,null,null,null,null,0]
[null,{"$f":"IFERROR(VLOOKUP(A4848,Base!$A$2:$D$460,2,0),\"\")","v":""},{"$f":"IFERROR(VLOOKUP(A4848,Base!$A$2:$D$460,3,0),\"\")","v":""},{"$f":"IFERROR(VLOOKUP(A4848,Base!$A$2:$D$460,4,0),\"\")","v":""},null,null,null,null,null,null,null,null,null,null,null,null,null,0]
[null,{"$f":"IFERROR(VLOOKUP(A4849,Base!$A$2:$D$460,2,0),\"\")","v":""},{"$f":"IFERROR(VLOOKUP(A4849,Base!$A$2:$D$460,3,0),\"\")","v":""},{"$f":"IFERROR(VLOOKUP(A4849,Base!$A$2:$D$460,4,0),\"\")","v":""},null,null,null,null,null,null,null,null,null,null,null,null,null,0]
[null,{"$f":"IFERROR(VLOOKUP(A4850,Base!$A$2:$D$460,2,0),\"\")","v":""},{"$f":"IFERROR(VLOOKUP(A4850,Base!$A$2:$D$460,3,0),\"\")","v":""},{"$f":"IFERROR(VLOOKUP(A4850,Base!$A$2:$D$460,4,0),\"\")","v":""},null,null,null,null,null,null,null,null,null,null,null,null,null,0]
[null,{"$f":"IFERROR(VLOOKUP(A4851,Base!$A$2:$D$460,2,0),\"\")","v":""},{"$f":"IFERROR(VLOOKUP(A4851,Base!$A$2:$D$460,3,0),\"\")","v":""},{"$f":"IFERROR(VLOOKUP(A4851,Base!$A$2:$D$460,4,0),\"\")","v":""},null,null,null,null,null,null,null,null,null,null,null,null,null,0]
[null,{"$f":"IFERROR(VLOOKUP(A4852,Base!$A$2:$D$460,2,0),\"\")","v":""},{"$f":"IFERROR(VLOOKUP(A4852,Base!$A$2:$D$460,3,0),\"\")","v":""},{"$f":"IFERROR(VLOOKUP(A4852,Base!$A$2:$D$460,4,0),\"\")","v":""},null,null,null,null,null,null,null,null,null,null,null,null,null,0]
[null,{"$f":"IFERROR(VLOOKUP(A4853,Base!$A$2:$D$460,2,0),\"\")","v":""},{"$f":"IFERROR(VLOOKUP(A4853,Base!$A$2:$D$460,3,0),\"\")","v":""},{"$f":"IFERROR(VLOOKUP(A4853,Base!$A$2:$D$460,4,0),\"\")","v":""},null,null,null,null,null,null,null,null,null,null,null,null,null,0]
[null,{"$f":"IFERROR(VLOOKUP(A4854,Base!$A$2:$D$460,2,0),\"\")","v":""},{"$f":"IFERROR(VLOOKUP(A4854,Base!$A$2:$D$460,3,0),\"\")","v":""},{"$f":"IFERROR(VLOOKUP(A4854,Base!$A$2:$D$460,4,0),\"\")","v":""},null,null,null,null,null,null,null,null,null,null,null,null,null,0]
[null,{"$f":"IFERROR(VLOOKUP(A4855,Base!$A$2:$D$460,2,0),\"\")","v":""},{"$f":"IFERROR(VLOOKUP(A4855,Base!$A$2:$D$460,3,0),\"\")","v":""},{"$f":"IFERROR(VLOOKUP(A4855,Base!$A$2:$D$460,4,0),\"\")","v":""},null,null,null,null,null,null,null,null,null,null,null,null,null,0]
[null,{"$f":"IFERROR(VLOOKUP(A4856,Base!$A$2:$D$460,2,0),\"\")","v":""},{"$f":"IFERROR(VLOOKUP(A4856,Base!$A$2:$D$460,3,0),\"\")","v":""},{"$f":"IFERROR(VLOOKUP(A4856,Base!$A$2:$D$460,4,0),\"\")","v":""},null,null,null,null,null,null,null,null,null,null,null,null,null,0]
[null,{"$f":"IFERROR(VLOOKUP(A4857,Base!$A$2:$D$460,2,0),\"\")","v":""},{"$f":"IFERROR(VLOOKUP(A4857,Base!$A$2:$D$460,3,0),\"\")","v":""},{"$f":"IFERROR(VLOOKUP(A4857,Base!$A$2:$D$460,4,0),\"\")","v":""},null,null,null,null,null,null,null,null,null,null,null,null,null,0]
[null,{"$f":"IFERROR(VLOOKUP(A4858,Base!$A$2:$D$460,2,0),\"\")","v":""},{"$f":"IFERROR(VLOOKUP(A4858,Base!$A$2:$D$460,3,0),\"\")","v":""},{"$f":"IFERROR(VLOOKUP(A4858,Base!$A$2:$D$460,4,0),\"\")","v":""},null,null,null,null,null,null,null,null,null,null,null,null,null,0]
[null,{"$f":"IFERROR(VLOOKUP(A4859,Base!$A$2:$D$460,2,0),\"\")","v":""},{"$f":"IFERROR(VLOOKUP(A4859,Base!$A$2:$D$460,3,0),\"\")","v":""},{"$f":"IFERROR(VLOOKUP(A4859,Base!$A$2:$D$460,4,0),\"\")","v":""},null,null,null,null,null,null,null,null,null,null,null,null,null,0]
[null,{"$f":"IFERROR(VLOOKUP(A4860,Base!$A$2:$D$460,2,0),\"\")","v":""},{"$f":"IFERROR(VLOOKUP(A4860,Base!$A$2:$D$460,3,0),\"\")","v":""},{"$f":"IFERROR(VLOOKUP(A4860,Base!$A$2:$D$460,4,0),\"\")","v":""},null,null,null,null,null,null,null,null,null,null,null,null,null,0]
[null,{"$f":"IFERROR(VLOOKUP(A4861,Base!$A$2:$D$460,2,0),\"\")","v":""},{"$f":"IFERROR(VLOOKUP(A4861,Base!$A$2:$D$460,3,0),\"\")","v":""},{"$f":"IFERROR(VLOOKUP(A4861,Base!$A$2:$D$460,4,0),\"\")","v":""},null,null,null,null,null,null,null,null,null,null,null,null,null,0]
[null,{"$f":"IFERROR(VLOOKUP(A4862,Base!$A$2:$D$460,2,0),\"\")","v":""},{"$f":"IFERROR(VLOOKUP(A4862,Base!$A$2:$D$460,3,0),\"\")","v":""},{"$f":"IFERROR(VLOOKUP(A4862,Base!$A$2:$D$460,4,0),\"\")","v":""},null,null,null,null,null,null,null,null,null,null,null,null,null,0]
[null,{"$f":"IFERROR(VLOOKUP(A4863,Base!$A$2:$D$460,2,0),\"\")","v":""},{"$f":"IFERROR(VLOOKUP(A4863,Base!$A$2:$D$460,3,0),\"\")","v":""},{"$f":"IFERROR(VLOOKUP(A4863,Base!$A$2:$D$460,4,0),\"\")","v":""},null,null,null,null,null,null,null,null,null,null,null,null,null,0]
[null,{"$f":"IFERROR(VLOOKUP(A4864,Base!$A$2:$D$460,2,0),\"\")","v":""},{"$f":"IFERROR(VLOOKUP(A4864,Base!$A$2:$D$460,3,0),\"\")","v":""},{"$f":"IFERROR(VLOOKUP(A4864,Base!$A$2:$D$460,4,0),\"\")","v":""},null,null,null,null,null,null,null,null,null,null,null,null,null,0]
[null,{"$f":"IFERROR(VLOOKUP(A4865,Base!$A$2:$D$460,2,0),\"\")","v":""},{"$f":"IFERROR(VLOOKUP(A4865,Base!$A$2:$D$460,3,0),\"\")","v":""},{"$f":"IFERROR(VLOOKUP(A4865,Base!$A$2:$D$460,4,0),\"\")","v":""},null,null,null,null,null,null,null,null,null,null,null,null,null,0]
[null,{"$f":"IFERROR(VLOOKUP(A4866,Base!$A$2:$D$460,2,0),\"\")","v":""},{"$f":"IFERROR(VLOOKUP(A4866,Base!$A$2:$D$460,3,0),\"\")","v":""},{"$f":"IFERROR(VLOOKUP(A4866,Base!$A$2:$D$460,4,0),\"\")","v":""},null,null,null,null,null,null,null,null,null,null,null,null,null,0]
[null,{"$f":"IFERROR(VLOOKUP(A4867,Base!$A$2:$D$460,2,0),\"\")","v":""},{"$f":"IFERROR(VLOOKUP(A4867,Base!$A$2:$D$460,3,0),\"\")","v":""},{"$f":"IFERROR(VLOOKUP(A4867,Base!$A$2:$D$460,4,0),\"\")","v":""},null,null,null,null,null,null,null,null,null,null,null,null,null,0]
[null,{"$f":"IFERROR(VLOOKUP(A4868,Base!$A$2:$D$460,2,0),\"\")","v":""},{"$f":"IFERROR(VLOOKUP(A4868,Base!$A$2:$D$460,3,0),\"\")","v":""},{"$f":"IFERROR(VLOOKUP(A4868,Base!$A$2:$D$460,4,0),\"\")","v":""},null,null,null,null,null,null,null,null,null,null,null,null,null,0]
[null,{"$f":"IFERROR(VLOOKUP(A4869,Base!$A$2:$D$460,2,0),\"\")","v":""},{"$f":"IFERROR(VLOOKUP(A4869,Base!$A$2:$D$460,3,0),\"\")","v":""},{"$f":"IFERROR(VLOOKUP(A4869,Base!$A$2:$D$460,4,0),\"\")","v":""},null,null,null,null,null,null,null,null,null,null,null,null,null,0]
[null,{"$f":"IFERROR(VLOOKUP(A4870,Base!$A$2:$D$460,2,0),\"\")","v":""},{"$f":"IFERROR(VLOOKUP(A4870,Base!$A$2:$D$460,3,0),\"\")","v":""},{"$f":"IFERROR(VLOOKUP(A4870,Base!$A$2:$D$460,4,0),\"\")","v":""},null,null,null,null,null,null,null,null,null,null,null,null,null,0]
[null,{"$f":"IFERROR(VLOOKUP(A4871,Base!$A$2:$D$460,2,0),\"\")","v":""},{"$f":"IFERROR(VLOOKUP(A4871,Base!$A$2:$D$460,3,0),\"\")","v":""},{"$f":"IFERROR(VLOOKUP(A4871,Base!$A$2:$D$460,4,0),\"\")","v":""},null,null,null,null,null,null,null,null,null,null,null,null,null,0]
[null,{"$f":"IFERROR(VLOOKUP(A4872,Base!$A$2:$D$460,2,0),\"\")","v":""},{"$f":"IFERROR(VLOOKUP(A4872,Base!$A$2:$D$460,3,0),\"\")","v":""},{"$f":"IFERROR(VLOOKUP(A4872,Base!$A$2:$D$460,4,0),\"\")","v":""},null,null,null,null,null,null,null,null,null,null,null,null,null,0]
[null,{"$f":"IFERROR(VLOOKUP(A4873,Base!$A$2:$D$460,2,0),\"\")","v":""},{"$f":"IFERROR(VLOOKUP(A4873,Base!$A$2:$D$460,3,0),\"\")","v":""},{"$f":"IFERROR(VLOOKUP(A4873,Base!$A$2:$D$460,4,0),\"\")","v":""},null,null,null,null,null,null,null,null,null,null,null,null,null,0]
[null,{"$f":"IFERROR(VLOOKUP(A4874,Base!$A$2:$D$460,2,0),\"\")","v":""},{"$f":"IFERROR(VLOOKUP(A4874,Base!$A$2:$D$460,3,0),\"\")","v":""},{"$f":"IFERROR(VLOOKUP(A4874,Base!$A$2:$D$460,4,0),\"\")","v":""},null,null,null,null,null,null,null,null,null,null,null,null,null,0]
[null,{"$f":"IFERROR(VLOOKUP(A4875,Base!$A$2:$D$460,2,0),\"\")","v":""},{"$f":"IFERROR(VLOOKUP(A4875,Base!$A$2:$D$460,3,0),\"\")","v":""},{"$f":"IFERROR(VLOOKUP(A4875,Base!$A$2:$D$460,4,0),\"\")","v":""},null,null,null,null,null,null,null,null,null,null,null,null,null,0]
[null,{"$f":"IFERROR(VLOOKUP(A4876,Base!$A$2:$D$460,2,0),\"\")","v":""},{"$f":"IFERROR(VLOOKUP(A4876,Base!$A$2:$D$460,3,0),\"\")","v":""},{"$f":"IFERROR(VLOOKUP(A4876,Base!$A$2:$D$460,4,0),\"\")","v":""},null,null,null,null,null,null,null,null,null,null,null,null,null,0]
[null,{"$f":"IFERROR(VLOOKUP(A4877,Base!$A$2:$D$460,2,0),\"\")","v":""},{"$f":"IFERROR(VLOOKUP(A4877,Base!$A$2:$D$460,3,0),\"\")","v":""},{"$f":"IFERROR(VLOOKUP(A4877,Base!$A$2:$D$460,4,0),\"\")","v":""},null,null,null,null,null,null,null,null,null,null,null,null,null,0]
[null,{"$f":"IFERROR(VLOOKUP(A4878,Base!$A$2:$D$460,2,0),\"\")","v":""},{"$f":"IFERROR(VLOOKUP(A4878,Base!$A$2:$D$460,3,0),\"\")","v":""},{"$f":"IFERROR(VLOOKUP(A4878,Base!$A$2:$D$460,4,0),\"\")","v":""},null,null,null,null,null,null,null,null,null,null,null,null,null,0]
[null,{"$f":"IFERROR(VLOOKUP(A4879,Base!$A$2:$D$460,2,0),\"\")","v":""},{"$f":"IFERROR(VLOOKUP(A4879,Base!$A$2:$D$460,3,0),\"\")","v":""},{"$f":"IFERROR(VLOOKUP(A4879,Base!$A$2:$D$460,4,0),\"\")","v":""},null,null,null,null,null,null,null,null,null,null,null,null,null,0]
[null,{"$f":"IFERROR(VLOOKUP(A4880,Base!$A$2:$D$460,2,0),\"\")","v":""},{"$f":"IFERROR(VLOOKUP(A4880,Base!$A$2:$D$460,3,0),\"\")","v":""},{"$f":"IFERROR(VLOOKUP(A4880,Base!$A$2:$D$460,4,0),\"\")","v":""},null,null,null,null,null,null,null,null,null,null,null,null,null,0]
[null,{"$f":"IFERROR(VLOOKUP(A4881,Base!$A$2:$D$460,2,0),\"\")","v":""},{"$f":"IFERROR(VLOOKUP(A4881,Base!$A$2:$D$460,3,0),\"\")","v":""},{"$f":"IFERROR(VLOOKUP(A4881,Base!$A$2:$D$460,4,0),\"\")","v":""},null,null,null,null,null,null,null,null,null,null,null,null,null,0]
[null,{"$f":"IFERROR(VLOOKUP(A4882,Base!$A$2:$D$460,2,0),\"\")","v":""},{"$f":"IFERROR(VLOOKUP(A4882,Base!$A$2:$D$460,3,0),\"\")","v":""},{"$f":"IFERROR(VLOOKUP(A4882,Base!$A$2:$D$460,4,0),\"\")","v":""},null,null,null,null,null,null,null,null,null,null,null,null,null,0]
[null,{"$f":"IFERROR(VLOOKUP(A4883,Base!$A$2:$D$460,2,0),\"\")","v":""},{"$f":"IFERROR(VLOOKUP(A4883,Base!$A$2:$D$460,3,0),\"\")","v":""},{"$f":"IFERROR(VLOOKUP(A4883,Base!$A$2:$D$460,4,0),\"\")","v":""},null,null,null,null,null,null,null,null,null,null,null,null,null,0]
[null,{"$f":"IFERROR(VLOOKUP(A4884,Base!$A$2:$D$460,2,0),\"\")","v":""},{"$f":"IFERROR(VLOOKUP(A4884,Base!$A$2:$D$460,3,0),\"\")","v":""},{"$f":"IFERROR(VLOOKUP(A4884,Base!$A$2:$D$460,4,0),\"\")","v":""},null,null,null,null,null,null,null,null,null,null,null,null,null,0]
[null,{"$f":"IFERROR(VLOOKUP(A4885,Base!$A$2:$D$460,2,0),\"\")","v":""},{"$f":"IFERROR(VLOOKUP(A4885,Base!$A$2:$D$460,3,0),\"\")","v":""},{"$f":"IFERROR(VLOOKUP(A4885,Base!$A$2:$D$460,4,0),\"\")","v":""},null,null,null,null,null,null,null,null,null,null,null,null,null,0]
[null,{"$f":"IFERROR(VLOOKUP(A4886,Base!$A$2:$D$460,2,0),\"\")","v":""},{"$f":"IFERROR(VLOOKUP(A4886,Base!$A$2:$D$460,3,0),\"\")","v":""},{"$f":"IFERROR(VLOOKUP(A4886,Base!$A$2:$D$460,4,0),\"\")","v":""},null,null,null,null,null,null,null,null,null,null,null,null,null,0]
[null,{"$f":"IFERROR(VLOOKUP(A4887,Base!$A$2:$D$460,2,0),\"\")","v":""},{"$f":"IFERROR(VLOOKUP(A4887,Base!$A$2:$D$460,3,0),\"\")","v":""},{"$f":"IFERROR(VLOOKUP(A4887,Base!$A$2:$D$460,4,0),\"\")","v":""},null,null,null,null,null,null,null,null,null,null,null,null,null,0]
[null,{"$f":"IFERROR(VLOOKUP(A4888,Base!$A$2:$D$460,2,0),\"\")","v":""},{"$f":"IFERROR(VLOOKUP(A4888,Base!$A$2:$D$460,3,0),\"\")","v":""},{"$f":"IFERROR(VLOOKUP(A4888,Base!$A$2:$D$460,4,0),\"\")","v":""},null,null,null,null,null,null,null,null,null,null,null,null,null,0]
[null,{"$f":"IFERROR(VLOOKUP(A4889,Base!$A$2:$D$460,2,0),\"\")","v":""},{"$f":"IFERROR(VLOOKUP(A4889,Base!$A$2:$D$460,3,0),\"\")","v":""},{"$f":"IFERROR(VLOOKUP(A4889,Base!$A$2:$D$460,4,0),\"\")","v":""},null,null,null,null,null,null,null,null,null,null,null,null,null,0]
[null,{"$f":"IFERROR(VLOOKUP(A4890,Base!$A$2:$D$460,2,0),\"\")","v":""},{"$f":"IFERROR(VLOOKUP(A4890,Base!$A$2:$D$460,3,0),\"\")","v":""},{"$f":"IFERROR(VLOOKUP(A4890,Base!$A$2:$D$460,4,0),\"\")","v":""},null,null,null,null,null,null,null,null,null,null,null,null,null,0]
[null,{"$f":"IFERROR(VLOOKUP(A4891,Base!$A$2:$D$460,2,0),\"\")","v":""},{"$f":"IFERROR(VLOOKUP(A4891,Base!$A$2:$D$460,3,0),\"\")","v":""},{"$f":"IFERROR(VLOOKUP(A4891,Base!$A$2:$D$460,4,0),\"\")","v":""},null,null,null,null,null,null,null,null,null,null,null,null,null,0]
[null,{"$f":"IFERROR(VLOOKUP(A4892,Base!$A$2:$D$460,2,0),\"\")","v":""},{"$f":"IFERROR(VLOOKUP(A4892,Base!$A$2:$D$460,3,0),\"\")","v":""},{"$f":"IFERROR(VLOOKUP(A4892,Base!$A$2:$D$460,4,0),\"\")","v":""},null,null,null,null,null,null,null,null,null,null,null,null,null,0]
[null,{"$f":"IFERROR(VLOOKUP(A4893,Base!$A$2:$D$460,2,0),\"\")","v":""},{"$f":"IFERROR(VLOOKUP(A4893,Base!$A$2:$D$460,3,0),\"\")","v":""},{"$f":"IFERROR(VLOOKUP(A4893,Base!$A$2:$D$460,4,0),\"\")","v":""},null,null,null,null,null,null,null,null,null,null,null,null,null,0]
[null,{"$f":"IFERROR(VLOOKUP(A4894,Base!$A$2:$D$460,2,0),\"\")","v":""},{"$f":"IFERROR(VLOOKUP(A4894,Base!$A$2:$D$460,3,0),\"\")","v":""},{"$f":"IFERROR(VLOOKUP(A4894,Base!$A$2:$D$460,4,0),\"\")","v":""},null,null,null,null,null,null,null,null,null,null,null,null,null,0]
[null,{"$f":"IFERROR(VLOOKUP(A4895,Base!$A$2:$D$460,2,0),\"\")","v":""},{"$f":"IFERROR(VLOOKUP(A4895,Base!$A$2:$D$460,3,0),\"\")","v":""},{"$f":"IFERROR(VLOOKUP(A4895,Base!$A$2:$D$460,4,0),\"\")","v":""},null,null,null,null,null,null,null,null,null,null,null,null,null,0]
[null,{"$f":"IFERROR(VLOOKUP(A4896,Base!$A$2:$D$460,2,0),\"\")","v":""},{"$f":"IFERROR(VLOOKUP(A4896,Base!$A$2:$D$460,3,0),\"\")","v":""},{"$f":"IFERROR(VLOOKUP(A4896,Base!$A$2:$D$460,4,0),\"\")","v":""},null,null,null,null,null,null,null,null,null,null,null,null,null,0]
[null,{"$f":"IFERROR(VLOOKUP(A4897,Base!$A$2:$D$460,2,0),\"\")","v":""},{"$f":"IFERROR(VLOOKUP(A4897,Base!$A$2:$D$460,3,0),\"\")","v":""},{"$f":"IFERROR(VLOOKUP(A4897,Base!$A$2:$D$460,4,0),\"\")","v":""},null,null,null,null,null,null,null,null,null,null,null,null,null,0]
[null,{"$f":"IFERROR(VLOOKUP(A4898,Base!$A$2:$D$460,2,0),\"\")","v":""},{"$f":"IFERROR(VLOOKUP(A4898,Base!$A$2:$D$460,3,0),\"\")","v":""},{"$f":"IFERROR(VLOOKUP(A4898,Base!$A$2:$D$460,4,0),\"\")","v":""},null,null,null,null,null,null,null,null,null,null,null,null,null,0]
[null,{"$f":"IFERROR(VLOOKUP(A4899,Base!$A$2:$D$460,2,0),\"\")","v":""},{"$f":"IFERROR(VLOOKUP(A4899,Base!$A$2:$D$460,3,0),\"\")","v":""},{"$f":"IFERROR(VLOOKUP(A4899,Base!$A$2:$D$460,4,0),\"\")","v":""},null,null,null,null,null,null,null,null,null,null,null,null,null,0]
[null,{"$f":"IFERROR(VLOOKUP(A4900,Base!$A$2:$D$460,2,0),\"\")","v":""},{"$f":"IFERROR(VLOOKUP(A4900,Base!$A$2:$D$460,3,0),\"\")","v":""},{"$f":"IFERROR(VLOOKUP(A4900,Base!$A$2:$D$460,4,0),\"\")","v":""},null,null,null,null,null,null,null,null,null,null,null,null,null,0]
[null,{"$f":"IFERROR(VLOOKUP(A4901,Base!$A$2:$D$460,2,0),\"\")","v":""},{"$f":"IFERROR(VLOOKUP(A4901,Base!$A$2:$D$460,3,0),\"\")","v":""},{"$f":"IFERROR(VLOOKUP(A4901,Base!$A$2:$D$460,4,0),\"\")","v":""},null,null,null,null,null,null,null,null,null,null,null,null,null,0]
[null,{"$f":"IFERROR(VLOOKUP(A4902,Base!$A$2:$D$460,2,0),\"\")","v":""},{"$f":"IFERROR(VLOOKUP(A4902,Base!$A$2:$D$460,3,0),\"\")","v":""},{"$f":"IFERROR(VLOOKUP(A4902,Base!$A$2:$D$460,4,0),\"\")","v":""},null,null,null,null,null,null,null,null,null,null,null,null,null,0]
[null,{"$f":"IFERROR(VLOOKUP(A4903,Base!$A$2:$D$460,2,0),\"\")","v":""},{"$f":"IFERROR(VLOOKUP(A4903,Base!$A$2:$D$460,3,0),\"\")","v":""},{"$f":"IFERROR(VLOOKUP(A4903,Base!$A$2:$D$460,4,0),\"\")","v":""},null,null,null,null,null,null,null,null,null,null,null,null,null,{"$f":"SUM(N4903:Q4903)/4","v":0}]
[null,{"$f":"IFERROR(VLOOKUP(A4904,Base!$A$2:$D$460,2,0),\"\")","v":""},{"$f":"IFERROR(VLOOKUP(A4904,Base!$A$2:$D$460,3,0),\"\")","v":""},{"$f":"IFERROR(VLOOKUP(A4904,Base!$A$2:$D$460,4,0),\"\")","v":""},null,null,null,null,null,null,null,null,null,null,null,null,null,0]
[null,{"$f":"IFERROR(VLOOKUP(A4905,Base!$A$2:$D$460,2,0),\"\")","v":""},{"$f":"IFERROR(VLOOKUP(A4905,Base!$A$2:$D$460,3,0),\"\")","v":""},{"$f":"IFERROR(VLOOKUP(A4905,Base!$A$2:$D$460,4,0),\"\")","v":""},null,null,null,null,null,null,null,null,null,null,null,null,null,0]
[null,{"$f":"IFERROR(VLOOKUP(A4906,Base!$A$2:$D$460,2,0),\"\")","v":""},{"$f":"IFERROR(VLOOKUP(A4906,Base!$A$2:$D$460,3,0),\"\")","v":""},{"$f":"IFERROR(VLOOKUP(A4906,Base!$A$2:$D$460,4,0),\"\")","v":""},null,null,null,null,null,null,null,null,null,null,null,null,null,0]
[null,{"$f":"IFERROR(VLOOKUP(A4907,Base!$A$2:$D$460,2,0),\"\")","v":""},{"$f":"IFERROR(VLOOKUP(A4907,Base!$A$2:$D$460,3,0),\"\")","v":""},{"$f":"IFERROR(VLOOKUP(A4907,Base!$A$2:$D$460,4,0),\"\")","v":""},null,null,null,null,null,null,null,null,null,null,null,null,null,0]
[null,{"$f":"IFERROR(VLOOKUP(A4908,Base!$A$2:$D$460,2,0),\"\")","v":""},{"$f":"IFERROR(VLOOKUP(A4908,Base!$A$2:$D$460,3,0),\"\")","v":""},{"$f":"IFERROR(VLOOKUP(A4908,Base!$A$2:$D$460,4,0),\"\")","v":""},null,null,null,null,null,null,null,null,null,null,null,null,null,0]
[null,{"$f":"IFERROR(VLOOKUP(A4909,Base!$A$2:$D$460,2,0),\"\")","v":""},{"$f":"IFERROR(VLOOKUP(A4909,Base!$A$2:$D$460,3,0),\"\")","v":""},{"$f":"IFERROR(VLOOKUP(A4909,Base!$A$2:$D$460,4,0),\"\")","v":""},null,null,null,null,null,null,null,null,null,null,null,null,null,0]
[null,{"$f":"IFERROR(VLOOKUP(A4910,Base!$A$2:$D$460,2,0),\"\")","v":""},{"$f":"IFERROR(VLOOKUP(A4910,Base!$A$2:$D$460,3,0),\"\")","v":""},{"$f":"IFERROR(VLOOKUP(A4910,Base!$A$2:$D$460,4,0),\"\")","v":""},null,null,null,null,null,null,null,null,null,null,null,null,null,0]
[null,{"$f":"IFERROR(VLOOKUP(A4911,Base!$A$2:$D$460,2,0),\"\")","v":""},{"$f":"IFERROR(VLOOKUP(A4911,Base!$A$2:$D$460,3,0),\"\")","v":""},{"$f":"IFERROR(VLOOKUP(A4911,Base!$A$2:$D$460,4,0),\"\")","v":""},null,null,null,null,null,null,null,null,null,null,null,null,null,0]
[null,{"$f":"IFERROR(VLOOKUP(A4912,Base!$A$2:$D$460,2,0),\"\")","v":""},{"$f":"IFERROR(VLOOKUP(A4912,Base!$A$2:$D$460,3,0),\"\")","v":""},{"$f":"IFERROR(VLOOKUP(A4912,Base!$A$2:$D$460,4,0),\"\")","v":""},null,null,null,null,null,null,null,null,null,null,null,null,null,0]
[null,{"$f":"IFERROR(VLOOKUP(A4913,Base!$A$2:$D$460,2,0),\"\")","v":""},{"$f":"IFERROR(VLOOKUP(A4913,Base!$A$2:$D$460,3,0),\"\")","v":""},{"$f":"IFERROR(VLOOKUP(A4913,Base!$A$2:$D$460,4,0),\"\")","v":""},null,null,null,null,null,null,null,null,null,null,null,null,null,0]
[null,{"$f":"IFERROR(VLOOKUP(A4914,Base!$A$2:$D$460,2,0),\"\")","v":""},{"$f":"IFERROR(VLOOKUP(A4914,Base!$A$2:$D$460,3,0),\"\")","v":""},{"$f":"IFERROR(VLOOKUP(A4914,Base!$A$2:$D$460,4,0),\"\")","v":""},null,null,null,null,null,null,null,null,null,null,null,null,null,0]
[null,{"$f":"IFERROR(VLOOKUP(A4915,Base!$A$2:$D$460,2,0),\"\")","v":""},{"$f":"IFERROR(VLOOKUP(A4915,Base!$A$2:$D$460,3,0),\"\")","v":""},{"$f":"IFERROR(VLOOKUP(A4915,Base!$A$2:$D$460,4,0),\"\")","v":""},null,null,null,null,null,null,null,null,null,null,null,null,null,0]
[null,{"$f":"IFERROR(VLOOKUP(A4916,Base!$A$2:$D$460,2,0),\"\")","v":""},{"$f":"IFERROR(VLOOKUP(A4916,Base!$A$2:$D$460,3,0),\"\")","v":""},{"$f":"IFERROR(VLOOKUP(A4916,Base!$A$2:$D$460,4,0),\"\")","v":""},null,null,null,null,null,null,null,null,null,null,null,null,null,0]
[null,{"$f":"IFERROR(VLOOKUP(A4917,Base!$A$2:$D$460,2,0),\"\")","v":""},{"$f":"IFERROR(VLOOKUP(A4917,Base!$A$2:$D$460,3,0),\"\")","v":""},{"$f":"IFERROR(VLOOKUP(A4917,Base!$A$2:$D$460,4,0),\"\")","v":""},null,null,null,null,null,null,null,null,null,null,null,null,null,0]
[null,{"$f":"IFERROR(VLOOKUP(A4918,Base!$A$2:$D$460,2,0),\"\")","v":""},{"$f":"IFERROR(VLOOKUP(A4918,Base!$A$2:$D$460,3,0),\"\")","v":""},{"$f":"IFERROR(VLOOKUP(A4918,Base!$A$2:$D$460,4,0),\"\")","v":""},null,null,null,null,null,null,null,null,null,null,null,null,null,0]
[null,{"$f":"IFERROR(VLOOKUP(A4919,Base!$A$2:$D$460,2,0),\"\")","v":""},{"$f":"IFERROR(VLOOKUP(A4919,Base!$A$2:$D$460,3,0),\"\")","v":""},{"$f":"IFERROR(VLOOKUP(A4919,Base!$A$2:$D$460,4,0),\"\")","v":""},null,null,null,null,null,null,null,null,null,null,null,null,null,0]
[null,{"$f":"IFERROR(VLOOKUP(A4920,Base!$A$2:$D$460,2,0),\"\")","v":""},{"$f":"IFERROR(VLOOKUP(A4920,Base!$A$2:$D$460,3,0),\"\")","v":""},{"$f":"IFERROR(VLOOKUP(A4920,Base!$A$2:$D$460,4,0),\"\")","v":""},null,null,null,null,null,null,null,null,null,null,null,null,null,0]
[null,{"$f":"IFERROR(VLOOKUP(A4921,Base!$A$2:$D$460,2,0),\"\")","v":""},{"$f":"IFERROR(VLOOKUP(A4921,Base!$A$2:$D$460,3,0),\"\")","v":""},{"$f":"IFERROR(VLOOKUP(A4921,Base!$A$2:$D$460,4,0),\"\")","v":""},null,null,null,null,null,null,null,null,null,null,null,null,null,0]
[null,{"$f":"IFERROR(VLOOKUP(A4922,Base!$A$2:$D$460,2,0),\"\")","v":""},{"$f":"IFERROR(VLOOKUP(A4922,Base!$A$2:$D$460,3,0),\"\")","v":""},{"$f":"IFERROR(VLOOKUP(A4922,Base!$A$2:$D$460,4,0),\"\")","v":""},null,null,null,null,null,null,null,null,null,null,null,null,null,0]
[null,{"$f":"IFERROR(VLOOKUP(A4923,Base!$A$2:$D$460,2,0),\"\")","v":""},{"$f":"IFERROR(VLOOKUP(A4923,Base!$A$2:$D$460,3,0),\"\")","v":""},{"$f":"IFERROR(VLOOKUP(A4923,Base!$A$2:$D$460,4,0),\"\")","v":""},null,null,null,null,null,null,null,null,null,null,null,null,null,0]
[null,{"$f":"IFERROR(VLOOKUP(A4924,Base!$A$2:$D$460,2,0),\"\")","v":""},{"$f":"IFERROR(VLOOKUP(A4924,Base!$A$2:$D$460,3,0),\"\")","v":""},{"$f":"IFERROR(VLOOKUP(A4924,Base!$A$2:$D$460,4,0),\"\")","v":""},null,null,null,null,null,null,null,null,null,null,null,null,null,0]
[null,{"$f":"IFERROR(VLOOKUP(A4925,Base!$A$2:$D$460,2,0),\"\")","v":""},{"$f":"IFERROR(VLOOKUP(A4925,Base!$A$2:$D$460,3,0),\"\")","v":""},{"$f":"IFERROR(VLOOKUP(A4925,Base!$A$2:$D$460,4,0),\"\")","v":""},null,null,null,null,null,null,null,null,null,null,null,null,null,0]
[null,{"$f":"IFERROR(VLOOKUP(A4926,Base!$A$2:$D$460,2,0),\"\")","v":""},{"$f":"IFERROR(VLOOKUP(A4926,Base!$A$2:$D$460,3,0),\"\")","v":""},{"$f":"IFERROR(VLOOKUP(A4926,Base!$A$2:$D$460,4,0),\"\")","v":""},null,null,null,null,null,null,null,null,null,null,null,null,null,0]
[null,{"$f":"IFERROR(VLOOKUP(A4927,Base!$A$2:$D$460,2,0),\"\")","v":""},{"$f":"IFERROR(VLOOKUP(A4927,Base!$A$2:$D$460,3,0),\"\")","v":""},{"$f":"IFERROR(VLOOKUP(A4927,Base!$A$2:$D$460,4,0),\"\")","v":""},null,null,null,null,null,null,null,null,null,null,null,null,null,0]
[null,{"$f":"IFERROR(VLOOKUP(A4928,Base!$A$2:$D$460,2,0),\"\")","v":""},{"$f":"IFERROR(VLOOKUP(A4928,Base!$A$2:$D$460,3,0),\"\")","v":""},{"$f":"IFERROR(VLOOKUP(A4928,Base!$A$2:$D$460,4,0),\"\")","v":""},null,null,null,null,null,null,null,null,null,null,null,null,null,0]
[null,{"$f":"IFERROR(VLOOKUP(A4929,Base!$A$2:$D$460,2,0),\"\")","v":""},{"$f":"IFERROR(VLOOKUP(A4929,Base!$A$2:$D$460,3,0),\"\")","v":""},{"$f":"IFERROR(VLOOKUP(A4929,Base!$A$2:$D$460,4,0),\"\")","v":""},null,null,null,null,null,null,null,null,null,null,null,null,null,0]
[null,{"$f":"IFERROR(VLOOKUP(A4930,Base!$A$2:$D$460,2,0),\"\")","v":""},{"$f":"IFERROR(VLOOKUP(A4930,Base!$A$2:$D$460,3,0),\"\")","v":""},{"$f":"IFERROR(VLOOKUP(A4930,Base!$A$2:$D$460,4,0),\"\")","v":""},null,null,null,null,null,null,null,null,null,null,null,null,null,0]
[null,{"$f":"IFERROR(VLOOKUP(A4931,Base!$A$2:$D$460,2,0),\"\")","v":""},{"$f":"IFERROR(VLOOKUP(A4931,Base!$A$2:$D$460,3,0),\"\")","v":""},{"$f":"IFERROR(VLOOKUP(A4931,Base!$A$2:$D$460,4,0),\"\")","v":""},null,null,null,null,null,null,null,null,null,null,null,null,null,0]
[null,{"$f":"IFERROR(VLOOKUP(A4932,Base!$A$2:$D$460,2,0),\"\")","v":""},{"$f":"IFERROR(VLOOKUP(A4932,Base!$A$2:$D$460,3,0),\"\")","v":""},{"$f":"IFERROR(VLOOKUP(A4932,Base!$A$2:$D$460,4,0),\"\")","v":""},null,null,null,null,null,null,null,null,null,null,null,null,null,0]
[null,{"$f":"IFERROR(VLOOKUP(A4933,Base!$A$2:$D$460,2,0),\"\")","v":""},{"$f":"IFERROR(VLOOKUP(A4933,Base!$A$2:$D$460,3,0),\"\")","v":""},{"$f":"IFERROR(VLOOKUP(A4933,Base!$A$2:$D$460,4,0),\"\")","v":""},null,null,null,null,null,null,null,null,null,null,null,null,null,0]
[null,{"$f":"IFERROR(VLOOKUP(A4934,Base!$A$2:$D$460,2,0),\"\")","v":""},{"$f":"IFERROR(VLOOKUP(A4934,Base!$A$2:$D$460,3,0),\"\")","v":""},{"$f":"IFERROR(VLOOKUP(A4934,Base!$A$2:$D$460,4,0),\"\")","v":""},null,null,null,null,null,null,null,null,null,null,null,null,null,0]
[null,{"$f":"IFERROR(VLOOKUP(A4935,Base!$A$2:$D$460,2,0),\"\")","v":""},{"$f":"IFERROR(VLOOKUP(A4935,Base!$A$2:$D$460,3,0),\"\")","v":""},{"$f":"IFERROR(VLOOKUP(A4935,Base!$A$2:$D$460,4,0),\"\")","v":""},null,null,null,null,null,null,null,null,null,null,null,null,null,0]
[null,{"$f":"IFERROR(VLOOKUP(A4936,Base!$A$2:$D$460,2,0),\"\")","v":""},{"$f":"IFERROR(VLOOKUP(A4936,Base!$A$2:$D$460,3,0),\"\")","v":""},{"$f":"IFERROR(VLOOKUP(A4936,Base!$A$2:$D$460,4,0),\"\")","v":""},null,null,null,null,null,null,null,null,null,null,null,null,null,0]
[null,{"$f":"IFERROR(VLOOKUP(A4937,Base!$A$2:$D$460,2,0),\"\")","v":""},{"$f":"IFERROR(VLOOKUP(A4937,Base!$A$2:$D$460,3,0),\"\")","v":""},{"$f":"IFERROR(VLOOKUP(A4937,Base!$A$2:$D$460,4,0),\"\")","v":""},null,null,null,null,null,null,null,null,null,null,null,null,null,0]
[null,{"$f":"IFERROR(VLOOKUP(A4938,Base!$A$2:$D$460,2,0),\"\")","v":""},{"$f":"IFERROR(VLOOKUP(A4938,Base!$A$2:$D$460,3,0),\"\")","v":""},{"$f":"IFERROR(VLOOKUP(A4938,Base!$A$2:$D$460,4,0),\"\")","v":""},null,null,null,null,null,null,null,null,null,null,null,null,null,0]
[null,{"$f":"IFERROR(VLOOKUP(A4939,Base!$A$2:$D$460,2,0),\"\")","v":""},{"$f":"IFERROR(VLOOKUP(A4939,Base!$A$2:$D$460,3,0),\"\")","v":""},{"$f":"IFERROR(VLOOKUP(A4939,Base!$A$2:$D$460,4,0),\"\")","v":""},null,null,null,null,null,null,null,null,null,null,null,null,null,0]
[null,{"$f":"IFERROR(VLOOKUP(A4940,Base!$A$2:$D$460,2,0),\"\")","v":""},{"$f":"IFERROR(VLOOKUP(A4940,Base!$A$2:$D$460,3,0),\"\")","v":""},{"$f":"IFERROR(VLOOKUP(A4940,Base!$A$2:$D$460,4,0),\"\")","v":""},null,null,null,null,null,null,null,null,null,null,null,null,null,0]
[null,{"$f":"IFERROR(VLOOKUP(A4941,Base!$A$2:$D$460,2,0),\"\")","v":""},{"$f":"IFERROR(VLOOKUP(A4941,Base!$A$2:$D$460,3,0),\"\")","v":""},{"$f":"IFERROR(VLOOKUP(A4941,Base!$A$2:$D$460,4,0),\"\")","v":""},null,null,null,null,null,null,null,null,null,null,null,null,null,0]
[null,{"$f":"IFERROR(VLOOKUP(A4942,Base!$A$2:$D$460,2,0),\"\")","v":""},{"$f":"IFERROR(VLOOKUP(A4942,Base!$A$2:$D$460,3,0),\"\")","v":""},{"$f":"IFERROR(VLOOKUP(A4942,Base!$A$2:$D$460,4,0),\"\")","v":""},null,null,null,null,null,null,null,null,null,null,null,null,null,0]
[null,{"$f":"IFERROR(VLOOKUP(A4943,Base!$A$2:$D$460,2,0),\"\")","v":""},{"$f":"IFERROR(VLOOKUP(A4943,Base!$A$2:$D$460,3,0),\"\")","v":""},{"$f":"IFERROR(VLOOKUP(A4943,Base!$A$2:$D$460,4,0),\"\")","v":""},null,null,null,null,null,null,null,null,null,null,null,null,null,0]
[null,{"$f":"IFERROR(VLOOKUP(A4944,Base!$A$2:$D$460,2,0),\"\")","v":""},{"$f":"IFERROR(VLOOKUP(A4944,Base!$A$2:$D$460,3,0),\"\")","v":""},{"$f":"IFERROR(VLOOKUP(A4944,Base!$A$2:$D$460,4,0),\"\")","v":""},null,null,null,null,null,null,null,null,null,null,null,null,null,0]
[null,{"$f":"IFERROR(VLOOKUP(A4945,Base!$A$2:$D$460,2,0),\"\")","v":""},{"$f":"IFERROR(VLOOKUP(A4945,Base!$A$2:$D$460,3,0),\"\")","v":""},{"$f":"IFERROR(VLOOKUP(A4945,Base!$A$2:$D$460,4,0),\"\")","v":""},null,null,null,null,null,null,null,null,null,null,null,null,null,0]
[null,{"$f":"IFERROR(VLOOKUP(A4946,Base!$A$2:$D$460,2,0),\"\")","v":""},{"$f":"IFERROR(VLOOKUP(A4946,Base!$A$2:$D$460,3,0),\"\")","v":""},{"$f":"IFERROR(VLOOKUP(A4946,Base!$A$2:$D$460,4,0),\"\")","v":""},null,null,null,null,null,null,null,null,null,null,null,null,null,0]
[null,{"$f":"IFERROR(VLOOKUP(A4947,Base!$A$2:$D$460,2,0),\"\")","v":""},{"$f":"IFERROR(VLOOKUP(A4947,Base!$A$2:$D$460,3,0),\"\")","v":""},{"$f":"IFERROR(VLOOKUP(A4947,Base!$A$2:$D$460,4,0),\"\")","v":""},null,null,null,null,null,null,null,null,null,null,null,null,null,0]
[null,{"$f":"IFERROR(VLOOKUP(A4948,Base!$A$2:$D$460,2,0),\"\")","v":""},{"$f":"IFERROR(VLOOKUP(A4948,Base!$A$2:$D$460,3,0),\"\")","v":""},{"$f":"IFERROR(VLOOKUP(A4948,Base!$A$2:$D$460,4,0),\"\")","v":""},null,null,null,null,null,null,null,null,null,null,null,null,null,0]
[null,{"$f":"IFERROR(VLOOKUP(A4949,Base!$A$2:$D$460,2,0),\"\")","v":""},{"$f":"IFERROR(VLOOKUP(A4949,Base!$A$2:$D$460,3,0),\"\")","v":""},{"$f":"IFERROR(VLOOKUP(A4949,Base!$A$2:$D$460,4,0),\"\")","v":""},null,null,null,null,null,null,null,null,null,null,null,null,null,0]
[null,{"$f":"IFERROR(VLOOKUP(A4950,Base!$A$2:$D$460,2,0),\"\")","v":""},{"$f":"IFERROR(VLOOKUP(A4950,Base!$A$2:$D$460,3,0),\"\")","v":""},{"$f":"IFERROR(VLOOKUP(A4950,Base!$A$2:$D$460,4,0),\"\")","v":""},null,null,null,null,null,null,null,null,null,null,null,null,null,0]
[null,{"$f":"IFERROR(VLOOKUP(A4951,Base!$A$2:$D$460,2,0),\"\")","v":""},{"$f":"IFERROR(VLOOKUP(A4951,Base!$A$2:$D$460,3,0),\"\")","v":""},{"$f":"IFERROR(VLOOKUP(A4951,Base!$A$2:$D$460,4,0),\"\")","v":""},null,null,null,null,null,null,null,null,null,null,null,null,null,0]
[null,{"$f":"IFERROR(VLOOKUP(A4952,Base!$A$2:$D$460,2,0),\"\")","v":""},{"$f":"IFERROR(VLOOKUP(A4952,Base!$A$2:$D$460,3,0),\"\")","v":""},{"$f":"IFERROR(VLOOKUP(A4952,Base!$A$2:$D$460,4,0),\"\")","v":""},null,null,null,null,null,null,null,null,null,null,null,null,null,0]
[null,{"$f":"IFERROR(VLOOKUP(A4953,Base!$A$2:$D$460,2,0),\"\")","v":""},{"$f":"IFERROR(VLOOKUP(A4953,Base!$A$2:$D$460,3,0),\"\")","v":""},{"$f":"IFERROR(VLOOKUP(A4953,Base!$A$2:$D$460,4,0),\"\")","v":""},null,null,null,null,null,null,null,null,null,null,null,null,null,0]
[null,{"$f":"IFERROR(VLOOKUP(A4954,Base!$A$2:$D$460,2,0),\"\")","v":""},{"$f":"IFERROR(VLOOKUP(A4954,Base!$A$2:$D$460,3,0),\"\")","v":""},{"$f":"IFERROR(VLOOKUP(A4954,Base!$A$2:$D$460,4,0),\"\")","v":""},null,null,null,null,null,null,null,null,null,null,null,null,null,0]
[null,{"$f":"IFERROR(VLOOKUP(A4955,Base!$A$2:$D$460,2,0),\"\")","v":""},{"$f":"IFERROR(VLOOKUP(A4955,Base!$A$2:$D$460,3,0),\"\")","v":""},{"$f":"IFERROR(VLOOKUP(A4955,Base!$A$2:$D$460,4,0),\"\")","v":""},null,null,null,null,null,null,null,null,null,null,null,null,null,0]
[null,{"$f":"IFERROR(VLOOKUP(A4956,Base!$A$2:$D$460,2,0),\"\")","v":""},{"$f":"IFERROR(VLOOKUP(A4956,Base!$A$2:$D$460,3,0),\"\")","v":""},{"$f":"IFERROR(VLOOKUP(A4956,Base!$A$2:$D$460,4,0),\"\")","v":""},null,null,null,null,null,null,null,null,null,null,null,null,null,0]
[null,{"$f":"IFERROR(VLOOKUP(A4957,Base!$A$2:$D$460,2,0),\"\")","v":""},{"$f":"IFERROR(VLOOKUP(A4957,Base!$A$2:$D$460,3,0),\"\")","v":""},{"$f":"IFERROR(VLOOKUP(A4957,Base!$A$2:$D$460,4,0),\"\")","v":""},null,null,null,null,null,null,null,null,null,null,null,null,null,0]
[null,{"$f":"IFERROR(VLOOKUP(A4958,Base!$A$2:$D$460,2,0),\"\")","v":""},{"$f":"IFERROR(VLOOKUP(A4958,Base!$A$2:$D$460,3,0),\"\")","v":""},{"$f":"IFERROR(VLOOKUP(A4958,Base!$A$2:$D$460,4,0),\"\")","v":""},null,null,null,null,null,null,null,null,null,null,null,null,null,0]
[null,{"$f":"IFERROR(VLOOKUP(A4959,Base!$A$2:$D$460,2,0),\"\")","v":""},{"$f":"IFERROR(VLOOKUP(A4959,Base!$A$2:$D$460,3,0),\"\")","v":""},{"$f":"IFERROR(VLOOKUP(A4959,Base!$A$2:$D$460,4,0),\"\")","v":""},null,null,null,null,null,null,null,null,null,null,null,null,null,0]
[null,{"$f":"IFERROR(VLOOKUP(A4960,Base!$A$2:$D$460,2,0),\"\")","v":""},{"$f":"IFERROR(VLOOKUP(A4960,Base!$A$2:$D$460,3,0),\"\")","v":""},{"$f":"IFERROR(VLOOKUP(A4960,Base!$A$2:$D$460,4,0),\"\")","v":""},null,null,null,null,null,null,null,null,null,null,null,null,null,0]
[null,{"$f":"IFERROR(VLOOKUP(A4961,Base!$A$2:$D$460,2,0),\"\")","v":""},{"$f":"IFERROR(VLOOKUP(A4961,Base!$A$2:$D$460,3,0),\"\")","v":""},{"$f":"IFERROR(VLOOKUP(A4961,Base!$A$2:$D$460,4,0),\"\")","v":""},null,null,null,null,null,null,null,null,null,null,null,null,null,0]
[null,{"$f":"IFERROR(VLOOKUP(A4962,Base!$A$2:$D$460,2,0),\"\")","v":""},{"$f":"IFERROR(VLOOKUP(A4962,Base!$A$2:$D$460,3,0),\"\")","v":""},{"$f":"IFERROR(VLOOKUP(A4962,Base!$A$2:$D$460,4,0),\"\")","v":""},null,null,null,null,null,null,null,null,null,null,null,null,null,0]
[null,{"$f":"IFERROR(VLOOKUP(A4963,Base!$A$2:$D$460,2,0),\"\")","v":""},{"$f":"IFERROR(VLOOKUP(A4963,Base!$A$2:$D$460,3,0),\"\")","v":""},{"$f":"IFERROR(VLOOKUP(A4963,Base!$A$2:$D$460,4,0),\"\")","v":""},null,null,null,null,null,null,null,null,null,null,null,null,null,0]
[null,{"$f":"IFERROR(VLOOKUP(A4964,Base!$A$2:$D$460,2,0),\"\")","v":""},{"$f":"IFERROR(VLOOKUP(A4964,Base!$A$2:$D$460,3,0),\"\")","v":""},{"$f":"IFERROR(VLOOKUP(A4964,Base!$A$2:$D$460,4,0),\"\")","v":""},null,null,null,null,null,null,null,null,null,null,null,null,null,0]
[null,{"$f":"IFERROR(VLOOKUP(A4965,Base!$A$2:$D$460,2,0),\"\")","v":""},{"$f":"IFERROR(VLOOKUP(A4965,Base!$A$2:$D$460,3,0),\"\")","v":""},{"$f":"IFERROR(VLOOKUP(A4965,Base!$A$2:$D$460,4,0),\"\")","v":""},null,null,null,null,null,null,null,null,null,null,null,null,null,0]
[null,{"$f":"IFERROR(VLOOKUP(A4966,Base!$A$2:$D$460,2,0),\"\")","v":""},{"$f":"IFERROR(VLOOKUP(A4966,Base!$A$2:$D$460,3,0),\"\")","v":""},{"$f":"IFERROR(VLOOKUP(A4966,Base!$A$2:$D$460,4,0),\"\")","v":""},null,null,null,null,null,null,null,null,null,null,null,null,null,0]
[null,{"$f":"IFERROR(VLOOKUP(A4967,Base!$A$2:$D$460,2,0),\"\")","v":""},{"$f":"IFERROR(VLOOKUP(A4967,Base!$A$2:$D$460,3,0),\"\")","v":""},{"$f":"IFERROR(VLOOKUP(A4967,Base!$A$2:$D$460,4,0),\"\")","v":""},null,null,null,null,null,null,null,null,null,null,null,null,null,{"$f":"SUM(N4967:Q4967)/4","v":0}]
[null,{"$f":"IFERROR(VLOOKUP(A4968,Base!$A$2:$D$460,2,0),\"\")","v":""},{"$f":"IFERROR(VLOOKUP(A4968,Base!$A$2:$D$460,3,0),\"\")","v":""},{"$f":"IFERROR(VLOOKUP(A4968,Base!$A$2:$D$460,4,0),\"\")","v":""},null,null,null,null,null,null,null,null,null,null,null,null,null,0]
[null,{"$f":"IFERROR(VLOOKUP(A4969,Base!$A$2:$D$460,2,0),\"\")","v":""},{"$f":"IFERROR(VLOOKUP(A4969,Base!$A$2:$D$460,3,0),\"\")","v":""},{"$f":"IFERROR(VLOOKUP(A4969,Base!$A$2:$D$460,4,0),\"\")","v":""},null,null,null,null,null,null,null,null,null,null,null,null,null,0]
[null,{"$f":"IFERROR(VLOOKUP(A4970,Base!$A$2:$D$460,2,0),\"\")","v":""},{"$f":"IFERROR(VLOOKUP(A4970,Base!$A$2:$D$460,3,0),\"\")","v":""},{"$f":"IFERROR(VLOOKUP(A4970,Base!$A$2:$D$460,4,0),\"\")","v":""},null,null,null,null,null,null,null,null,null,null,null,null,null,0]
[null,{"$f":"IFERROR(VLOOKUP(A4971,Base!$A$2:$D$460,2,0),\"\")","v":""},{"$f":"IFERROR(VLOOKUP(A4971,Base!$A$2:$D$460,3,0),\"\")","v":""},{"$f":"IFERROR(VLOOKUP(A4971,Base!$A$2:$D$460,4,0),\"\")","v":""},null,null,null,null,null,null,null,null,null,null,null,null,null,0]
[null,{"$f":"IFERROR(VLOOKUP(A4972,Base!$A$2:$D$460,2,0),\"\")","v":""},{"$f":"IFERROR(VLOOKUP(A4972,Base!$A$2:$D$460,3,0),\"\")","v":""},{"$f":"IFERROR(VLOOKUP(A4972,Base!$A$2:$D$460,4,0),\"\")","v":""},null,null,null,null,null,null,null,null,null,null,null,null,null,0]
[null,{"$f":"IFERROR(VLOOKUP(A4973,Base!$A$2:$D$460,2,0),\"\")","v":""},{"$f":"IFERROR(VLOOKUP(A4973,Base!$A$2:$D$460,3,0),\"\")","v":""},{"$f":"IFERROR(VLOOKUP(A4973,Base!$A$2:$D$460,4,0),\"\")","v":""},null,null,null,null,null,null,null,null,null,null,null,null,null,0]
[null,{"$f":"IFERROR(VLOOKUP(A4974,Base!$A$2:$D$460,2,0),\"\")","v":""},{"$f":"IFERROR(VLOOKUP(A4974,Base!$A$2:$D$460,3,0),\"\")","v":""},{"$f":"IFERROR(VLOOKUP(A4974,Base!$A$2:$D$460,4,0),\"\")","v":""},null,null,null,null,null,null,null,null,null,null,null,null,null,0]
[null,{"$f":"IFERROR(VLOOKUP(A4975,Base!$A$2:$D$460,2,0),\"\")","v":""},{"$f":"IFERROR(VLOOKUP(A4975,Base!$A$2:$D$460,3,0),\"\")","v":""},{"$f":"IFERROR(VLOOKUP(A4975,Base!$A$2:$D$460,4,0),\"\")","v":""},null,null,null,null,null,null,null,null,null,null,null,null,null,0]
[null,{"$f":"IFERROR(VLOOKUP(A4976,Base!$A$2:$D$460,2,0),\"\")","v":""},{"$f":"IFERROR(VLOOKUP(A4976,Base!$A$2:$D$460,3,0),\"\")","v":""},{"$f":"IFERROR(VLOOKUP(A4976,Base!$A$2:$D$460,4,0),\"\")","v":""},null,null,null,null,null,null,null,null,null,null,null,null,null,0]
[null,{"$f":"IFERROR(VLOOKUP(A4977,Base!$A$2:$D$460,2,0),\"\")","v":""},{"$f":"IFERROR(VLOOKUP(A4977,Base!$A$2:$D$460,3,0),\"\")","v":""},{"$f":"IFERROR(VLOOKUP(A4977,Base!$A$2:$D$460,4,0),\"\")","v":""},null,null,null,null,null,null,null,null,null,null,null,null,null,0]
[null,{"$f":"IFERROR(VLOOKUP(A4978,Base!$A$2:$D$460,2,0),\"\")","v":""},{"$f":"IFERROR(VLOOKUP(A4978,Base!$A$2:$D$460,3,0),\"\")","v":""},{"$f":"IFERROR(VLOOKUP(A4978,Base!$A$2:$D$460,4,0),\"\")","v":""},null,null,null,null,null,null,null,null,null,null,null,null,null,0]
[null,{"$f":"IFERROR(VLOOKUP(A4979,Base!$A$2:$D$460,2,0),\"\")","v":""},{"$f":"IFERROR(VLOOKUP(A4979,Base!$A$2:$D$460,3,0),\"\")","v":""},{"$f":"IFERROR(VLOOKUP(A4979,Base!$A$2:$D$460,4,0),\"\")","v":""},null,null,null,null,null,null,null,null,null,null,null,null,null,0]
[null,{"$f":"IFERROR(VLOOKUP(A4980,Base!$A$2:$D$460,2,0),\"\")","v":""},{"$f":"IFERROR(VLOOKUP(A4980,Base!$A$2:$D$460,3,0),\"\")","v":""},{"$f":"IFERROR(VLOOKUP(A4980,Base!$A$2:$D$460,4,0),\"\")","v":""},null,null,null,null,null,null,null,null,null,null,null,null,null,0]
[null,{"$f":"IFERROR(VLOOKUP(A4981,Base!$A$2:$D$460,2,0),\"\")","v":""},{"$f":"IFERROR(VLOOKUP(A4981,Base!$A$2:$D$460,3,0),\"\")","v":""},{"$f":"IFERROR(VLOOKUP(A4981,Base!$A$2:$D$460,4,0),\"\")","v":""},null,null,null,null,null,null,null,null,null,null,null,null,null,0]
[null,{"$f":"IFERROR(VLOOKUP(A4982,Base!$A$2:$D$460,2,0),\"\")","v":""},{"$f":"IFERROR(VLOOKUP(A4982,Base!$A$2:$D$460,3,0),\"\")","v":""},{"$f":"IFERROR(VLOOKUP(A4982,Base!$A$2:$D$460,4,0),\"\")","v":""},null,null,null,null,null,null,null,null,null,null,null,null,null,0]
[null,{"$f":"IFERROR(VLOOKUP(A4983,Base!$A$2:$D$460,2,0),\"\")","v":""},{"$f":"IFERROR(VLOOKUP(A4983,Base!$A$2:$D$460,3,0),\"\")","v":""},{"$f":"IFERROR(VLOOKUP(A4983,Base!$A$2:$D$460,4,0),\"\")","v":""},null,null,null,null,null,null,null,null,null,null,null,null,null,0]
[null,{"$f":"IFERROR(VLOOKUP(A4984,Base!$A$2:$D$460,2,0),\"\")","v":""},{"$f":"IFERROR(VLOOKUP(A4984,Base!$A$2:$D$460,3,0),\"\")","v":""},{"$f":"IFERROR(VLOOKUP(A4984,Base!$A$2:$D$460,4,0),\"\")","v":""},null,null,null,null,null,null,null,null,null,null,null,null,null,0]
[null,{"$f":"IFERROR(VLOOKUP(A4985,Base!$A$2:$D$460,2,0),\"\")","v":""},{"$f":"IFERROR(VLOOKUP(A4985,Base!$A$2:$D$460,3,0),\"\")","v":""},{"$f":"IFERROR(VLOOKUP(A4985,Base!$A$2:$D$460,4,0),\"\")","v":""},null,null,null,null,null,null,null,null,null,null,null,null,null,0]
[null,{"$f":"IFERROR(VLOOKUP(A4986,Base!$A$2:$D$460,2,0),\"\")","v":""},{"$f":"IFERROR(VLOOKUP(A4986,Base!$A$2:$D$460,3,0),\"\")","v":""},{"$f":"IFERROR(VLOOKUP(A4986,Base!$A$2:$D$460,4,0),\"\")","v":""},null,null,null,null,null,null,null,null,null,null,null,null,null,0]
[null,{"$f":"IFERROR(VLOOKUP(A4987,Base!$A$2:$D$460,2,0),\"\")","v":""},{"$f":"IFERROR(VLOOKUP(A4987,Base!$A$2:$D$460,3,0),\"\")","v":""},{"$f":"IFERROR(VLOOKUP(A4987,Base!$A$2:$D$460,4,0),\"\")","v":""},null,null,null,null,null,null,null,null,null,null,null,null,null,0]
[null,{"$f":"IFERROR(VLOOKUP(A4988,Base!$A$2:$D$460,2,0),\"\")","v":""},{"$f":"IFERROR(VLOOKUP(A4988,Base!$A$2:$D$460,3,0),\"\")","v":""},{"$f":"IFERROR(VLOOKUP(A4988,Base!$A$2:$D$460,4,0),\"\")","v":""},null,null,null,null,null,null,null,null,null,null,null,null,null,0]
[null,{"$f":"IFERROR(VLOOKUP(A4989,Base!$A$2:$D$460,2,0),\"\")","v":""},{"$f":"IFERROR(VLOOKUP(A4989,Base!$A$2:$D$460,3,0),\"\")","v":""},{"$f":"IFERROR(VLOOKUP(A4989,Base!$A$2:$D$460,4,0),\"\")","v":""},null,null,null,null,null,null,null,null,null,null,null,null,null,0]
[null,{"$f":"IFERROR(VLOOKUP(A4990,Base!$A$2:$D$460,2,0),\"\")","v":""},{"$f":"IFERROR(VLOOKUP(A4990,Base!$A$2:$D$460,3,0),\"\")","v":""},{"$f":"IFERROR(VLOOKUP(A4990,Base!$A$2:$D$460,4,0),\"\")","v":""},null,null,null,null,null,null,null,null,null,null,null,null,null,0]
[null,{"$f":"IFERROR(VLOOKUP(A4991,Base!$A$2:$D$460,2,0),\"\")","v":""},{"$f":"IFERROR(VLOOKUP(A4991,Base!$A$2:$D$460,3,0),\"\")","v":""},{"$f":"IFERROR(VLOOKUP(A4991,Base!$A$2:$D$460,4,0),\"\")","v":""},null,null,null,null,null,null,null,null,null,null,null,null,null,0]
[null,{"$f":"IFERROR(VLOOKUP(A4992,Base!$A$2:$D$460,2,0),\"\")","v":""},{"$f":"IFERROR(VLOOKUP(A4992,Base!$A$2:$D$460,3,0),\"\")","v":""},{"$f":"IFERROR(VLOOKUP(A4992,Base!$A$2:$D$460,4,0),\"\")","v":""},null,null,null,null,null,null,null,null,null,null,null,null,null,0]
[null,{"$f":"IFERROR(VLOOKUP(A4993,Base!$A$2:$D$460,2,0),\"\")","v":""},{"$f":"IFERROR(VLOOKUP(A4993,Base!$A$2:$D$460,3,0),\"\")","v":""},{"$f":"IFERROR(VLOOKUP(A4993,Base!$A$2:$D$460,4,0),\"\")","v":""},null,null,null,null,null,null,null,null,null,null,null,null,null,0]
[null,{"$f":"IFERROR(VLOOKUP(A4994,Base!$A$2:$D$460,2,0),\"\")","v":""},{"$f":"IFERROR(VLOOKUP(A4994,Base!$A$2:$D$460,3,0),\"\")","v":""},{"$f":"IFERROR(VLOOKUP(A4994,Base!$A$2:$D$460,4,0),\"\")","v":""},null,null,null,null,null,null,null,null,null,null,null,null,null,0]
[null,{"$f":"IFERROR(VLOOKUP(A4995,Base!$A$2:$D$460,2,0),\"\")","v":""},{"$f":"IFERROR(VLOOKUP(A4995,Base!$A$2:$D$460,3,0),\"\")","v":""},{"$f":"IFERROR(VLOOKUP(A4995,Base!$A$2:$D$460,4,0),\"\")","v":""},null,null,null,null,null,null,null,null,null,null,null,null,null,0]
[null,{"$f":"IFERROR(VLOOKUP(A4996,Base!$A$2:$D$460,2,0),\"\")","v":""},{"$f":"IFERROR(VLOOKUP(A4996,Base!$A$2:$D$460,3,0),\"\")","v":""},{"$f":"IFERROR(VLOOKUP(A4996,Base!$A$2:$D$460,4,0),\"\")","v":""},null,null,null,null,null,null,null,null,null,null,null,null,null,0]
[null,{"$f":"IFERROR(VLOOKUP(A4997,Base!$A$2:$D$460,2,0),\"\")","v":""},{"$f":"IFERROR(VLOOKUP(A4997,Base!$A$2:$D$460,3,0),\"\")","v":""},{"$f":"IFERROR(VLOOKUP(A4997,Base!$A$2:$D$460,4,0),\"\")","v":""},null,null,null,null,null,null,null,null,null,null,null,null,null,0]
[null,{"$f":"IFERROR(VLOOKUP(A4998,Base!$A$2:$D$460,2,0),\"\")","v":""},{"$f":"IFERROR(VLOOKUP(A4998,Base!$A$2:$D$460,3,0),\"\")","v":""},{"$f":"IFERROR(VLOOKUP(A4998,Base!$A$2:$D$460,4,0),\"\")","v":""},null,null,null,null,null,null,null,null,null,null,null,null,null,0]
[null,{"$f":"IFERROR(VLOOKUP(A4999,Base!$A$2:$D$460,2,0),\"\")","v":""},{"$f":"IFERROR(VLOOKUP(A4999,Base!$A$2:$D$460,3,0),\"\")","v":""},{"$f":"IFERROR(VLOOKUP(A4999,Base!$A$2:$D$460,4,0),\"\")","v":""},null,null,null,null,null,null,null,null,null,null,null,null,null,0]
[]
[]
[null,"Elaboró: Ing. Nidia Teresa Leal Contreras"]
[null,"              Profesional Universitario de Talento Humano"]